{"text_format":"1","workbook":"xlsx","n_sheets":21,"sheets":["Construction - Do Not Delete","Tables","Calibration Factors","Crash Costs","Formats","Instructions","Build History","Inputs","Rural 2-Lane Segments","Rural 2-Lane Intersections","Rural Divided Multilane Seg","Rural Undivided Multilane Seg","Rural Multilane Intersections","Urban & Suburban Segments","Urban & Suburban Intersections","RankingExpectedAverage","RankingExcess","RankingPredictedFI","RankingPredictedTotal","Summaries (Top 10)","Outputs"],"not_rendered":{"charts":0,"images":11,"macros":1,"external_links":0,"defined_names":74,"comments":0,"pivot_tables":0},"unopened":[],"bounds":{"document_bytes":16777216,"sheet_cells":100000,"rows_first":2000,"rows_last":500,"rows_between":2000,"halvings":0,"cell_chars":16384,"cell_head_chars":4096},"cells_cut":0,"cells_raw":0,"read":"whole","date_system":"1900"}

{"sheet":"Construction - Do Not Delete","index":0,"n_rows":78,"n_cols":14,"rows_kept":78,"cut":false,"hidden":true,"merged":[]}
[]
[]
[null,"Lane Width",null,"Shoulder Width",null,"RHR"]
[null,9,null,0,null,1]
[null,9.5,null,1,null,2]
[null,10,null,2,null,3]
[null,10.5,null,3,null,4]
[null,11,null,4,null,5]
[null,11.5,null,5,null,6]
[null,12,null,6,null,7]
[null,null,null,7]
[null,null,null,8]
[]
[]
[null,null,null,null,null,null,null,"Centerline",null,"Passing",null,"Local",null,"EB"]
[null,null,null,"Shoulder Type",null,"Spiral",null,"Rumble Strips",null,"Lane",null,"HSM",null,"Site"]
[null,null,null,"Paved",null,"NP",null,"NP",null,"NP",null,"Local",null,"Project"]
[null,null,null,"Gravel",null,"P",null,"P",null,"P1"]
[null,null,null,"Composite",null,1,null,null,null,"P2"]
[null,null,null,"Turf"]
[]
[null,null,null,null,null,"TWLTL",null,"Lighting",null,"SpEnforce"]
[null,null,null,null,null,"NP",null,"NP",null,"NP"]
[null,null,null,null,null,"P",null,"P",null,"P"]
[]
[]
[]
[null,"Itype2",null,"Itype",null,"Lapproach",null,"Rapproach",null,"Ilight",null,"Differ",null,"Phasing2"]
[null,"3ST",null,"3ST",null,0,null,0,null,"NP",null,"Y",null,"N/A"]
[null,"3SG",null,"4ST",null,1,null,1,null,"P",null,"N",null,"Permissive"]
[null,"4ST",null,"4SG",null,2,null,2,null,null,null,null,null,"Protected"]
[null,"4SG",null,null,null,3,null,3,null,null,null,null,null,"Protected / Permissive"]
[null,null,null,null,null,4,null,4,null,null,null,null,null,"Permissive / Protected"]
[]
[]
[null,"Num",null,"Mwidth",null,"Division",null,"Sslope",null,"Shld2",null,"Iapproach"]
[null,1,null,10,null,"Divided",null,"1:2 or Steeper",null,0,null,0]
[null,2,null,20,null,"Undivided",null,"1:4",null,1,null,1]
[null,3,null,30,null,null,null,"1:5",null,2,null,2]
[null,4,null,40,null,null,null,"1:6",null,3]
[null,5,null,50,null,null,null,"1:7 or Flatter",null,4]
[null,6,null,60,null,null,null,null,null,5]
[null,7,null,70,null,null,null,null,null,6]
[null,8,null,80,null,null,null,null,null,7]
[null,9,null,90,null,null,null,null,null,8]
[null,10,null,100,null,null,null,null,null,9]
[null,null,null,null,null,null,null,null,null,10]
[]
[]
[null,"Urban / Suburban Fields:"]
[]
[]
[null,"Rtype",null,"UMedWidth",null,"PresOrNot",null,"OnStreetType",null,"OffsetFO",null,"Posted"]
[null,"2U",null,"NP",null,"NP",null,"None",null,2,null,"Posted Speed 30 mph or Lower"]
[null,"3T",null,10,null,"P",null,"Parallel (Residential)",null,5,null,"Posted Speed Greater than 30 mph"]
[null,"4U",null,15,null,null,null,"Parallel (Comm/Ind)",null,10]
[null,"4D",null,20,null,null,null,"Angle (Residential)",null,15]
[null,"5T",null,30,null,null,null,"Angle (Comm/Ind)",null,20]
[null,null,null,40,null,null,null,null,null,25]
[null,null,null,50,null,null,null,null,null,"≥ 30"]
[null,null,null,60]
[null,null,null,70]
[null,null,null,80]
[null,null,null,90]
[null,null,null,100]
[]
[]
[]
[null,"Tlanes",null,null,null,"Phasing",null,"UnsigApproach",null,"RtApproach",null,"Shld3"]
[null,0,null,null,null,"Permissive",null,0,null,0,null,0]
[null,1,null,null,null,"Protected",null,1,null,1,null,1]
[null,2,null,null,null,"Protected / Permissive",null,2,null,2,null,2]
[null,3,null,null,null,"Permissive / Protected",null,null,null,3,null,3]
[null,4,null,null,null,null,null,null,null,4,null,4]
[null,null,null,null,null,null,null,null,null,null,null,5]
[null,null,null,null,null,null,null,null,null,null,null,6]
[null,null,null,null,null,null,null,null,null,null,null,7]
[null,null,null,null,null,null,null,null,null,null,null,8]

{"sheet":"Tables","index":1,"n_rows":363,"n_cols":52,"rows_kept":363,"cut":false,"hidden":true,"merged":[[324,8,325,8],[324,9,325,9],[324,10,325,10],[324,11,325,11],[325,1,325,3],[326,1,326,11],[320,1,321,11],[322,1,323,3],[322,4,322,11],[323,4,323,7],[323,8,323,11],[324,1,324,2],[324,4,325,4],[324,5,325,5],[324,6,325,6],[324,7,325,7],[333,1,333,3],[334,1,334,11],[335,1,335,3],[336,1,336,3],[337,1,337,3],[338,1,338,3],[327,1,327,3],[328,1,328,3],[329,1,329,3],[330,1,330,3],[331,1,331,3],[332,1,332,3],[345,1,345,3],[346,1,346,3],[347,1,347,3],[348,1,348,3],[349,1,349,3],[350,1,350,11],[339,1,339,3],[340,1,340,3],[341,1,341,3],[342,1,342,11],[343,1,343,3],[344,1,344,3],[353,1,354,11],[355,1,356,3],[355,4,355,7],[355,8,355,11],[356,4,358,5],[356,6,358,7],[356,8,358,9],[356,10,358,11],[357,1,357,2],[358,1,360,3],[361,1,361,3],[361,6,361,7],[361,10,361,11],[362,1,362,3],[362,6,362,7],[362,10,362,11],[359,4,360,4],[359,5,360,5],[359,6,360,7],[359,8,360,8],[359,9,360,9],[359,10,360,11],[272,24,273,25],[272,26,273,28],[270,24,271,28],[278,24,278,25],[278,26,278,28],[279,24,279,25],[279,26,279,28],[276,24,276,25],[276,26,276,28],[277,24,277,25],[277,26,277,28],[274,24,274,25],[274,26,274,28],[275,24,275,25],[275,26,275,28],[283,24,283,25],[283,26,283,28],[284,24,284,25],[284,26,284,28],[280,24,280,25],[280,26,280,28],[281,24,281,25],[281,26,281,28],[282,24,282,25],[282,26,282,28],[250,24,251,35],[301,24,301,25],[301,26,301,27],[302,24,302,25],[302,26,302,27],[298,24,298,25],[298,26,298,27],[299,24,299,25],[299,26,299,27],[300,24,300,25],[300,26,300,27],[296,24,296,25],[296,26,296,27],[297,24,297,25],[297,26,297,27],[294,24,294,25],[294,26,294,27],[295,24,295,25],[295,26,295,27],[292,24,292,25],[292,26,292,27],[293,24,293,25],[293,26,293,27],[289,24,291,27],[263,1,264,11],[265,1,266,3],[265,4,265,11],[266,4,266,7],[266,8,266,11],[264,24,265,29],[258,24,259,35],[252,24,253,24],[252,25,252,35],[260,1,260,3],[260,4,260,5],[260,7,260,8],[260,9,260,10],[260,12,260,13],[258,1,258,3],[258,4,258,5],[258,7,258,8],[258,9,258,10],[258,12,258,13],[259,1,259,3],[259,4,259,5],[259,7,259,8],[259,9,259,10],[259,12,259,13],[267,4,268,4],[267,5,268,5],[267,6,268,6],[267,7,268,7],[267,8,268,8],[267,9,268,9],[267,10,268,10],[267,11,268,11],[280,1,281,11],[276,1,276,11],[274,1,274,3],[275,1,275,3],[272,1,272,3],[273,1,273,3],[270,1,270,3],[271,1,271,3],[268,1,268,3],[269,1,269,3],[288,1,288,3],[289,1,289,3],[284,9,285,9],[284,10,285,10],[284,11,285,11],[285,1,285,3],[286,1,286,3],[287,1,287,3],[282,1,283,3],[282,4,282,11],[283,4,283,7],[283,8,283,11],[284,4,285,4],[284,5,285,5],[284,6,285,6],[284,7,285,7],[284,8,285,8],[297,1,298,11],[299,1,300,3],[299,4,299,7],[299,8,299,11],[300,4,302,5],[300,6,302,7],[292,1,292,3],[293,1,293,11],[290,1,290,3],[291,1,291,3],[300,8,302,9],[300,10,302,11],[302,1,304,3],[303,4,304,4],[303,5,304,5],[303,6,304,7],[303,8,304,8],[303,9,304,9],[303,10,304,11],[305,1,305,3],[305,6,305,7],[305,10,305,11],[309,1,310,11],[311,1,312,3],[311,4,311,7],[311,8,311,11],[312,4,314,5],[312,6,314,7],[312,8,314,9],[317,1,317,3],[317,6,317,7],[317,10,317,11],[312,10,314,11],[314,1,316,3],[315,4,316,4],[315,5,316,5],[315,6,316,7],[315,8,316,8],[315,9,316,9],[315,10,316,11],[168,24,169,30],[170,24,172,24],[170,30,172,30],[82,1,83,13],[114,24,114,25],[165,24,165,28],[166,24,166,28],[154,24,154,28],[159,24,159,28],[149,24,149,28],[144,24,145,28],[146,24,148,24],[146,28,148,28],[94,1,94,3],[94,4,94,7],[96,1,96,3],[96,4,96,5],[96,6,96,7],[97,1,97,3],[97,4,97,5],[97,6,97,7],[98,1,98,3],[98,4,98,5],[98,6,98,7],[105,1,106,2],[105,3,105,4],[105,5,105,6],[105,7,105,8],[105,9,105,10],[101,1,102,10],[103,3,103,10],[104,3,104,10],[133,24,133,28],[128,24,128,28],[123,24,124,28],[125,24,127,24],[125,28,127,28],[113,1,115,2],[113,3,113,10],[114,3,114,4],[114,5,114,6],[114,7,114,8],[114,9,114,10],[107,1,107,2],[108,1,108,2],[109,1,109,2],[110,1,110,2],[111,1,111,2],[112,1,112,10],[124,1,125,10],[126,3,126,10],[127,3,127,10],[128,1,129,2],[128,3,128,4],[128,5,128,6],[128,7,128,8],[128,9,128,10],[116,1,116,2],[117,1,117,2],[118,1,118,2],[119,1,119,2],[120,1,120,2],[136,1,136,10],[137,1,139,2],[137,3,137,10],[138,3,138,4],[138,5,138,6],[138,7,138,8],[138,9,138,10],[130,1,130,2],[131,1,131,2],[132,1,132,2],[133,1,133,2],[134,1,134,2],[135,1,135,2],[149,1,150,6],[151,3,151,6],[152,3,153,4],[152,5,153,6],[153,1,153,2],[140,1,140,2],[141,1,141,2],[142,1,142,2],[143,1,143,2],[144,1,144,2],[145,1,145,2],[156,1,156,2],[156,3,156,4],[156,5,156,6],[157,1,157,2],[157,3,157,4],[157,5,157,6],[154,1,154,2],[154,3,154,4],[154,5,154,6],[155,1,155,2],[155,3,155,4],[155,5,155,6],[57,24,57,30],[61,24,62,30],[52,25,52,26],[53,25,53,26],[54,25,54,26],[48,24,51,24],[48,25,51,26],[48,27,49,30],[50,27,51,27],[50,28,51,28],[50,29,51,29],[50,30,51,30],[55,25,55,26],[56,24,56,30],[71,24,71,30],[72,24,72,30],[67,25,67,26],[68,25,68,26],[69,25,69,26],[70,25,70,26],[63,24,66,24],[63,25,66,26],[63,27,64,30],[65,27,66,27],[65,28,66,28],[65,29,66,29],[65,30,66,30],[13,1,13,3],[8,7,8,9],[11,4,11,6],[9,7,9,9],[10,7,10,9],[20,8,20,11],[14,4,14,6],[4,1,5,9],[9,4,9,6],[10,4,10,6],[12,7,12,9],[13,7,13,9],[6,4,6,9],[11,7,11,9],[6,1,6,3],[7,4,7,6],[8,1,8,3],[9,1,9,3],[10,1,10,3],[12,4,12,6],[13,4,13,6],[8,4,8,6],[7,7,7,9],[11,1,11,3],[27,6,27,7],[28,6,28,7],[25,10,25,11],[30,6,30,7],[32,6,32,7],[14,7,14,9],[19,4,19,11],[21,5,22,5],[21,6,22,7],[20,4,20,7],[84,2,84,7],[85,11,87,13],[84,1,88,1],[4,24,5,33],[6,24,7,24],[6,25,6,33],[12,24,13,33],[84,8,84,13],[88,8,88,9],[33,10,33,11],[34,10,34,11],[35,10,35,11],[36,10,36,11],[26,10,26,11],[27,10,27,11],[85,5,87,7],[88,5,88,7],[88,11,88,13],[88,2,88,3],[12,1,12,3],[14,1,14,3],[23,6,23,7],[17,1,18,11],[21,4,22,4],[66,1,66,3],[67,1,67,3],[41,26,41,27],[68,1,68,3],[42,25,43,31],[69,1,69,3],[92,1,93,7],[70,1,70,3],[71,1,71,3],[72,1,72,12],[72,13,72,21],[73,1,73,3],[74,1,74,3],[75,1,75,3],[76,1,76,3],[77,1,77,3],[78,1,78,3],[79,1,79,3],[89,11,89,13],[89,5,89,7],[89,2,89,3],[86,2,87,4],[85,8,87,10],[89,8,89,9],[64,1,64,12],[64,13,64,21],[65,1,65,3],[39,24,41,25],[39,26,40,27],[39,28,40,28],[39,29,40,29],[39,30,40,30],[62,21,63,21],[60,19,61,21],[62,4,63,4],[62,5,63,5],[62,6,63,6],[62,7,63,7],[62,8,63,8],[62,9,63,9],[62,10,63,10],[54,12,54,13],[62,20,63,20],[60,7,61,9],[60,10,61,12],[60,13,61,15],[60,16,61,18],[51,6,51,7],[54,14,54,15],[57,1,58,21],[59,1,62,3],[59,4,59,12],[59,13,59,21],[60,4,61,6],[54,1,54,3],[54,4,54,5],[54,6,54,7],[54,8,54,9],[54,10,54,11],[62,11,63,11],[62,12,63,12],[62,13,63,13],[62,14,63,14],[62,15,63,15],[62,16,63,16],[62,17,63,17],[62,18,63,18],[62,19,63,19],[51,1,51,3],[51,4,51,5],[51,8,51,9],[51,10,51,11],[52,14,52,15],[26,25,27,31],[53,1,53,3],[53,4,53,5],[53,6,53,7],[53,8,53,9],[53,10,53,11],[53,12,53,13],[53,14,53,15],[52,1,52,3],[52,4,52,5],[52,6,52,7],[52,8,52,9],[52,10,52,11],[52,12,52,13],[35,31,36,31],[31,24,32,31],[33,24,36,25],[33,26,36,27],[33,28,34,31],[50,1,50,3],[50,4,50,5],[50,6,50,7],[50,8,50,9],[50,10,50,11],[50,12,50,13],[50,14,50,15],[49,14,49,15],[23,24,25,25],[49,1,49,3],[37,24,38,25],[38,6,38,7],[31,6,31,7],[33,6,33,7],[34,6,34,7],[38,10,38,11],[28,10,28,11],[29,10,29,11],[30,10,30,11],[29,6,29,7],[37,10,37,11],[31,10,31,11],[32,10,32,11],[46,24,47,30],[39,31,40,31],[24,6,24,7],[25,6,25,7],[49,4,49,5],[49,6,49,7],[49,8,49,9],[49,10,49,11],[49,12,49,13],[51,12,51,13],[23,31,24,31],[23,26,24,27],[23,28,24,28],[23,29,24,29],[23,30,24,30],[51,14,51,15],[35,29,36,29],[35,28,36,28],[37,26,38,27],[37,28,38,28],[37,6,37,7],[35,6,35,7],[36,6,36,7],[23,10,23,11],[24,10,24,11],[48,1,48,3],[48,4,48,5],[48,6,48,7],[48,8,48,9],[48,10,48,11],[48,12,48,13],[48,14,48,15],[47,14,47,15],[21,24,22,25],[47,1,47,3],[47,4,47,5],[47,6,47,7],[47,8,47,9],[47,10,47,11],[47,12,47,13],[45,6,46,7],[45,8,46,9],[45,10,46,11],[45,12,46,13],[41,1,42,15],[21,8,22,8],[21,9,22,9],[21,10,22,11],[26,6,26,7],[15,24,16,31],[43,1,45,3],[43,4,43,15],[17,24,20,25],[17,26,20,27],[17,28,18,31],[44,4,44,9],[44,10,44,15],[45,4,46,5],[19,29,20,29],[19,30,20,30],[19,31,20,31],[45,14,46,15],[19,28,20,28],[21,31,22,31],[21,26,22,27],[21,28,22,28],[21,29,22,29],[21,30,22,30],[25,26,25,27],[35,30,36,30],[37,30,38,30],[37,31,38,31],[37,29,38,29],[246,24,247,30],[244,24,244,30],[245,24,245,25],[239,24,239,25],[240,24,240,30],[241,24,241,25],[242,24,242,30],[243,24,243,25],[235,24,235,25],[236,24,236,25],[237,24,237,25],[238,24,238,30],[231,24,231,25],[232,24,232,25],[233,24,233,25],[234,24,234,25],[230,24,230,30],[226,24,227,30],[228,24,229,25],[228,26,228,30],[117,24,117,25],[118,24,118,25],[195,24,195,27],[189,24,189,27],[183,24,183,27],[178,24,179,27],[180,24,182,24],[180,27,182,27],[219,24,219,27],[213,24,213,27],[207,24,207,27],[202,24,203,27],[204,24,206,24],[204,27,206,27],[138,24,138,28],[173,24,173,30],[115,24,115,25],[116,24,116,25],[110,24,110,25],[111,24,111,25],[112,24,112,25],[113,24,113,25],[107,24,107,25],[108,24,108,25],[109,24,109,25],[103,24,106,26],[97,24,97,25],[97,26,97,27],[98,24,99,27],[100,24,101,27],[94,24,94,25],[94,26,94,27],[95,24,95,25],[95,26,95,27],[96,24,96,25],[96,26,96,27],[78,27,80,27],[78,28,80,28],[91,24,91,25],[91,26,91,27],[92,24,92,25],[92,26,92,27],[93,24,93,25],[93,26,93,27],[89,24,89,25],[89,26,89,27],[90,24,90,25],[90,26,90,27],[257,9,257,10],[257,12,257,13],[253,12,254,13],[255,1,255,3],[255,4,255,5],[255,7,255,8],[255,9,255,10],[255,12,255,13],[74,24,75,28],[256,1,256,3],[256,4,256,5],[256,7,256,8],[256,9,256,10],[256,12,256,13],[257,1,257,3],[257,4,257,5],[257,7,257,8],[87,24,88,27],[76,24,80,24],[76,25,76,28],[77,25,77,26],[77,27,77,28],[78,25,80,25],[78,26,80,26],[246,1,246,3],[246,4,246,5],[246,6,246,7],[250,1,251,13],[252,1,253,3],[252,4,252,8],[252,9,252,13],[253,4,254,6],[253,7,254,8],[253,9,254,11],[245,1,245,3],[245,4,245,5],[245,6,245,7],[242,1,242,3],[242,4,242,5],[242,6,242,7],[243,1,243,3],[243,4,243,5],[243,6,243,7],[231,1,232,10],[236,1,237,7],[238,1,239,3],[238,4,238,5],[238,6,238,7],[239,4,241,5],[239,6,241,7],[241,1,241,3],[244,1,244,3],[244,4,244,5],[244,6,244,7],[229,1,229,2],[229,3,229,4],[229,5,229,6],[229,7,229,8],[229,9,229,10],[230,1,230,2],[230,3,230,4],[230,5,230,6],[230,7,230,8],[230,9,230,10],[227,1,227,2],[227,3,227,4],[227,5,227,6],[227,7,227,8],[227,9,227,10],[228,1,228,2],[228,3,228,4],[228,5,228,6],[228,7,228,8],[228,9,228,10],[225,1,225,2],[225,3,225,4],[225,5,225,6],[225,7,225,8],[225,9,225,10],[226,1,226,2],[226,3,226,4],[226,5,226,6],[226,7,226,8],[226,9,226,10],[213,1,213,2],[213,3,213,4],[213,5,213,6],[213,7,213,8],[213,9,213,10],[216,1,217,10],[221,1,222,10],[223,3,223,10],[224,3,224,6],[224,7,224,10],[214,1,214,2],[214,3,214,4],[214,5,214,6],[214,7,214,8],[214,9,214,10],[215,1,215,2],[215,3,215,4],[215,5,215,6],[215,7,215,8],[215,9,215,10],[211,1,211,2],[211,3,211,4],[211,5,211,6],[211,7,211,8],[211,9,211,10],[212,1,212,2],[212,3,212,4],[212,5,212,6],[212,7,212,8],[212,9,212,10],[199,1,199,2],[200,1,200,2],[201,1,201,2],[202,1,202,2],[206,1,207,10],[208,3,208,10],[209,3,209,6],[209,7,209,10],[210,1,210,2],[210,3,210,4],[210,5,210,6],[210,7,210,8],[210,9,210,10],[191,1,191,2],[192,1,192,2],[193,1,193,2],[196,1,198,2],[196,3,196,12],[197,3,197,4],[197,5,197,6],[197,7,197,8],[197,9,197,10],[197,11,197,12],[189,1,190,2],[189,3,189,4],[189,5,189,6],[189,7,189,8],[189,9,189,10],[189,11,189,12],[185,1,186,12],[187,3,187,12],[188,3,188,12],[179,1,179,2],[180,1,180,2],[181,1,181,2],[176,1,176,2],[177,1,177,2],[178,1,178,2],[173,1,175,2],[173,3,173,12],[174,3,174,4],[174,5,174,6],[174,7,174,8],[174,9,174,10],[174,11,174,12],[160,1,161,12],[162,3,162,12],[163,3,163,12],[164,1,165,2],[167,1,167,2],[168,1,168,2],[169,1,169,2],[170,1,170,2],[171,1,171,2],[164,3,164,4],[164,5,164,6],[164,7,164,8],[164,9,164,10],[164,11,164,12],[166,1,166,2]]}
[]
[null,"Tables Affiliated with Crash Statistics:",null,null,null,null,null,null,null,null,null,null,null,null,null,null,null,null,null,null,null,null,null,null,"Tables Affiliated with Crash Modification Factors:",null,null,null,null,null,null,null,null,null,null,null,null,null,"Additional CMF's"]
[]
[]
[null,"Table 10-3: Distribution for Crash Severity Level on Rural Two-Lane Two-Way Roadway Segments plus Locally-Derived Values",null,null,null,null,null,null,null,null,null,null,null,null,null,null,null,null,null,null,null,null,null,null,"Table 10-10: Crash Modification Factors for Shoulder Types and Shoulder Widths on Roadway Segments (CMFtra)",null,null,null,null,null,null,null,null,null,null,null,null,null,"Rural 2-Lane Segments",null,"Rural 2-Lane Intersections",null,"Rural Divided Multilane Segments",null,"Rural Undivided Multilane Segments",null,"Rural Multilane Intersections",null,"Urban & Suburban Segments",null,"Urban & Suburban Intersections"]
[null,null,null,null,null,null,null,null,null,null,null,null,null,null,null,null,null,null,null,null,null,null,null,null,null,null,null,null,null,null,null,null,null,null,null,null,null,null,"N/A (1.000)",1,"N/A (1.000)",1,"N/A (1.000)",1,"N/A (1.000)",1,"N/A (1.000)",1,"N/A (1.000)",1,"N/A (1.000)",1]
[null,"Crash severity level",null,null,"Percentage of total roadway segment crashes",null,null,null,null,null,null,null,null,null,null,null,null,null,null,null,null,null,null,null,"Shoulder Type","Shoulder width (ft)",null,null,null,null,null,null,null,null,null,null,null,null,"Edgelines (0.921)",0.92100000000000004,"Painted Left-turn channelization (0.670)",0.67,"Edgelines (0.921)",0.92100000000000004,"Edgelines (0.921)",0.92100000000000004,"Add left- or right-turn bypass lanes (0.850)",0.85,"Improve pavement friction (0.799)",0.79900000000000004,"Stop Control to Roundabout (0.560)",0.56000000000000005]
[null,null,null,null,"HSM-Provided Values",null,null,"Locally-Derived Values (Michigan)",null,null,null,null,null,null,null,null,null,null,null,null,null,null,null,null,null,0,1,2,3,4,5,6,7,8,null,null,null,null,"Wide (6\") Edgelines (0.929)",0.92900000000000005,"Raised/Curb Left-turn channelization (0.870)",0.87,"Wide (6\") Edgelines (0.929)",0.92900000000000005,"Wide (6\") Edgelines (0.929)",0.92900000000000005,"Convert to roundabout (0.330)",0.33,null,null,"Signalized Int. to Roundabout (0.520)",0.52]
[null,"Fatal",null,null,1.3,null,null,0.5,null,null,null,null,null,null,null,null,null,null,null,null,null,null,null,null,"Paved",1,1,1,1,1,{"$f":"+(AD9+AF9)/2","v":1},1,{"$f":"+(AF9+AH9)/2","v":1},1,null,null,null,null,"Shoulder Rumble Strips (0.840)",0.84,"Add left- or right-turn bypass lanes (0.950)",0.95,"Shoulder Rumble Strips (0.840)",0.84,"Shoulder Rumble Strips (0.840)",0.84,"Convert to roundabout from minor-road stop control (0.560)",0.56000000000000005,null,null,"Add 3\" Retroreflective Backplates (0.850)",0.85]
[null,"Incapacitating Injury",null,null,5.4,null,null,1.8,null,null,null,null,null,null,null,null,null,null,null,null,null,null,null,null,"Gravel",1,1,1.01,1.01,1.01,{"$f":"+(AD10+AF10)/2","v":1.0150000000000001},1.02,{"$f":"+(AF10+AH10)/2","v":1.02},1.02,null,null,null,null,"Improve pavement friction (0.799)",0.79900000000000004,"Convert to roundabout (0.330)",0.33,"Improve pavement friction (0.799)",0.79900000000000004,"Improve pavement friction (0.799)",0.79900000000000004,"Convert minor-road stop control to all-way (0.520)",0.52,null,null,"Add signal (add'l primary head) (0.720)",0.72]
[null,"Nonincapacitating Injury",null,null,10.9,null,null,3.3,null,null,null,null,null,null,null,null,null,null,null,null,null,null,null,null,"Composite",1,1.01,1.02,1.02,1.03,{"$f":"+(AD11+AF11)/2","v":1.0350000000000001},1.04,{"$f":"+(AF11+AH11)/2","v":1.05},1.06,null,null,null,null,null,null,"Convert to roundabout from minor-road stop control (0.560)",0.56000000000000005,null,null,null,null,"Add flashing beacons at stop controlled intersections (0.950)",0.95,null,null,"Convert to roundabout from minor-road stop control (0.560)",0.56000000000000005]
[null,"Possible Injury",null,null,14.5,null,null,5.3,null,null,null,null,null,null,null,null,null,null,null,null,null,null,null,null,"Turf",1,1.01,1.03,1.04,1.05,{"$f":"+(AD12+AF12)/2","v":1.0649999999999999},1.08,{"$f":"+(AF12+AH12)/2","v":1.0950000000000002},1.1100000000000001,null,null,null,null,null,null,"Convert minor-road stop control to all-way (0.520)",0.52,null,null,null,null,"Replace 8\" red signal heads with 12\" (0.970)",0.97,null,null,"Add flashing beacons at stop controlled intersections (0.950)",0.95]
[null,"Total Fatal Plus Injury",null,null,{"$f":"SUM(E9:E12)","v":32.1},null,null,{"$f":"SUM(H9:H12)","v":10.899999999999999},null,null,null,null,null,null,null,null,null,null,null,null,null,null,null,null,"Note: The values for composite shoulders in this exhibit represent a shoulder for which 50 percent of the shoulder width is paved and 50 percent of the shoulder width is turf.",null,null,null,null,null,null,null,null,null,null,null,null,null,null,null,"Add flashing beacons at stop controlled intersections (0.950)",0.95,null,null,null,null,"Improve pavement friction (3ST) (0.819)",0.81899999999999995,null,null,"Replace 8\" red signal heads with 12\" (0.970)",0.97]
[null,"Property Damage Only",null,null,{"$f":"100-E13","v":67.900000000000006},null,null,{"$f":"100-H13","v":89.1},null,null,null,null,null,null,null,null,null,null,null,null,null,null,null,null,null,null,null,null,null,null,null,null,null,null,null,null,null,null,null,null,"Replace 8\" red signal heads with 12\" (0.970)",0.97,null,null,null,null,"Improve pavement friction (3SG) (0.667)",0.66700000000000004,null,null,"Improve pavement friction (3ST) (0.819)",0.81899999999999995]
[null,"TOTAL",null,null,{"$f":"SUM(E13:E14)","v":100},null,null,{"$f":"SUM(H13:H14)","v":100},null,null,null,null,null,null,null,null,null,null,null,null,null,null,null,null,null,null,null,null,null,null,null,null,null,null,null,null,null,null,null,null,"Improve pavement friction (3ST) (0.819)",0.81899999999999995,null,null,null,null,"Improve pavement friction (4SG) (0.797)",0.79700000000000004,null,null,"Improve pavement friction (3SG) (0.667)",0.66700000000000004]
[null,"Note: HSM-provided crash severity data based on HSIS data for Washington (2002-2006)",null,null,null,null,null,null,null,null,null,null,null,null,null,null,null,null,null,null,null,null,null,null,"Table 10-13: CMF for Installation of Left-Turn Lanes on Intersection Approaches (CMF2i)",null,null,null,null,null,null,null,null,null,null,null,null,null,null,null,"Improve pavement friction (3SG) (0.667)",0.66700000000000004,null,null,null,null,null,null,null,null,"Improve pavement friction (4SG) (0.797)",0.79700000000000004]
[null,null,null,null,null,null,null,null,null,null,null,null,null,null,null,null,null,null,null,null,null,null,null,null,null,null,null,null,null,null,null,null,null,null,null,null,null,null,null,null,"Improve pavement friction (4SG) (0.797)",0.79700000000000004]
[null,"Table 10-4: Default Distribution by Collision Type for Specific Crash Severity Levels on Rural Two-Lane Two-Way Roadway Segments plus Locally-Derived Values",null,null,null,null,null,null,null,null,null,null,null,null,null,null,null,null,null,null,null,null,null,null,"Intersection type",null,"Intersection traffic control",null,"Number of approaches with left-turn lanes a"]
[]
[null,null,null,null,"Percentage of total roadway segment crashes by crash severity level",null,null,null,null,null,null,null,null,null,null,null,null,null,null,null,null,null,null,null,null,null,null,null,1,2,3,4]
[null,null,null,null,"HSM-Provided Values",null,null,null,"Locally-Derived Values (Michigan)"]
[null,"Collision type",null,null,"Total fatal and injury","Property damage only","TOTAL (all severity levels combined)",null,"Total fatal and injury","Property damage only","TOTAL (all severity levels combined)",null,null,null,null,null,null,null,null,null,null,null,null,null,"Three-leg intersection",null,"Minor road stop control b",null,0.56000000000000005,0.31,0.31,0.31]
[]
[null,"SINGLE-VEHICLE CRASHES",null,null,null,null,null,null,null,null,null,null,null,null,null,null,null,null,null,null,null,null,null,null,"Four-leg intersection",null,"Minor road stop control b",null,0.72,0.52,0.52,0.52]
[null,"Collision with animal",null,null,3.8,18.399999999999999,12.1,null,11.5,74.8,67.7]
[null,"Collision with bicycle",null,null,0.4,0.1,0.2,null,0.7,0,0,null,null,null,null,null,null,null,null,null,null,null,null,null,null,null,"Traffic signal",null,0.82,0.67,0.55000000000000004,0.45]
[null,"Collision with pedestrian",null,null,0.7,0.1,0.3,null,1.3,0,0.2,null,null,null,null,null,null,null,null,null,null,null,null,null,"Note:","a Stop-controlled approaches are not considered in determing the number of approaches with left-turn lanes"]
[null,"Overturned",null,null,3.7,1.5,2.5,null,15.5,2.5,4]
[null,"Ran off road",null,null,54.5,50.5,52.1,null,26.7,11.2,12.9,null,null,null,null,null,null,null,null,null,null,null,null,null,null,"b Stop signs present on minor road approaches only."]
[null,"Other single-vehicle crash",null,null,0.7,2.9,2.1,null,2.9,1.3,1.5]
[null,"Total single-vehicle crashes",null,null,{"$f":"SUM(E25:E30)","v":63.800000000000004},{"$f":"SUM(F25:F30)","v":73.5},{"$f":"SUM(G25:H30)","v":69.3},null,{"$f":"SUM(I25:I30)","v":58.6},{"$f":"SUM(J25:J30)","v":89.8},{"$f":"SUM(K25:L30)","v":86.300000000000011}]
[null,"MULTIPLE-VEHICLE CRASHES",null,null,null,null,null,null,null,null,null,null,null,null,null,null,null,null,null,null,null,null,null,null,"Table 10-14: CMF for Installation of Right-Turn Lanes on Intersection Approaches (CMF3i)"]
[null,"Angle collision",null,null,10,7.2,8.5,null,6.1,1.2,1.7]
[null,"Head-on collision",null,null,3.4,0.3,1.6,null,9,0.3,1.3,null,null,null,null,null,null,null,null,null,null,null,null,null,"Intersection type",null,"Intersection traffic control",null,"Number of approaches with left-turn lanes a"]
[null,"Rear-end collision",null,null,16.399999999999999,12.2,14.2,null,16.399999999999999,4.2,5.5]
[null,"Sideswipe collision",null,null,3.8,3.8,3.7,null,5.7,2.4,2.8,null,null,null,null,null,null,null,null,null,null,null,null,null,null,null,null,null,1,2,3,4]
[null,"Other multiple-vehicle collision",null,null,2.6,3,2.7,null,4.2,2,2.2999999999999998]
[null,"Total multiple-vehicle crashes",null,null,{"$f":"SUM(E33:E37)","v":36.199999999999996},{"$f":"SUM(F33:F37)","v":26.5},{"$f":"SUM(G33:H37)","v":30.699999999999996},null,{"$f":"SUM(I33:I37)","v":41.400000000000006},{"$f":"SUM(J33:J37)","v":10.1},{"$f":"SUM(K33:L37)","v":13.600000000000001},null,null,null,null,null,null,null,null,null,null,null,null,null,"Three-leg intersection",null,"Minor road stop control b",null,0.86,0.74,0.74,0.74]
[null,"TOTAL CRASHES",null,null,{"$f":"+E31+E38","v":100},{"$f":"+F31+F38","v":100},100,null,{"$f":"+I31+I38","v":100},{"$f":"+J31+J38","v":99.899999999999991},100]
[null,"Note:  HSM-provided values based on crash data for Washington (2002-2006); includes approximately 70 percent opposite-direction sideswipe and 30 percent same-direction sideswipe collisions.",null,null,null,null,null,null,null,null,null,null,null,null,null,null,null,null,null,null,null,null,null,null,"Four-leg intersection",null,"Minor road stop control b",null,0.86,0.74,0.74,0.74]
[]
[null,"Table 10-5: Default Distribution for Crash Severity Level at Rural Two-Lane Two-Way Intersections plus Locally-Derived Values",null,null,null,null,null,null,null,null,null,null,null,null,null,null,null,null,null,null,null,null,null,null,null,null,"Traffic signal",null,0.96,0.92,0.88,0.85]
[null,null,null,null,null,null,null,null,null,null,null,null,null,null,null,null,null,null,null,null,null,null,null,null,"Note:","a Stop-controlled approaches are not considered in determing the number of approaches with right-turn lanes"]
[null,"Collision type",null,null,"Percentage of total crashes"]
[null,null,null,null,"HSM-Provided Values",null,null,null,null,null,"Locally-Derived Values",null,null,null,null,null,null,null,null,null,null,null,null,null,null,"b Stop signs present on minor road approaches only."]
[null,null,null,null,"3ST",null,"4ST",null,"4SG",null,"3ST",null,"4ST",null,"4SG"]
[null,null,null,null,null,null,null,null,null,null,null,null,null,null,null,null,null,null,null,null,null,null,null,null,"Table 12-24: Crash Modification Factor (CMF1i) for Installation of Left-Turn Lanes on Intersection Approaches"]
[]
[null,"Fatal",null,null,1.7,null,1.8,null,0.9,null,0.5,null,0.7,null,0.2,null,null,null,null,null,null,null,null,null,"Intersection Type","Intersection traffic control",null,"Number of approaches with left-turn lanes a"]
[null,"Incapacitating injury",null,null,4,null,4.3,null,2.1,null,2.8,null,4,null,2.5]
[null,"Nonincapacitating injury",null,null,16.600000000000001,null,16.2,null,10.5,null,5.5,null,6.8,null,5.7,null,null,null,null,null,null,null,null,null,null,null,null," One  approach","Two approaches","Three approaches","Four approaches"]
[null,"Possible injury",null,null,19.2,null,20.8,null,20.5,null,9.8000000000000007,null,12,null,15.1]
[null,"Total fatal plus injury",null,null,{"$f":"SUM(E49:E52)","v":41.5},null,{"$f":"SUM(G49:G52)","v":43.099999999999994},null,{"$f":"SUM(I49:I52)","v":34},null,{"$f":"SUM(K49:K52)","v":18.600000000000001},null,{"$f":"SUM(M49:M52)","v":23.5},null,{"$f":"SUM(O49:O52)","v":23.5},null,null,null,null,null,null,null,null,null,"3ST","Minor-road STOP controlb",null,0.67,0.45,"--","--"]
[null,"Property damage only",null,null,{"$f":"100-E53","v":58.5},null,{"$f":"100-G53","v":56.900000000000006},null,{"$f":"100-I53","v":66},null,{"$f":"100-K53","v":81.400000000000006},null,{"$f":"100-M53","v":76.5},null,{"$f":"100-O53","v":76.5},null,null,null,null,null,null,null,null,null,"3SG","Traffic signal",null,0.93,0.86,0.8,0.8]
[null,"TOTAL",null,null,{"$f":"SUM(E53:E54)","v":100},null,{"$f":"SUM(G53:G54)","v":100},null,{"$f":"SUM(I53:I54)","v":100},null,{"$f":"SUM(K53:K54)","v":100},null,{"$f":"SUM(M53:M54)","v":100},null,{"$f":"SUM(O53:O54)","v":100},null,null,null,null,null,null,null,null,null,"4ST","Minor-road STOP controla",null,0.73,0.53,"--","--"]
[null,"Note:  HSM-Provided values based on HSIS data for California (2002-2006)",null,null,null,null,null,null,null,null,null,null,null,null,null,null,null,null,null,null,null,null,null,null,"4SG","Traffic signal",null,0.9,0.81,0.73,0.66]
[null,null,null,null,null,null,null,null,null,null,null,null,null,null,null,null,null,null,null,null,null,null,null,null,"a STOP-controlled approaches are not considered in determining the number of approaches with left-turn lanes."]
[null,"Table 10-6: Default Distribution for Collision Type and Manner of Collision at Rural Two-Way Intersections plus Locally-Derived Values",null,null,null,null,null,null,null,null,null,null,null,null,null,null,null,null,null,null,null,null,null,null,"b Stop signs present on minor-road approaches only."]
[]
[null,"Collision type",null,null,"Percentage of total crashes by collision type ( HSM Default Values)",null,null,null,null,null,null,null,null,"Percentage of total crashes by collision type (Locally Derived Values)"]
[null,null,null,null,"Three-leg stop-controlled intersections",null,null,"Four-leg stop-controlled intersections",null,null,"Four-leg signalized intersections",null,null,"Three-leg stop-controlled intersections",null,null,"Four-leg stop-controlled intersections",null,null,"Four-leg signalized intersections"]
[null,null,null,null,null,null,null,null,null,null,null,null,null,null,null,null,null,null,null,null,null,null,null,null,"Table 12-26: Crash Modification Factor (CMF3i) for Installation of Right-Turn Lanes on Intersection Approaches"]
[null,null,null,null,"Fatal and Injury","Property damage only","Total","Fatal and injury","Property damage only","Total","Fatal and injury","Property damage only","Total","Fatal and Injury","Property damage only","Total","Fatal and injury","Property damage only","Total","Fatal and injury","Property damage only","Total"]
[null,null,null,null,null,null,null,null,null,null,null,null,null,null,null,null,null,null,null,null,null,null,null,null,"Intersection Type","Intersection traffic control",null,"Number of approaches with right-turn lanes a"]
[null,"SINGLE-VEHICLE CRASHES",null,null,null,null,null,null,null,null,null,null,null,"SINGLE-VEHICLE CRASHES"]
[null,"Collision with animal",null,null,0.8,2.6,1.9,0.6,1.4,1,0,0.3,0.2,3.9,39.4,32.799999999999997,1.5,28.8,22.3,0.2,4.4000000000000004,3.4,null,null,null,null,null," One  approach","Two approaches","Three approaches","Four approaches"]
[null,"Collision with bicycle",null,null,0.1,0.1,0.1,0.1,0.1,0.1,0.1,0.1,0.1,1,0.1,0.3,1.2,0.1,0.4,1.9,0.3,0.6]
[null,"Collision with pedestrian",null,null,0.1,0.1,0.1,0.1,0.1,0.1,0.1,0.1,0.1,1.5,0,0.3,1.5,0,0.4,4.7,0.1,1.2,null,null,"3ST","Minor-road STOP controlb",null,0.86,0.74,"--","--"]
[null,"Overturned",null,null,2.2000000000000002,0.7,1.3,0.6,0.4,0.5,0.3,0.3,0.3,9.6,2.6,3.9,3.1,1.4,1.8,0.3,0.3,0.3,null,null,"3SG","Traffic signal",null,0.96,0.92,"--","--"]
[null,"Ran off road",null,null,24,24.7,24.4,9.4,14.4,12.2,3.2,8.1,6.4,18.8,17.7,17.899999999999999,8.5,11.8,11,3.7,5,4.7,null,null,"4ST","Minor-road STOP controla",null,0.86,0.74,"--","--"]
[null,"Other single-vehicle crash",null,null,1.1000000000000001,2,1.6,0.4,1,0.8,0.3,1.8,0.5,2.9,2.5,2.6,1.5,1.7,1.6,1.1000000000000001,0.6,0.7,null,null,"4SG","Traffic signal",null,0.96,0.92,0.88,0.85]
[null,"Total single-vehicle crashes",null,null,{"$f":"SUM(E66:E71)","v":28.3},30.2,29.4,11.200000000000001,17.399999999999999,14.7,4,10.700000000000001,7.6000000000000005,37.699999999999996,62.3,57.79999999999999,17.3,43.800000000000004,37.5,11.9,10.7,10.899999999999999,null,null,"a STOP-controlled approaches are not considered in determining the number of approaches with right-turn lanes."]
[null,"MULTIPLE-VEHICLE CRASHES",null,null,null,null,null,null,null,null,null,null,null,"MULTIPLE-VEHICLE CRASHES",null,null,null,null,null,null,null,null,null,null,"b Stop signs present on minor-road approaches only."]
[null,"Angle collision",null,null,27.5,21,23.7,53.2,35.4,43.1,33.6,24.2,27.4,16.7,7.7,9.4,41.6,18.100000000000001,23.8,33,21.2,24]
[null,"Head-on collision",null,null,8.1,3.2,5.2,6,2.5,4,8,4,5.4,8.9,1.5,2.9,9,2.6,4.0999999999999996,14.6,6.1,8.1,null,null,"Table 12-19: Values of fpk Used in Determing the CMF for On-Street Parking"]
[null,"Rear-end collision",null,null,26,29.2,27.8,21,26.6,24.2,40.299999999999997,43.8,42.6,26.6,15.7,17.7,20.7,17.399999999999999,18.100000000000001,31.9,37.5,36.299999999999997]
[null,"Sideswipe collision",null,null,5.0999999999999996,13.1,9.6999999999999993,4.4000000000000004,14.4,10.1,5.0999999999999996,15.3,11.8,4.5,6.9,6.4,4.7,8.3000000000000007,7.4,2.7,11.5,9.4,null,null,"Road Type","Type of Parking and Land Use"]
[null,"Other multiple-vehicle collision",null,null,5,3.3,4.2,4.2,3.7,3.9,9,2,5.2,5.6,5.9,5.8,6.7,9.8000000000000007,9.1,5.9,13,11.3,null,null,null,"Parallel Parking",null,"Angle Parking"]
[null,"Total multiple-vehicle crashes",null,null,{"$f":"SUM(E74:E78)","v":71.7},69.8,70.600000000000009,88.800000000000011,82.600000000000009,85.3,96,89.3,92.4,62.300000000000004,37.699999999999996,42.199999999999996,82.7,56.2,62.5,88.100000000000009,89.3,89.100000000000009,null,null,null,"Residential/  Other","Commercial or Industrial/ Institutional","Residential/  Other","Commercial or Industrial/ Institutional"]
[null,"TOTAL CRASHES",null,null,{"$f":"+E72+E79","v":100},100,100,100.00000000000001,100,100,100,100,100,100,100,99.999999999999986,100,100,100,100.00000000000001,100,100]
[null,"Note:  HSM-Provided values based on HSIS data for California (2002-2006)"]
[null,null,null,null,null,null,null,null,null,null,null,null,null,null,null,null,null,null,null,null,null,null,null,null,"2U",1.4650000000000001,2.0739999999999998,3.4279999999999999,4.8529999999999998]
[null,"Table 10-12: Nighttime Crash Proportions for Unlighted Roadway Segments plus Locally-Derived Values",null,null,null,null,null,null,null,null,null,null,null,null,null,null,null,null,null,null,null,null,null,null,"3T",1.4650000000000001,2.0739999999999998,3.4279999999999999,4.8529999999999998]
[null,null,null,null,null,null,null,null,null,null,null,null,null,null,null,null,null,null,null,null,null,null,null,null,"4U",1.1000000000000001,1.7090000000000001,2.5739999999999998,3.9990000000000001]
[null,"Roadway Type","HSM Default Values",null,null,null,null,null,"Locally Derived Values",null,null,null,null,null,null,null,null,null,null,null,null,null,null,null,"4D",1.1000000000000001,1.7090000000000001,2.5739999999999998,3.9990000000000001]
[null,null,null,null,null,"Proportion of crashes that occur at night",null,null,"Proportion of total nighttime crashes by severity level",null,null,"Proportion of crashes that occur at night",null,null,null,null,null,null,null,null,null,null,null,null,"5T",1.1000000000000001,1.7090000000000001,2.5739999999999998,3.9990000000000001]
[null,null,"Proportion of total nighttime crashes by severity level"]
[null,null,null,null,null,null,null,null,null,null,null,null,null,null,null,null,null,null,null,null,null,null,null,null,"Table 12-20: Fixed-Object Offset Factor"]
[null,null,"Fatal and Injury pinr",null,"PDO ppnr","pnr",null,null,"Fatal and Injury pinr",null,"PDO ppnr","pnr"]
[null,"2U",0.38200000000000001,null,0.61799999999999999,0.37,null,null,0.27,null,0.65,0.46300000000000002,null,null,null,null,null,null,null,null,null,null,null,null,"Offset to fixed objects",null,"Fixed-Object Offset Factor"]
[null,"Note:  HSM-provided values based on HSIS data for Washington (2002-2006)",null,null,null,null,null,null,null,null,null,null,null,null,null,null,null,null,null,null,null,null,null,null,"(Ofo) (ft)",null,"(foffset)"]
[null,null,null,null,null,null,null,null,null,null,null,null,null,null,null,null,null,null,null,null,null,null,null,null,2,null,0.23200000000000001]
[null,"Table 10-15: Nighttime Crash Proportions for Unlighted Intersections",null,null,null,null,null,null,null,null,null,null,null,null,null,null,null,null,null,null,null,null,null,null,5,null,0.13300000000000001]
[null,null,null,null,null,null,null,null,null,null,null,null,null,null,null,null,null,null,null,null,null,null,null,null,10,null,8.6999999999999994E-2]
[null,"Intersection Type",null,null,"Proportion of crashes that occur at night, pni",null,null,null,null,null,null,null,null,null,null,null,null,null,null,null,null,null,null,null,15,null,6.8000000000000005E-2]
[null,null,null,null,"HSM Provided Values",null,"Locally-Derived Values",null,null,null,null,null,null,null,null,null,null,null,null,null,null,null,null,null,20,null,5.7000000000000002E-2]
[null,"3ST",null,null,0.26,null,0.248,null,null,null,null,null,null,null,null,null,null,null,null,null,null,null,null,null,25,null,4.9000000000000002E-2]
[null,"4ST",null,null,0.24399999999999999,null,0.20799999999999999,null,null,null,null,null,null,null,null,null,null,null,null,null,null,null,null,null,"≥ 30",null,4.3999999999999997E-2]
[null,"4SG",null,null,0.28599999999999998,null,0.188,null,null,null,null,null,null,null,null,null,null,null,null,null,null,null,null,null,"Note:  Values from 2 to 30 can be estimated using the following equation:"]
[null,"Note:  HSM-Provided values based on HSIS data for California (2002-2006)"]
[null,null,null,null,null,null,null,null,null,null,null,null,null,null,null,null,null,null,null,null,null,null,null,null,"y=0.3566 x-0.614"]
[null,"Table 12-11: Distribution of Multiple-Vehicle Collisions for Intersections by Collision Type"]
[]
[null,null,null,"Proportion of crashes by severity level for specific intersection types",null,null,null,null,null,null,null,null,null,null,null,null,null,null,null,null,null,null,null,null,"Table 12-22: CMFs for Median Widths on Divided Roadway Segments without a Median Barrier (CMF3r)"]
[null,null,null,"HSM-Provided Values"]
[null,"Collision type",null,"3ST",null,"3SG",null,"4ST",null,"4SG"]
[null,null,null,"FI","PDO","FI","PDO","FI","PDO","FI","PDO"]
[null,"Rear-end collision",null,0.42099999999999999,0.44,0.54900000000000004,0.54600000000000004,0.33800000000000002,0.374,0.45,0.48299999999999998,null,null,null,null,null,null,null,null,null,null,null,null,null,"Median Width (ft)",null,"CMF"]
[null,"Head-on collision",null,4.4999999999999998E-2,2.3E-2,3.7999999999999999E-2,0.02,4.1000000000000002E-2,0.03,4.9000000000000002E-2,0.03,null,null,null,null,null,null,null,null,null,null,null,null,null,10,null,1.01]
[null,"Angle collision",null,0.34300000000000003,0.26200000000000001,0.28000000000000003,0.20399999999999999,0.44,0.33500000000000002,0.34699999999999998,0.24399999999999999,null,null,null,null,null,null,null,null,null,null,null,null,null,15,null,1]
[null,"Sideswipe",null,0.126,0.04,7.5999999999999998E-2,3.2000000000000001E-2,0.121,4.3999999999999997E-2,9.9000000000000005E-2,3.2000000000000001E-2,null,null,null,null,null,null,null,null,null,null,null,null,null,20,null,0.99]
[null,"Other multiple-vehicle collision",null,6.5000000000000002E-2,0.23499999999999999,5.7000000000000002E-2,0.19800000000000001,0.06,0.217,5.5E-2,0.21099999999999999,null,null,null,null,null,null,null,null,null,null,null,null,null,30,null,0.98]
[null,"Source: HSIS data for Washington (2002-2006)",null,null,null,null,null,null,null,null,null,null,null,null,null,null,null,null,null,null,null,null,null,null,40,null,0.97]
[null,"Collision type",null,"Locally-Derived Values",null,null,null,null,null,null,null,null,null,null,null,null,null,null,null,null,null,null,null,null,50,null,0.96]
[null,null,null,"3ST",null,"3SG",null,"4ST",null,"4SG",null,null,null,null,null,null,null,null,null,null,null,null,null,null,60,null,0.95]
[null,null,null,"FI","PDO","FI","PDO","FI","PDO","FI","PDO",null,null,null,null,null,null,null,null,null,null,null,null,null,70,null,0.94]
[null,"Rear-end collision",null,0.51800000000000002,0.46400000000000002,0.59799999999999998,0.57499999999999996,0.33800000000000002,0.36099999999999999,0.46899999999999997,0.49299999999999999,null,null,null,null,null,null,null,null,null,null,null,null,null,80,null,0.93]
[null,"Head-on collision",null,8.5000000000000006E-2,2.5999999999999999E-2,9.5000000000000001E-2,0.03,8.5999999999999993E-2,3.4000000000000002E-2,9.9000000000000005E-2,3.7999999999999999E-2,null,null,null,null,null,null,null,null,null,null,null,null,null,90,null,0.93]
[null,"Angle collision",null,0.24399999999999999,0.17100000000000001,0.20799999999999999,0.13900000000000001,0.44600000000000001,0.28499999999999998,0.33500000000000002,0.19400000000000001,null,null,null,null,null,null,null,null,null,null,null,null,null,100,null,0.92]
[null,"Sideswipe",null,9.0999999999999998E-2,0.254,6.3E-2,0.20599999999999999,7.9000000000000001E-2,0.22500000000000001,5.7000000000000002E-2,0.20899999999999999]
[null,"Other multiple-vehicle collision",null,6.0999999999999999E-2,8.5000000000000006E-2,3.6999999999999998E-2,0.05,0.05,9.5000000000000001E-2,0.04,6.5000000000000002E-2]
[null,"Note:  HSM-Provided values based on HSIS data for California (2002-2006)",null,null,null,null,null,null,null,null,null,null,null,null,null,null,null,null,null,null,null,null,null,null,"Tables Affiliated with SPF Computation:"]
[]
[null,null,null,null,null,null,null,null,null,null,null,null,null,null,null,null,null,null,null,null,null,null,null,null,"Table 12-10: SPF Coefficients for Multiple-Vehicle Collisions at Intersections"]
[null,"Table 12-13: Distribution of Single-Vehicle Crashes for Intersections by Collision Type"]
[null,null,null,null,null,null,null,null,null,null,null,null,null,null,null,null,null,null,null,null,null,null,null,null,"Intersection type","Coefficients use in Eqn. 12-21",null,null,"Overdispersion    parameter     (k)"]
[null,null,null,"Proportion of crashes by severity level for specific intersection types",null,null,null,null,null,null,null,null,null,null,null,null,null,null,null,null,null,null,null,null,null,"Intercept","AADTmaj","AADTmin"]
[null,null,null,"HSM-Provided Values",null,null,null,null,null,null,null,null,null,null,null,null,null,null,null,null,null,null,null,null,null,"(a)","(b)","(c)"]
[null,"Collision type",null,"3ST",null,"3SG",null,"4ST",null,"4SG",null,null,null,null,null,null,null,null,null,null,null,null,null,null,"Total crashes"]
[null,null,null,"FI","PDO","FI","PDO","FI","PDO","FI","PDO",null,null,null,null,null,null,null,null,null,null,null,null,null,"3ST",-13.36,1.1100000000000001,0.41,0.8]
[null,"Collision with parked vehicle",null,1E-3,3.0000000000000001E-3,1E-3,1E-3,1E-3,1E-3,1E-3,1E-3,null,null,null,null,null,null,null,null,null,null,null,null,null,"3SG",-12.13,1.1100000000000001,0.26,0.33]
[null,"Collision with animal",null,3.0000000000000001E-3,1.7999999999999999E-2,1E-3,3.0000000000000001E-3,1E-3,2.5999999999999999E-2,2E-3,2E-3,null,null,null,null,null,null,null,null,null,null,null,null,null,"4ST",-8.9,0.82,0.25,0.4]
[null,"Collision with fixed object",null,0.76200000000000001,0.83409999999999995,0.65300000000000002,0.89500000000000002,0.67900000000000005,0.84699999999999998,0.74399999999999999,0.87,null,null,null,null,null,null,null,null,null,null,null,null,null,"4SG",-10.99,1.07,0.23,0.39]
[null,"Collision with other object",null,0.09,9.1999999999999998E-2,9.0999999999999998E-2,6.9000000000000006E-2,8.8999999999999996E-2,7.0000000000000007E-2,7.1999999999999995E-2,7.0000000000000007E-2,null,null,null,null,null,null,null,null,null,null,null,null,null,"Fatal-and-injury crashes"]
[null,"Other single-vehicle collision",null,3.9E-2,2.3E-2,4.4999999999999998E-2,1.7999999999999999E-2,5.0999999999999997E-2,7.0000000000000001E-3,0.04,2.3E-2,null,null,null,null,null,null,null,null,null,null,null,null,null,"3ST",-14.01,1.1599999999999999,0.3,0.69]
[null,"Noncollision",null,0.105,0.03,0.20899999999999999,1.4E-2,0.17899999999999999,4.9000000000000002E-2,0.14099999999999999,3.4000000000000002E-2,null,null,null,null,null,null,null,null,null,null,null,null,null,"3SG",-11.58,1.02,0.17,0.3]
[null,"Source: HSM-Provided values base on HSIS data for California (2002-2006)",null,null,null,null,null,null,null,null,null,null,null,null,null,null,null,null,null,null,null,null,null,null,"4ST",-11.13,0.93,0.28000000000000003,0.48]
[null,"Collision type",null,"Locally-Derived Values",null,null,null,null,null,null,null,null,null,null,null,null,null,null,null,null,null,null,null,null,"4SG",-13.14,1.18,0.22,0.33]
[null,null,null,"3ST",null,"3SG",null,"4ST",null,"4SG",null,null,null,null,null,null,null,null,null,null,null,null,null,null,"Property-damage-only crashes"]
[null,null,null,"FI","PDO","FI","PDO","FI","PDO","FI","PDO",null,null,null,null,null,null,null,null,null,null,null,null,null,"3ST",-15.38,1.2,0.51,0.77]
[null,"Collision with parked vehicle",null,2E-3,1E-3,0,2E-3,2E-3,0,0,1E-3,null,null,null,null,null,null,null,null,null,null,null,null,null,"3SG",-13.24,1.1399999999999999,0.3,0.36]
[null,"Collision with animal",null,4.2000000000000003E-2,0.41499999999999998,1.7000000000000001E-2,0.254,3.6999999999999998E-2,0.39,0.03,0.18,null,null,null,null,null,null,null,null,null,null,null,null,null,"4ST",-8.74,0.77,0.23,0.4]
[null,"Collision with fixed object",null,0.70099999999999996,0.46899999999999997,0.72899999999999998,0.58899999999999997,0.69699999999999995,0.499,0.69699999999999995,0.64100000000000001,null,null,null,null,null,null,null,null,null,null,null,null,null,"4SG",-11.02,1.02,0.24,0.44]
[null,"Collision with other object",null,1.9E-2,3.5999999999999997E-2,8.0000000000000002E-3,0.05,2.5000000000000001E-2,0.04,8.9999999999999993E-3,5.5E-2]
[null,"Other single-vehicle collision",null,0.13300000000000001,6.0999999999999999E-2,0.158,0.08,0.126,5.3999999999999999E-2,0.17899999999999999,0.107,null,null,null,null,null,null,null,null,null,null,null,null,null,"Table 12-12: SPF Coefficients for Single-Vehicle Crashes at Intersections"]
[null,"Noncollision",null,0.104,1.7999999999999999E-2,8.7999999999999995E-2,2.5000000000000001E-2,0.114,1.7999999999999999E-2,8.4000000000000005E-2,1.6E-2]
[null,null,null,null,null,null,null,null,null,null,null,null,null,null,null,null,null,null,null,null,null,null,null,null,"Intersection type","Coefficients use in Eqn. 12-24",null,null,"Overdispersion    parameter     (k)"]
[null,null,null,null,null,null,null,null,null,null,null,null,null,null,null,null,null,null,null,null,null,null,null,null,null,"Intercept","AADTmaj","AADTmin"]
[null,null,null,null,null,null,null,null,null,null,null,null,null,null,null,null,null,null,null,null,null,null,null,null,null,"(a)","(b)","(c)"]
[null,"Table 12-27: Nighttime Crash Proportions for Unlighted Intersections",null,null,null,null,null,null,null,null,null,null,null,null,null,null,null,null,null,null,null,null,null,null,"Total crashes"]
[null,null,null,null,null,null,null,null,null,null,null,null,null,null,null,null,null,null,null,null,null,null,null,null,"3ST",-6.81,0.16,0.51,1.1399999999999999]
[null,null,null,"Proportion of crashes that occur at night, pni",null,null,null,null,null,null,null,null,null,null,null,null,null,null,null,null,null,null,null,null,"3SG",-9.02,0.42,0.4,0.36]
[null,null,null,"HSM-Provided Values",null,"Locally-Derived Values",null,null,null,null,null,null,null,null,null,null,null,null,null,null,null,null,null,null,"4ST",-5.33,0.33,0.12,0.65]
[null,"Intersection Type",null,null,null,null,null,null,null,null,null,null,null,null,null,null,null,null,null,null,null,null,null,null,"4SG",-10.210000000000001,0.68,0.27,0.36]
[null,"3ST",null,0.23799999999999999,null,0.23799999999999999,null,null,"Replace these values with Michigan-Specific!",null,null,null,null,null,null,null,null,null,null,null,null,null,null,null,"Fatal-and-injury crashes"]
[null,"4ST",null,0.22900000000000001,null,0.22900000000000001,null,null,null,null,null,null,null,null,null,null,null,null,null,null,null,null,null,null,"3ST","--","--","--","--"]
[null,"3SG",null,0.23499999999999999,null,0.23499999999999999,null,null,null,null,null,null,null,null,null,null,null,null,null,null,null,null,null,null,"3SG",-9.75,0.27,0.51,0.24]
[null,"4SG",null,0.23499999999999999,null,0.23499999999999999,null,null,null,null,null,null,null,null,null,null,null,null,null,null,null,null,null,null,"4ST","--","--","--","--"]
[null,null,null,null,null,null,null,null,null,null,null,null,null,null,null,null,null,null,null,null,null,null,null,null,"4SG",-9.25,0.43,0.28999999999999998,0.09]
[null,null,null,null,null,null,null,null,null,null,null,null,null,null,null,null,null,null,null,null,null,null,null,null,"Property-damage-only crashes"]
[null,"Table 12-4: Distribution of Multiple-Vehicle Nondriveway Collisions for Roadway Segments by Manner of Collision Type",null,null,null,null,null,null,null,null,null,null,null,null,null,null,null,null,null,null,null,null,null,null,"3ST",-8.36,0.25,0.55000000000000004,1.29]
[null,null,null,null,null,null,null,null,null,null,null,null,null,null,null,null,null,null,null,null,null,null,null,null,"3SG",-9.08,0.45,0.33,0.53]
[null,null,null,"Proportion of crashes by severity level for specific road types",null,null,null,null,null,null,null,null,null,null,null,null,null,null,null,null,null,null,null,null,"4ST",-7.04,0.36,0.25,0.54]
[null,null,null,"HSM-Provided Values",null,null,null,null,null,null,null,null,null,null,null,null,null,null,null,null,null,null,null,null,"4SG",-11.34,0.78,0.25,0.44]
[null,"Collision type",null,"2U",null,"3T",null,"4U",null,"4D",null,"5T",null,null,null,null,null,null,null,null,null,null,null,null,"Note:  Where no models are available, Equations 12-27 is used."]
[null,null,null,"FI","PDO","FI","PDO","FI","PDO","FI","PDO","FI","PDO",null,null,null,null,null,null,null,null,null,null,null,"Equation 12-27:"]
[null,"Rear-end collision",null,0.73,0.77800000000000002,0.84499999999999997,0.84199999999999997,0.51100000000000001,0.50600000000000001,0.83199999999999996,0.66200000000000003,0.84599999999999997,0.65100000000000002,null,null,null,null,null,null,null,null,null,null,null,"Nbisv(FI) = Nbisv(TOTAL) x fbisv"]
[null,"Head-on collision",null,6.8000000000000005E-2,4.0000000000000001E-3,3.4000000000000002E-2,0.02,7.6999999999999999E-2,4.0000000000000001E-3,0.02,7.0000000000000001E-3,2.1000000000000001E-2,4.0000000000000001E-3]
[null,"Angle collision",null,8.5000000000000006E-2,7.9000000000000001E-2,6.9000000000000006E-2,0.02,0.18099999999999999,0.13,0.04,3.5999999999999997E-2,0.05,5.8999999999999997E-2,null,null,null,null,null,null,null,null,null,null,null,"Table 12-14: SPF for Vehicle-Pedestrian Collisions at Signalized Intersections"]
[null,"Sideswipe, same direction",null,1.4999999999999999E-2,3.1E-2,1E-3,7.8E-2,9.2999999999999999E-2,0.249,0.05,0.223,6.0999999999999999E-2,0.248]
[null,"Sideswipe, opposite direction",null,7.2999999999999995E-2,5.5E-2,1.7000000000000001E-2,0.02,8.2000000000000003E-2,3.1E-2,0.01,1E-3,4.0000000000000001E-3,8.9999999999999993E-3,null,null,null,null,null,null,null,null,null,null,null,"Intersection type","Coefficients use in Eqn. 12-29",null,null,null,null,"Overdispersion    parameter     (k)"]
[null,"Other multiple-vehicle collision",null,2.9000000000000001E-2,5.2999999999999999E-2,3.4000000000000002E-2,0.02,5.6000000000000001E-2,0.08,4.8000000000000001E-2,7.0999999999999994E-2,1.7999999999999999E-2,2.9000000000000001E-2,null,null,null,null,null,null,null,null,null,null,null,null,"Intercept","AADTtot","AADTmin/AADTmaj","PedVol","nlanesx"]
[null,"Source: HSIS data for Washington (2002-2006)",null,null,null,null,null,null,null,null,null,null,null,null,null,null,null,null,null,null,null,null,null,null,null,"(a)","(b)","(c)","(d)","(e)"]
[null,"Collision type",null,"Locally-Derived Values",null,null,null,null,null,null,null,null,null,null,null,null,null,null,null,null,null,null,null,null,"Total crashes"]
[null,null,null,"2U",null,"3T",null,"4U",null,"4D",null,"5T",null,null,null,null,null,null,null,null,null,null,null,null,"3SG",-6.6,0.05,0.24,0.41,0.09,0.52]
[null,null,null,"FI","PDO","FI","PDO","FI","PDO","FI","PDO","FI","PDO",null,null,null,null,null,null,null,null,null,null,null,"4SG",-9.5299999999999994,0.4,0.26,0.45,0.04,0.24]
[null,"Rear-end collision",null,0.46800000000000003,0.53400000000000003,0.51500000000000001,0.52700000000000002,0.45500000000000002,0.47,0.58799999999999997,0.55300000000000005,0.48399999999999999,0.51500000000000001]
[null,"Head-on collision",null,0.14099999999999999,4.5999999999999999E-2,0.126,5.1999999999999998E-2,0.14499999999999999,5.6000000000000001E-2,2.3E-2,8.0000000000000002E-3,0.13400000000000001,4.9000000000000002E-2]
[null,"Angle collision",null,0.28299999999999997,0.20499999999999999,0.27800000000000002,0.215,0.30299999999999999,0.219,0.28199999999999997,0.157,0.29399999999999998,0.19400000000000001,null,null,null,null,null,null,null,null,null,null,null,"Table 12-3: SPF Coefficients for Multiple-Vehicle Nondriveway Collisions on Roadway Segments"]
[null,"Sideswipe, same direction",null,3.1E-2,0.125,2.7E-2,0.13500000000000001,4.3999999999999997E-2,0.192,6.9000000000000006E-2,0.23499999999999999,4.2000000000000003E-2,0.185]
[null,"Sideswipe, opposite direction",null,3.3000000000000002E-2,3.6999999999999998E-2,1.9E-2,0.03,1.6E-2,2.8000000000000001E-2,6.0000000000000001E-3,1.0999999999999999E-2,1.4999999999999999E-2,2.1999999999999999E-2,null,null,null,null,null,null,null,null,null,null,null,"Road type","Coefficients use in Eqn. 12-10",null,"Overdispersion    parameter     (k)"]
[null,"Other multiple-vehicle collision",null,4.3999999999999997E-2,5.2999999999999999E-2,3.5999999999999997E-2,4.1000000000000002E-2,3.5999999999999997E-2,3.5000000000000003E-2,3.3000000000000002E-2,3.5999999999999997E-2,3.1E-2,3.5000000000000003E-2,null,null,null,null,null,null,null,null,null,null,null,null,"Intercept","AADT"]
[null,"Note:  HSM-Provided values based on HSIS data for Washington (2002-2006)",null,null,null,null,null,null,null,null,null,null,null,null,null,null,null,null,null,null,null,null,null,null,null,"(a)","(b)"]
[null,null,null,null,null,null,null,null,null,null,null,null,null,null,null,null,null,null,null,null,null,null,null,null,"Total crashes"]
[null,null,null,null,null,null,null,null,null,null,null,null,null,null,null,null,null,null,null,null,null,null,null,null,"2U",-15.22,1.68,0.84]
[null,"Table 12-6: Distribution of Single-Vehicle Collisions for Roadway Segments by Collision Type",null,null,null,null,null,null,null,null,null,null,null,null,null,null,null,null,null,null,null,null,null,null,"3T",-12.4,1.41,0.66]
[null,null,null,null,null,null,null,null,null,null,null,null,null,null,null,null,null,null,null,null,null,null,null,null,"4U",-11.63,1.33,1.01]
[null,null,null,"Proportion of crashes by severity level for specific road types",null,null,null,null,null,null,null,null,null,null,null,null,null,null,null,null,null,null,null,null,"4D",-12.34,1.36,1.32]
[null,null,null,"HSM-Provided Values",null,null,null,null,null,null,null,null,null,null,null,null,null,null,null,null,null,null,null,null,"5T",-9.6999999999999993,1.17,0.81]
[null,"Collision type",null,"2U",null,"3T",null,"4U",null,"4D",null,"5T",null,null,null,null,null,null,null,null,null,null,null,null,"Fatal-and-injury crashes"]
[null,null,null,"FI","PDO","FI","PDO","FI","PDO","FI","PDO","FI","PDO",null,null,null,null,null,null,null,null,null,null,null,"2U",-16.22,1.66,0.65]
[null,"Collision with animal",null,2.5999999999999999E-2,6.6000000000000003E-2,1E-3,1E-3,1E-3,1E-3,1E-3,6.3E-2,1.6E-2,4.9000000000000002E-2,null,null,null,null,null,null,null,null,null,null,null,"3T",-16.45,1.69,0.59]
[null,"Collision with fixed object",null,0.72299999999999998,0.75900000000000001,0.68799999999999994,0.96299999999999997,0.61199999999999999,0.80900000000000005,0.5,0.81299999999999994,0.39800000000000002,0.76800000000000002,null,null,null,null,null,null,null,null,null,null,null,"4U",-12.08,1.25,0.99]
[null,"Collision with other object",null,0.01,1.2999999999999999E-2,1E-3,1E-3,0.02,2.9000000000000001E-2,2.8000000000000001E-2,1.6E-2,5.0000000000000001E-3,6.0999999999999999E-2,null,null,null,null,null,null,null,null,null,null,null,"4D",-12.76,1.28,1.31]
[null,"Other single-vehicle collision",null,0.24099999999999999,0.16200000000000001,0.31,3.5000000000000003E-2,0.36699999999999999,0.161,0.47099999999999997,0.108,0.58099999999999996,0.122,null,null,null,null,null,null,null,null,null,null,null,"5T",-10.47,1.1200000000000001,0.62]
[null,"Source: HSIS data for Washington (2002-2006)",null,null,null,null,null,null,null,null,null,null,null,null,null,null,null,null,null,null,null,null,null,null,"Property-damage-only crashes"]
[null,"Collision type",null,"Locally-Derived Values",null,null,null,null,null,null,null,null,null,null,null,null,null,null,null,null,null,null,null,null,"2U",-15.62,1.69,0.87]
[null,null,null,"2U",null,"3T",null,"4U",null,"4D",null,"5T",null,null,null,null,null,null,null,null,null,null,null,null,"3T",-11.95,1.33,0.59]
[null,null,null,"FI","PDO","FI","PDO","FI","PDO","FI","PDO","FI","PDO",null,null,null,null,null,null,null,null,null,null,null,"4U",-12.53,1.38,1.08]
[null,"Collision with animal",null,0.10299999999999999,0.68200000000000005,8.5000000000000006E-2,0.60199999999999998,5.2999999999999999E-2,0.439,6.4000000000000001E-2,0.38300000000000001,6.0999999999999999E-2,0.45700000000000002,null,null,null,null,null,null,null,null,null,null,null,"4D",-12.81,1.38,1.34]
[null,"Collision with fixed object",null,0.60199999999999998,0.247,0.65,0.30099999999999999,0.66800000000000004,0.439,0.64,0.47499999999999998,0.66600000000000004,0.41499999999999998,null,null,null,null,null,null,null,null,null,null,null,"5T",-9.9700000000000006,1.17,0.88]
[null,"Collision with other object",null,2.4E-2,2.4E-2,1.7999999999999999E-2,3.7999999999999999E-2,1.4E-2,5.1999999999999998E-2,1.2999999999999999E-2,4.5999999999999999E-2,1.7000000000000001E-2,5.6000000000000001E-2]
[null,"Other single-vehicle collision",null,0.27100000000000002,4.8000000000000001E-2,0.247,5.8999999999999997E-2,0.26500000000000001,7.0000000000000007E-2,0.28399999999999997,9.6000000000000002E-2,0.25700000000000001,7.0999999999999994E-2,null,null,null,null,null,null,null,null,null,null,null,"Table 12-5: SPF Coefficients for Single-Vehicle Collisions on Roadway Segments"]
[]
[null,null,null,null,null,null,null,null,null,null,null,null,null,null,null,null,null,null,null,null,null,null,null,null,"Road type","Coefficients use in Eqn. 12-11",null,"Overdispersion    parameter     (k)"]
[null,null,null,null,null,null,null,null,null,null,null,null,null,null,null,null,null,null,null,null,null,null,null,null,null,"Intercept","AADT"]
[null,"Table 12-8: Pedestrian Crash Adjustment Factor for Roadway Segments",null,null,null,null,null,null,null,null,null,null,null,null,null,null,null,null,null,null,null,null,null,null,null,"(a)","(b)"]
[null,null,null,null,null,null,null,null,null,null,null,null,null,null,null,null,null,null,null,null,null,null,null,null,"Total crashes"]
[null,null,null,"Pedestrian Crash Adjustment Factor (fpedr)",null,null,null,null,null,null,null,null,null,null,null,null,null,null,null,null,null,null,null,null,"2U",-5.47,0.56000000000000005,0.81]
[null,null,null,"HSM-Provided Values",null,null,null,"Locally-Derived Values",null,null,null,null,null,null,null,null,null,null,null,null,null,null,null,null,"3T",-5.74,0.54,1.37]
[null,"Road type",null,"Posted Speed 30 mph or Lower",null,"Posted Speed Greater than 30 mph",null,"Posted Speed 30 mph or Lower",null,"Posted Speed Greater than 30 mph",null,null,null,null,null,null,null,null,null,null,null,null,null,null,"4U",-7.99,0.81,0.91]
[null,"2U",null,3.5999999999999997E-2,null,5.0000000000000001E-3,null,3.5999999999999997E-2,null,5.0000000000000001E-3,null,null,"Replace these values with Michigan-Specific!",null,null,null,null,null,null,null,null,null,null,null,"4D",-5.05,0.47,0.86]
[null,"3T",null,4.1000000000000002E-2,null,1.2999999999999999E-2,null,4.1000000000000002E-2,null,1.2999999999999999E-2,null,null,null,null,null,null,null,null,null,null,null,null,null,null,"5T",-4.82,0.54,0.52]
[null,"4U",null,2.1999999999999999E-2,null,8.9999999999999993E-3,null,2.1999999999999999E-2,null,8.9999999999999993E-3,null,null,null,null,null,null,null,null,null,null,null,null,null,null,"Fatal-and-injury crashes"]
[null,"4D",null,6.7000000000000004E-2,null,1.9E-2,null,6.7000000000000004E-2,null,1.9E-2,null,null,null,null,null,null,null,null,null,null,null,null,null,null,"2U",-3.96,0.23,0.5]
[null,"5T",null,0.03,null,2.3E-2,null,0.03,null,2.3E-2,null,null,null,null,null,null,null,null,null,null,null,null,null,null,"3T",-6.37,0.47,1.06]
[null,"Note:  These factors apply to the methodology for predicting total crashes (all seerity levels combined). All pedestrian collisions resulting from this adjustment factor are treated as fatal-and-injury crashes and none as property-damage-only crashes.  Source:  HSIS data for Washington (2002-2006)",null,null,null,null,null,null,null,null,null,null,null,null,null,null,null,null,null,null,null,null,null,null,"4U",-7.37,0.61,0.54]
[null,null,null,null,null,null,null,null,null,null,null,null,null,null,null,null,null,null,null,null,null,null,null,null,"4D",-8.7100000000000009,0.66,0.28000000000000003]
[null,null,null,null,null,null,null,null,null,null,null,null,null,null,null,null,null,null,null,null,null,null,null,null,"5T",-4.43,0.35,0.36]
[null,null,null,null,null,null,null,null,null,null,null,null,null,null,null,null,null,null,null,null,null,null,null,null,"Property-damage-only crashes"]
[null,null,null,null,null,null,null,null,null,null,null,null,null,null,null,null,null,null,null,null,null,null,null,null,"2U",-6.51,0.64,0.87]
[null,"Table 12-9: Bicycle Crash Adjustment Factor for Roadway Segments",null,null,null,null,null,null,null,null,null,null,null,null,null,null,null,null,null,null,null,null,null,null,"3T",-6.29,0.56000000000000005,1.93]
[null,null,null,null,null,null,null,null,null,null,null,null,null,null,null,null,null,null,null,null,null,null,null,null,"4U",-8.5,0.84,0.97]
[null,null,null,"Bicycle Crash Adjustment Factor (fbiker)",null,null,null,null,null,null,null,null,null,null,null,null,null,null,null,null,null,null,null,null,"4D",-5.04,0.45,1.06]
[null,null,null,"HSM-Provided Values",null,null,null,"Locally-Derived Values",null,null,null,null,null,null,null,null,null,null,null,null,null,null,null,null,"5T",-5.83,0.61,0.55000000000000004]
[null,"Road type",null,"Posted Speed 30 mph or Lower",null,"Posted Speed Greater than 30 mph",null,"Posted Speed 30 mph or Lower",null,"Posted Speed Greater than 30 mph"]
[null,"2U",null,1.7999999999999999E-2,null,4.0000000000000001E-3,null,1.7999999999999999E-2,null,4.0000000000000001E-3,null,null,"Replace these values with Michigan-Specific!",null,null,null,null,null,null,null,null,null,null,null,"Table 12-7: SPF Coefficients for Multiple-Vehicle Driveway Related Collisions"]
[null,"3T",null,2.7E-2,null,7.0000000000000001E-3,null,2.7E-2,null,7.0000000000000001E-3]
[null,"4U",null,1.0999999999999999E-2,null,2E-3,null,1.0999999999999999E-2,null,2E-3,null,null,null,null,null,null,null,null,null,null,null,null,null,null,"Driveway type (j)",null,"Coefficients for specific roadway types"]
[null,"4D",null,1.2999999999999999E-2,null,5.0000000000000001E-3,null,1.2999999999999999E-2,null,5.0000000000000001E-3,null,null,null,null,null,null,null,null,null,null,null,null,null,null,null,null,"2U","3T","4U","4D","5T"]
[null,"5T",null,0.05,null,1.2E-2,null,0.05,null,1.2E-2,null,null,null,null,null,null,null,null,null,null,null,null,null,null,"Number of driveway-related collisions per driveway per year (Nj)"]
[null,"Note:  These factors apply to the methodology for predicting total crashes (all seerity levels combined). All bicycle collisions resulting from this adjustment factor are treated as fatal-and-injury crashes and none as property-damage-only crashes.  Source:  HSIS data for Washington (2002-2006)",null,null,null,null,null,null,null,null,null,null,null,null,null,null,null,null,null,null,null,null,null,null,"Major commercial",null,0.158,0.10199999999999999,0.182,3.3000000000000002E-2,0.16500000000000001]
[null,null,null,null,null,null,null,null,null,null,null,null,null,null,null,null,null,null,null,null,null,null,null,null,"Minor commercial",null,0.05,3.2000000000000001E-2,5.8000000000000003E-2,1.0999999999999999E-2,5.2999999999999999E-2]
[null,null,null,null,null,null,null,null,null,null,null,null,null,null,null,null,null,null,null,null,null,null,null,null,"Major industrial / industrial",null,0.17199999999999999,0.11,0.19800000000000001,3.5999999999999997E-2,0.18099999999999999]
[null,null,null,null,null,null,null,null,null,null,null,null,null,null,null,null,null,null,null,null,null,null,null,null,"Minor industrial / institutional",null,2.3E-2,1.4999999999999999E-2,2.5999999999999999E-2,5.0000000000000001E-3,2.4E-2]
[null,null,null,null,null,null,null,null,null,null,null,null,null,null,null,null,null,null,null,null,null,null,null,null,"Major residential",null,8.3000000000000004E-2,5.2999999999999999E-2,9.6000000000000002E-2,1.7999999999999999E-2,8.6999999999999994E-2]
[null,"Table 12-21: Proportion of Fixed-Object Collisions",null,null,null,null,null,null,null,null,null,null,null,null,null,null,null,null,null,null,null,null,null,null,"Minor residential",null,1.6E-2,0.01,1.7999999999999999E-2,3.0000000000000001E-3,1.6E-2]
[null,null,null,null,null,null,null,null,null,null,null,null,null,null,null,null,null,null,null,null,null,null,null,null,"Other",null,2.5000000000000001E-2,1.6E-2,2.9000000000000001E-2,5.0000000000000001E-3,2.7E-2]
[null,"Road Type",null,null,"HSM-Provided Values",null,"Locally-Derived Values",null,null,null,null,null,null,null,null,null,null,null,null,null,null,null,null,null,"Regression coefficient for AADT (t)"]
[null,null,null,null,"Proportion of Fixed-Object Collisions (pfo)",null,"Proportion of Fixed-Object Collisions (pfo)",null,null,null,null,null,null,null,null,null,null,null,null,null,null,null,null,null,"All driveways",null,1,1,1.1719999999999999,1.1060000000000001,1.1719999999999999]
[null,null,null,null,null,null,null,null,null,null,null,null,null,null,null,null,null,null,null,null,null,null,null,null,"Overdispersion parameter (k)"]
[null,null,null,null,null,null,null,null,null,null,null,null,null,null,null,null,null,null,null,null,null,null,null,null,"All driveways",null,0.81,1.1000000000000001,0.81,1.39,0.1]
[null,"2U",null,null,5.8999999999999997E-2,null,5.8999999999999997E-2,null,null,"Replace these values with Michigan-Specific!",null,null,null,null,null,null,null,null,null,null,null,null,null,null,"Proportion of fatal-and-injury crashes (fdwy)"]
[null,"3T",null,null,3.4000000000000002E-2,null,3.4000000000000002E-2,null,null,null,null,null,null,null,null,null,null,null,null,null,null,null,null,null,"All driveways",null,0.32300000000000001,0.24299999999999999,0.34200000000000003,0.28399999999999997,0.26900000000000002]
[null,"4U",null,null,3.6999999999999998E-2,null,3.6999999999999998E-2,null,null,null,null,null,null,null,null,null,null,null,null,null,null,null,null,null,"Proportion of property-damage-only crashes"]
[null,"4D",null,null,3.5999999999999997E-2,null,3.5999999999999997E-2,null,null,null,null,null,null,null,null,null,null,null,null,null,null,null,null,null,"All driveways",null,0.67700000000000005,0.75700000000000001,0.65800000000000003,0.71599999999999997,0.73099999999999998]
[null,"5T",null,null,1.6E-2,null,1.6E-2,null,null,null,null,null,null,null,null,null,null,null,null,null,null,null,null,null,"Note: Includes only unsignalized driveways; signalized driveways are analyzed as signalized intersections. Majjor driveways serve 50 or more parking spaces; minor driveways serve less thanh 50 parking spaces."]
[]
[]
[]
[null,"Table 12-23: Nighttime Crash Proportions for Unlighted Roadway Segments",null,null,null,null,null,null,null,null,null,null,null,null,null,null,null,null,null,null,null,null,null,null,"Table 11-13: CMF for Collision Types Related to Shoulder Types and Shoulder Widths (CMFTRA)"]
[]
[null,"Road Type",null,null,"HSM-Provided Values",null,null,null,null,"Locally-Derived Values",null,null,null,null,null,null,null,null,null,null,null,null,null,null,"Shoulder Type","Shoulder width (ft)"]
[null,null,null,null,"Proportion of Total Nighttime Crashes by Severity Level",null,null,"Proportion of Crashes that Occur at Night",null,"Proportion of Total Nighttime Crashes by Severity Level",null,null,"Proportion of Crashes that Occur at Night",null,null,null,null,null,null,null,null,null,null,null,null,0,1,2,3,4,5,6,7,8,9,10]
[null,null,null,null,null,null,null,null,null,null,null,null,null,null,null,null,null,null,null,null,null,null,null,null,"Paved",1,1,1,1,1,{"$f":"+(AD255+AF255)/2","v":1},1,{"$f":"+(AF255+AH255)/2","v":1},1,{"$f":"+(AH255+AJ255)/2","v":1},1]
[null,null,null,null,"Fatal and Injury (pinr)",null,"PDO (ppnr)","(pnr)",null,"Fatal and Injury (pinr)",null,"PDO (ppnr)","(pnr)",null,null,null,null,null,null,null,null,null,null,null,"Gravel",1,1,1.01,1.01,1.01,{"$f":"+(AD256+AF256)/2","v":1.0150000000000001},1.02,{"$f":"+(AF256+AH256)/2","v":1.02},1.02,{"$f":"+(AH256+AJ256)/2","v":1.0249999999999999},1.03]
[null,"2U",null,null,0.42399999999999999,null,0.57599999999999996,0.316,null,0.42399999999999999,null,0.57599999999999996,0.316,null,null,"Replace these values with Michigan-Specific!",null,null,null,null,null,null,null,null,"Composite",1,1.01,1.02,1.02,1.03,{"$f":"+(AD257+AF257)/2","v":1.0350000000000001},1.04,{"$f":"+(AF257+AH257)/2","v":1.05},1.06,{"$f":"+(AH257+AJ257)/2","v":1.0649999999999999},1.07]
[null,"3T",null,null,0.42899999999999999,null,0.57099999999999995,0.30399999999999999,null,0.42899999999999999,null,0.57099999999999995,0.30399999999999999,null,null,null,null,null,null,null,null,null,null,null,"Turf",1,1.01,1.03,1.04,1.05,{"$f":"+(AD258+AF258)/2","v":1.0649999999999999},1.08,{"$f":"+(AF258+AH258)/2","v":1.0950000000000002},1.1100000000000001,{"$f":"+(AH258+AJ258)/2","v":1.125},1.1399999999999999]
[null,"4U",null,null,0.51700000000000002,null,0.48299999999999998,0.36499999999999999,null,0.51700000000000002,null,0.48299999999999998,0.36499999999999999,null,null,null,null,null,null,null,null,null,null,null,"Note: The values for composite shoulders in this exhibit represent a shoulder for which 50 percent of the shoulder width is paved and 50 percent of the shoulder width is turf."]
[null,"4D",null,null,0.36399999999999999,null,0.63600000000000001,0.41,null,0.36399999999999999,null,0.63600000000000001,0.41]
[null,"5T",null,null,0.432,null,0.56799999999999995,0.27400000000000002,null,0.432,null,0.56799999999999995,0.27400000000000002]
[]
[]
[null,"Table 11-4: Distribution of Crashes by Collision Type and Crash Severity Level for Undivided Roadway Segments"]
[null,null,null,null,null,null,null,null,null,null,null,null,null,null,null,null,null,null,null,null,null,null,null,null,"Table 11-14: CMF for Side Slope on Undivided Roadway Segments (CMF3ru)"]
[null,"Collision type",null,null,"Proportion of crashes by collision type and crash severity level"]
[null,null,null,null,"HSM-Provided Values",null,null,null,"Locally-Derived Values",null,null,null,null,null,null,null,null,null,null,null,null,null,null,null,"1:2 or Steeper","1:3","1:4","1:5","1:6","1:7 or Flatter"]
[null,null,null,null,"Total","Fatal and injury","Fatal and injury a","PDO","Total","Fatal and injury","Fatal and injury a","PDO",null,null,null,null,null,null,null,null,null,null,null,null,1.18,1.1499999999999999,1.1200000000000001,1.0900000000000001,1.05,1]
[]
[null,"Head-on",null,null,8.9999999999999993E-3,2.9000000000000001E-2,4.2999999999999997E-2,1E-3,4.4999999999999998E-2,0.108,0.13800000000000001,2.1999999999999999E-2]
[null,"Sideswipe",null,null,9.8000000000000004E-2,4.8000000000000001E-2,4.3999999999999997E-2,0.12,0.155,6.2E-2,6.0999999999999999E-2,0.189,null,null,null,null,null,null,null,null,null,null,null,null,"Table 11-17: CMF for Right Shoulder Width on Divided Roadway Segments (CMF2rd)"]
[null,"Rear-end",null,null,0.246,0.30499999999999999,0.217,0.22,0.20499999999999999,0.26600000000000001,0.188,0.184]
[null,"Angle",null,null,0.35599999999999998,0.35199999999999998,0.34799999999999998,0.35799999999999998,0.14899999999999999,0.18,0.184,0.13800000000000001,null,null,null,null,null,null,null,null,null,null,null,null,"Average Shoulder Width (ft)",null,"CMF"]
[null,"Single",null,null,0.23799999999999999,0.23799999999999999,0.30399999999999999,0.23699999999999999,0.32100000000000001,0.24199999999999999,0.29899999999999999,0.34899999999999998]
[null,"Other",null,null,5.2999999999999999E-2,2.8000000000000001E-2,4.3999999999999997E-2,6.4000000000000001E-2,0.125,0.14299999999999999,0.13,0.11799999999999999,null,null,null,null,null,null,null,null,null,null,null,null,0,null,1.18]
[null,"SV run-off-rd, Head-on, Sideswipe",null,null,0.27,null,null,null,0.33,null,null,null,null,null,null,null,null,null,null,null,null,null,null,null,1,null,{"$f":"+(AA275+AA277)/2","v":1.1549999999999998}]
[null,"NOTE: a Using the KABCO scale, these include only KAB crashes. Crashes with severity level C (possible injury) are not included.",null,null,null,null,null,null,null,null,null,null,null,null,null,null,null,null,null,null,null,null,null,null,2,null,1.1299999999999999]
[null,null,null,null,null,null,null,null,null,null,null,null,null,null,null,null,null,null,null,null,null,null,null,null,3,null,{"$f":"+(AA277+AA279)/2","v":1.1099999999999999}]
[null,null,null,null,null,null,null,null,null,null,null,null,null,null,null,null,null,null,null,null,null,null,null,null,4,null,1.0900000000000001]
[null,null,null,null,null,null,null,null,null,null,null,null,null,null,null,null,null,null,null,null,null,null,null,null,5,null,{"$f":"+(AA279+AA281)/2","v":1.0649999999999999}]
[null,"Table 11-6: Distribution of Crashes by Collision Type and Crash Severity Level for Divided Roadway Segments",null,null,null,null,null,null,null,null,null,null,null,null,null,null,null,null,null,null,null,null,null,null,6,null,1.04]
[null,null,null,null,null,null,null,null,null,null,null,null,null,null,null,null,null,null,null,null,null,null,null,null,7,null,{"$f":"+(AA281+AA283)/2","v":1.02}]
[null,"Collision type",null,null,"Proportion of crashes by collision type and crash severity level",null,null,null,null,null,null,null,null,null,null,null,null,null,null,null,null,null,null,null,8,null,1]
[null,null,null,null,"HSM-Provided Values",null,null,null,"Locally-Derived Values",null,null,null,null,null,null,null,null,null,null,null,null,null,null,null,9,null,1]
[null,null,null,null,"Total","Fatal and injury","Fatal and injury a","PDO","Total","Fatal and injury","Fatal and injury a","PDO",null,null,null,null,null,null,null,null,null,null,null,null,10,null,1]
[]
[null,"Head-on",null,null,6.0000000000000001E-3,1.2999999999999999E-2,1.7999999999999999E-2,2E-3,8.9999999999999993E-3,1.7999999999999999E-2,3.3000000000000002E-2,6.0000000000000001E-3]
[null,"Sideswipe",null,null,4.2999999999999997E-2,2.7E-2,2.1999999999999999E-2,5.2999999999999999E-2,0.12,5.8999999999999997E-2,5.5E-2,0.13900000000000001]
[null,"Rear-end",null,null,0.11600000000000001,0.16300000000000001,0.114,8.7999999999999995E-2,0.13600000000000001,0.19500000000000001,0.14299999999999999,0.11799999999999999]
[null,"Angle",null,null,4.2999999999999997E-2,4.8000000000000001E-2,4.4999999999999998E-2,4.1000000000000002E-2,4.5999999999999999E-2,8.5999999999999993E-2,0.14299999999999999,3.4000000000000002E-2,null,null,null,null,null,null,null,null,null,null,null,null,"Table 11-18: CMF for Median Width on Divided Roadway Segments without a Median Barrier(CMF3rd)"]
[null,"Single",null,null,0.76800000000000002,0.72699999999999998,0.77800000000000002,0.79200000000000004,0.626,0.60499999999999998,0.60399999999999998,0.63300000000000001]
[null,"Other",null,null,2.4E-2,2.1999999999999999E-2,2.3E-2,2.4E-2,6.3E-2,3.5999999999999997E-2,2.1999999999999999E-2,7.1999999999999995E-2]
[null,"SV run-off-rd, Head-on, Sideswipe",null,null,0.5,null,null,null,0.33,null,null,null,null,null,null,null,null,null,null,null,null,null,null,null,"Median Width (ft)",null,"CMF"]
[null,"NOTE: a Using the KABCO scale, these include only KAB crashes. Crashes with severity level C (possible injury) are not included.",null,null,null,null,null,null,null,null,null,null,null,null,null,null,null,null,null,null,null,null,null,null,10,null,1.04]
[null,null,null,null,null,null,null,null,null,null,null,null,null,null,null,null,null,null,null,null,null,null,null,null,20,null,1.02]
[null,null,null,null,null,null,null,null,null,null,null,null,null,null,null,null,null,null,null,null,null,null,null,null,30,null,1]
[null,null,null,null,null,null,null,null,null,null,null,null,null,null,null,null,null,null,null,null,null,null,null,null,40,null,0.99]
[null,"Table 11-15: Night-time Crash Proportions for Unlighted Roadway Segments",null,null,null,null,null,null,null,null,null,null,null,null,null,null,null,null,null,null,null,null,null,null,50,null,0.97]
[null,null,null,null,null,null,null,null,null,null,null,null,null,null,null,null,null,null,null,null,null,null,null,null,60,null,0.96]
[null,"Roadway Type",null,null,"HSM-Provided Values",null,null,null,"Locally-Derived Values",null,null,null,null,null,null,null,null,null,null,null,null,null,null,null,70,null,0.96]
[null,null,null,null,"Proportion of total night-time crashes by severity level",null,"Proportion of crashes that occur at night",null,"Proportion of total night-time crashes by severity level",null,"Proportion of crashes that occur at night",null,null,null,null,null,null,null,null,null,null,null,null,null,80,null,0.95]
[null,null,null,null,null,null,null,null,null,null,null,null,null,null,null,null,null,null,null,null,null,null,null,null,90,null,0.94]
[null,null,null,null,null,null,null,null,null,null,null,null,null,null,null,null,null,null,null,null,null,null,null,null,100,null,0.94]
[null,null,null,null,"Fatal and injury, pinr","PDO, ppnr","pnr",null,"Fatal and injury, pinr","PDO, ppnr","pnr"]
[]
[null,"4U",null,null,0.36099999999999999,0.63900000000000001,0.255,null,0.19,0.53400000000000003,0.28999999999999998]
[]
[]
[]
[null,"Table 11-19: Night-time Crash Proportions for Unlighted Roadway Segments"]
[]
[null,"Roadway Type",null,null,"HSM-Provided Values",null,null,null,"Locally-Derived Values"]
[null,null,null,null,"Proportion of total night-time crashes by severity level",null,"Proportion of crashes that occur at night",null,"Proportion of total night-time crashes by severity level",null,"Proportion of crashes that occur at night"]
[]
[]
[null,null,null,null,"Fatal and injury, pinr","PDO, ppnr","pnr",null,"Fatal and injury, pinr","PDO, ppnr","pnr"]
[]
[null,"4D",null,null,0.32300000000000001,0.67700000000000005,0.42599999999999999,null,0.23200000000000001,0.71799999999999997,0.53300000000000003]
[]
[]
[null,"Table 11-9: Distribution of Intersection Crashes by Collision Type and Crash Severity"]
[]
[null,"Collision type",null,null,"Proportion of crashes by collision type and crash severity level"]
[null,null,null,null,"HSM-Provided Values",null,null,null,"Locally-Derived Values"]
[null,"Locally-Derived Values?",null,"No","Total","Fatal and injury","Fatal and injury a","PDO","Total","Fatal and injury","Fatal and injury a","PDO"]
[]
[null,"Three-leg intersections with minor road stop control"]
[null,"Head-on",null,null,2.9000000000000001E-2,4.2999999999999997E-2,5.1999999999999998E-2,0.02,0.05,0.10299999999999999,0.14599999999999999,2.8000000000000001E-2]
[null,"Sideswipe",null,null,0.13300000000000001,5.8000000000000003E-2,5.7000000000000002E-2,0.17899999999999999,9.6000000000000002E-2,4.9000000000000002E-2,5.0999999999999997E-2,0.115]
[null,"Rear-end",null,null,0.28899999999999998,0.247,0.14199999999999999,0.315,0.29299999999999998,0.29899999999999999,0.19800000000000001,0.29099999999999998]
[null,"Angle",null,null,0.26300000000000001,0.36899999999999999,0.38100000000000001,0.19800000000000001,0.161,0.19400000000000001,0.20599999999999999,0.14699999999999999]
[null,"Single",null,null,0.23400000000000001,0.219,0.28399999999999997,0.24399999999999999,0.307,0.26600000000000001,0.3,0.32400000000000001]
[null,"Other",null,null,5.1999999999999998E-2,6.4000000000000001E-2,8.4000000000000005E-2,4.3999999999999997E-2,9.2999999999999999E-2,8.8999999999999996E-2,9.9000000000000005E-2,9.5000000000000001E-2]
[null,"SV run-off-rd, Head-on, Sideswipe",null,null,0.5,null,null,null,0.33]
[null,"Four-leg intersections with minor road stop control"]
[null,"Head-on",null,null,1.6E-2,1.7999999999999999E-2,2.3E-2,1.4999999999999999E-2,5.6000000000000001E-2,9.4E-2,0.12,3.7999999999999999E-2]
[null,"Sideswipe",null,null,0.107,4.2000000000000003E-2,0.04,0.156,9.9000000000000005E-2,4.9000000000000002E-2,3.4000000000000002E-2,0.124]
[null,"Rear-end",null,null,0.22800000000000001,0.21299999999999999,0.108,0.24,0.23799999999999999,0.216,0.14899999999999999,0.248]
[null,"Angle",null,null,0.39500000000000002,0.53400000000000003,0.57099999999999995,0.29199999999999998,0.32,0.42599999999999999,0.46600000000000003,0.26800000000000002]
[null,"Single",null,null,0.20200000000000001,0.14799999999999999,0.19900000000000001,0.24299999999999999,0.18,0.124,0.128,0.20699999999999999]
[null,"Other",null,null,5.1999999999999998E-2,4.4999999999999998E-2,5.8999999999999997E-2,5.3999999999999999E-2,0.107,9.0999999999999998E-2,0.10299999999999999,0.115]
[null,"SV run-off-rd, Head-on, Sideswipe",null,null,0.5,null,null,null,0.33]
[null,"Four-leg signalized intersections"]
[null,"Head-on",null,null,5.3999999999999999E-2,8.3000000000000004E-2,9.2999999999999999E-2,3.4000000000000002E-2,8.6999999999999994E-2,0.14599999999999999,0.20399999999999999,6.7000000000000004E-2]
[null,"Sideswipe",null,null,0.106,4.7E-2,3.9E-2,0.14699999999999999,0.10100000000000001,2.9000000000000001E-2,1.7999999999999999E-2,0.125]
[null,"Rear-end",null,null,0.49199999999999999,0.47199999999999998,0.314,0.505,0.38,0.318,0.159,0.40300000000000002]
[null,"Angle",null,null,0.25600000000000001,0.315,0.40699999999999997,0.215,0.25,0.33300000000000002,0.40400000000000003,0.222]
[null,"Single",null,null,6.2E-2,4.1000000000000002E-2,7.8E-2,7.6999999999999999E-2,5.8000000000000003E-2,4.9000000000000002E-2,6.5000000000000002E-2,0.06]
[null,"Other",null,null,0.03,4.2000000000000003E-2,6.9000000000000006E-2,2.1999999999999999E-2,0.124,0.125,0.15,0.123]
[null,"SV run-off-rd, Head-on, Sideswipe",null,null,0.5,null,null,null,0.33]
[null,"NOTE: a Using the KABCO scale, these include only KAB crashes. Crashes with severity level C (possible injury) are not included."]
[]
[]
[null,"Table 11-24: Night-time Crash Proportions for Unlighted Intersections"]
[]
[null,"Roadway Type",null,null,"HSM-Provided Values",null,null,null,"Locally-Derived Values"]
[null,null,null,null,"Proportion of total night-time crashes by severity level",null,"Proportion of crashes that occur at night",null,"Proportion of total night-time crashes by severity level",null,"Proportion of crashes that occur at night"]
[null,"Locally-Derived Values?",null,"No"]
[]
[null,null,null,null,"Fatal and injury, pini","PDO, ppnr","pni",null,"Fatal and injury, pinr","PDO, ppnr","pnr"]
[]
[null,"3ST",null,null,null,null,0.27600000000000002,null,null,null,0.14799999999999999]
[null,"4ST",null,null,null,null,0.27300000000000002,null,null,null,0.106]

{"sheet":"Calibration Factors","index":2,"n_rows":9,"n_cols":31,"rows_kept":9,"cut":false,"hidden":true,"merged":[[1,29,1,30],[1,11,1,12],[1,1,1,2],[1,3,1,4],[1,5,1,6],[1,7,1,8],[1,9,1,10],[1,25,1,26],[1,27,1,28],[1,13,1,14],[1,15,1,16],[1,17,1,18],[1,19,1,20],[1,21,1,22],[1,23,1,24]]}
[]
[null,"Seg/Rur; 2-lane",null,"Seg/Rur; Multilane undivided",null,"Seg/Rur; Multilane divided",null,"Seg/Urb; 2-lane arterial",null,"Seg/Urb; Multilane divided",null,"Seg/Urb; One-way arterial",null,"Int/Rur; 3-leg minor-rd STOP",null,"Int/Rur; 3-leg signalized",null,"Int/Rur; 4-leg minor-rd STOP",null,"Int/Rur; 4-leg signalized",null,"Int/Urb; 3-leg minor-rd STOP",null,"Int/Urb; 3-leg signalized",null,"Int/Urb; 4-leg minor-rd STOP",null,"Int/Urb; 4-leg signalized",null,"Seg/Urb; Multilane undivided"]
[null,"Total","KA","Total","KA","Total","KA","Total","KA","Total","KA","Total","KA","Total","KA","Total","KA","Total","KA","Total","KA","Total","KA","Total","KA","Total","KA","Total","KA","Total","KA"]
[2005,1.394361,0.56909200000000004,1.188175,0.48576799999999998,1.3893420000000001,1.13659,2.7975240000000001,1.7752540000000001,1.4317,0.80827800000000005,0.48676900000000001,0.23272399999999999,2.0271780000000001,0.61895199999999995,1.2732920000000001,0.61895199999999995,1.7999769999999999,0.85102599999999995,2.0700539999999998,1.2092160000000001,1.54358,0.72062400000000004,1.483212,0.70472699999999999,1.6576390000000001,0.83978900000000001,1.9378340000000001,0.93662599999999996,0.88752799999999998,0.44840000000000002]
[2006,1.3584210000000001,0.52779799999999999,1.2193860000000001,0.48121900000000001,1.2937270000000001,0.86619800000000002,2.6768209999999999,1.5692710000000001,1.3509,0.75215699999999996,0.535497,0.32240099999999999,1.847823,0.74709899999999996,1.397195,0.74709899999999996,1.6802569999999999,0.78414499999999998,1.8491310000000001,1.000213,1.3918200000000001,0.67393700000000001,1.423381,0.70093000000000005,1.581931,0.81288700000000003,1.791863,0.87848099999999996,0.81150900000000004,0.4032]
[2007,1.44242,0.54601599999999995,1.3123940000000001,0.57140000000000002,1.6351640000000001,1.4054629999999999,2.722696,1.647329,1.3067,0.77094600000000002,0.52974200000000005,0.208313,1.8491280000000001,0.59655400000000003,1.204493,0.59655400000000003,1.680056,0.77562500000000001,1.8698760000000001,0.99117100000000002,1.417799,0.65689900000000001,1.3326549999999999,0.63019999999999998,1.553218,0.77364100000000002,1.7710520000000001,0.817133,0.797879,0.37569999999999998]
[2008,1.492774,0.54018699999999997,1.2371529999999999,0.53045900000000001,1.774831,1.482437,2.9491239999999999,1.5771980000000001,1.3613999999999999,0.74284600000000001,0.47636800000000001,0.27140199999999998,1.943317,0.57216900000000004,1.223622,0.57216900000000004,1.7197439999999999,0.733321,1.7616609999999999,1.017209,1.4496869999999999,0.65402199999999999,1.3830560000000001,0.624471,1.510804,0.73272599999999999,1.7345379999999999,0.77121300000000004,0.78067200000000003,0.36599999999999999]
[2009,1.419522,0.47933900000000002,1.1872940000000001,0.43267099999999997,1.656013,0.767266,2.7725590000000002,1.4668099999999999,1.3027,0.77243799999999996,0.44621699999999997,0.24233399999999999,1.826811,0.44439099999999998,1.21515,0.44439099999999998,1.63137,0.72248199999999996,1.783137,1.1433219999999999,1.347915,0.63537399999999999,1.3394189999999999,0.58084100000000005,1.4454419999999999,0.70312699999999995,1.667189,0.80193800000000004,0.74973800000000002,0.36880000000000002]
[2010,1.2780119999999999,0.42411100000000002,1.0503450000000001,0.42069699999999999,1.5128250000000001,1.035771,2.5665149999999999,1.3431230000000001,1.3017000000000001,0.69375699999999996,0.50256900000000004,0.30659399999999998,1.72489,0.51966900000000005,1.160094,0.51966900000000005,1.528896,0.72104000000000001,1.6283669999999999,1.000418,1.3021069999999999,0.633467,1.34588,0.59870800000000002,1.4249099999999999,0.707561,1.6980569999999999,0.78740900000000003,0.73256299999999996,0.37]

{"sheet":"Crash Costs","index":3,"n_rows":21,"n_cols":16,"rows_kept":21,"cut":false,"hidden":true,"merged":[[4,8,4,12],[5,8,5,12],[6,8,6,12],[7,8,7,12],[8,8,8,12],[4,2,4,5],[5,2,5,5],[6,2,6,5],[7,2,7,5],[8,2,8,5]]}
[]
[]
[null,"Crash Costs (Rural 2-Lane):",null,null,null,null,null,"Crash Costs (Urban & Suburban 2-Lane):"]
[null,null,"Segment","3ST","4ST","4SG",null,null,"Segment","3ST","3SG","4ST","4SG"]
[null,"K",{"$f":"INDIRECT(ADDRESS(ROW()+12,2+MATCH(Inputs!$B$2,$C$16:$G$16,0)))","v":{"$error":"#N/A"}},null,null,null,null,"K",{"$f":"INDIRECT(ADDRESS(31,36+MATCH(Inputs!$B$2,Tables!$AL$30:$AR$30,0),,,\"Tables\"))","v":{"$error":"#N/A"}},null,null,null,null,null,null,{"$f":"INDIRECT(ADDRESS(9,IF(Inputs!$B$3=\"HSM\",5,8),,,\"Tables\"))+INDIRECT(ADDRESS(10,IF(Inputs!$B$3=\"HSM\",5,8),,,\"Tables\"))+INDIRECT(ADDRESS(11,IF(Inputs!$B$3=\"HSM\",5,8),,,\"Tables\"))+INDIRECT(ADDRESS(12,IF(Inputs!$B$3=\"HSM\",5,8),,,\"Tables\"))","v":10.899999999999999}]
[null,"A",{"$f":"INDIRECT(ADDRESS(ROW()+12,2+MATCH(Inputs!$B$2,$C$16:$G$16,0)))","v":{"$error":"#N/A"}},null,null,null,null,"A",{"$f":"INDIRECT(ADDRESS(32,36+MATCH(Inputs!$B$2,Tables!$AL$30:$AR$30,0),,,\"Tables\"))","v":{"$error":"#N/A"}}]
[null,"B",{"$f":"INDIRECT(ADDRESS(ROW()+12,2+MATCH(Inputs!$B$2,$C$16:$G$16,0)))","v":{"$error":"#N/A"}},null,null,null,null,"B",{"$f":"INDIRECT(ADDRESS(33,36+MATCH(Inputs!$B$2,Tables!$AL$30:$AR$30,0),,,\"Tables\"))","v":{"$error":"#N/A"}}]
[null,"C",{"$f":"INDIRECT(ADDRESS(ROW()+12,2+MATCH(Inputs!$B$2,$C$16:$G$16,0)))","v":{"$error":"#N/A"}},null,null,null,null,"C",{"$f":"INDIRECT(ADDRESS(34,36+MATCH(Inputs!$B$2,Tables!$AL$30:$AR$30,0),,,\"Tables\"))","v":{"$error":"#N/A"}}]
[null,"O",{"$f":"INDIRECT(ADDRESS(ROW()+12,2+MATCH(Inputs!$B$2,$C$16:$G$16,0)))","v":{"$error":"#N/A"}},null,null,null,null,"O",{"$f":"INDIRECT(ADDRESS(35,36+MATCH(Inputs!$B$2,Tables!$AL$30:$AR$30,0),,,\"Tables\"))","v":{"$error":"#N/A"}}]
[]
[null,"KABC",{"$f":"ROUND((INDIRECT(ADDRESS(9,IF(Inputs!$B$3=\"HSM\",5,8),,,\"Tables\"))*$C5+INDIRECT(ADDRESS(10,IF(Inputs!$B$3=\"HSM\",5,8),,,\"Tables\"))*$C6+INDIRECT(ADDRESS(11,IF(Inputs!$B$3=\"HSM\",5,8),,,\"Tables\"))*$C7+INDIRECT(ADDRESS(12,IF(Inputs!$B$3=\"HSM\",5,8),,,\"Tables\"))*$C8)/(INDIRECT(ADDRESS(9,IF(Inputs!$B$3=\"HSM\",5,8),,,\"Tables\"))+INDIRECT(ADDRESS(10,IF(Inputs!$B$3=\"HSM\",5,8),,,\"Tables\"))+INDIRECT(ADDRESS(11,IF(Inputs!$B$3=\"HSM\",5,8),,,\"Tables\"))+INDIRECT(ADDRESS(12,IF(Inputs!$B$3=\"HSM\",5,8),,,\"Tables\"))),-3)","v":{"$error":"#N/A"}},{"$f":"ROUND((INDIRECT(ADDRESS(49,IF(Inputs!$B$3=\"HSM\",5,11),,,\"Tables\"))*$C5+INDIRECT(ADDRESS(50,IF(Inputs!$B$3=\"HSM\",5,11),,,\"Tables\"))*$C6+INDIRECT(ADDRESS(51,IF(Inputs!$B$3=\"HSM\",5,11),,,\"Tables\"))*$C7+INDIRECT(ADDRESS(52,IF(Inputs!$B$3=\"HSM\",5,11),,,\"Tables\"))*$C8)/(INDIRECT(ADDRESS(49,IF(Inputs!$B$3=\"HSM\",5,11),,,\"Tables\"))+INDIRECT(ADDRESS(50,IF(Inputs!$B$3=\"HSM\",5,11),,,\"Tables\"))+INDIRECT(ADDRESS(51,IF(Inputs!$B$3=\"HSM\",5,11),,,\"Tables\"))+INDIRECT(ADDRESS(52,IF(Inputs!$B$3=\"HSM\",5,11),,,\"Tables\"))),-3)","v":{"$error":"#N/A"}},{"$f":"ROUND((INDIRECT(ADDRESS(49,IF(Inputs!$B$3=\"HSM\",7,13),,,\"Tables\"))*$C5+INDIRECT(ADDRESS(50,IF(Inputs!$B$3=\"HSM\",7,13),,,\"Tables\"))*$C6+INDIRECT(ADDRESS(51,IF(Inputs!$B$3=\"HSM\",7,13),,,\"Tables\"))*$C7+INDIRECT(ADDRESS(52,IF(Inputs!$B$3=\"HSM\",7,13),,,\"Tables\"))*$C8)/(INDIRECT(ADDRESS(49,IF(Inputs!$B$3=\"HSM\",7,13),,,\"Tables\"))+INDIRECT(ADDRESS(50,IF(Inputs!$B$3=\"HSM\",7,13),,,\"Tables\"))+INDIRECT(ADDRESS(51,IF(Inputs!$B$3=\"HSM\",7,13),,,\"Tables\"))+INDIRECT(ADDRESS(52,IF(Inputs!$B$3=\"HSM\",7,13),,,\"Tables\"))),-3)","v":{"$error":"#N/A"}},{"$f":"ROUND((INDIRECT(ADDRESS(49,IF(Inputs!$B$3=\"HSM\",9,15),,,\"Tables\"))*$C5+INDIRECT(ADDRESS(50,IF(Inputs!$B$3=\"HSM\",9,15),,,\"Tables\"))*$C6+INDIRECT(ADDRESS(51,IF(Inputs!$B$3=\"HSM\",9,15),,,\"Tables\"))*$C7+INDIRECT(ADDRESS(52,IF(Inputs!$B$3=\"HSM\",9,15),,,\"Tables\"))*$C8)/(INDIRECT(ADDRESS(49,IF(Inputs!$B$3=\"HSM\",9,15),,,\"Tables\"))+INDIRECT(ADDRESS(50,IF(Inputs!$B$3=\"HSM\",9,15),,,\"Tables\"))+INDIRECT(ADDRESS(51,IF(Inputs!$B$3=\"HSM\",9,15),,,\"Tables\"))+INDIRECT(ADDRESS(52,IF(Inputs!$B$3=\"HSM\",9,15),,,\"Tables\"))),-3)","v":{"$error":"#N/A"}},null,"KABC",{"$f":"ROUND((Tables!L9*I5+Tables!L10*I6+Tables!L11*I7+Tables!L12*I8)/(Tables!L9+Tables!L10+Tables!L11+Tables!L12),-3)","v":{"$error":"#N/A"}},{"$f":"ROUND((Tables!L49*I5+Tables!L50*I6+Tables!L51*I7+Tables!L52*I8)/(Tables!L49+Tables!L50+Tables!L51+Tables!L52),-3)","v":{"$error":"#N/A"}},{"$f":"ROUND((Tables!M49*I5+Tables!M50*I6+Tables!M51*I7+Tables!M52*I8)/(Tables!M49+Tables!M50+Tables!M51+Tables!M52),-3)","v":{"$error":"#N/A"}},{"$f":"ROUND((Tables!N49*I5+Tables!N50*I6+Tables!N51*I7+Tables!N52*I8)/(Tables!N49+Tables!N50+Tables!N51+Tables!N52),-3)","v":{"$error":"#N/A"}},{"$f":"ROUND((Tables!P49*I5+Tables!P50*I6+Tables!P51*I7+Tables!P52*I8)/(Tables!P49+Tables!P50+Tables!P51+Tables!P52),-3)","v":{"$error":"#N/A"}}]
[]
[]
[null,null,null,{"$f":"\"'Tables'!$AK$30:\"&ADDRESS(30,SUMPRODUCT(MAX((Tables!$AL$30:$AR$30<>\"\")*(COLUMN(Tables!$AL$30:$AR$30)))))","v":{"$error":"#VALUE!"}}]
[]
[null,"Crash Costs:","National Safety Council","MDOT"]
[null,"K",1410000,1410000]
[null,"A",69200,69200]
[null,"B",22300,22300]
[null,"C",12600,12600]
[null,"O",2400,2400]

{"sheet":"Formats","index":4,"n_rows":20,"n_cols":314,"rows_kept":20,"cut":false,"hidden":true,"merged":[]}
["Rural 2-Lane Segments"]
["Example 1","SH 321","MP 0.0 to MP 1.5","Anywhere, USA",1.5,10000,12,6,"Paved",6,"Paved",0,0,"NP",0,0,5,"NP","NP","NP",3,"NP","NP","N/A (1.000)","N/A (1.000)","N/A (1.000)",null,1,{"$f":"AVERAGE(INDIRECT(ADDRESS(MATCH(sYear,'Calibration Factors'!$A:$A,0),2,,,\"Calibration Factors\")&\":\"&ADDRESS(MATCH(eYear,'Calibration Factors'!$A:$A,0),2)))","v":1.3982298},null,{"$f":"BN2","v":0.15733333333333333},{"$f":"1/(1+AE2*FW2)","v":0.53145572674023067},{"$f":"IF(AD2=0,0,AF2*FW2+((1-AF2)*AD2))","v":0},{"$f":"IF(AD2=\"\",\"\",AD2-AG2)","v":""},{"$f":"AE2*FW2^2","v":4.9402205962364727},{"$f":"SQRT(AE2*FW2)","v":0.93894849781228251},{"$f":"CHOOSE(MATCH($F2,{0,400,2001}),(CHOOSE(MATCH(G2,{9,9.5,10,10.5,11,11.5,12},0),1.05,1.035,1.02,1.015,1.01,1.005,1)-1)*(IF( Inputs!$B$3=\"HSM\", ((Tables!$G$29+Tables!$G$34+Tables!$G$36)/100),((Tables!$K$29+Tables!$K$34+Tables!$K$36)/100)))+1,(CHOOSE(MATCH(G2,{9,9.5,10,10.5,11,11.5,12},0),($F2-400)*0.000281+1.05,((($F2-400)*0.000281+1.05)+(($F2-400)*0.000175+1.02))/2,($F2-400)*0.000175+1.02,((($F2-400)*0.000175+1.02)+(($F2-400)*0.000025+1.01))/2,($F2-400)*0.000025+1.01,((($F2-400)*0.000025+1.01)+1)/2,1)-1)*(IF( Inputs!$B$3=\"HSM\", ((Tables!$G$29+Tables!$G$34+Tables!$G$36)/100),((Tables!$K$29+Tables!$K$34+Tables!$K$36)/100)))+1,(CHOOSE(MATCH(G2,{9,9.5,10,10.5,11,11.5,12},0),1.5,1.4,1.3,1.175,1.05,1.025,1)-1)*(IF( Inputs!$B$3=\"HSM\", ((Tables!$G$29+Tables!$G$34+Tables!$G$36)/100),((Tables!$K$29+Tables!$K$34+Tables!$K$36)/100)))+1)","v":1},{"$f":"($BD2+$BG2)/2","v":1},{"$f":"+BL2","v":1},{"$f":"IF($O2>=0.02,(1.06+3*($O2-0.02)),IF($O2<0.01,1,(1+6*($O2-0.01))))","v":1},{"$f":"IF($P2>6,1.16,(IF($P2<=3,1,1.1)))","v":1},{"$f":"IF($Q2>5,(0.322+$Q2*(0.05-0.005*LN($F2)))/(0.322+5*(0.05-0.005*LN($F2))),1)","v":1},{"$f":"IF(T2=\"P\",1,IF($R2=\"P\",0.94,1))","v":1},{"$f":"IF($S2=\"P1\",0.75,IF($S2=\"P2\", 0.65, 1))","v":1},{"$f":"IF($T2=\"NP\",1,IF($Q2<=5,1,(1-(0.7*0.5*((0.0047*$Q2)+($Q2*$Q2*0.0024))/(1.199+(0.0047*$Q2)+(0.0024*$Q2*$Q2))))))","v":1},{"$f":"EXP($U2*0.0668-0.6869)/EXP(-0.4865)","v":1},{"$f":"IF($V2=\"P\",(1-((1-(0.72*IF(Inputs!$B$3=\"HSM\",Tables!$C$90,Tables!$I$90))-(0.83*IF(Inputs!$B$3=\"HSM\",Tables!$E$90,Tables!$K$90)))*IF(Inputs!$B$3=\"HSM\",Tables!$F$90,Tables!$L$90))),1)","v":1},{"$f":"IF($W2=\"P\",0.93,1)","v":1},{"$f":"OFFSET(Tables!$AM$1,MATCH(X2,Tables!$AM:$AM,0)-1,1)","v":1},{"$f":"OFFSET(Tables!$AM$1,MATCH(Y2,Tables!$AM:$AM,0)-1,1)","v":1},{"$f":"OFFSET(Tables!$AM$1,MATCH(Z2,Tables!$AM:$AM,0)-1,1)","v":1},{"$f":"IF(AA2=\"\",1,AA2)","v":1},{"$f":"+AK2*AL2*AM2*AN2*AO2*AP2*AQ2*AR2*AS2*AT2*AU2*AV2*AW2*AX2*AY2*AZ2","v":1},{"$f":"CHOOSE(MATCH($F2,{0,400,2001}),CHOOSE($H2+1,1.1,1.085,1.07,1.045,1.02,1.01,1,0.99,0.98),CHOOSE($H2+1,($F2-400)*0.00025+1.1,((($F2-400)*0.00025+1.1)+(($F2-400)*0.000143+1.07))/2,($F2-400)*0.000143+1.07,((($F2-400)*0.000143+1.07)+(($F2-400)*0.00008125+1.02))/2,($F2-400)*0.00008125+1.02,((($F2-400)*0.00008125+1.02)+1)/2,1,(1+((($F2-400)*-0.00006875)+0.98))/2,(($F2-400)*-0.00006875)+0.98),CHOOSE($H2+1,1.5,1.4,1.3,1.225,1.15,1.075,1,0.935,0.87))","v":1},{"$f":"IF($I2=\"Paved\",(HLOOKUP($H2,Tables!$Z$8:$AH$12,2,FALSE)),(IF($I2=\"Gravel\",(HLOOKUP($H2,Tables!$Z$8:$AH$12,3,FALSE)),(IF($I2=\"Turf\",(HLOOKUP($H2,Tables!$Z$8:$AH$12,5,FALSE)),HLOOKUP($H2,Tables!$Z$8:$AH$12,4,FALSE))))))","v":1},{"$f":"(+$BB2*$BC2-1)*(IF(Inputs!$B$3=\"HSM\",((Tables!$G$29+Tables!$G$34+Tables!$G$36)/100),((Tables!$K$29+Tables!$K$34+Tables!$K$36)/100)))+1","v":1},{"$f":"CHOOSE(MATCH($F2,{0,400,2001}),CHOOSE($J2+1,1.1,1.085,1.07,1.045,1.02,1.01,1,0.99,0.98),CHOOSE($J2+1,($F2-400)*0.00025+1.1,((($F2-400)*0.00025+1.1)+(($F2-400)*0.000143+1.07))/2,($F2-400)*0.000143+1.07,((($F2-400)*0.000143+1.07)+(($F2-400)*0.00008125+1.02))/2,($F2-400)*0.00008125+1.02,((($F2-400)*0.00008125+1.02)+1)/2,1,(1+((($F2-400)*-0.00006875)+0.98))/2,(($F2-400)*-0.00006875)+0.98),CHOOSE($J2+1,1.5,1.4,1.3,1.225,1.15,1.075,1,0.935,0.87))","v":1},{"$f":"IF($K2=\"Paved\",(HLOOKUP($J2,Tables!$Z$8:$AH$12,2,FALSE)),(IF($K2=\"Gravel\",(HLOOKUP($J2,Tables!$Z$8:$AH$12,3,FALSE)),(IF($K2=\"Turf\",(HLOOKUP($J2,Tables!$Z$8:$AH$12,5,FALSE)),HLOOKUP($J2,Tables!$Z$8:$AH$12,4,FALSE))))))","v":1},{"$f":"(+$BE2*$BF2-1)*(IF(Inputs!$B$3=\"HSM\",((Tables!$G$29+Tables!$G$34+Tables!$G$36)/100),((Tables!$K$29+Tables!$K$34+Tables!$K$36)/100)))+1","v":1},{"$f":"IF($M2>0,IF($M2<=100,100,$M2),0)","v":0},{"$f":"IF($L2>0,IF($L2<=100/5280,100/5280,$L2),0)","v":0},{"$f":"IF(N2=\"P\",1,IF(N2=\"NP\",0,0.5))","v":0},{"$f":"IF( $BI2>0, ((1.55*$BI2)+(80.2/$BH2)-(0.012*(IF($BJ2=\"Present\",TRUE,FALSE))))/(1.55*$BI2), 1)","v":1},{"$f":"IF($BK2<1,1,$BK2)","v":1},{"$f":"+F2*E2*365*0.000001*EXP(-0.312)","v":4.0075988670500111},{"$f":"0.236/E2","v":0.15733333333333333},{"$f":"+Tables!$E$15/100","v":1},{"$f":"+BM2*BO2","v":4.0075988670500111},{"$f":"+BA2","v":1},{"$f":"IF(Inputs!$B$3<>\"HSM\",$AC2,$AB2)","v":1.3982298},{"$f":"+BP2*BQ2*BR2","v":5.6035441623555631},"--","--",{"$f":"+IF(Inputs!$B$3=\"HSM\",(Tables!$E$13/100),(Tables!$H$13/100))","v":0.10899999999999999},{"$f":"+BM2*BV2","v":0.43682827650845113},{"$f":"+BA2","v":1},{"$f":"IF(Inputs!$B$3<>\"HSM\",$AC2,$AB2)","v":1.3982298},{"$f":"+BW2*BX2*BY2","v":0.61078631369675629},"--","--",{"$f":"+IF(Inputs!$B$3=\"HSM\",(Tables!$E$14/100),(Tables!$H$14/100))","v":0.8909999999999999},{"$f":"+BM2*CC2","v":3.5707705905415597},{"$f":"+BA2","v":1},{"$f":"IF(Inputs!$B$3<>\"HSM\",$AC2,$AB2)","v":1.3982298},{"$f":"+CD2*CE2*CF2","v":4.9927578486588065},{"$f":"+DX2+FH2","v":0.99900000000000011},{"$f":"+$BS2","v":5.6035441623555631},{"$f":"+DZ2+FJ2","v":1},{"$f":"+$BZ2","v":0.61078631369675629},2,{"$f":"+$CG2","v":4.9927578486588065},{"$f":"IF(Inputs!$B$3=\"HSM\",(Tables!$G$25/100),(Tables!$K$25/100))","v":0.67700000000000005},{"$f":"+$BS2*CN2","v":3.7935993979147167},{"$f":"IF(Inputs!$B$3=\"HSM\",Tables!$E$25/100,Tables!$I$25/100)","v":0.115},{"$f":"+$BZ2*CP2","v":7.0240426075126983E-2},{"$f":"IF(Inputs!$B$3=\"HSM\",Tables!$F$25/100,Tables!$J$25/100)","v":0.748},{"$f":"+$CG2*CR2","v":3.7345828707967872},{"$f":"IF(Inputs!$B$3=\"HSM\",(Tables!$G$26/100),(Tables!$K$26/100))","v":0},{"$f":"+$BS2*CT2","v":0},{"$f":"IF(Inputs!$B$3=\"HSM\",Tables!$E$26/100,Tables!$I$26/100)","v":6.9999999999999993E-3},{"$f":"+$BZ2*CV2","v":4.2755041958772938E-3},{"$f":"IF(Inputs!$B$3=\"HSM\",Tables!$F$26/100,Tables!$J$26/100)","v":0},{"$f":"+$CG2*CX2","v":0},{"$f":"IF(Inputs!$B$3=\"HSM\",(Tables!$G$27/100),(Tables!$K$27/100))","v":2E-3},{"$f":"+$BS2*CZ2","v":1.1207088324711127E-2},{"$f":"IF(Inputs!$B$3=\"HSM\",Tables!$E$27/100,Tables!$I$27/100)","v":1.3000000000000001E-2},{"$f":"+$BZ2*DB2","v":7.940222078057833E-3},{"$f":"IF(Inputs!$B$3=\"HSM\",Tables!$F$27/100,Tables!$J$27/100)","v":0},{"$f":"+$CG2*DD2","v":0},{"$f":"IF(Inputs!$B$3=\"HSM\",(Tables!$G$28/100),(Tables!$K$28/100))","v":0.04},{"$f":"+$BS2*DF2","v":0.22414176649422252},{"$f":"IF(Inputs!$B$3=\"HSM\",Tables!$E$28/100,Tables!$I$28/100)","v":0.155},{"$f":"+$BZ2*DH2","v":9.4671878622997224E-2},{"$f":"IF(Inputs!$B$3=\"HSM\",Tables!$F$28/100,Tables!$J$28/100)","v":2.5000000000000001E-2},{"$f":"+$CG2*DJ2","v":0.12481894621647016},{"$f":"IF(Inputs!$B$3=\"HSM\",(Tables!$G$29/100),(Tables!$K$29/100))","v":0.129},{"$f":"+$BS2*DL2","v":0.72285719694386763},{"$f":"IF(Inputs!$B$3=\"HSM\",Tables!$E$29/100,Tables!$I$29/100)","v":0.26700000000000002},{"$f":"+$BZ2*DN2","v":0.16307994575703394},{"$f":"IF(Inputs!$B$3=\"HSM\",Tables!$F$29/100,Tables!$J$29/100)","v":0.11199999999999999},{"$f":"+$CG2*DP2","v":0.55918887904978631},{"$f":"IF(Inputs!$B$3=\"HSM\",(Tables!$G$30/100),(Tables!$K$30/100))","v":1.4999999999999999E-2},{"$f":"+$BS2*DR2","v":8.4053162435333437E-2},{"$f":"IF(Inputs!$B$3=\"HSM\",Tables!$E$30/100,Tables!$I$30/100)","v":2.8999999999999998E-2},{"$f":"+$BZ2*DT2","v":1.771280309720593E-2},{"$f":"IF(Inputs!$B$3=\"HSM\",Tables!$F$30/100,Tables!$J$30/100)","v":1.3000000000000001E-2},{"$f":"+$CG2*DV2","v":6.4905852032564493E-2},{"$f":"CN2+CT2+CZ2+DF2+DL2+DR2","v":0.8630000000000001},{"$f":"+$BS2*DX2","v":4.8358586121128511},{"$f":"CP2+CV2+DB2+DH2+DN2+DT2","v":0.58600000000000008},{"$f":"+$BZ2*DZ2","v":0.35792077982629922},{"$f":"CR2+CX2+DD2+DJ2+DP2+DV2","v":0.89800000000000002},{"$f":"+$CG2*EB2","v":4.4834965480956086},{"$f":"IF(Inputs!$B$3=\"HSM\",(Tables!$G$33/100),(Tables!$K$33/100))","v":1.7000000000000001E-2},{"$f":"+$BS2*ED2","v":9.5260250760044574E-2},{"$f":"IF(Inputs!$B$3=\"HSM\",Tables!$E$33/100,Tables!$I$33/100)","v":6.0999999999999999E-2},{"$f":"+$BZ2*EF2","v":3.7257965135502134E-2},{"$f":"IF(Inputs!$B$3=\"HSM\",Tables!$F$33/100,Tables!$J$33/100)","v":1.2E-2},{"$f":"+$CG2*EH2","v":5.9913094183905675E-2},{"$f":"IF(Inputs!$B$3=\"HSM\",(Tables!$G$34/100),(Tables!$K$34/100))","v":1.3000000000000001E-2},{"$f":"+$BS2*EJ2","v":7.2846074110622328E-2},{"$f":"IF(Inputs!$B$3=\"HSM\",Tables!$E$34/100,Tables!$I$34/100)","v":0.09},{"$f":"+$BZ2*EL2","v":5.4970768232708064E-2},{"$f":"IF(Inputs!$B$3=\"HSM\",Tables!$F$34/100,Tables!$J$34/100)","v":3.0000000000000001E-3},{"$f":"+$CG2*EN2","v":1.4978273545976419E-2},{"$f":"IF(Inputs!$B$3=\"HSM\",(Tables!$G$35/100),(Tables!$K$35/100))","v":5.5E-2},{"$f":"+$BS2*EP2","v":0.30819492892955597},{"$f":"IF(Inputs!$B$3=\"HSM\",Tables!$E$35/100,Tables!$I$35/100)","v":0.16399999999999998},{"$f":"+$BZ2*ER2","v":0.10016895544626801},{"$f":"IF(Inputs!$B$3=\"HSM\",Tables!$F$35/100,Tables!$J$35/100)","v":4.2000000000000003E-2},{"$f":"+$CG2*ET2","v":0.2096958296436699},{"$f":"IF(Inputs!$B$3=\"HSM\",(Tables!$G$36/100),(Tables!$K$36/100))","v":2.7999999999999997E-2},{"$f":"+$BS2*EV2","v":0.15689923654595575},{"$f":"IF(Inputs!$B$3=\"HSM\",Tables!$E$36/100,Tables!$I$36/100)","v":5.7000000000000002E-2},{"$f":"+$BZ2*EX2","v":3.4814819880715109E-2},{"$f":"IF(Inputs!$B$3=\"HSM\",Tables!$F$36/100,Tables!$J$36/100)","v":2.4E-2},{"$f":"+$CG2*EZ2","v":0.11982618836781135},{"$f":"IF(Inputs!$B$3=\"HSM\",(Tables!$G$37/100),(Tables!$K$37/100))","v":2.3E-2},{"$f":"+$BS2*FB2","v":0.12888151573417794},{"$f":"IF(Inputs!$B$3=\"HSM\",Tables!$E$37/100,Tables!$I$37/100)","v":4.2000000000000003E-2},{"$f":"+$BZ2*FD2","v":2.5653025175263765E-2},{"$f":"IF(Inputs!$B$3=\"HSM\",Tables!$F$37/100,Tables!$J$37/100)","v":0.02},{"$f":"+$CG2*FF2","v":9.9855156973176137E-2},{"$f":"ED2+EJ2+EP2+EV2+FB2","v":0.13600000000000001},{"$f":"+$BS2*FH2","v":0.76208200608035659},{"$f":"EF2+EL2+ER2+EX2+FD2","v":0.41399999999999992},{"$f":"+$BZ2*FJ2","v":0.25286553387045707},{"$f":"EH2+EN2+ET2+EZ2+FF2","v":0.10100000000000001},{"$f":"EI2+EO2+EU2+FA2+FG2","v":0.50426854271453947},{"$f":"+CC2","v":0.8909999999999999},{"$f":"+CG2","v":4.9927578486588065},{"$f":"+$E2","v":1.5},{"$f":"+FO2/FP2","v":3.3285052324392042},{"$f":"+BV2","v":0.10899999999999999},{"$f":"+BZ2","v":0.61078631369675629},{"$f":"+$E2","v":1.5},{"$f":"+FS2/FT2","v":0.40719087579783753},{"$f":"+BO2","v":1},{"$f":"+BS2","v":5.6035441623555631},{"$f":"+$E2","v":1.5},{"$f":"+FW2/FX2","v":3.7356961082370419}]
[]
["Rural 2-Lane Intersections"]
["Example 1","SH 321","1st Street","Anywhere, USA","4SG",8000,1000,"N",0,0,0,0,"NP","N/A (1.000)","N/A (1.000)","N/A (1.000)",null,1,{"$f":"AVERAGE(INDIRECT(ADDRESS(MATCH(sYear,'Calibration Factors'!$A:$A,0),CHOOSE(MATCH(E5,{\"3ST\",\"4ST\",\"4SG\"},0),14,18,20),,,\"Calibration Factors\")&\":\"&ADDRESS(MATCH(eYear,'Calibration Factors'!$A:$A,0),CHOOSE(MATCH(E5,{\"3ST\",\"4ST\",\"4SG\"},0),14,18,20))))","v":1.7784344000000001},null,{"$f":"AK5","v":0.11},{"$f":"1/(1+U5*EL5)","v":0.49691812360098386},{"$f":"IF(T5=0,0,V5*EL5+((1-V5)*T5))","v":0},{"$f":"IF(T5=\"\",\"\",T5-W5)","v":""},{"$f":"U5*EL5^2","v":9.3178343574752081},{"$f":"SQRT(U5*EL5)","v":1.0061828663531125},{"$f":"IF(+$E5=\"3ST\",(EXP(0.004*$I5)),(IF(+$E5=\"4ST\",(IF($H5=\"N\",(EXP(0.0054*$I5)),(((EXP(0.0054*$I5))+(EXP(0.0054*$J5)))/2))),1)))","v":1},{"$f":"IF($E5=\"3ST\",(IF($K5=0,1,(HLOOKUP($K5,Tables!$AC$20:$AF$26,3,FALSE)))),(IF($E5=\"4ST\",(IF($K5=0,1,(HLOOKUP($K5,Tables!$AC$20:$AF$26,5,FALSE)))),(IF($K5=0,1,(HLOOKUP($K5,Tables!$AC$20:$AF$26,7,FALSE)))))))","v":1},{"$f":"IF($E5=\"3ST\",(IF($L5=0,1,(HLOOKUP($L5,Tables!$AC$36:$AF$42,3,FALSE)))),(IF($E5=\"4ST\",(IF($L5=0,1,(HLOOKUP($L5,Tables!$AC$36:$AF$42,5,FALSE)))),(IF($L5=0,1,(HLOOKUP($L5,Tables!$AC$36:$AF$42,7,FALSE)))))))","v":1},{"$f":"IF(($M5=\"NP\"),1,(1-0.38*(IF(Inputs!$B$3=\"HSM\",(VLOOKUP( $E5,Tables!$B$97:$F$99,4,FALSE)),(VLOOKUP($E5,Tables!$B$97:$H$99,6,FALSE))))))","v":1},{"$f":"OFFSET(Tables!$AO$1,MATCH(N5,Tables!$AO:$AO,0)-1,1)","v":1},{"$f":"OFFSET(Tables!$AO$1,MATCH(O5,Tables!$AO:$AO,0)-1,1)","v":1},{"$f":"OFFSET(Tables!$AO$1,MATCH(P5,Tables!$AO:$AO,0)-1,1)","v":1},{"$f":"IF(Q5=\"\",1,Q5)","v":1},{"$f":"+AA5*AB5*AC5*AD5*AE5*AF5*AG5*AH5","v":1},{"$f":"IF($E5=\"3ST\",(EXP(-9.86+0.79*(LN($F5))+(0.49*(LN($G5))))),IF($E5=\"4ST\",(EXP(-8.56+0.6*(LN($F5))+(0.61*(LN($G5))))),(EXP(-5.13+(0.6*(LN($F5)))+(0.2*(LN($G5)))))))","v":5.1751542640924946},{"$f":"IF($E5=\"3ST\",0.54,(IF($E5=\"4ST\",0.24,0.11)))","v":0.11},{"$f":"IF($E5=\"3ST\",IF(Inputs!$B$3=\"HSM\",Tables!$E$55,Tables!$K$55),(IF($E5=\"4ST\",(IF(Inputs!$B$3=\"HSM\",Tables!$G$55,Tables!$M$55)),(IF(Inputs!$B$3=\"HSM\",Tables!$I$55,Tables!$O$55)))))/100","v":1},{"$f":"+AJ5*AL5","v":5.1751542640924946},{"$f":"+$AI5","v":1},{"$f":"IF(Inputs!$B$3<>\"HSM\",$S5,$R5)","v":1.7784344000000001},{"$f":"+AM5*AN5*AO5","v":9.2036723685687782},{"$f":"IF($E5=\"3ST\",IF(Inputs!$B$3=\"HSM\",Tables!$E$53,Tables!$K$53),(IF($E5=\"4ST\",(IF(Inputs!$B$3=\"HSM\",Tables!$G$53,Tables!$M$53)),(IF(Inputs!$B$3=\"HSM\",Tables!$I$53,Tables!$O$53)))))/100","v":0.23499999999999999},{"$f":"+AJ5*AQ5","v":1.2161612520617362},{"$f":"+$AI5","v":1},{"$f":"IF(Inputs!$B$3<>\"HSM\",$S5,$R5)","v":1.7784344000000001},{"$f":"+AR5*AS5*AT5","v":2.1628630066136627},{"$f":"IF($E5=\"3ST\",IF(Inputs!$B$3=\"HSM\",Tables!$E$54,Tables!$K$54),(IF($E5=\"4ST\",(IF(Inputs!$B$3=\"HSM\",Tables!$G$54,Tables!$M$54)),(IF(Inputs!$B$3=\"HSM\",Tables!$I$54,Tables!$O$54)))))/100","v":0.76500000000000001},{"$f":"+AJ5*AV5","v":3.9589930120307586},{"$f":"+$AI5","v":1},{"$f":"IF(Inputs!$B$3<>\"HSM\",$S5,$R5)","v":1.7784344000000001},{"$f":"+AW5*AX5*AY5","v":7.0408093619551151},{"$f":"IF(Inputs!$B$3=\"HSM\",(IF($E5=\"3ST\",Tables!$G$80,(IF($E5=\"4ST\",Tables!$J$80,Tables!$M$80)))/100),(IF($E5=\"3ST\",Tables!$P$80,(IF($E5=\"4ST\",+Tables!$S$80,+Tables!$V$80)))/100))","v":1},{"$f":"+AP5","v":9.2036723685687782},{"$f":"IF(Inputs!$B$3=\"HSM\",(IF($E5=\"3ST\",Tables!$E$80,(IF($E5=\"4ST\",Tables!$H$80,Tables!$K$80)))/100),(IF($E5=\"3ST\",Tables!$N$80,(IF($E5=\"4ST\",+Tables!$Q$80,+Tables!$T$80)))/100))","v":1.0000000000000002},{"$f":"+AU5","v":2.1628630066136627},{"$f":"IF(Inputs!$B$3=\"HSM\",(IF($E5=\"3ST\",Tables!$F$80,(IF($E5=\"4ST\",Tables!$I$80,Tables!$L$80)))/100),(IF($E5=\"3ST\",Tables!$O$80,(IF($E5=\"4ST\",+Tables!$R$80,+Tables!$U$80)))/100))","v":1},{"$f":"+AZ5","v":7.0408093619551151},{"$f":"IF(Inputs!$B$3=\"HSM\",(IF($E5=\"3ST\",Tables!$G$66,(IF($E5=\"4ST\",Tables!$J$66,Tables!$M$66)))/100),(IF($E5=\"3ST\",Tables!$P$66,(IF($E5=\"4ST\",+Tables!$S$66,+Tables!$V$66)))/100))","v":3.4000000000000002E-2},{"$f":"IF(Inputs!$B$3=\"HSM\",(IF($E5=\"3ST\",Tables!$G$67,(IF($E5=\"4ST\",Tables!$J$67,Tables!$M$67)))/100),(IF($E5=\"3ST\",Tables!$P$67,(IF($E5=\"4ST\",+Tables!$S$67,+Tables!$V$67)))/100))","v":6.0000000000000001E-3},{"$f":"IF(Inputs!$B$3=\"HSM\",(IF($E5=\"3ST\",Tables!$G$68,(IF($E5=\"4ST\",Tables!$J$68,Tables!$M$68)))/100),(IF($E5=\"3ST\",Tables!$P$68,(IF($E5=\"4ST\",+Tables!$S$68,+Tables!$V$68)))/100))","v":1.2E-2},{"$f":"IF(Inputs!$B$3=\"HSM\",(IF($E5=\"3ST\",Tables!$G$69,(IF($E5=\"4ST\",Tables!$J$69,Tables!$M$69)))/100),(IF($E5=\"3ST\",Tables!$P$69,(IF($E5=\"4ST\",+Tables!$S$69,+Tables!$V$69)))/100))","v":3.0000000000000001E-3},{"$f":"IF(Inputs!$B$3=\"HSM\",(IF($E5=\"3ST\",Tables!$G$70,(IF($E5=\"4ST\",Tables!$J$70,Tables!$M$70)))/100),(IF($E5=\"3ST\",Tables!$P$70,(IF($E5=\"4ST\",+Tables!$S$70,+Tables!$V$70)))/100))","v":4.7E-2},{"$f":"IF(Inputs!$B$3=\"HSM\",(IF($E5=\"3ST\",Tables!$G$71,(IF($E5=\"4ST\",Tables!$J$71,Tables!$M$71)))/100),(IF($E5=\"3ST\",Tables!$P$71,(IF($E5=\"4ST\",+Tables!$S$71,+Tables!$V$71)))/100))","v":6.9999999999999993E-3},{"$f":"IF(Inputs!$B$3=\"HSM\",(IF($E5=\"3ST\",Tables!$G$72,(IF($E5=\"4ST\",Tables!$J$72,Tables!$M$72)))/100),(IF($E5=\"3ST\",Tables!$P$72,(IF($E5=\"4ST\",+Tables!$S$72,+Tables!$V$72)))/100))","v":0.10899999999999999},{"$f":"BG5*$BB5","v":0.3129248605313385},5.5222034211412668E-2,0.11044406842282534,2.7611017105706334E-2,0.43257260132273256,6.4425706579981437E-2,1.0032002881739968,{"$f":"IF(Inputs!$B$3=\"HSM\",(IF($E5=\"3ST\",Tables!$E$66,(IF($E5=\"4ST\",Tables!$H$66,Tables!$K$66)))/100),(IF($E5=\"3ST\",Tables!$N$66,(IF($E5=\"4ST\",+Tables!$Q$66,+Tables!$T$66)))/100))","v":2E-3},{"$f":"IF(Inputs!$B$3=\"HSM\",(IF($E5=\"3ST\",Tables!$E$67,(IF($E5=\"4ST\",Tables!$H$67,Tables!$K$67)))/100),(IF($E5=\"3ST\",Tables!$N$67,(IF($E5=\"4ST\",+Tables!$Q$67,+Tables!$T$67)))/100))","v":1.9E-2},{"$f":"IF(Inputs!$B$3=\"HSM\",(IF($E5=\"3ST\",Tables!$E$68,(IF($E5=\"4ST\",Tables!$H$68,Tables!$K$68)))/100),(IF($E5=\"3ST\",Tables!$N$68,(IF($E5=\"4ST\",+Tables!$Q$68,+Tables!$T$68)))/100))","v":4.7E-2},{"$f":"IF(Inputs!$B$3=\"HSM\",(IF($E5=\"3ST\",Tables!$E$69,(IF($E5=\"4ST\",Tables!$H$69,Tables!$K$69)))/100),(IF($E5=\"3ST\",Tables!$N$69,(IF($E5=\"4ST\",+Tables!$Q$69,+Tables!$T$69)))/100))","v":3.0000000000000001E-3},{"$f":"IF(Inputs!$B$3=\"HSM\",(IF($E5=\"3ST\",Tables!$E$70,(IF($E5=\"4ST\",Tables!$H$70,Tables!$K$70)))/100),(IF($E5=\"3ST\",Tables!$N$70,(IF($E5=\"4ST\",+Tables!$Q$70,+Tables!$T$70)))/100))","v":3.7000000000000005E-2},{"$f":"IF(Inputs!$B$3=\"HSM\",(IF($E5=\"3ST\",Tables!$E$71,(IF($E5=\"4ST\",Tables!$H$71,Tables!$K$71)))/100),(IF($E5=\"3ST\",Tables!$N$71,(IF($E5=\"4ST\",+Tables!$Q$71,+Tables!$T$71)))/100))","v":1.1000000000000001E-2},{"$f":"IF(Inputs!$B$3=\"HSM\",(IF($E5=\"3ST\",Tables!$E$72,(IF($E5=\"4ST\",Tables!$H$72,Tables!$K$72)))/100),(IF($E5=\"3ST\",Tables!$N$72,(IF($E5=\"4ST\",+Tables!$Q$72,+Tables!$T$72)))/100))","v":0.11900000000000001},{"$f":"BU5*$BD5","v":4.3257260132273257E-3},4.1094397125659592E-2,0.10165456131084215,6.4885890198409886E-3,8.0025931244705528E-2,2.3791493072750292E-2,0.25738069778702588,{"$f":"IF(Inputs!$B$3=\"HSM\",(IF($E5=\"3ST\",Tables!$F$66,(IF($E5=\"4ST\",Tables!$I$66,Tables!$L$66)))/100),(IF($E5=\"3ST\",Tables!$O$66,(IF($E5=\"4ST\",+Tables!$R$66,+Tables!$U$66)))/100))","v":4.4000000000000004E-2},{"$f":"IF(Inputs!$B$3=\"HSM\",(IF($E5=\"3ST\",Tables!$F$67,(IF($E5=\"4ST\",Tables!$I$67,Tables!$L$67)))/100),(IF($E5=\"3ST\",Tables!$O$67,(IF($E5=\"4ST\",+Tables!$R$67,+Tables!$U$67)))/100))","v":3.0000000000000001E-3},{"$f":"IF(Inputs!$B$3=\"HSM\",(IF($E5=\"3ST\",Tables!$F$68,(IF($E5=\"4ST\",Tables!$I$68,Tables!$L$68)))/100),(IF($E5=\"3ST\",Tables!$O$68,(IF($E5=\"4ST\",+Tables!$R$68,+Tables!$U$68)))/100))","v":1E-3},{"$f":"IF(Inputs!$B$3=\"HSM\",(IF($E5=\"3ST\",Tables!$F$69,(IF($E5=\"4ST\",Tables!$I$69,Tables!$L$69)))/100),(IF($E5=\"3ST\",Tables!$O$69,(IF($E5=\"4ST\",+Tables!$R$69,+Tables!$U$69)))/100))","v":3.0000000000000001E-3},{"$f":"IF(Inputs!$B$3=\"HSM\",(IF($E5=\"3ST\",Tables!$F$70,(IF($E5=\"4ST\",Tables!$I$70,Tables!$L$70)))/100),(IF($E5=\"3ST\",Tables!$O$70,(IF($E5=\"4ST\",+Tables!$R$70,+Tables!$U$70)))/100))","v":0.05},{"$f":"IF(Inputs!$B$3=\"HSM\",(IF($E5=\"3ST\",Tables!$F$71,(IF($E5=\"4ST\",Tables!$I$71,Tables!$L$71)))/100),(IF($E5=\"3ST\",Tables!$O$71,(IF($E5=\"4ST\",+Tables!$R$71,+Tables!$U$71)))/100))","v":6.0000000000000001E-3},{"$f":"IF(Inputs!$B$3=\"HSM\",(IF($E5=\"3ST\",Tables!$F$72,(IF($E5=\"4ST\",Tables!$I$72,Tables!$L$72)))/100),(IF($E5=\"3ST\",Tables!$O$72,(IF($E5=\"4ST\",+Tables!$R$72,+Tables!$U$72)))/100))","v":0.107},{"$f":"CI5*$BF5","v":0.30979561192602512},2.1122428085865345E-2,7.0408093619551155E-3,2.1122428085865345E-2,0.3520404680977558,4.2244856171730689E-2,0.75336660172919734,{"$f":"IF(Inputs!$B$3=\"HSM\",(IF($E5=\"3ST\",Tables!$G$74,(IF($E5=\"4ST\",Tables!$J$74,Tables!$M$74)))/100),(IF($E5=\"3ST\",Tables!$P$74,(IF($E5=\"4ST\",+Tables!$S$74,+Tables!$V$74)))/100))","v":0.24},{"$f":"IF(Inputs!$B$3=\"HSM\",(IF($E5=\"3ST\",Tables!$G$75,(IF($E5=\"4ST\",Tables!$J$75,Tables!$M$75)))/100),(IF($E5=\"3ST\",Tables!$P$75,(IF($E5=\"4ST\",+Tables!$S$75,+Tables!$V$75)))/100))","v":8.1000000000000003E-2},{"$f":"IF(Inputs!$B$3=\"HSM\",(IF($E5=\"3ST\",Tables!$G$76,(IF($E5=\"4ST\",Tables!$J$76,Tables!$M$76)))/100),(IF($E5=\"3ST\",Tables!$P$76,(IF($E5=\"4ST\",+Tables!$S$76,+Tables!$V$76)))/100))","v":0.36299999999999999},{"$f":"IF(Inputs!$B$3=\"HSM\",(IF($E5=\"3ST\",Tables!$G$77,(IF($E5=\"4ST\",Tables!$J$77,Tables!$M$77)))/100),(IF($E5=\"3ST\",Tables!$P$77,(IF($E5=\"4ST\",+Tables!$S$77,+Tables!$V$77)))/100))","v":9.4E-2},{"$f":"IF(Inputs!$B$3=\"HSM\",(IF($E5=\"3ST\",Tables!$G$78,(IF($E5=\"4ST\",Tables!$J$78,Tables!$M$78)))/100),(IF($E5=\"3ST\",Tables!$P$78,(IF($E5=\"4ST\",+Tables!$S$78,+Tables!$V$78)))/100))","v":0.113},{"$f":"IF(Inputs!$B$3=\"HSM\",(IF($E5=\"3ST\",Tables!$G$79,(IF($E5=\"4ST\",Tables!$J$79,Tables!$M$79)))/100),(IF($E5=\"3ST\",Tables!$P$79,(IF($E5=\"4ST\",+Tables!$S$79,+Tables!$V$79)))/100))","v":0.89100000000000013},{"$f":"+$CW5*$BB5","v":2.2088813684565065},{"$f":"+$CX5*$BB5","v":0.74549746185407106},{"$f":"+$CY5*$BB5","v":3.3409330697904664},{"$f":"+$CZ5*$BB5","v":0.86514520264546513},{"$f":"+$DA5*$BB5","v":1.0400149776482719},{"$f":"+$DB5*$BB5","v":8.2004720803947819},{"$f":"IF(Inputs!$B$3=\"HSM\",(IF($E5=\"3ST\",Tables!$E$74,(IF($E5=\"4ST\",Tables!$H$74,Tables!$K$74)))/100),(IF($E5=\"3ST\",Tables!$N$74,(IF($E5=\"4ST\",+Tables!$Q$74,+Tables!$T$74)))/100))","v":0.33},{"$f":"IF(Inputs!$B$3=\"HSM\",(IF($E5=\"3ST\",Tables!$E$75,(IF($E5=\"4ST\",Tables!$H$75,Tables!$K$75)))/100),(IF($E5=\"3ST\",Tables!$N$75,(IF($E5=\"4ST\",+Tables!$Q$75,+Tables!$T$75)))/100))","v":0.14599999999999999},{"$f":"IF(Inputs!$B$3=\"HSM\",(IF($E5=\"3ST\",Tables!$E$76,(IF($E5=\"4ST\",Tables!$H$76,Tables!$K$76)))/100),(IF($E5=\"3ST\",Tables!$N$76,(IF($E5=\"4ST\",+Tables!$Q$76,+Tables!$T$76)))/100))","v":0.31900000000000001},{"$f":"IF(Inputs!$B$3=\"HSM\",(IF($E5=\"3ST\",Tables!$E$77,(IF($E5=\"4ST\",Tables!$H$77,Tables!$K$77)))/100),(IF($E5=\"3ST\",Tables!$N$77,(IF($E5=\"4ST\",+Tables!$Q$77,+Tables!$T$77)))/100))","v":2.7000000000000003E-2},{"$f":"IF(Inputs!$B$3=\"HSM\",(IF($E5=\"3ST\",Tables!$E$78,(IF($E5=\"4ST\",Tables!$H$78,Tables!$K$78)))/100),(IF($E5=\"3ST\",Tables!$N$78,(IF($E5=\"4ST\",+Tables!$Q$78,+Tables!$T$78)))/100))","v":5.9000000000000004E-2},{"$f":"IF(Inputs!$B$3=\"HSM\",(IF($E5=\"3ST\",Tables!$E$79,(IF($E5=\"4ST\",Tables!$H$79,Tables!$K$79)))/100),(IF($E5=\"3ST\",Tables!$N$79,(IF($E5=\"4ST\",+Tables!$Q$79,+Tables!$T$79)))/100))","v":0.88100000000000012},{"$f":"+$BD5*$DI5","v":0.71374479218250875},{"$f":"+$BD5*$DJ5","v":0.31577799896559472},{"$f":"+$BD5*$DK5","v":0.68995329910975844},{"$f":"+$BD5*$DL5","v":5.8397301178568901E-2},{"$f":"+$BD5*$DM5","v":0.12760891739020611},{"$f":"+$BD5*$DN5","v":1.9054823088266371},{"$f":"IF(Inputs!$B$3=\"HSM\",(IF($E5=\"3ST\",Tables!$F$74,(IF($E5=\"4ST\",Tables!$I$74,Tables!$L$74)))/100),(IF($E5=\"3ST\",Tables!$O$74,(IF($E5=\"4ST\",+Tables!$R$74,+Tables!$U$74)))/100))","v":0.21199999999999999},{"$f":"IF(Inputs!$B$3=\"HSM\",(IF($E5=\"3ST\",Tables!$F$75,(IF($E5=\"4ST\",Tables!$I$75,Tables!$L$75)))/100),(IF($E5=\"3ST\",Tables!$O$75,(IF($E5=\"4ST\",+Tables!$R$75,+Tables!$U$75)))/100))","v":6.0999999999999999E-2},{"$f":"IF(Inputs!$B$3=\"HSM\",(IF($E5=\"3ST\",Tables!$F$76,(IF($E5=\"4ST\",Tables!$I$76,Tables!$L$76)))/100),(IF($E5=\"3ST\",Tables!$O$76,(IF($E5=\"4ST\",+Tables!$R$76,+Tables!$U$76)))/100))","v":0.375},{"$f":"IF(Inputs!$B$3=\"HSM\",(IF($E5=\"3ST\",Tables!$F$77,(IF($E5=\"4ST\",Tables!$I$77,Tables!$L$77)))/100),(IF($E5=\"3ST\",Tables!$O$77,(IF($E5=\"4ST\",+Tables!$R$77,+Tables!$U$77)))/100))","v":0.115},{"$f":"IF(Inputs!$B$3=\"HSM\",(IF($E5=\"3ST\",Tables!$F$78,(IF($E5=\"4ST\",Tables!$I$78,Tables!$L$78)))/100),(IF($E5=\"3ST\",Tables!$O$78,(IF($E5=\"4ST\",+Tables!$R$78,+Tables!$U$78)))/100))","v":0.13},{"$f":"IF(Inputs!$B$3=\"HSM\",(IF($E5=\"3ST\",Tables!$F$79,(IF($E5=\"4ST\",Tables!$I$79,Tables!$L$79)))/100),(IF($E5=\"3ST\",Tables!$O$79,(IF($E5=\"4ST\",+Tables!$R$79,+Tables!$U$79)))/100))","v":0.89300000000000002},{"$f":"+$BF5*$DU5","v":1.4926515847344843},{"$f":"+$BF5*$DV5","v":0.42948937107926199},{"$f":"+$BF5*$DW5","v":2.640303510733168},{"$f":"+$BF5*$DX5","v":0.80969307662483825},{"$f":"+$BF5*$DY5","v":0.91530521705416501},{"$f":"+$BF5*$DZ5","v":6.2874427602259182},{"$f":"+$AL5","v":1},{"$f":"+$AQ5","v":0.23499999999999999},{"$f":"+$AV5","v":0.76500000000000001},{"$f":"+$AZ5","v":7.0408093619551151},{"$f":"+$AU5","v":2.1628630066136627},{"$f":"+$AP5","v":9.2036723685687782}]
[]
["Rural Divided Multilane Segments"]
["Example 1","SH 123","MP 0.0 to MP 1.5","Anywhere, USA",1.5,10000,12,8,"Paved",30,"NP","NP","N/A (1.000)","N/A (1.000)","N/A (1.000)",null,1,{"$f":"AVERAGE(INDIRECT(ADDRESS(MATCH(sYear,'Calibration Factors'!$A:$A,0),6,,,\"Calibration Factors\")&\":\"&ADDRESS(MATCH(eYear,'Calibration Factors'!$A:$A,0),6)))","v":1.5745119999999999},null,{"$f":"+BI8","v":0.14164021863996015},{"$f":"1/(1+T8*EX8)","v":{"$error":"#N/A"}},{"$f":"IF(S8=0,0,U8*EX8+((1-U8)*S8))","v":0},{"$f":"IF(S8=\"\",\"\",S8-V8)","v":""},{"$f":"T8*EX8^2","v":{"$error":"#N/A"}},{"$f":"SQRT(T8*EX8)","v":{"$error":"#N/A"}},{"$f":"(IF($F8<400,OFFSET($AC$4,ROW()-4,MATCH($G8,$AG$4:$AM$4,0)),IF($F8<=2000,OFFSET($AM$4,ROW()-4,MATCH($G8,$AN$4:$AT$4,0)),OFFSET($AT$4,ROW()-4,MATCH($G8,$AU$4:$BA$4,0))))-1)*IF(Inputs!$B$3=\"HSM\",Tables!$E$293,Tables!$I$293)+1","v":{"$error":"#N/A"}},{"$f":"IF(I8=\"Paved\",VLOOKUP(H8,Tables!$Y$275:$AC$285,3,FALSE),1)","v":1},{"$f":"VLOOKUP(J8,Tables!$Y$294:$AB$303,3,FALSE)","v":1},{"$f":"IF($K8=\"P\",(1-(IF(Tables!$D$314=\"No\",((1-(0.72*Tables!$E$318)-(0.83*Tables!$F$318))*Tables!$G$318),((1-(0.72*Tables!$I$318)-(0.83*Tables!$J$318))*Tables!$K$318)))),1)","v":1},{"$f":"IF($L8=\"P\",0.94,1)","v":1},{"$f":"OFFSET(Tables!$AQ$1,MATCH(M8,Tables!$AQ:$AQ,0)-1,1)","v":1},{"$f":"OFFSET(Tables!$AQ$1,MATCH(N8,Tables!$AQ:$AQ,0)-1,1)","v":1},{"$f":"OFFSET(Tables!$AQ$1,MATCH(O8,Tables!$AQ:$AQ,0)-1,1)","v":1},{"$f":"IF(P8=\"\",1,P8)","v":1},{"$f":"Z8*AA8*AB8*AC8*AD8*AE8*AF8*AG8*AH8","v":{"$error":"#N/A"}},1.03,{"$f":"+(AJ8+AL8)/2","v":1.02},1.01,{"$f":"+(AL8+AN8)/2","v":1.01},1.01,{"$f":"+(AN8+AP8)/2","v":1.0049999999999999},1,{"$f":"1.03+0.000138*(F8-400)","v":2.3548},{"$f":"+(AQ8+AS8)/2","v":2.1024000000000003},{"$f":"1.01+0.0000875*(F8-400)","v":1.85},{"$f":"+(AS8+AU8)/2","v":1.4900000000000002},{"$f":"1.01+0.0000125*(F8-400)","v":1.1300000000000001},{"$f":"+(AU8+AW8)/2","v":1.0649999999999999},1,1.25,{"$f":"+(AX8+AZ8)/2","v":1.2},1.1499999999999999,{"$f":"+(AZ8+BB8)/2","v":1.0899999999999999},1.03,{"$f":"+(BB8+BD8)/2","v":1.0150000000000001},1,-9.0250000000000004,1.0489999999999999,1.5489999999999999,{"$f":"EXP($BE8+$BF8*LN($F8)+LN($E8))","v":2.8351990838975669},{"$f":"1/(EXP($BG8+LN($E8)))","v":0.14164021863996015},{"$f":"+$AI8","v":{"$error":"#N/A"}},{"$f":"IF(Inputs!$B$3<>\"HSM\",$R8,$P8)","v":1.5745119999999999},{"$f":"+BH8*BJ8*BK8","v":{"$error":"#N/A"}},-8.8369999999999997,0.95799999999999996,1.6870000000000001,{"$f":"EXP($BM8+$BN8*LN($F8)+LN($E8))","v":1.4798950668143793},{"$f":"1/(EXP($BO8+LN($E8)))","v":0.12338260915585812},{"$f":"+$AI8","v":{"$error":"#N/A"}},{"$f":"IF(Inputs!$B$3<>\"HSM\",$R8,$P8)","v":1.5745119999999999},{"$f":"+BP8*BR8*BS8","v":{"$error":"#N/A"}},-8.5050000000000008,0.874,1.74,{"$f":"EXP($BU8+$BV8*LN($F8)+LN($E8))","v":0.95151730362374587},{"$f":"1/(EXP($BW8+LN($E8)))","v":0.11701360041133126},{"$f":"+$AI8","v":{"$error":"#N/A"}},{"$f":"IF(Inputs!$B$3<>\"HSM\",$R8,$P8)","v":1.5745119999999999},{"$f":"+BX8*BZ8*CA8","v":{"$error":"#N/A"}},"--","--","--","--","--","--","--",{"$f":"+BL8-BT8","v":{"$error":"#N/A"}},{"$f":"IF(Inputs!$B$3=\"HSM\",SUM(Tables!$E$287:$E$292),SUM(Tables!$I$287:$I$292))","v":1},{"$f":"+BL8","v":{"$error":"#N/A"}},{"$f":"IF(Inputs!$B$3=\"HSM\",SUM(Tables!$F$287:$F$292),SUM(Tables!$J$287:$J$292))","v":0.999},{"$f":"+BT8","v":{"$error":"#N/A"}},{"$f":"IF(Inputs!$B$3=\"HSM\",SUM(Tables!$G$287:$G$292),SUM(Tables!$K$287:$K$292))","v":1},{"$f":"+CB8","v":{"$error":"#N/A"}},{"$f":"IF(Inputs!$B$3=\"HSM\",SUM(Tables!$H$287:$H$292),SUM(Tables!$L$287:$L$292))","v":1.002},{"$f":"+CJ8","v":{"$error":"#N/A"}},{"$f":"IF(Inputs!$B$3=\"HSM\",Tables!$E$287,Tables!$I$287)","v":8.9999999999999993E-3},{"$f":"+CS8*$CL8","v":{"$error":"#N/A"}},{"$f":"IF(Inputs!$B$3=\"HSM\",Tables!$F$287,Tables!$J$287)","v":1.7999999999999999E-2},{"$f":"+CU8*$CN8","v":{"$error":"#N/A"}},{"$f":"IF(Inputs!$B$3=\"HSM\",Tables!$G$287,Tables!$K$287)","v":3.3000000000000002E-2},{"$f":"+$CP8*CW8","v":{"$error":"#N/A"}},{"$f":"IF(Inputs!$B$3=\"HSM\",Tables!$H$287,Tables!$L$287)","v":6.0000000000000001E-3},{"$f":"+$CR8*CY8","v":{"$error":"#N/A"}},{"$f":"IF(Inputs!$B$3=\"HSM\",Tables!$E$288,Tables!$I$288)","v":0.12},{"$f":"+DA8*$CL8","v":{"$error":"#N/A"}},{"$f":"IF(Inputs!$B$3=\"HSM\",Tables!$F$288,Tables!$J$288)","v":5.8999999999999997E-2},{"$f":"+DC8*$CN8","v":{"$error":"#N/A"}},{"$f":"IF(Inputs!$B$3=\"HSM\",Tables!$G$288,Tables!$K$288)","v":5.5E-2},{"$f":"+$CP8*DE8","v":{"$error":"#N/A"}},{"$f":"IF(Inputs!$B$3=\"HSM\",Tables!$H$288,Tables!$L$288)","v":0.13900000000000001},{"$f":"+$CR8*DG8","v":{"$error":"#N/A"}},{"$f":"IF(Inputs!$B$3=\"HSM\",Tables!$E$289,Tables!$I$289)","v":0.13600000000000001},{"$f":"+DI8*$CL8","v":{"$error":"#N/A"}},{"$f":"IF(Inputs!$B$3=\"HSM\",Tables!$F$289,Tables!$J$289)","v":0.19500000000000001},{"$f":"+DK8*$CN8","v":{"$error":"#N/A"}},{"$f":"IF(Inputs!$B$3=\"HSM\",Tables!$G$289,Tables!$K$289)","v":0.14299999999999999},{"$f":"+$CP8*DM8","v":{"$error":"#N/A"}},{"$f":"IF(Inputs!$B$3=\"HSM\",Tables!$H$289,Tables!$L$289)","v":0.11799999999999999},{"$f":"+$CR8*DO8","v":{"$error":"#N/A"}},{"$f":"IF(Inputs!$B$3=\"HSM\",Tables!$E$290,Tables!$I$290)","v":4.5999999999999999E-2},{"$f":"+DQ8*$CL8","v":{"$error":"#N/A"}},{"$f":"IF(Inputs!$B$3=\"HSM\",Tables!$F$290,Tables!$J$290)","v":8.5999999999999993E-2},{"$f":"+DS8*$CN8","v":{"$error":"#N/A"}},{"$f":"IF(Inputs!$B$3=\"HSM\",Tables!$G$290,Tables!$K$290)","v":0.14299999999999999},{"$f":"+$CP8*DU8","v":{"$error":"#N/A"}},{"$f":"IF(Inputs!$B$3=\"HSM\",Tables!$H$290,Tables!$L$290)","v":3.4000000000000002E-2},{"$f":"+$CR8*DW8","v":{"$error":"#N/A"}},{"$f":"IF(Inputs!$B$3=\"HSM\",Tables!$E$291,Tables!$I$291)","v":0.626},{"$f":"+DY8*$CL8","v":{"$error":"#N/A"}},{"$f":"IF(Inputs!$B$3=\"HSM\",Tables!$F$291,Tables!$J$291)","v":0.60499999999999998},{"$f":"+EA8*$CN8","v":{"$error":"#N/A"}},{"$f":"IF(Inputs!$B$3=\"HSM\",Tables!$G$291,Tables!$K$291)","v":0.60399999999999998},{"$f":"+$CP8*EC8","v":{"$error":"#N/A"}},{"$f":"IF(Inputs!$B$3=\"HSM\",Tables!$H$291,Tables!$L$291)","v":0.63300000000000001},{"$f":"+$CR8*EE8","v":{"$error":"#N/A"}},{"$f":"IF(Inputs!$B$3=\"HSM\",Tables!$E$292,Tables!$I$292)","v":6.3E-2},{"$f":"+EG8*$CL8","v":{"$error":"#N/A"}},{"$f":"IF(Inputs!$B$3=\"HSM\",Tables!$F$292,Tables!$J$292)","v":3.5999999999999997E-2},{"$f":"+EI8*$CN8","v":{"$error":"#N/A"}},{"$f":"IF(Inputs!$B$3=\"HSM\",Tables!$G$292,Tables!$K$292)","v":2.1999999999999999E-2},{"$f":"+$CP8*EK8","v":{"$error":"#N/A"}},{"$f":"IF(Inputs!$B$3=\"HSM\",Tables!$H$292,Tables!$L$292)","v":7.1999999999999995E-2},{"$f":"+$CR8*EM8","v":{"$error":"#N/A"}},{"$f":"+CJ8","v":{"$error":"#N/A"}},{"$f":"+$E8","v":1.5},{"$f":"+EO8/EP8","v":{"$error":"#N/A"}},{"$f":"+CB8","v":{"$error":"#N/A"}},{"$f":"+$E8","v":1.5},{"$f":"+ER8/ES8","v":{"$error":"#N/A"}},{"$f":"+BT8","v":{"$error":"#N/A"}},{"$f":"+$E8","v":1.5},{"$f":"+EU8/EV8","v":{"$error":"#N/A"}},{"$f":"+BL8","v":{"$error":"#N/A"}},{"$f":"+$E8","v":1.5},{"$f":"+EX8/EY8","v":{"$error":"#N/A"}}]
[]
["Rural Undivided Multilane Segments"]
["Example 1","SH 123","MP 1.5 to MP 1.6","Anywhere, USA",0.1,8000,12,6,"Paved","1:7 or flatter","NP","NP","N/A (1.000)","N/A (1.000)","N/A (1.000)",null,1,{"$f":"AVERAGE(INDIRECT(ADDRESS(MATCH(sYear,'Calibration Factors'!$A:$A,0),4,,,\"Calibration Factors\")&\":\"&ADDRESS(MATCH(eYear,'Calibration Factors'!$A:$A,0),4)))","v":1.2013144},null,{"$f":"+CL11","v":1.8730817948195697},{"$f":"1/(1+T11*GA11)","v":{"$error":"#N/A"}},{"$f":"IF(S11=0,0,U11*GA11+((1-U11)*S11))","v":0},{"$f":"IF(S11=\"\",\"\",S11-V11)","v":""},{"$f":"T11*GA11^2","v":{"$error":"#N/A"}},{"$f":"SQRT(T11*GA11)","v":{"$error":"#N/A"}},{"$f":"(IF($F11<400,OFFSET($AK$4,ROW()-4,MATCH($G11,$AL$4:$AR$4,0)),IF($F11<=2000,OFFSET($AR$4,ROW()-4,MATCH($G11,$AS$4:$AY$4,0)),OFFSET($AY$4,ROW()-4,MATCH($G11,$AZ$4:$BF$4,0))))-1)*IF(Inputs!$B$3=\"HSM\",Tables!$E$276,Tables!$I$276)+1","v":{"$error":"#N/A"}},{"$f":"(AJ11*AK11-1)*IF(Inputs!$B$3=\"HSM\",Tables!$E$276,Tables!$I$276)+1","v":{"$error":"#N/A"}},{"$f":"HLOOKUP(J11,Tables!$Y$267:$AD$268,2,FALSE)","v":1},{"$f":"IF($K11=\"P\",(1-(IF(Inputs!$B$3=\"HSM\",((1-(0.72*Tables!$E$306)-(0.83*Tables!$F$306))*Tables!$G$306),((1-(0.72*Tables!$I$306)-(0.83*Tables!$J$306))*Tables!$K$306)))),1)","v":1},{"$f":"IF($L11=\"P\",0.95,1)","v":1},{"$f":"OFFSET(Tables!$AS$1,MATCH(M11,Tables!$AS:$AS,0)-1,1)","v":1},{"$f":"OFFSET(Tables!$AS$1,MATCH(N11,Tables!$AS:$AS,0)-1,1)","v":1},{"$f":"OFFSET(Tables!$AS$1,MATCH(O11,Tables!$AS:$AS,0)-1,1)","v":1},{"$f":"IF(P11=\"\",1,P11)","v":1},{"$f":"Z11*AA11*AB11*AC11*AD11*AE11*AF11*AG11*AH11","v":{"$error":"#N/A"}},{"$f":"IF($F11<400,OFFSET($BF$4,ROW()-4,MATCH($H11,$BG$4:$BO$4,0)),IF($F11<=2000,OFFSET($BO$4,ROW()-4,MATCH($H11,$BP$4:$BX$4,0)),OFFSET($BX$4,ROW()-4,MATCH($H11,$BY$4:$CG$4,0))))","v":{"$error":"#N/A"}},{"$f":"IF($I11=\"Paved\",(HLOOKUP($H11,Tables!$Z$254:$AJ$258,2,FALSE)),(IF($I11=\"Gravel\",(HLOOKUP($H11,Tables!$Z$254:$AJ$258,3,FALSE)),(IF($I11=\"Turf\",(HLOOKUP($H11,Tables!$Z$254:$AJ$258,5,FALSE)),HLOOKUP($H11,Tables!$Z$254:$AJ$258,4,FALSE))))))","v":1},1.04,{"$f":"+(AL11+AN11)/2","v":1.03},1.02,{"$f":"+(AN11+AP11)/2","v":1.0150000000000001},1.01,{"$f":"+(AP11+AR11)/2","v":1.0049999999999999},1,{"$f":"1.04+0.000213*(F11-400)","v":2.6588000000000003},{"$f":"+(AS11+AU11)/2","v":2.3372000000000002},{"$f":"1.02+0.000131*(F11-400)","v":2.0156000000000001},{"$f":"+(AU11+AW11)/2","v":1.5842400000000001},{"$f":"1.01+0.0000188*(F11-400)","v":1.1528800000000001},{"$f":"+(AW11+AY11)/2","v":1.0764400000000001},1,1.38,{"$f":"+(AZ11+BB11)/2","v":1.3049999999999999},1.23,{"$f":"+(BB11+BD11)/2","v":1.135},1.04,{"$f":"+(BD11+BF11)/2","v":1.02},1,1.1000000000000001,{"$f":"+(BG11+BI11)/2","v":1.085},1.07,{"$f":"+(BI11+BK11)/2","v":1.0449999999999999},1.02,{"$f":"+(BK11+BM11)/2","v":1.01},1,{"$f":"+(BM11+BO11)/2","v":0.99},0.98,{"$f":"($F11-400)*0.00025+1.1","v":3},{"$f":"+(BP11+BR11)/2","v":2.5784000000000002},{"$f":"($F11-400)*0.000143+1.07","v":2.1568000000000001},{"$f":"+(BR11+BT11)/2","v":1.8971499999999999},{"$f":"($F11-400)*0.00008125+1.02","v":1.6375},{"$f":"+(BT11+BV11)/2","v":1.3187500000000001},1,{"$f":"+(BV11+BX11)/2","v":0.72875000000000001},{"$f":"($F11-400)*-0.00006875+0.98","v":0.45749999999999991},1.5,{"$f":"+(BY11+CA11)/2","v":1.4},1.3,{"$f":"+(CA11+CC11)/2","v":1.2250000000000001},1.1499999999999999,{"$f":"+(CC11+CE11)/2","v":1.075},1,{"$f":"+(CE11+CG11)/2","v":0.93500000000000005},0.87,-9.6530000000000005,1.1759999999999999,1.675,{"$f":"EXP($CH11+$CI11*LN($F11)+LN($E11))","v":0.24991319737896014},{"$f":"1/(EXP($CJ11+LN($E11)))","v":1.8730817948195697},{"$f":"+$AI11","v":{"$error":"#N/A"}},{"$f":"IF(Inputs!$B$3<>\"HSM\",$R11,$Q11)","v":1.2013144},{"$f":"+CK11*CM11*CN11","v":{"$error":"#N/A"}},-9.41,1.0940000000000001,1.796,{"$f":"EXP($CP11+$CQ11*LN($F11)+LN($E11))","v":0.15249983404117612},{"$f":"1/(EXP($CR11+LN($E11)))","v":1.6596140793053136},{"$f":"+$AI11","v":{"$error":"#N/A"}},{"$f":"IF(Inputs!$B$3<>\"HSM\",$R11,$Q11)","v":1.2013144},{"$f":"+CS11*CU11*CV11","v":{"$error":"#N/A"}},-8.577,0.93799999999999994,2.0030000000000001,{"$f":"EXP($CX11+$CY11*LN($F11)+LN($E11))","v":8.6328587784109817E-2},{"$f":"1/(EXP($CZ11+LN($E11)))","v":1.3492988578712508},{"$f":"+$AI11","v":{"$error":"#N/A"}},{"$f":"IF(Inputs!$B$3<>\"HSM\",$R11,$Q11)","v":1.2013144},{"$f":"+DA11*DC11*DD11","v":{"$error":"#N/A"}},"--","--","--","--","--","--","--",{"$f":"+CO11-CW11","v":{"$error":"#N/A"}},{"$f":"IF(Inputs!$B$3=\"HSM\",SUM(Tables!$E$270:$E$275),SUM(Tables!$I$270:$I$275))","v":1},{"$f":"+CO11","v":{"$error":"#N/A"}},{"$f":"IF(Inputs!$B$3=\"HSM\",SUM(Tables!$F$270:$F$275),SUM(Tables!$J$270:$J$275))","v":1.0009999999999999},{"$f":"+CW11","v":{"$error":"#N/A"}},{"$f":"IF(Inputs!$B$3=\"HSM\",SUM(Tables!$G$270:$G$275),SUM(Tables!$K$270:$K$275))","v":0.99999999999999989},{"$f":"+DE11","v":{"$error":"#N/A"}},{"$f":"IF(Inputs!$B$3=\"HSM\",SUM(Tables!$H$270:$H$275),SUM(Tables!$L$270:$L$275))","v":1},{"$f":"+DM11","v":{"$error":"#N/A"}},{"$f":"IF(Inputs!$B$3=\"HSM\",Tables!$E$270,Tables!$I$270)","v":4.4999999999999998E-2},{"$f":"+DV11*$DO11","v":{"$error":"#N/A"}},{"$f":"IF(Inputs!$B$3=\"HSM\",Tables!$F$270,Tables!$J$270)","v":0.108},{"$f":"+DX11*$DQ11","v":{"$error":"#N/A"}},{"$f":"IF(Inputs!$B$3=\"HSM\",Tables!$G$270,Tables!$K$270)","v":0.13800000000000001},{"$f":"+$DS11*DZ11","v":{"$error":"#N/A"}},{"$f":"IF(Inputs!$B$3=\"HSM\",Tables!$H$270,Tables!$L$270)","v":2.1999999999999999E-2},{"$f":"+$DU11*EB11","v":{"$error":"#N/A"}},{"$f":"IF(Inputs!$B$3=\"HSM\",Tables!$E$271,Tables!$I$271)","v":0.155},{"$f":"+ED11*$DO11","v":{"$error":"#N/A"}},{"$f":"IF(Inputs!$B$3=\"HSM\",Tables!$F$271,Tables!$J$271)","v":6.2E-2},{"$f":"+EF11*$DQ11","v":{"$error":"#N/A"}},{"$f":"IF(Inputs!$B$3=\"HSM\",Tables!$G$271,Tables!$K$271)","v":6.0999999999999999E-2},{"$f":"+$DS11*EH11","v":{"$error":"#N/A"}},{"$f":"IF(Inputs!$B$3=\"HSM\",Tables!$H$271,Tables!$L$271)","v":0.189},{"$f":"+$DU11*EJ11","v":{"$error":"#N/A"}},{"$f":"IF(Inputs!$B$3=\"HSM\",Tables!$E$272,Tables!$I$272)","v":0.20499999999999999},{"$f":"+EL11*$DO11","v":{"$error":"#N/A"}},{"$f":"IF(Inputs!$B$3=\"HSM\",Tables!$F$272,Tables!$J$272)","v":0.26600000000000001},{"$f":"+EN11*$DQ11","v":{"$error":"#N/A"}},{"$f":"IF(Inputs!$B$3=\"HSM\",Tables!$G$272,Tables!$K$272)","v":0.188},{"$f":"+$DS11*EP11","v":{"$error":"#N/A"}},{"$f":"IF(Inputs!$B$3=\"HSM\",Tables!$H$272,Tables!$L$272)","v":0.184},{"$f":"+$DU11*ER11","v":{"$error":"#N/A"}},{"$f":"IF(Inputs!$B$3=\"HSM\",Tables!$E$273,Tables!$I$273)","v":0.14899999999999999},{"$f":"+ET11*$DO11","v":{"$error":"#N/A"}},{"$f":"IF(Inputs!$B$3=\"HSM\",Tables!$F$273,Tables!$J$273)","v":0.18},{"$f":"+EV11*$DQ11","v":{"$error":"#N/A"}},{"$f":"IF(Inputs!$B$3=\"HSM\",Tables!$G$273,Tables!$K$273)","v":0.184},{"$f":"+$DS11*EX11","v":{"$error":"#N/A"}},{"$f":"IF(Inputs!$B$3=\"HSM\",Tables!$H$273,Tables!$L$273)","v":0.13800000000000001},{"$f":"+$DU11*EZ11","v":{"$error":"#N/A"}},{"$f":"IF(Inputs!$B$3=\"HSM\",Tables!$E$274,Tables!$I$274)","v":0.32100000000000001},{"$f":"+FB11*$DO11","v":{"$error":"#N/A"}},{"$f":"IF(Inputs!$B$3=\"HSM\",Tables!$F$274,Tables!$J$274)","v":0.24199999999999999},{"$f":"+FD11*$DQ11","v":{"$error":"#N/A"}},{"$f":"IF(Inputs!$B$3=\"HSM\",Tables!$G$274,Tables!$K$274)","v":0.29899999999999999},{"$f":"+$DS11*FF11","v":{"$error":"#N/A"}},{"$f":"IF(Inputs!$B$3=\"HSM\",Tables!$H$274,Tables!$L$274)","v":0.34899999999999998},{"$f":"+$DU11*FH11","v":{"$error":"#N/A"}},{"$f":"IF(Inputs!$B$3=\"HSM\",Tables!$E$275,Tables!$I$275)","v":0.125},{"$f":"+FJ11*$DO11","v":{"$error":"#N/A"}},{"$f":"IF(Inputs!$B$3=\"HSM\",Tables!$F$275,Tables!$J$275)","v":0.14299999999999999},{"$f":"+FL11*$DQ11","v":{"$error":"#N/A"}},{"$f":"IF(Inputs!$B$3=\"HSM\",Tables!$G$275,Tables!$K$275)","v":0.13},{"$f":"+$DS11*FN11","v":{"$error":"#N/A"}},{"$f":"IF(Inputs!$B$3=\"HSM\",Tables!$H$275,Tables!$L$275)","v":0.11799999999999999},{"$f":"+$DU11*FP11","v":{"$error":"#N/A"}},{"$f":"+DM11","v":{"$error":"#N/A"}},{"$f":"+$E11","v":0.1},{"$f":"+FR11/FS11","v":{"$error":"#N/A"}},{"$f":"+DE11","v":{"$error":"#N/A"}},{"$f":"+$E11","v":0.1},{"$f":"+FU11/FV11","v":{"$error":"#N/A"}},{"$f":"+CW11","v":{"$error":"#N/A"}},{"$f":"+$E11","v":0.1},{"$f":"+FX11/FY11","v":{"$error":"#N/A"}},{"$f":"+CO11","v":{"$error":"#N/A"}},{"$f":"+$E11","v":0.1},{"$f":"+GA11/GB11","v":{"$error":"#N/A"}}]
[]
["Rural Multilane Intersections"]
["Example 1","SH-123","2nd St","Anywhere, USA","3ST",5000,800,0,0,0,"NP","N/A (1.000)","N/A (1.000)","N/A (1.000)",null,null,1,{"$f":"AVERAGE(INDIRECT(ADDRESS(MATCH(sYear,'Calibration Factors'!$A:$A,0),CHOOSE(MATCH(E14,{\"3ST\",\"4ST\",\"4SG\"},0),14,18,20),,,\"Calibration Factors\")&\":\"&ADDRESS(MATCH(eYear,'Calibration Factors'!$A:$A,0),CHOOSE(MATCH(E14,{\"3ST\",\"4ST\",\"4SG\"},0),14,18,20))))","v":1.8383938},null,{"$f":"+AT14","v":0.23599999999999999},{"$f":"1/(1+T14*EC14)","v":0.9353554636439475},{"$f":"IF(S14=0,0,U14*EC14+((1-U14)*S14))","v":0},{"$f":"IF(S14=\"\",\"\",S14-V14)","v":""},{"$f":"T14*EC14^2","v":2.023942975513926E-2},{"$f":"SQRT(T14*EC14)","v":0.26289212007940505},{"$f":"IF($E14=\"4SG\",\"--\",IF($E14=\"3ST\",(((0.016*$H14)/(0.98+0.16*$H14))+1),(((0.053*$H14)/(1.43+0.53*$H14))+1)))","v":1},{"$f":"IF($E14=\"4SG\",\"--\",IF($I14=0,1,IF($E14=\"3ST\",0.56,(IF($I14=1,0.72,0.52)))))","v":1},{"$f":"IF($E14=\"4SG\",\"--\",IF($J14=0,1,IF($E14=\"3ST\",0.86,(IF($J14=1,0.86,0.74)))))","v":1},{"$f":"IF($E14=\"4SG\",\"--\",(IF(($K14=\"NP\"),1,(1-0.38*(IF($E14=\"3ST\",(IF(Inputs!$B$3=\"HSM\",Tables!$G$362,Tables!$K$362)),(IF(Inputs!$B$3=\"HSM\",Tables!$G$363,Tables!$K$363))))))))","v":1},{"$f":"OFFSET(Tables!$AU$1,MATCH(L14,Tables!$AU:$AU,0)-1,1)","v":1},{"$f":"OFFSET(Tables!$AU$1,MATCH(M14,Tables!$AU:$AU,0)-1,1)","v":1},{"$f":"OFFSET(Tables!$AU$1,MATCH(N14,Tables!$AU:$AU,0)-1,1)","v":1},{"$f":"IF(O14=\"\",1,O14)","v":1},{"$f":"IF($E14=\"4SG\",1,Z14*AA14*AB14*AC14*AD14*AE14*AF14*AG14)","v":1},{"$f":"IF($E14=\"4SG\",\"--\",IF($E14=\"3ST\",(((0.017*$H14)/(0.52+0.17*$H14))+1),(((0.048*$H14)/(0.72+0.48*$H14))+1)))","v":1},{"$f":"IF($E14=\"4SG\",\"--\",IF($I14=0,1,IF($E14=\"3ST\",0.45,(IF($I14=1,0.65,0.42)))))","v":1},{"$f":"IF($E14=\"4SG\",\"--\",IF($J14=0,1,IF($E14=\"3ST\",0.77,(IF($J14=1,0.77,0.59)))))","v":1},{"$f":"IF($E14=\"4SG\",\"--\",(IF(($K14=\"NP\"),1,(1-0.38*(IF($E14=\"3ST\",(IF(Inputs!$B$3=\"HSM\",Tables!$G$362,Tables!$K$362)),(IF(Inputs!$B$3=\"HSM\",Tables!$G$363,Tables!$K$363))))))))","v":1},{"$f":"OFFSET(Tables!$AU$1,MATCH(L14,Tables!$AU:$AU,0)-1,1)","v":1},{"$f":"OFFSET(Tables!$AU$1,MATCH(M14,Tables!$AU:$AU,0)-1,1)","v":1},{"$f":"OFFSET(Tables!$AU$1,MATCH(N14,Tables!$AU:$AU,0)-1,1)","v":1},{"$f":"IF(P14=\"\",1,P14)","v":1},{"$f":"IF($E14=\"4SG\",1,AI14*AJ14*AK14*AL14*AM14*AN14*AO14*AP14)","v":1},{"$f":"IF($E14=\"3ST\",-12.526,(IF($E14=\"4ST\",-10.008,-7.182)))","v":-12.526},{"$f":"IF($E14=\"3ST\",1.204,(IF($E14=\"4ST\",0.848,0.722)))","v":1.204},{"$f":"IF($E14=\"3ST\",0.236,(IF($E14=\"4ST\",0.448,0.337)))","v":0.23599999999999999},{"$f":"EXP($AR14+$AS14*LN($F14)+$AT14*LN($G14))","v":0.49970816058076617},{"$f":"IF($E14=\"3ST\",0.46,(IF($E14=\"4ST\",0.494,0.277)))","v":0.46},{"$f":"+$AH14","v":1},{"$f":"IF(Inputs!$B$3<>\"HSM\",$R14,$Q14)","v":1.8383938},{"$f":"+$AU14*$AW14*$AX14","v":0.91866038422108487},{"$f":"IF($E14=\"3ST\",-12.664,(IF($E14=\"4ST\",-11.554,-6.393)))","v":-12.664},{"$f":"IF($E14=\"3ST\",1.107,(IF($E14=\"4ST\",0.888,0.638)))","v":1.107},{"$f":"IF($E14=\"3ST\",0.272,(IF($E14=\"4ST\",0.525,0.232)))","v":0.27200000000000002},{"$f":"EXP($AZ14+$BA14*LN($F14)+$BB14*LN($G14))","v":0.24237897940425943},{"$f":"IF($E14=\"3ST\",0.569,(IF($E14=\"4ST\",0.742,0.218)))","v":0.56899999999999995},{"$f":"+$AQ14","v":1},{"$f":"IF(Inputs!$B$3<>\"HSM\",$R14,$Q14)","v":1.8383938},{"$f":"+$BC14*$BE14*$BF14","v":0.4455880129871182},{"$f":"IF($E14=\"3ST\",-11.989,(IF($E14=\"4ST\",-10.734,-12.011)))","v":-11.989000000000001},{"$f":"IF($E14=\"3ST\",1.013,(IF($E14=\"4ST\",0.828,\"--\")))","v":1.0129999999999999},{"$f":"IF($E14=\"3ST\",0.228,(IF($E14=\"4ST\",0.412,1.279)))","v":0.22800000000000001},{"$f":"IF(E14=\"4SG\",(EXP(BH14+BJ14*LN(F14+G14))),(EXP($BH14+$BI14*LN($F14)+$BJ14*LN($G14))))","v":0.15929589630629393},{"$f":"IF($E14=\"3ST\",0.566,(IF($E14=\"4ST\",0.655,0.566)))","v":0.56599999999999995},{"$f":"+$AQ14","v":1},{"$f":"IF(Inputs!$B$3<>\"HSM\",$R14,$Q14)","v":1.8383938},{"$f":"+$BK14*$BM14*$BN14","v":0.29284858813493364},"--","--","--","--","--","--","--",{"$f":"+$AY14-$BG14","v":0.47307237123396667},{"$f":"IF(Inputs!$B$3=\"HSM\",IF($E14=\"3ST\",SUM(Tables!$E$328:$E$333),IF($E14=\"4ST\",SUM(Tables!$E$336:$E$341),SUM(Tables!$E$344:$E$349))),IF($E14=\"3ST\",SUM(Tables!$I$328:$I$333),IF($E14=\"4ST\",SUM(Tables!$I$336:$I$341),SUM(Tables!$I$344:$I$349))))","v":1},{"$f":"+AY14","v":0.91866038422108487},{"$f":"IF(Inputs!$B$3=\"HSM\",IF($E14=\"3ST\",SUM(Tables!$F$328:$F$333),IF($E14=\"4ST\",SUM(Tables!$F$336:$F$341),SUM(Tables!$F$344:$F$349))),IF($E14=\"3ST\",SUM(Tables!$J$328:$J$333),IF($E14=\"4ST\",SUM(Tables!$J$336:$J$341),SUM(Tables!$J$344:$J$349))))","v":1},{"$f":"+BG14","v":0.4455880129871182},{"$f":"IF(Inputs!$B$3=\"HSM\",IF($E14=\"3ST\",SUM(Tables!$G$328:$G$333),IF($E14=\"4ST\",SUM(Tables!$G$336:$G$341),SUM(Tables!$G$344:$G$349))),IF($E14=\"3ST\",SUM(Tables!$K$328:$K$333),IF($E14=\"4ST\",SUM(Tables!$K$336:$K$341),SUM(Tables!$K$344:$K$349))))","v":1},{"$f":"+BO14","v":0.29284858813493364},{"$f":"IF(Inputs!$B$3=\"HSM\",IF($E14=\"3ST\",SUM(Tables!$H$328:$H$333),IF($E14=\"4ST\",SUM(Tables!$H$336:$H$341),SUM(Tables!$H$344:$H$349))),IF($E14=\"3ST\",SUM(Tables!$L$328:$L$333),IF($E14=\"4ST\",SUM(Tables!$L$336:$L$341),SUM(Tables!$L$344:$L$349))))","v":1},{"$f":"+BW14","v":0.47307237123396667},{"$f":"IF(Inputs!$B$3=\"HSM\",(IF($E14=\"3ST\",Tables!$E$328,(IF($E14=\"4ST\",Tables!$E$336,Tables!$E$344)))),(IF($E14=\"3ST\",Tables!$I$328,(IF($E14=\"4ST\",Tables!$I$336,Tables!$I$344)))))","v":0.05},{"$f":"+CF14*$BY14","v":4.5933019211054249E-2},{"$f":"IF(Inputs!$B$3=\"HSM\",(IF($E14=\"3ST\",Tables!$F$328,(IF($E14=\"4ST\",Tables!$F$336,Tables!$F$344)))),(IF($E14=\"3ST\",Tables!$J$328,(IF($E14=\"4ST\",Tables!$J$336,Tables!$J$344)))))","v":0.10299999999999999},{"$f":"+CH14*$CA14","v":4.5895565337673173E-2},{"$f":"IF(Inputs!$B$3=\"HSM\",(IF($E14=\"3ST\",Tables!$G$328,(IF($E14=\"4ST\",Tables!$G$336,Tables!$G$344)))),(IF($E14=\"3ST\",Tables!$K$328,(IF($E14=\"4ST\",Tables!$K$336,Tables!$K$344)))))","v":0.14599999999999999},{"$f":"+CJ14*$CC14","v":4.2755893867700311E-2},{"$f":"IF(Inputs!$B$3=\"HSM\",(IF($E14=\"3ST\",Tables!$H$328,(IF($E14=\"4ST\",Tables!$H$336,Tables!$H$344)))),(IF($E14=\"3ST\",Tables!$L$328,(IF($E14=\"4ST\",Tables!$L$336,Tables!$L$344)))))","v":2.8000000000000001E-2},{"$f":"+CL14*$CE14","v":1.3246026394551066E-2},{"$f":"IF(Inputs!$B$3=\"HSM\",(IF($E14=\"3ST\",Tables!$E$329,(IF($E14=\"4ST\",Tables!$E$337,Tables!$E$345)))),(IF($E14=\"3ST\",Tables!$I$329,(IF($E14=\"4ST\",Tables!$I$337,Tables!$I$345)))))","v":9.6000000000000002E-2},{"$f":"+CN14*$BY14","v":8.8191396885224149E-2},{"$f":"IF(Inputs!$B$3=\"HSM\",(IF($E14=\"3ST\",Tables!$F$329,(IF($E14=\"4ST\",Tables!$F$337,Tables!$F$345)))),(IF($E14=\"3ST\",Tables!$J$329,(IF($E14=\"4ST\",Tables!$J$337,Tables!$J$345)))))","v":4.9000000000000002E-2},{"$f":"+CP14*$CA14","v":2.1833812636368792E-2},{"$f":"IF(Inputs!$B$3=\"HSM\",(IF($E14=\"3ST\",Tables!$G$329,(IF($E14=\"4ST\",Tables!$G$337,Tables!$G$345)))),(IF($E14=\"3ST\",Tables!$K$329,(IF($E14=\"4ST\",Tables!$K$337,Tables!$K$345)))))","v":5.0999999999999997E-2},{"$f":"+CR14*$CC14","v":1.4935277994881615E-2},{"$f":"IF(Inputs!$B$3=\"HSM\",(IF($E14=\"3ST\",Tables!$H$329,(IF($E14=\"4ST\",Tables!$H$337,Tables!$H$345)))),(IF($E14=\"3ST\",Tables!$L$329,(IF($E14=\"4ST\",Tables!$L$337,Tables!$L$345)))))","v":0.115},{"$f":"+CT14*$CE14","v":5.4403322691906168E-2},{"$f":"IF(Inputs!$B$3=\"HSM\",(IF($E14=\"3ST\",Tables!$E$330,(IF($E14=\"4ST\",Tables!$E$338,Tables!$E$346)))),(IF($E14=\"3ST\",Tables!$I$330,(IF($E14=\"4ST\",Tables!$I$338,Tables!$I$346)))))","v":0.29299999999999998},{"$f":"+CV14*$BY14","v":0.26916749257677786},{"$f":"IF(Inputs!$B$3=\"HSM\",(IF($E14=\"3ST\",Tables!$F$330,(IF($E14=\"4ST\",Tables!$F$338,Tables!$F$346)))),(IF($E14=\"3ST\",Tables!$J$330,(IF($E14=\"4ST\",Tables!$J$338,Tables!$J$346)))))","v":0.29899999999999999},{"$f":"+CX14*$CA14","v":0.13323081588314833},{"$f":"IF(Inputs!$B$3=\"HSM\",(IF($E14=\"3ST\",Tables!$G$330,(IF($E14=\"4ST\",Tables!$G$338,Tables!$G$346)))),(IF($E14=\"3ST\",Tables!$K$330,(IF($E14=\"4ST\",Tables!$K$338,Tables!$K$346)))))","v":0.19800000000000001},{"$f":"+CZ14*$CC14","v":5.7984020450716864E-2},{"$f":"IF(Inputs!$B$3=\"HSM\",(IF($E14=\"3ST\",Tables!$H$330,(IF($E14=\"4ST\",Tables!$H$338,Tables!$H$346)))),(IF($E14=\"3ST\",Tables!$L$330,(IF($E14=\"4ST\",Tables!$L$338,Tables!$L$346)))))","v":0.29099999999999998},{"$f":"+DB14*$CE14","v":0.1376640600290843},{"$f":"IF(Inputs!$B$3=\"HSM\",(IF($E14=\"3ST\",Tables!$E$331,(IF($E14=\"4ST\",Tables!$E$339,Tables!$E$347)))),(IF($E14=\"3ST\",Tables!$I$331,(IF($E14=\"4ST\",Tables!$I$339,Tables!$I$347)))))","v":0.161},{"$f":"+DD14*$BY14","v":0.14790432185959468},{"$f":"IF(Inputs!$B$3=\"HSM\",(IF($E14=\"3ST\",Tables!$F$331,(IF($E14=\"4ST\",Tables!$F$339,Tables!$F$347)))),(IF($E14=\"3ST\",Tables!$J$331,(IF($E14=\"4ST\",Tables!$J$339,Tables!$J$347)))))","v":0.19400000000000001},{"$f":"+DF14*$CA14","v":8.6444074519500938E-2},{"$f":"IF(Inputs!$B$3=\"HSM\",(IF($E14=\"3ST\",Tables!$G$331,(IF($E14=\"4ST\",Tables!$G$339,Tables!$G$347)))),(IF($E14=\"3ST\",Tables!$K$331,(IF($E14=\"4ST\",Tables!$K$339,Tables!$K$347)))))","v":0.20599999999999999},{"$f":"+DH14*$CC14","v":6.0326809155796329E-2},{"$f":"IF(Inputs!$B$3=\"HSM\",(IF($E14=\"3ST\",Tables!$H$331,(IF($E14=\"4ST\",Tables!$H$339,Tables!$H$347)))),(IF($E14=\"3ST\",Tables!$L$331,(IF($E14=\"4ST\",Tables!$L$339,Tables!$L$347)))))","v":0.14699999999999999},{"$f":"+DJ14*$CE14","v":6.9541638571393102E-2},{"$f":"IF(Inputs!$B$3=\"HSM\",(IF($E14=\"3ST\",Tables!$E$332,(IF($E14=\"4ST\",Tables!$E$340,Tables!$E$348)))),(IF($E14=\"3ST\",Tables!$I$332,(IF($E14=\"4ST\",Tables!$I$340,Tables!$I$348)))))","v":0.307},{"$f":"+DL14*$BY14","v":0.28202873795587308},{"$f":"IF(Inputs!$B$3=\"HSM\",(IF($E14=\"3ST\",Tables!$F$332,(IF($E14=\"4ST\",Tables!$F$340,Tables!$F$348)))),(IF($E14=\"3ST\",Tables!$J$332,(IF($E14=\"4ST\",Tables!$J$340,Tables!$J$348)))))","v":0.26600000000000001},{"$f":"+DN14*$CA14","v":0.11852641145457345},{"$f":"IF(Inputs!$B$3=\"HSM\",(IF($E14=\"3ST\",Tables!$G$332,(IF($E14=\"4ST\",Tables!$G$340,Tables!$G$348)))),(IF($E14=\"3ST\",Tables!$K$332,(IF($E14=\"4ST\",Tables!$K$340,Tables!$K$348)))))","v":0.3},{"$f":"+DP14*$CC14","v":8.7854576440480087E-2},{"$f":"IF(Inputs!$B$3=\"HSM\",(IF($E14=\"3ST\",Tables!$H$332,(IF($E14=\"4ST\",Tables!$H$340,Tables!$H$348)))),(IF($E14=\"3ST\",Tables!$L$332,(IF($E14=\"4ST\",Tables!$L$340,Tables!$L$348)))))","v":0.32400000000000001},{"$f":"+DR14*$CE14","v":0.15327544827980522},{"$f":"IF(Inputs!$B$3=\"HSM\",(IF($E14=\"3ST\",Tables!$E$333,(IF($E14=\"4ST\",Tables!$E$341,Tables!$E$349)))),(IF($E14=\"3ST\",Tables!$I$333,(IF($E14=\"4ST\",Tables!$I$341,Tables!$I$349)))))","v":9.2999999999999999E-2},{"$f":"+DT14*$BY14","v":8.5435415732560888E-2},{"$f":"IF(Inputs!$B$3=\"HSM\",(IF($E14=\"3ST\",Tables!$F$333,(IF($E14=\"4ST\",Tables!$F$341,Tables!$F$349)))),(IF($E14=\"3ST\",Tables!$J$333,(IF($E14=\"4ST\",Tables!$J$341,Tables!$J$349)))))","v":8.8999999999999996E-2},{"$f":"+DV14*$CA14","v":3.9657333155853521E-2},{"$f":"IF(Inputs!$B$3=\"HSM\",(IF($E14=\"3ST\",Tables!$G$333,(IF($E14=\"4ST\",Tables!$G$341,Tables!$G$349)))),(IF($E14=\"3ST\",Tables!$K$333,(IF($E14=\"4ST\",Tables!$K$341,Tables!$K$349)))))","v":9.9000000000000005E-2},{"$f":"+DX14*$CC14","v":2.8992010225358432E-2},{"$f":"IF(Inputs!$B$3=\"HSM\",(IF($E14=\"3ST\",Tables!$H$333,(IF($E14=\"4ST\",Tables!$H$341,Tables!$H$349)))),(IF($E14=\"3ST\",Tables!$L$333,(IF($E14=\"4ST\",Tables!$L$341,Tables!$L$349)))))","v":9.5000000000000001E-2},{"$f":"+DZ14*$CE14","v":4.4941875267226837E-2},{"$f":"+BW14","v":0.47307237123396667},{"$f":"+BO14","v":0.29284858813493364},{"$f":"+BG14","v":0.4455880129871182},{"$f":"+AY14","v":0.91866038422108487}]
[]
["Urban & Suburban Segments"]
["Example 1","SH 321","MP 0.0 to MP 1.5","Anywhere, USA","5T",1.5,11000,"None",0,15,"NP","NP",0,0,0,0,0,0,0,"Posted Speed Greater than 30 mph",0,30,"N/A (1.000)","N/A (1.000)","N/A (1.000)",null,1,{"$f":"AVERAGE(INDIRECT(ADDRESS(MATCH(sYear,'Calibration Factors'!$A:$A,0),CHOOSE(MATCH(E17,{\"2U\",\"3T\",\"4U\",\"4D\",\"5T\"},0),8,4,30,10,30),,,\"Calibration Factors\")&\":\"&ADDRESS(MATCH(eYear,'Calibration Factors'!$A:$A,0),CHOOSE(MATCH(E17,{\"2U\",\"3T\",\"4U\",\"4D\",\"5T\"},0),8,4,30,10,30))))","v":0.77447219999999994},null,null,null,{"$f":"BO17","v":0.81},{"$f":"+DY17","v":0.52},{"$f":"+HC17","v":0.1},{"$f":"1/(1+AF17*BU17)","v":0.24475551411038599},{"$f":"1/(1+AG17*EE17)","v":0.57419402454800972},{"$f":"1/(1+AH17*HI17)","v":1},{"$f":"IF(AC17=0,0,AI17*BU17+((1-AI17)*AC17))","v":0},{"$f":"IF(AD17=0,0,AJ17*EE17+((1-AJ17)*AD17))","v":0},{"$f":"IF(AE17=0,0,AK17*HI17+((1-AK17)*AE17))","v":0},{"$f":"SUM(AL17:AN17)","v":0},{"$f":"IF(AC17&AD17&AE17=\"\",\"\",(AC17+AD17+AE17)-AO17)","v":""},{"$f":"AF17*BU17^2","v":11.755067782883836},{"$f":"AG17*EE17^2","v":1.0575546583052684},{"$f":"AH17*HI17^2","v":0},{"$f":"SQRT(AF17*BU17)","v":1.7566188514750065},{"$f":"SQRT(AG17*EE17)","v":0.86114551004840345},{"$f":"SQRT(AH17*HI17)","v":0},{"$f":"1+$I17*(IF($H17=\"None\",1,(IF($H17=\"Parallel (Residential)\",VLOOKUP($E17,Tables!$Y$82:$AC$86,2,FALSE),(IF($H17=\"Parallel (Comm/Ind)\",VLOOKUP($E17,Tables!$Y$82:$AC$86,3,FALSE),(IF($H17=\"Angle (Residential)\",(VLOOKUP($E17,Tables!$Y$82:$AC$86,4,FALSE)),(VLOOKUP($E17,Tables!$Y$82:$AC$86,5,FALSE)))))))))-1)","v":1},{"$f":"$BI17","v":1},{"$f":"IF(J17=\"NP\", 1, IF(E17=\"2U\",1,(IF(E17=\"4U\",1,(VLOOKUP(J17,Tables!$Y$109:$AA$119,3,FALSE))))))","v":1},{"$f":"IF($K17=\"P\",(1-($BL17*(1-(0.72*$BJ17)-(0.83*$BK17)))),1)","v":1},{"$f":"IF($L17=\"P\",0.95,1)","v":1},{"$f":"OFFSET(Tables!$AW$1,MATCH(W17,Tables!$AW:$AW,0)-1,1)","v":1},{"$f":"OFFSET(Tables!$AW$1,MATCH(X17,Tables!$AW:$AW,0)-1,1)","v":1},{"$f":"OFFSET(Tables!$AW$1,MATCH(Y17,Tables!$AW:$AW,0)-1,1)","v":1},{"$f":"IF(Z17=\"\",1,Z17)","v":1},{"$f":"$AW17*$AX17*$AY17*$AZ17*$BA17*$BB17*$BC17*$BD17*$BE17","v":1},{"$f":"POWER($V17,-0.614)*0.3566","v":4.4180323182145667E-2},{"$f":"$BG17*$U17*(IF(Inputs!$B$3=\"HSM\",(VLOOKUP($E17,Tables!$B$243:$H$247,4,FALSE)),(VLOOKUP($E17,Tables!$B$243:$H$247,6,FALSE))))+(1-(IF(Inputs!$B$3=\"HSM\",(VLOOKUP($E17,Tables!$B$243:$H$247,4,FALSE)),(VLOOKUP($E17,Tables!$B$243:$H$247,6,FALSE)))))","v":0.98399999999999999},{"$f":"IF(+BH17<1,1,BH17)","v":1},{"$f":"IF(Inputs!$B$3=\"HSM\",(VLOOKUP($E17,Tables!$B$257:$N$261,4,FALSE)),(VLOOKUP($E17,Tables!$B$257:$N$261,9,FALSE)))","v":0.432},{"$f":"IF(Inputs!$B$3=\"HSM\",(VLOOKUP($E17,Tables!$B$257:$N$261,6,FALSE)),(VLOOKUP($E17,Tables!$B$257:$N$261,11,FALSE)))","v":0.56799999999999995},{"$f":"IF(Inputs!$B$3=\"HSM\",(VLOOKUP($E17,Tables!$B$257:$N$261,7,FALSE)),(VLOOKUP($E17,Tables!$B$257:$N$261,12,FALSE)))","v":0.27400000000000002},{"$f":"VLOOKUP($E17,Tables!$Y$185:$AB$189,2, FALSE)","v":-9.6999999999999993},{"$f":"VLOOKUP($E17,Tables!$Y$185:$AB$189,3, FALSE)","v":1.17},{"$f":"VLOOKUP($E17,Tables!$Y$185:$AB$189,4, FALSE)","v":0.81},{"$f":"EXP($BM17+($BN17*LN($G17))+LN($F17))","v":4.9188573307936547},1,{"$f":"BP17*BQ17","v":4.9188573307936547},{"$f":"+BF17","v":1},{"$f":"IF(Inputs!$B$3<>\"HSM\",$AB17,$AA17)","v":0.77447219999999994},{"$f":"+BR17*BS17*BT17","v":3.8095182584658893},{"$f":"VLOOKUP($E17,Tables!$Y$191:$AB$195,2, FALSE)","v":-10.47},{"$f":"VLOOKUP($E17,Tables!$Y$191:$AB$195,3, FALSE)","v":1.1200000000000001},{"$f":"VLOOKUP($E17,Tables!$Y$191:$AB$195,4, FALSE)","v":0.62},{"$f":"EXP($BV17+($BW17*LN($G17))+LN($F17))","v":1.4301705831911757},{"$f":"BY17/(BY17+CH17)","v":0.27582179242722221},{"$f":"BP17*BZ17","v":1.3567280456732878},{"$f":"+BF17","v":1},{"$f":"IF(Inputs!$B$3<>\"HSM\",$AB17,$AA17)","v":0.77447219999999994},{"$f":"+CA17*CB17*CC17","v":1.0507481543342916},{"$f":"VLOOKUP(E17,Tables!$Y$197:$AB$201,2, FALSE)","v":-9.9700000000000006},{"$f":"VLOOKUP(E17,Tables!$Y$197:$AB$201,3, FALSE)","v":1.17},{"$f":"VLOOKUP(E17,Tables!$Y$197:$AB$201,4, FALSE)","v":0.88},{"$f":"EXP($CE17+($CF17*LN(G17))+LN(F17))","v":3.7549548218963782},{"$f":"BQ17-BZ17","v":0.72417820757277784},{"$f":"BP17*CI17","v":3.5621292851203674},{"$f":"+BF17","v":1},{"$f":"IF(Inputs!$B$3<>\"HSM\",$AB17,$AA17)","v":0.77447219999999994},{"$f":"+CJ17*CK17*CL17","v":2.7587701041315982},1,{"$f":"+CD17","v":1.0507481543342916},1,{"$f":"+CM17","v":2.7587701041315982},{"$f":"+BU17","v":3.8095182584658893},{"$f":"IF(Inputs!$B$3=\"HSM\", HLOOKUP($E17,Tables!$D$165:$M$172,3,FALSE),HLOOKUP($E17,Tables!$D$175:$M$182,3,FALSE))","v":0.48399999999999999},{"$f":"+$CO17*$CS17","v":0.50856210669779711},{"$f":"IF(Inputs!$B$3=\"HSM\",IF($E17=\"2U\",Tables!$E$167,IF($E17=\"3T\",Tables!$G$167,IF($E17=\"4U\",Tables!$I$167,IF($E17=\"4D\",Tables!$K$167,Tables!$M$167)))),IF($E17=\"2U\",Tables!$E$177,IF($E17=\"3T\",Tables!$G$177,IF($E17=\"4U\",Tables!$I$177,IF($E17=\"4D\",Tables!$K$177,Tables!$M$177)))))","v":0.51500000000000001},{"$f":"+$CQ17*CU17","v":1.4207666036277731},{"$f":"+CT17+CV17","v":1.9293287103255703},{"$f":"IF(Inputs!$B$3=\"HSM\", HLOOKUP($E17,Tables!$D$165:$M$172,4,FALSE),HLOOKUP($E17,Tables!$D$175:$M$182,4,FALSE))","v":0.13400000000000001},{"$f":"+$CO17*$CX17","v":0.14080025268079507},{"$f":"IF(Inputs!$B$3=\"HSM\",IF($E17=\"2U\",Tables!$E$168,IF($E17=\"3T\",Tables!$G$168,IF($E17=\"4U\",Tables!$I$168,IF($E17=\"4D\",Tables!$K$168,Tables!$M$168)))),IF($E17=\"2U\",Tables!$E$178,IF($E17=\"3T\",Tables!$G$178,IF($E17=\"4U\",Tables!$I$178,IF($E17=\"4D\",Tables!$K$178,Tables!$M$178)))))","v":4.9000000000000002E-2},{"$f":"+$CQ17*CZ17","v":0.13517973510244832},{"$f":"+CY17+DA17","v":0.2759799877832434},{"$f":"IF(Inputs!$B$3=\"HSM\", HLOOKUP($E17,Tables!$D$165:$M$172,5,FALSE),HLOOKUP($E17,Tables!$D$175:$M$182,5,FALSE))","v":0.29399999999999998},{"$f":"+$CO17*$DC17","v":0.30891995737428168},{"$f":"IF(Inputs!$B$3=\"HSM\",IF($E17=\"2U\",Tables!$E$169,IF($E17=\"3T\",Tables!$G$169,IF($E17=\"4U\",Tables!$I$169,IF($E17=\"4D\",Tables!$K$169,Tables!$M$169)))),IF($E17=\"2U\",Tables!$E$179,IF($E17=\"3T\",Tables!$G$179,IF($E17=\"4U\",Tables!$I$179,IF($E17=\"4D\",Tables!$K$179,Tables!$M$179)))))","v":0.19400000000000001},{"$f":"+$CQ17*DE17","v":0.53520140020153006},{"$f":"+DD17+DF17","v":0.84412135757581175},{"$f":"IF(Inputs!$B$3=\"HSM\", HLOOKUP($E17,Tables!$D$165:$M$172,6,FALSE),HLOOKUP($E17,Tables!$D$175:$M$182,6,FALSE))","v":4.2000000000000003E-2},{"$f":"+$CO17*$DH17","v":4.4131422482040251E-2},{"$f":"IF(Inputs!$B$3=\"HSM\",IF($E17=\"2U\",Tables!$E$170,IF($E17=\"3T\",Tables!$G$170,IF($E17=\"4U\",Tables!$I$170,IF($E17=\"4D\",Tables!$K$170,Tables!$M$170)))),IF($E17=\"2U\",Tables!$E$180,IF($E17=\"3T\",Tables!$G$180,IF($E17=\"4U\",Tables!$I$180,IF($E17=\"4D\",Tables!$K$180,Tables!$M$180)))))","v":0.185},{"$f":"+$CQ17*DJ17","v":0.51037246926434565},{"$f":"+DI17+DK17","v":0.55450389174638592},{"$f":"IF(Inputs!$B$3=\"HSM\", HLOOKUP($E17,Tables!$D$165:$M$172,7,FALSE),HLOOKUP($E17,Tables!$D$175:$M$182,7,FALSE))","v":1.4999999999999999E-2},{"$f":"+$CO17*$DM17","v":1.5761222315014374E-2},{"$f":"IF(Inputs!$B$3=\"HSM\",IF($E17=\"2U\",Tables!$E$171,IF($E17=\"3T\",Tables!$G$171,IF($E17=\"4U\",Tables!$I$171,IF($E17=\"4D\",Tables!$K$171,Tables!$M$171)))),IF($E17=\"2U\",Tables!$E$181,IF($E17=\"3T\",Tables!$G$181,IF($E17=\"4U\",Tables!$I$181,IF($E17=\"4D\",Tables!$K$181,Tables!$M$181)))))","v":2.1999999999999999E-2},{"$f":"+$CQ17*DO17","v":6.0692942290895155E-2},{"$f":"+DN17+DP17","v":7.6454164605909536E-2},{"$f":"IF(Inputs!$B$3=\"HSM\", HLOOKUP($E17,Tables!$D$165:$M$172,8,FALSE),HLOOKUP($E17,Tables!$D$175:$M$182,8,FALSE))","v":3.1E-2},{"$f":"+$CO17*$DR17","v":3.2573192784363041E-2},{"$f":"IF(Inputs!$B$3=\"HSM\",IF($E17=\"2U\",Tables!$E$172,IF($E17=\"3T\",Tables!$G$172,IF($E17=\"4U\",Tables!$I$172,IF($E17=\"4D\",Tables!$K$172,Tables!$M$172)))),IF($E17=\"2U\",Tables!$E$182,IF($E17=\"3T\",Tables!$G$182,IF($E17=\"4U\",Tables!$I$182,IF($E17=\"4D\",Tables!$K$182,Tables!$M$182)))))","v":3.5000000000000003E-2},{"$f":"+$CQ17*DT17","v":9.6556953644605939E-2},{"$f":"+DS17+DU17","v":0.12913014642896897},{"$f":"VLOOKUP($E17,Tables!$Y$209:$AB$213,2, FALSE)","v":-4.82},{"$f":"VLOOKUP($E17,Tables!$Y$209:$AB$213,3, FALSE)","v":0.54},{"$f":"VLOOKUP($E17,Tables!$Y$209:$AB$213,4, FALSE)","v":0.52},{"$f":"EXP($DW17+($DX17*LN($G17))+LN($F17))","v":1.8413820541677013},1,{"$f":"$DZ17*EA17","v":1.8413820541677013},{"$f":"+BF17","v":1},{"$f":"IF(Inputs!$B$3<>\"HSM\",$AB17,$AA17)","v":0.77447219999999994},{"$f":"+EB17*EC17*ED17","v":1.4260992105317787},{"$f":"VLOOKUP($E17,Tables!$Y$215:$AB$219,2, FALSE)","v":-4.43},{"$f":"VLOOKUP($E17,Tables!$Y$215:$AB$219,3, FALSE)","v":0.35},{"$f":"VLOOKUP($E17,Tables!$Y$215:$AB$219,4, FALSE)","v":0.36},{"$f":"EXP($EF17+($EG17*LN($G17))+LN($F17))","v":0.46414549979400882},{"$f":"EI17/(EI17+ER17)","v":0.26513081784910397},{"$f":"$DZ17*EJ17","v":0.48820712999414573},{"$f":"+BF17","v":1},{"$f":"IF(Inputs!$B$3<>\"HSM\",$AB17,$AA17)","v":0.77447219999999994},{"$f":"+EK17*EL17*EM17","v":0.37810285002225202},{"$f":"VLOOKUP($E17,Tables!$Y$221:$AB$225,2, FALSE)","v":-5.83},{"$f":"VLOOKUP($E17,Tables!$Y$221:$AB$225,3, FALSE)","v":0.61},{"$f":"VLOOKUP($E17,Tables!$Y$221:$AB$225,4, FALSE)","v":0.55000000000000004},{"$f":"EXP($EO17+($EP17*LN($G17))+LN($F17))","v":1.2864827506652481},{"$f":"EA17-EJ17","v":0.73486918215089603},{"$f":"$DZ17*ES17","v":1.3531749241735556},{"$f":"+BF17","v":1},{"$f":"IF(Inputs!$B$3<>\"HSM\",$AB17,$AA17)","v":0.77447219999999994},{"$f":"+ET17*EU17*EV17","v":1.0479963605095266},1,{"$f":"+EN17","v":0.37810285002225202},1,{"$f":"+EW17","v":1.0479963605095266},{"$f":"+EE17","v":1.4260992105317787},{"$f":"IF(Inputs!$B$3=\"HSM\", HLOOKUP($E17,Tables!$D$190:$M$195,3,FALSE),HLOOKUP($E17,Tables!$D$198:$M$203,3,FALSE))","v":6.0999999999999999E-2},{"$f":"+$EY17*$FC17","v":2.3064273851357373E-2},{"$f":"IF(Inputs!$B$3=\"HSM\",IF($E17=\"2U\",Tables!$E$192,IF($E17=\"3T\",Tables!$G$192,IF($E17=\"4U\",Tables!$I$192,IF($E17=\"4D\",Tables!$K$192,Tables!$M$192)))),IF($E17=\"2U\",Tables!$E$200,IF($E17=\"3T\",Tables!$G$200,IF($E17=\"4U\",Tables!$I$200,IF($E17=\"4D\",Tables!$K$200,Tables!$M$200)))))","v":0.45700000000000002},{"$f":"+$FA17*FE17","v":0.47893433675285368},{"$f":"+FD17+FF17","v":0.50199861060421103},{"$f":"IF(Inputs!$B$3=\"HSM\", HLOOKUP($E17,Tables!$D$190:$M$195,4,FALSE),HLOOKUP($E17,Tables!$D$198:$M$203,4,FALSE))","v":0.66600000000000004},{"$f":"+$EY17*$FH17","v":0.25181649811481988},{"$f":"IF(Inputs!$B$3=\"HSM\",IF($E17=\"2U\",Tables!$E$193,IF($E17=\"3T\",Tables!$G$193,IF($E17=\"4U\",Tables!$I$193,IF($E17=\"4D\",Tables!$K$193,Tables!$M$193)))),IF($E17=\"2U\",Tables!$E$201,IF($E17=\"3T\",Tables!$G$201,IF($E17=\"4U\",Tables!$I$201,IF($E17=\"4D\",Tables!$K$201,Tables!$M$201)))))","v":0.41499999999999998},{"$f":"+$FA17*FJ17","v":0.43491848961145352},{"$f":"+FI17+FK17","v":0.68673498772627339},{"$f":"IF(Inputs!$B$3=\"HSM\", HLOOKUP($E17,Tables!$D$190:$M$195,5,FALSE),HLOOKUP($E17,Tables!$D$198:$M$203,5,FALSE))","v":1.7000000000000001E-2},{"$f":"+$EY17*$FM17","v":6.4277484503782846E-3},{"$f":"IF(Inputs!$B$3=\"HSM\",IF($E17=\"2U\",Tables!$E$194,IF($E17=\"3T\",Tables!$G$194,IF($E17=\"4U\",Tables!$I$194,IF($E17=\"4D\",Tables!$K$194,Tables!$M$194)))),IF($E17=\"2U\",Tables!$E$202,IF($E17=\"3T\",Tables!$G$202,IF($E17=\"4U\",Tables!$I$202,IF($E17=\"4D\",Tables!$K$202,Tables!$M$202)))))","v":5.6000000000000001E-2},{"$f":"+$FA17*FO17","v":5.8687796188533488E-2},{"$f":"+FN17+FP17","v":6.5115544638911768E-2},{"$f":"IF(Inputs!$B$3=\"HSM\", HLOOKUP($E17,Tables!$D$190:$M$195,6,FALSE),HLOOKUP($E17,Tables!$D$198:$M$203,6,FALSE))","v":0.25700000000000001},{"$f":"+$EY17*$FR17","v":9.7172432455718771E-2},{"$f":"IF(Inputs!$B$3=\"HSM\",IF($E17=\"2U\",Tables!$E$195,IF($E17=\"3T\",Tables!$G$195,IF($E17=\"4U\",Tables!$I$195,IF($E17=\"4D\",Tables!$K$195,Tables!$M$195)))),IF($E17=\"2U\",Tables!$E$203,IF($E17=\"3T\",Tables!$G$203,IF($E17=\"4U\",Tables!$I$203,IF($E17=\"4D\",Tables!$K$203,Tables!$M$203)))))","v":7.0999999999999994E-2},{"$f":"+$FA17*FT17","v":7.4407741596176386E-2},{"$f":"+FS17+FU17","v":0.17158017405189516},{"$f":"+M17","v":0},{"$f":"HLOOKUP(E17,Tables!$AA$230:$AE$238,3,FALSE)","v":0.16500000000000001},{"$f":"HLOOKUP(E17,Tables!$AA$230:$AE$246,11,FALSE)","v":1.1719999999999999},{"$f":"POWER((G17/15000),FY17)*FW17*FX17","v":0},{"$f":"+N17","v":0},{"$f":"HLOOKUP(E17,Tables!$AA$230:$AE$238,4,FALSE)","v":5.2999999999999999E-2},{"$f":"HLOOKUP(E17,Tables!$AA$230:$AE$246,11,FALSE)","v":1.1719999999999999},{"$f":"POWER((G17/15000),GC17)*GA17*GB17","v":0},{"$f":"+O17","v":0},{"$f":"HLOOKUP(E17,Tables!$AA$230:$AE$238,5,FALSE)","v":0.18099999999999999},{"$f":"HLOOKUP(E17,Tables!$AA$230:$AE$246,11,FALSE)","v":1.1719999999999999},{"$f":"POWER((G17/15000),GG17)*GE17*GF17","v":0},{"$f":"+P17","v":0},{"$f":"HLOOKUP(E17,Tables!$AA$230:$AE$238,6,FALSE)","v":2.4E-2},{"$f":"HLOOKUP(E17,Tables!$AA$230:$AE$246,11,FALSE)","v":1.1719999999999999},{"$f":"POWER((G17/15000),GK17)*GI17*GJ17","v":0},{"$f":"+Q17","v":0},{"$f":"HLOOKUP(E17,Tables!$AA$230:$AE$238,7,FALSE)","v":8.6999999999999994E-2},{"$f":"HLOOKUP(E17,Tables!$AA$230:$AE$246,11,FALSE)","v":1.1719999999999999},{"$f":"POWER((G17/15000),GO17)*GM17*GN17","v":0},{"$f":"+R17","v":0},{"$f":"HLOOKUP(E17,Tables!$AA$230:$AE$238,8,FALSE)","v":1.6E-2},{"$f":"HLOOKUP(E17,Tables!$AA$230:$AE$246,11,FALSE)","v":1.1719999999999999},{"$f":"POWER((G17/15000),GS17)*GQ17*GR17","v":0},{"$f":"+S17","v":0},{"$f":"HLOOKUP(E17,Tables!$AA$230:$AE$238,9,FALSE)","v":2.7E-2},{"$f":"HLOOKUP(E17,Tables!$AA$230:$AE$246,11,FALSE)","v":1.1719999999999999},{"$f":"POWER((G17/15000),GW17)*GU17*GV17","v":0},"--","--","--",{"$f":"+FZ17+GD17+GH17+GL17+GP17+GT17+GX17","v":0},{"$f":"HLOOKUP(E17,Tables!$AA$230:$AE$246,13,FALSE)","v":0.1},{"$f":"+HB17","v":0},1,{"$f":"+$HD17*HE17","v":0},{"$f":"+BF17","v":1},{"$f":"IF(Inputs!$B$3<>\"HSM\",$AB17,$AA17)","v":0.77447219999999994},{"$f":"+HF17*HG17*HH17","v":0},"--",{"$f":"HLOOKUP(E17,Tables!$AA$230:$AE$246,15,FALSE)","v":0.26900000000000002},{"$f":"+$HD17*HK17","v":0},{"$f":"+BF17","v":1},{"$f":"IF(Inputs!$B$3<>\"HSM\",$AB17,$AA17)","v":0.77447219999999994},{"$f":"+HL17*HM17*HN17","v":0},"--",{"$f":"HLOOKUP(E17,Tables!$AA$230:$AE$246,17,FALSE)","v":0.73099999999999998},{"$f":"+$HD17*HQ17","v":0},{"$f":"+BF17","v":1},{"$f":"IF(Inputs!$B$3<>\"HSM\",$AB17,$AA17)","v":0.77447219999999994},{"$f":"+HR17*HS17*HT17","v":0},{"$f":"+BU17","v":3.8095182584658893},{"$f":"+EE17","v":1.4260992105317787},{"$f":"+HI17","v":0},{"$f":"+HV17+HW17+HX17","v":5.2356174689976678},{"$f":"IF(Inputs!$B$3=\"HSM\", (IF($T17=\"Posted Speed 30 mph or Lower\",VLOOKUP($E17,Tables!$B$212:$K$216,3,FALSE),VLOOKUP($E17,Tables!$B$212:$K$216,5,FALSE))),(IF($T17=\"Posted Speed 30 mph or Lower\", VLOOKUP($E17,Tables!$B$212:$K$216,7,FALSE),VLOOKUP($E17,Tables!$B$212:$K$216,9,FALSE))))","v":2.3E-2},{"$f":"IF(Inputs!$B$3<>\"HSM\",$AB17,$AA17)","v":0.77447219999999994},{"$f":"+$HY17*$HZ17*$IA17","v":9.3261324130180276E-2},"--","--","--","--","--",{"$f":"IF(Inputs!$B$3<>\"HSM\",$AB17,$AA17)","v":0.77447219999999994},{"$f":"+$HY17*$HZ17*$IA17","v":9.3261324130180276E-2},{"$f":"+BU17","v":3.8095182584658893},{"$f":"+EE17","v":1.4260992105317787},{"$f":"+HI17","v":0},{"$f":"+IJ17+IK17+IL17","v":5.2356174689976678},{"$f":"IF(Inputs!$B$3=\"HSM\", (IF($T17=\"Posted Speed 30 mph or Lower\",VLOOKUP($E17,Tables!$B$227:$K$231,3,FALSE),VLOOKUP($E17,Tables!$B$227:$K$231,5,FALSE))),(IF($T17=\"Posted Speed 30 mph or Lower\", VLOOKUP($E17,Tables!$B$227:$K$231,7,FALSE),VLOOKUP($E17,Tables!$B$227:$K$231,9,FALSE))))","v":1.2E-2},{"$f":"IF(Inputs!$B$3<>\"HSM\",$AB17,$AA17)","v":0.77447219999999994},{"$f":"+$IM17*$IN17*$IO17","v":4.8658082154876658E-2},"--","--","--","--","--",{"$f":"IF(Inputs!$B$3<>\"HSM\",$AB17,$AA17)","v":0.77447219999999994},{"$f":"+$IM17*$IN17*$IO17","v":4.8658082154876658E-2},{"$f":"+CT17","v":0.50856210669779711},{"$f":"+CY17","v":0.14080025268079507},{"$f":"+DD17","v":0.30891995737428168},{"$f":"+DI17","v":4.4131422482040251E-2},{"$f":"+DN17","v":1.5761222315014374E-2},{"$f":"+HO17","v":0},{"$f":"+DS17","v":3.2573192784363041E-2},{"$f":"SUM(IX17:JD17)","v":1.0507481543342916},{"$f":"+FD17","v":2.3064273851357373E-2},{"$f":"+FI17","v":0.25181649811481988},{"$f":"+FN17","v":6.4277484503782846E-3},{"$f":"+FS17","v":9.7172432455718771E-2},{"$f":"+II17","v":9.3261324130180276E-2},{"$f":"+IW17","v":4.8658082154876658E-2},{"$f":"SUM(JF17:JK17)","v":0.52040035915733129},{"$f":"+JE17+JL17","v":1.571148513491623},{"$f":"+CV17","v":1.4207666036277731},{"$f":"+DA17","v":0.13517973510244832},{"$f":"+DF17","v":0.53520140020153006},{"$f":"+DK17","v":0.51037246926434565},{"$f":"+DP17","v":6.0692942290895155E-2},{"$f":"+HU17","v":0},{"$f":"+DU17","v":9.6556953644605939E-2},{"$f":"SUM(JN17:JT17)","v":2.7587701041315986},{"$f":"+FF17","v":0.47893433675285368},{"$f":"+FK17","v":0.43491848961145352},{"$f":"+FP17","v":5.8687796188533488E-2},{"$f":"+FU17","v":7.4407741596176386E-2},0,0,{"$f":"SUM(JV17:KA17)","v":1.0469483641490172},{"$f":"+JU17+KB17","v":3.8057184682806158},{"$f":"+CW17","v":1.9293287103255703},{"$f":"+DB17","v":0.2759799877832434},{"$f":"+DG17","v":0.84412135757581175},{"$f":"+DL17","v":0.55450389174638592},{"$f":"+DQ17","v":7.6454164605909536E-2},{"$f":"+HI17","v":0},{"$f":"+DV17","v":0.12913014642896897},{"$f":"SUM(KD17:KJ17)","v":3.8095182584658902},{"$f":"+FG17","v":0.50199861060421103},{"$f":"+FL17","v":0.68673498772627339},{"$f":"+FQ17","v":6.5115544638911768E-2},{"$f":"+FV17","v":0.17158017405189516},{"$f":"+IB17","v":9.3261324130180276E-2},{"$f":"+IP17","v":4.8658082154876658E-2},{"$f":"SUM(KL17:KQ17)","v":1.5673487233063481},{"$f":"+KK17+KR17","v":5.3768669817722383},{"$f":"+KC17","v":3.8057184682806158},{"$f":"+F17","v":1.5},{"$f":"+KT17/KU17","v":2.5371456455204107},{"$f":"+JM17","v":1.571148513491623},{"$f":"+F17","v":1.5},{"$f":"+KW17/KX17","v":1.0474323423277487},{"$f":"+KS17","v":5.3768669817722383},{"$f":"+F17","v":1.5},{"$f":"+KZ17/LA17","v":3.5845779878481587}]
[]
["Urban and Suburban Intersections"]
["Example 1","SH-321","3rd Avenue","Anywhere, USA","4ST",6200,1200,"NP","N/A (1.000)","N/A (1.000)","N/A (1.000)",null,1,{"$f":"AVERAGE(INDIRECT(ADDRESS(MATCH(sYear,'Calibration Factors'!$A:$A,0),CHOOSE(MATCH(E20,{\"3ST\",\"3SG\",\"4ST\",\"4SG\"},0),22,24,26,28),,,\"Calibration Factors\")&\":\"&ADDRESS(MATCH(eYear,'Calibration Factors'!$A:$A,0),CHOOSE(MATCH(E20,{\"3ST\",\"3SG\",\"4ST\",\"4SG\"},0),22,24,26,28))))","v":1.503261},0,0,0,0,0,"N/A","N/A","N/A","N/A",0,"NP",1,0,0,"NP",0,null,null,{"$f":"IF(AE20=0,0,BY20)","v":0},{"$f":"IF(AF20=0,0,EG20)","v":0},{"$f":"1/(1+AG20*JX20)","v":1},{"$f":"1/(1+AH20*EM20)","v":1},{"$f":"IF(AE20=0,0,AI20*JX20+((1-AI20)*AE20))","v":0},{"$f":"IF(AF20=0,0,AJ20*EM20+((1-AJ20)*AF20))","v":0},{"$f":"AK20+AL20","v":0},{"$f":"IF(AE20&AF20=\"\",\"\",(AE20+AF20)-AM20)","v":""},{"$f":"AK20*JX20^2","v":0},{"$f":"AL20*EM20^2","v":0},{"$f":"SQRT(AK20*JX20)","v":0},{"$f":"SQRT(AL20*EM20)","v":0},{"$f":"IF(S20>0,IF(E20=\"3ST\",1,IF(E20=\"4ST\",1,IF(T20=\"Permissive\",1,IF(T20=\"Protected\",0.94,0.99)))),1)","v":1},{"$f":"IF(S20>1,IF(E20=\"3ST\",1,IF(E20=\"4ST\",1,IF(U20=\"Permissive\",1,IF(U20=\"Protected\",0.94,0.99)))),1)","v":1},{"$f":"IF(S20>2,IF(E20=\"3ST\",1,IF(E20=\"4ST\",1,IF(V20=\"Permissive\",1,IF(V20=\"Protected\",0.94,0.99)))),1)","v":1},{"$f":"IF(S20>3,IF(E20=\"3ST\",1,IF(E20=\"4ST\",1,IF(W20=\"Permissive\",1,IF(W20=\"Protected\",0.94,0.99)))),1)","v":1},{"$f":"AS20*AT20*AU20*AV20","v":1},{"$f":"IF(Inputs!$B$3=\"HSM\",(IF($E20=\"3ST\",Tables!$D$110,IF($E20=\"3SG\",Tables!$F$110,IF($E20=\"4ST\",Tables!$H$110,Tables!$J$110)))),(IF($E20=\"3ST\",Tables!$D$119,IF($E20=\"3SG\",Tables!$F$119,IF($E20=\"4ST\",Tables!$H$119,Tables!$J$119)))))","v":0.44600000000000001},{"$f":"IF(Inputs!$B$3=\"HSM\",(IF($E20=\"3ST\",Tables!$E$110,IF($E20=\"3SG\",Tables!$G$110,IF($E20=\"4ST\",Tables!$I$110,Tables!$K$110)))),(IF($E20=\"3ST\",Tables!$E$119,IF($E20=\"3SG\",Tables!$G$119,IF($E20=\"4ST\",Tables!$I$119,Tables!$K$119)))))","v":0.28499999999999998},{"$f":"+CL20","v":0.3572238202351577},{"$f":"+CV20","v":0.67633597675743695},{"$f":"+EJ20","v":0.20239576387363911},{"$f":"((+AX20*CL20)+(+AY20*CV20))/(+CL20+CV20+EH20)","v":0.28486265068785499},{"$f":"IF(Inputs!$B$3=\"HSM\",(IF($E20=\"3ST\",Tables!$D$108,IF($E20=\"3SG\",Tables!$F$108,IF($E20=\"4ST\",Tables!$H$108,Tables!$J$108)))),(IF($E20=\"3ST\",Tables!$D$117,IF($E20=\"3SG\",Tables!$F$117,IF($E20=\"4ST\",Tables!$H$117,Tables!$J$117)))))","v":0.33800000000000002},{"$f":"IF(Inputs!$B$3=\"HSM\",(IF($E20=\"3ST\",Tables!$E$108,IF($E20=\"3SG\",Tables!$G$108,IF($E20=\"4ST\",Tables!$I$108,Tables!$K$108)))),(IF($E20=\"3ST\",Tables!$E$117,IF($E20=\"3SG\",Tables!$G$117,IF($E20=\"4ST\",Tables!$I$117,Tables!$K$117)))))","v":0.36099999999999999},{"$f":"+CL20","v":0.3572238202351577},{"$f":"+CV20","v":0.67633597675743695},{"$f":"+EJ20","v":0.20239576387363911},{"$f":"((+BD20*BF20)+(+BE20*BG20))/(+BF20+BG20+BH20)","v":0.29523629360361014},{"$f":"1-(BC20*(1-0.74))-(BI20*(1-1.18))","v":0.97907824366980745},{"$f":"IF(E20=\"3ST\",IF(O20=0,1,IF(O20=1,Tables!$AB$53,Tables!$AC$53)),IF(E20=\"4ST\",IF(O20=0,1,IF(O20=1,Tables!$AB$55,Tables!$AC$55)),IF(Q20=0,1,IF(Q20=1,VLOOKUP(E20,Tables!$Y$54:$AE$56,4,FALSE),IF(Q20=2,VLOOKUP(E20,Tables!$Y$54:$AE$56,5,FALSE),IF(Q20=3,VLOOKUP(E20,Tables!$Y$54:$AE$56,6,FALSE),VLOOKUP(E20,Tables!$Y$54:$AE$56,7,FALSE)))))))","v":1},{"$f":"IF($E20=\"3ST\",1,IF($E20=\"4ST\",1,AW20))","v":1},{"$f":"IF(E20=\"3ST\",POWER(0.86,P20),IF(E20=\"4ST\",POWER(0.86,P20),POWER(0.96,R20)))","v":1},{"$f":"IF($E20=\"3ST\",1,IF($E20=\"4ST\",1,POWER(0.98,$X20)))","v":1},{"$f":"IF($H20=\"NP\",1,(1-(IF(Inputs!$B$3=\"HSM\",VLOOKUP($E20,Tables!$B$155:$G$158,3,FALSE),VLOOKUP($E20,Tables!$B$155:$G$158,5,FALSE)))*0.38))","v":1},{"$f":"IF($Y20=\"NP\",1,$BJ20)","v":1},{"$f":"OFFSET(Tables!$AY$1,MATCH(I20,Tables!$AY:$AY,0)-1,1)","v":1},{"$f":"OFFSET(Tables!$AY$1,MATCH(J20,Tables!$AY:$AY,0)-1,1)","v":1},{"$f":"OFFSET(Tables!$AY$1,MATCH(K20,Tables!$AY:$AY,0)-1,1)","v":1},{"$f":"IF(L20=\"\",1,L20)","v":1},{"$f":"+BK20*BL20*BM20*BN20*BO20*BP20*BQ20*BR20*BS20*BT20","v":1},{"$f":"VLOOKUP($E20,Tables!$Y$130:$AC$133,2,FALSE)","v":-8.9},{"$f":"VLOOKUP($E20,Tables!$Y$130:$AC$133,3,FALSE)","v":0.82},{"$f":"VLOOKUP($E20,Tables!$Y$130:$AC$133,4,FALSE)","v":0.25},{"$f":"VLOOKUP($E20,Tables!$Y$130:$AC$133,5,FALSE)","v":0.4},{"$f":"EXP(BV20+(BW20*LN($F20))+(BX20*LN($G20)))","v":1.0335597969925947},1,{"$f":"BZ20*CA20","v":1.0335597969925947},{"$f":"+BU20","v":1},{"$f":"IF(Inputs!$B$3<>\"HSM\",$N20,$M20)","v":1.503261},{"$f":"CB20*CC20*CD20","v":1.5537101339868848},{"$f":"VLOOKUP($E20,Tables!$Y$135:$AC$138,2,FALSE)","v":-11.13},{"$f":"VLOOKUP($E20,Tables!$Y$135:$AC$138,3,FALSE)","v":0.93},{"$f":"VLOOKUP($E20,Tables!$Y$135:$AC$138,4,FALSE)","v":0.28000000000000003},{"$f":"VLOOKUP($E20,Tables!$Y$135:$AC$138,5,FALSE)","v":0.48},{"$f":"EXP(CF20+(CG20*LN($F20))+(CH20*LN($G20)))","v":0.35925054573750886},{"$f":"+CJ20/(CJ20+CT20)","v":0.34562472464059779},{"$f":"BZ20*CK20","v":0.3572238202351577},{"$f":"+BU20","v":1},{"$f":"IF(Inputs!$B$3<>\"HSM\",$N20,$M20)","v":1.503261},{"$f":"CL20*CM20*CN20","v":0.53700063723052338},{"$f":"VLOOKUP($E20,Tables!$Y$140:$AC$143,2,FALSE)","v":-8.74},{"$f":"VLOOKUP($E20,Tables!$Y$140:$AC$143,3,FALSE)","v":0.77},{"$f":"VLOOKUP($E20,Tables!$Y$140:$AC$143,4,FALSE)","v":0.23},{"$f":"VLOOKUP($E20,Tables!$Y$140:$AC$143,5,FALSE)","v":0.4},{"$f":"EXP(CP20+(CQ20*LN($F20))+(CR20*LN($G20)))","v":0.68017319951416577},{"$f":"CA20-CK20","v":0.65437527535940221},{"$f":"BZ20*CU20","v":0.67633597675743695},{"$f":"+BU20","v":1},{"$f":"IF(Inputs!$B$3<>\"HSM\",$N20,$M20)","v":1.503261},{"$f":"CV20*CW20*CX20","v":1.0167094967563615},1,{"$f":"CO20","v":0.53700063723052338},1,{"$f":"CY20","v":1.0167094967563615},{"$f":"CE20","v":1.5537101339868848},{"$f":"IF(Inputs!$B$3=\"HSM\", HLOOKUP($E20,Tables!$B$106:$K$112,3,FALSE),HLOOKUP($E20,Tables!$B$115:$K$121,3,FALSE))","v":0.33800000000000002},{"$f":"+DE20*$CO20","v":0.18150621538391692},{"$f":"IF(Inputs!$B$3=\"HSM\",IF(E20=\"3ST\",Tables!$E$108,IF(E20=\"3SG\",Tables!$G$108,IF(E20=\"4ST\",Tables!$I$108,Tables!$K$108))),IF(E20=\"3ST\",Tables!$E$117,IF(E20=\"3SG\",Tables!$G$117,IF(E20=\"4ST\",Tables!$I$117,Tables!$K$117))))","v":0.36099999999999999},{"$f":"+DG20*$CY20","v":0.36703212832904647},{"$f":"+DF20+DH20","v":0.54853834371296339},{"$f":"IF(Inputs!$B$3=\"HSM\", HLOOKUP($E20,Tables!$B$106:$K$112,4,FALSE),HLOOKUP($E20,Tables!$B$115:$K$121,4,FALSE))","v":8.5999999999999993E-2},{"$f":"+DJ20*$CO20","v":4.6182054801825009E-2},{"$f":"IF(Inputs!$B$3=\"HSM\",IF(E20=\"3ST\",Tables!$E$109,IF(E20=\"3SG\",Tables!$G$109,IF(E20=\"4ST\",Tables!$I$109,Tables!$K$109))),IF(E20=\"3ST\",Tables!$E$118,IF(E20=\"3SG\",Tables!$G$118,IF(E20=\"4ST\",Tables!$I$118,Tables!$K$118))))","v":3.4000000000000002E-2},{"$f":"+DL20*$CY20","v":3.4568122889716293E-2},{"$f":"+DK20+DM20","v":8.0750177691541303E-2},{"$f":"IF(Inputs!$B$3=\"HSM\", HLOOKUP($E20,Tables!$B$106:$K$112,5,FALSE),HLOOKUP($E20,Tables!$B$115:$K$121,5,FALSE))","v":0.44600000000000001},{"$f":"+DO20*$CO20","v":0.23950228420481343},{"$f":"IF(Inputs!$B$3=\"HSM\",IF(E20=\"3ST\",Tables!$E$110,IF(E20=\"3SG\",Tables!$G$110,IF(E20=\"4ST\",Tables!$I$110,Tables!$K$110))),IF(E20=\"3ST\",Tables!$E$119,IF(E20=\"3SG\",Tables!$G$119,IF(E20=\"4ST\",Tables!$I$119,Tables!$K$119))))","v":0.28499999999999998},{"$f":"+DQ20*$CY20","v":0.28976220657556301},{"$f":"+DP20+DR20","v":0.52926449078037641},{"$f":"IF(Inputs!$B$3=\"HSM\", HLOOKUP($E20,Tables!$B$106:$K$112,6,FALSE),HLOOKUP($E20,Tables!$B$115:$K$121,6,FALSE))","v":7.9000000000000001E-2},{"$f":"+DT20*$CO20","v":4.2423050341211348E-2},{"$f":"IF(Inputs!$B$3=\"HSM\",IF(E20=\"3ST\",Tables!$E$111,IF(E20=\"3SG\",Tables!$G$111,IF(E20=\"4ST\",Tables!$I$111,Tables!$K$111))),IF(E20=\"3ST\",Tables!$E$120,IF(E20=\"3SG\",Tables!$G$120,IF(E20=\"4ST\",Tables!$I$120,Tables!$K$120))))","v":0.22500000000000001},{"$f":"+DV20*$CY20","v":0.22875963677018132},{"$f":"+DU20+DW20","v":0.27118268711139265},{"$f":"IF(Inputs!$B$3=\"HSM\", HLOOKUP($E20,Tables!$B$106:$K$112,7,FALSE),HLOOKUP($E20,Tables!$B$115:$K$121,7,FALSE))","v":0.05},{"$f":"+DY20*$CO20","v":2.685003186152617E-2},{"$f":"IF(Inputs!$B$3=\"HSM\",IF(E20=\"3ST\",Tables!$E$112,IF(E20=\"3SG\",Tables!$G$112,IF(E20=\"4ST\",Tables!$I$112,Tables!$K$112))),IF(E20=\"3ST\",Tables!$E$121,IF(E20=\"3SG\",Tables!$G$121,IF(E20=\"4ST\",Tables!$I$121,Tables!$K$121))))","v":9.5000000000000001E-2},{"$f":"+EA20*$CY20","v":9.6587402191854341E-2},{"$f":"+DZ20+EB20","v":0.12343743405338051},{"$f":"VLOOKUP($E20,Tables!$Y$151:$AC$154,2,FALSE)","v":-5.33},{"$f":"VLOOKUP($E20,Tables!$Y$151:$AC$154,3,FALSE)","v":0.33},{"$f":"VLOOKUP($E20,Tables!$Y$151:$AC$154,4,FALSE)","v":0.12},{"$f":"VLOOKUP($E20,Tables!$Y$151:$AC$154,5,FALSE)","v":0.65},{"$f":"EXP($ED20+($EE20*LN($F20))+($EF20*LN($G20)))","v":0.20239576387363911},1,{"$f":"$EH20*$EI20","v":0.20239576387363911},{"$f":"$BU20","v":1},{"$f":"IF(Inputs!$B$3<>\"HSM\",$N20,$M20)","v":1.503261},{"$f":"+$EH20*$BU20*$EL20","v":0.30425365839645058},{"$f":"VLOOKUP($E20,Tables!$Y$156:$AC$159,2,FALSE)","v":"--"},{"$f":"VLOOKUP($E20,Tables!$Y$156:$AC$159,3,FALSE)","v":"--"},{"$f":"VLOOKUP($E20,Tables!$Y$156:$AC$159,4,FALSE)","v":"--"},{"$f":"VLOOKUP($E20,Tables!$Y$156:$AC$159,5,FALSE)","v":"--"},{"$f":"IF(E20=\"3ST\",EH20*0.31,IF(E20=\"4ST\",EH20*0.28,(EXP(EN20+(EO20*LN(F20))+(EP20*LN(G20))))))","v":5.6670813884618955E-2},{"$f":"+ER20/(ER20+FB20)","v":0.32155282084920606},{"$f":"$EH20*$ES20","v":6.5080928801498489E-2},{"$f":"$BU20","v":1},{"$f":"IF(Inputs!$B$3<>\"HSM\",$N20,$M20)","v":1.503261},{"$f":"+ET20*EU20*EV20","v":9.7833622111069413E-2},{"$f":"VLOOKUP($E20,Tables!$Y$161:$AC$164,2,FALSE)","v":-7.04},{"$f":"VLOOKUP($E20,Tables!$Y$161:$AC$164,3,FALSE)","v":0.36},{"$f":"VLOOKUP($E20,Tables!$Y$161:$AC$164,4,FALSE)","v":0.25},{"$f":"VLOOKUP($E20,Tables!$Y$161:$AC$164,5,FALSE)","v":0.54},{"$f":"EXP($EX20+($EY20*LN($F20))+($EZ20*LN($G20)))","v":0.11957025821965919},{"$f":"EI20-ES20","v":0.678447179150794},{"$f":"EH20*FC20","v":0.13731483507214062},{"$f":"$BU20","v":1},{"$f":"IF(Inputs!$B$3<>\"HSM\",$N20,$M20)","v":1.503261},{"$f":"+FD20*FE20*FF20","v":0.20642003628538119},1,{"$f":"+EW20","v":9.7833622111069413E-2},1,{"$f":"+FG20","v":0.20642003628538119},{"$f":"+EM20","v":0.30425365839645058},{"$f":"IF(Inputs!$B$3=\"HSM\", HLOOKUP($E20,Tables!$B$129:$K$136,3,FALSE),HLOOKUP($E20,Tables!$B$139:$K$146,3,FALSE))","v":2E-3},{"$f":"+FM20*$FI20","v":1.9566724422213883E-4},{"$f":"IF(Inputs!$B$3=\"HSM\",IF($E20=\"3ST\",Tables!$E$131,IF($E20=\"3SG\",Tables!$G$131,IF($E20=\"4ST\",Tables!$I$131,Tables!$K$131))),IF($E20=\"3ST\",Tables!$E$141,IF($E20=\"3SG\",Tables!$G$141,IF($E20=\"4ST\",Tables!$I$141,Tables!$K$141))))","v":0},{"$f":"+FO20*$FK20","v":0},{"$f":"+FN20+FP20","v":1.9566724422213883E-4},{"$f":"IF(Inputs!$B$3=\"HSM\", HLOOKUP($E20,Tables!$B$129:$K$136,4,FALSE),HLOOKUP($E20,Tables!$B$139:$K$146,4,FALSE))","v":3.6999999999999998E-2},{"$f":"+FR20*$FI20","v":3.6198440181095682E-3},{"$f":"IF(Inputs!$B$3=\"HSM\",IF($E20=\"3ST\",Tables!$E$132,IF($E20=\"3SG\",Tables!$G$132,IF($E20=\"4ST\",Tables!$I$132,Tables!$K$132))),IF($E20=\"3ST\",Tables!$E$142,IF($E20=\"3SG\",Tables!$G$142,IF($E20=\"4ST\",Tables!$I$142,Tables!$K$142))))","v":0.39},{"$f":"+FT20*$FK20","v":8.0503814151298661E-2},{"$f":"+FS20+FU20","v":8.4123658169408227E-2},{"$f":"IF(Inputs!$B$3=\"HSM\", HLOOKUP($E20,Tables!$B$129:$K$136,5,FALSE),HLOOKUP($E20,Tables!$B$139:$K$146,5,FALSE))","v":0.69699999999999995},{"$f":"+FW20*$FI20","v":6.8190034611415373E-2},{"$f":"IF(Inputs!$B$3=\"HSM\",IF($E20=\"3ST\",Tables!$E$133,IF($E20=\"3SG\",Tables!$G$133,IF($E20=\"4ST\",Tables!$I$133,Tables!$K$133))),IF($E20=\"3ST\",Tables!$E$143,IF($E20=\"3SG\",Tables!$G$143,IF($E20=\"4ST\",Tables!$I$143,Tables!$K$143))))","v":0.499},{"$f":"+FY20*$FK20","v":0.10300359810640522},{"$f":"+FX20+FZ20","v":0.17119363271782059},{"$f":"IF(Inputs!$B$3=\"HSM\", HLOOKUP($E20,Tables!$B$129:$K$136,6,FALSE),HLOOKUP($E20,Tables!$B$139:$K$146,6,FALSE))","v":2.5000000000000001E-2},{"$f":"+GB20*$FI20","v":2.4458405527767353E-3},{"$f":"IF(Inputs!$B$3=\"HSM\",IF($E20=\"3ST\",Tables!$E$134,IF($E20=\"3SG\",Tables!$G$134,IF($E20=\"4ST\",Tables!$I$134,Tables!$K$134))),IF($E20=\"3ST\",Tables!$E$144,IF($E20=\"3SG\",Tables!$G$144,IF($E20=\"4ST\",Tables!$I$144,Tables!$K$144))))","v":0.04},{"$f":"+GD20*$FK20","v":8.2568014514152483E-3},{"$f":"+GC20+GE20","v":1.0702642004191984E-2},{"$f":"IF(Inputs!$B$3=\"HSM\", HLOOKUP($E20,Tables!$B$129:$K$136,7,FALSE),HLOOKUP($E20,Tables!$B$139:$K$146,7,FALSE))","v":0.126},{"$f":"+GG20*$FI20","v":1.2327036385994746E-2},{"$f":"IF(Inputs!$B$3=\"HSM\",IF($E20=\"3ST\",Tables!$E$135,IF($E20=\"3SG\",Tables!$G$135,IF($E20=\"4ST\",Tables!$I$135,Tables!$K$135))),IF($E20=\"3ST\",Tables!$E$145,IF($E20=\"3SG\",Tables!$G$145,IF($E20=\"4ST\",Tables!$I$145,Tables!$K$145))))","v":5.3999999999999999E-2},{"$f":"+GI20*$FK20","v":1.1146681959410584E-2},{"$f":"+GH20+GJ20","v":2.347371834540533E-2},{"$f":"IF(Inputs!$B$3=\"HSM\", HLOOKUP($E20,Tables!$B$129:$K$136,8,FALSE),HLOOKUP($E20,Tables!$B$139:$K$146,8,FALSE))","v":0.114},{"$f":"+GL20*$FI20","v":1.1153032920661913E-2},{"$f":"IF(Inputs!$B$3=\"HSM\",IF($E20=\"3ST\",Tables!$E$136,IF($E20=\"3SG\",Tables!$G$136,IF($E20=\"4ST\",Tables!$I$136,Tables!$K$136))),IF($E20=\"3ST\",Tables!$E$146,IF($E20=\"3SG\",Tables!$G$146,IF($E20=\"4ST\",Tables!$I$146,Tables!$K$146))))","v":1.7999999999999999E-2},{"$f":"+GN20*$FK20","v":3.7155606531368611E-3},{"$f":"+GM20+GO20","v":1.4868593573798775E-2},{"$f":"IF($E20=\"3SG\",\"--\",IF($E20=\"4SG\",\"--\",CE20))","v":1.5537101339868848},{"$f":"IF($E20=\"3SG\",\"--\",IF($E20=\"4SG\",\"--\",EM20))","v":0.30425365839645058},{"$f":"IF($E20=\"3SG\",\"--\",IF($E20=\"4SG\",\"--\",(GQ20+GR20)))","v":1.8579637923833354},{"$f":"IF($E20=\"3ST\",0.021,IF($E20=\"4ST\",0.022,\"--\"))","v":2.1999999999999999E-2},{"$f":"IF(Inputs!$B$3<>\"HSM\",$N20,$M20)","v":1.503261},{"$f":"IF(E20=\"3SG\",\"--\",IF(E20=\"4SG\",\"--\",GS20*GT20*GU20))","v":6.1446099187043232E-2},"--","--","--","--",{"$f":"IF(Inputs!$B$3<>\"HSM\",$N20,$M20)","v":1.503261},{"$f":"+GV20","v":6.1446099187043232E-2},{"$f":"IF($E20=\"3ST\",\"--\",IF($E20=\"4ST\",\"--\",IF($AB20=0,1,IF($AB20<3,2.78,4.15))))","v":"--"},{"$f":"IF($E20=\"3ST\",\"--\",IF($E20=\"4ST\",\"--\",IF($AC20=\"P\",1.35,1)))","v":"--"},{"$f":"IF(E20=\"3ST\",\"--\",IF(E20=\"4ST\",\"--\",IF(AD20=0,1,IF(AD20<9,1.12,1.56))))","v":"--"},{"$f":"IF(E20=\"3ST\",\"--\",IF(E20=\"4ST\",\"--\",HC20*HD20*HE20))","v":"--"},{"$f":"IF($E20=\"3ST\",\"--\",IF($E20=\"4ST\",\"--\",(VLOOKUP($E20,Tables!$Y$175:$AE$176,2,FALSE))))","v":"--"},{"$f":"IF($E20=\"3ST\",\"--\",IF($E20=\"4ST\",\"--\",(VLOOKUP($E20,Tables!$Y$175:$AE$176,3,FALSE))))","v":"--"},{"$f":"IF($E20=\"3ST\",\"--\",IF($E20=\"4ST\",\"--\",(VLOOKUP($E20,Tables!$Y$175:$AE$176,4,FALSE))))","v":"--"},{"$f":"IF($E20=\"3ST\",\"--\",IF($E20=\"4ST\",\"--\",(VLOOKUP($E20,Tables!$Y$175:$AE$176,5,FALSE))))","v":"--"},{"$f":"IF($E20=\"3ST\",\"--\",IF($E20=\"4ST\",\"--\",(VLOOKUP($E20,Tables!$Y$175:$AE$176,6,FALSE))))","v":"--"},{"$f":"IF($E20=\"3ST\",\"--\",IF($E20=\"4ST\",\"--\",(VLOOKUP($E20,Tables!$Y$175:$AE$176,7,FALSE))))","v":"--"},{"$f":"IF($E20=\"3ST\",\"--\",IF($E20=\"4ST\",\"--\",EXP(+$HG20+($HH20*LN($F20+G20))+(HI20*LN($G20/$F20))+(HJ20*LN($Z20))+(HK20*$AA20))))","v":"--"},{"$f":"+HF20","v":"--"},{"$f":"IF(Inputs!$B$3<>\"HSM\",$N20,$M20)","v":1.503261},{"$f":"IF(E20=\"3ST\",\"--\",IF(E20=\"4ST\",\"--\",(HM20*HN20*HO20)))","v":"--"},{"$f":"IF($E20=\"3ST\",\"--\",IF($E20=\"4ST\",\"--\",(VLOOKUP($E20,Tables!$Y$175:$AE$176,2,FALSE))))","v":"--"},{"$f":"IF($E20=\"3ST\",\"--\",IF($E20=\"4ST\",\"--\",(VLOOKUP($E20,Tables!$Y$175:$AE$176,2,FALSE))))","v":"--"},{"$f":"IF($E20=\"3ST\",\"--\",IF($E20=\"4ST\",\"--\",(VLOOKUP($E20,Tables!$Y$175:$AE$176,2,FALSE))))","v":"--"},{"$f":"IF($E20=\"3ST\",\"--\",IF($E20=\"4ST\",\"--\",(VLOOKUP($E20,Tables!$Y$175:$AE$176,2,FALSE))))","v":"--"},{"$f":"IF($E20=\"3ST\",\"--\",IF($E20=\"4ST\",\"--\",(VLOOKUP($E20,Tables!$Y$175:$AE$176,2,FALSE))))","v":"--"},{"$f":"IF($E20=\"3ST\",\"--\",IF($E20=\"4ST\",\"--\",(VLOOKUP($E20,Tables!$Y$175:$AE$176,2,FALSE))))","v":"--"},{"$f":"IF($E20=\"3ST\",\"--\",IF($E20=\"4ST\",\"--\",(VLOOKUP($E20,Tables!$Y$175:$AE$176,2,FALSE))))","v":"--"},{"$f":"IF($E20=\"3ST\",\"--\",IF($E20=\"4ST\",\"--\",(VLOOKUP($E20,Tables!$Y$175:$AE$176,2,FALSE))))","v":"--"},{"$f":"IF(Inputs!$B$3<>\"HSM\",$N20,$M20)","v":1.503261},{"$f":"HP20","v":"--"},{"$f":"+CE20","v":1.5537101339868848},{"$f":"+EM20","v":0.30425365839645058},{"$f":"+IA20+IB20","v":1.8579637923833354},{"$f":"IF($E20=\"3ST\",0.016,IF($E20=\"3SG\",0.011,IF($E20=\"4ST\",0.018,0.015)))","v":1.7999999999999999E-2},{"$f":"IF(Inputs!$B$3<>\"HSM\",$N20,$M20)","v":1.503261},{"$f":"+IC20*ID20*IE20","v":5.0274081153035367E-2},"--","--","--","--",{"$f":"IF(Inputs!$B$3<>\"HSM\",$N20,$M20)","v":1.503261},{"$f":"IF20","v":5.0274081153035367E-2},{"$f":"+DF20","v":0.18150621538391692},{"$f":"+DK20","v":4.6182054801825009E-2},{"$f":"+DP20","v":0.23950228420481343},{"$f":"+DU20","v":4.2423050341211348E-2},{"$f":"+DZ20","v":2.685003186152617E-2},{"$f":"SUM(IM20:IQ20)","v":0.53646363659329277},{"$f":"+FN20","v":1.9566724422213883E-4},{"$f":"+FS20","v":3.6198440181095682E-3},{"$f":"+FX20","v":6.8190034611415373E-2},{"$f":"+GC20","v":2.4458405527767353E-3},{"$f":"+GH20","v":1.2327036385994746E-2},{"$f":"+GM20","v":1.1153032920661913E-2},{"$f":"IF(E20=\"3ST\",HB20,IF(E20=\"4ST\",HB20,HZ20))","v":6.1446099187043232E-2},{"$f":"+IL20","v":5.0274081153035367E-2},{"$f":"SUM(IS20:IZ20)","v":0.20965163607325907},{"$f":"+IR20+JA20","v":0.74611527266655187},{"$f":"+DH20","v":0.36703212832904647},{"$f":"+DM20","v":3.4568122889716293E-2},{"$f":"+DR20","v":0.28976220657556301},{"$f":"+DW20","v":0.22875963677018132},{"$f":"+EB20","v":9.6587402191854341E-2},{"$f":"SUM(JC20:JG20)","v":1.0167094967563615},{"$f":"+FP20","v":0},{"$f":"+FU20","v":8.0503814151298661E-2},{"$f":"+FZ20","v":0.10300359810640522},{"$f":"+GE20","v":8.2568014514152483E-3},{"$f":"+GJ20","v":1.1146681959410584E-2},{"$f":"+GO20","v":3.7155606531368611E-3},0,0,{"$f":"SUM(JI20:JP20)","v":0.20662645632166657},{"$f":"+JH20+JQ20","v":1.2233359530780281},{"$f":"+DI20","v":0.54853834371296339},{"$f":"+DN20","v":8.0750177691541303E-2},{"$f":"+DS20","v":0.52926449078037641},{"$f":"+DX20","v":0.27118268711139265},{"$f":"+EC20","v":0.12343743405338051},{"$f":"SUM(JS20:JW20)","v":1.5531731333496543},{"$f":"+FQ20","v":1.9566724422213883E-4},{"$f":"+FV20","v":8.4123658169408227E-2},{"$f":"+GA20","v":0.17119363271782059},{"$f":"+GF20","v":1.0702642004191984E-2},{"$f":"+GK20","v":2.347371834540533E-2},{"$f":"+GP20","v":1.4868593573798775E-2},{"$f":"+IY20+JO20","v":6.1446099187043232E-2},{"$f":"+IZ20+JP20","v":5.0274081153035367E-2},{"$f":"SUM(JY20:KF20)","v":0.41627809239492569},{"$f":"+JX20+KG20","v":1.96945122574458},{"$f":"+JR20","v":1.2233359530780281},{"$f":"+JB20","v":0.74611527266655187},{"$f":"+KH20","v":1.96945122574458}]

{"sheet":"Instructions","index":5,"n_rows":201,"n_cols":15,"rows_kept":201,"cut":false,"hidden":false,"merged":[[1,1,1,14],[9,1,9,14],[22,1,22,14],[38,1,38,14],[40,1,41,3],[11,1,11,14],[30,1,30,14],[172,1,172,14],[34,1,34,14],[36,11,36,14],[69,1,69,14],[133,1,133,14],[158,1,158,14],[46,1,49,3],[61,1,61,14],[51,1,59,8]]}
[]
[null,"Highway Safety Manual (1st Edition) • Volume 2 (Chapters 10 - 12) - Predictive Methods with Empirical Bayes Analysis"]
[null,null,null,null,null,null,null,null,null,null,null,null,null,null,"Released: January 2013 (Updated: September 2013)"]
[null,null,null,null,null,null,null,null,null,null,null,null,null,null,"Analysis years: 2005 - 2010"]
[]
[]
[]
[null,"Overview"]
[]
[null,"This spreadsheet has been developed to utilize the predictive models for rural two-lane, two-way roads, rural multilane highways, and urban and suburban arterials as contained in the Highway Safety Manual.  The factors used in calibrating the Highway Safety Manual are reviewed and updated by the Michigan Department of Transportation's Safety Programs Unit.  Only full years (January through December) may be used for analysis; partial years are not compatible with the current calibration factors."]
[]
[null,"In the HSM, the predictive method is a function of traffic volumen and roadway characteristics.  The expected number of crashes is a modification of the predicted number, weighted by the actual observed number of crashes."]
[]
[null,"The page tabs shown at the bottom are color coded as follows:"]
[]
[null,null,null,"Instructions",null,null,"This sheet"]
[null,null,null,"Inputs",null,null,"Project-wide inputs and formatting controls"]
[null,null,null,"Segment or Intersection Types",null,null,"Inputs for individual segments or intersections"]
[null,null,null,"Outputs",null,null,"Output and summary sheets"]
[]
[null,"Color Coding Used in the Worksheets"]
[]
[null,"Colors are used to distinguish between user-editable cells and those reserved for displaying data and calculations.  The user-editable cells are described as follows:"]
[]
[null,"Color Used",null,"Description"]
[]
[null,"Dropdown",null,"User input required; constrained values chosen by a dropdown menu within the cell"]
[]
[null,"Input",null,"User input required; value may be typed directly in the cell"]
[]
[null,"Lane and shoulder width values, for example, are limited to those available in the dropdown as they were evaluated when developing the Safety Performance Functions included in the HSM."]
[]
[null,"Segment and Intersection Worksheets"]
[]
[null,"The data required for each individual segment or intersection type varies.  For a summary of the data needed to use the methodologies in this spreadheet, please see http://onlinepubs.trb.org/onlinepubs/nchrp/nchrp_rrd_329.pdf."]
[]
[null,null,null,null,null,null,null,null,null,null,null,"Please note that segments are defined as the \"center of intersection to center of intersection.\"  Removing the length included in the intersections is inconsistent with the calculations in the HSM."]
[]
[null,"Buttons are placed on each sheet to facilitate adding and deleting rows.  Resetting a sheet requires confirmation from the user.  Sheets without data will only display the \"Reset Sheet\" Button."]
[]
[null,"Adds a row above the currently selected row.",null,null,null,null,null,null,null,null,null,"Adds a row below the currently selected row."]
[]
[]
[]
[]
[null,null,null,null,null,null,null,null,null,null,null,"Deletes the currently selected row."]
[null,"Resets the current sheet, leaving only a single row with sample data (\"Set Sheet\" if blank)."]
[]
[]
[]
[]
[null,"The colored shading is used to provide a visual snapshot of the relative crash frequencies/rates.  The highest value in a given column will be red, with a gradation through orange, yellow, and green indicating progressively smaller values.  Zero or negative values (in the case of Excess Expected crashes) will be display the brightest level of green.  The colored shading can be enabled/disabled via the toggle on the Inputs tab, \"Use colored formatting for rankings.\"  Please note, that because of rounding, two values may display difference colors even when they appear to show the same value (e.g. the right-most shaded column in the graphic, where all values display \"3.4\")."]
[]
[]
[]
[]
[]
[]
[]
[]
[]
[null,"All rows on the Segment or Intersection Type worksheets are included on the Summary and Output sheets; please delete any rows that do not apply."]
[]
[null,"Spreadsheet developed by:"]
[null,null,"Andrew H. Ceifetz, P.E., CAPM",null,null,null,null,null,null,"Opus International Consultants Inc."]
[null,null,"Email: Andrew.Ceifetz@opusinternational.com",null,null,null,null,null,null,"27333 Meadowbrook Road, Suite 210"]
[null,null,"Phone: (248) 539-2222",null,null,null,null,null,null,"Novi, Michigan 48377"]
[null,"Excel Macros"]
[]
[null,"This worksheet makes extensive use of the macro functionality built into Microsoft Excel.  Macros must be enabled to use this worksheet.  To enable macros, please see below:"]
[]
[null,"1. Click the Excel Options button."]
[]
[]
[]
[]
[]
[]
[]
[]
[]
[]
[]
[]
[]
[]
[]
[]
[]
[]
[]
[]
[]
[]
[]
[]
[]
[]
[]
[]
[]
[]
[]
[]
[null,null,null,null,"Excel 2007",null,null,null,null,null,null,"Excel 2010"]
[]
[null,"2. Click the Trust Center button on the left.  Then, at the bottom right, select Trust Center Settings."]
[]
[]
[]
[]
[]
[]
[]
[]
[]
[]
[]
[]
[]
[]
[]
[]
[]
[]
[]
[]
[]
[]
[]
[]
[]
[]
[null,"3. In the new window that appears, choose Macro Settings from the sidebar and select Disable all macros with notification from the list of options that appear. This option keeps macros disabled but notifies users when macros attempt to run, allowing users to decide on a case-by-case basis which macros to enable. Click OK to exit this window."]
[]
[]
[]
[]
[]
[]
[]
[]
[]
[]
[]
[]
[]
[]
[]
[]
[]
[]
[]
[]
[]
[]
[]
[]
[null,"4. For the new settings to take effect, it will be necessary to close Excel and reopen it. A security dialog box should appear beneath the Office ribbon the next time you attempt to run a spreadsheet that contains macros."]
[]
[]
[]
[]
[]
[]
[]
[]
[]
[]
[]
[]
[]
[null,"5. When the notification appears, click the Options button. Choose Enable this content from the options that appear to allow macros to run within the current spreadsheet. Click 5. When the notification appears, click the Options button. Choose Enable this content from the options that appear to allow macros to run within the current spreadsheet. Click OK to close the window. to close the window."]
[]
[]
[]
[]
[]
[]
[]
[]
[]
[]
[]
[]
[]
[]
[]
[]
[]
[]
[]
[]
[]
[]
[]
[]
[]
[]
[]
[null,"Referenced from: Microsoft.com"]

{"sheet":"Build History","index":6,"n_rows":5,"n_cols":2,"rows_kept":5,"cut":false,"hidden":false,"merged":[[1,0,1,1],[0,0,0,1]]}
[]
["MDOT HSM Spreadsheet Build History"]
["Date:","Notes:"]
["2014-08-13","Original Spreadsheet"]
["2014-01-14","Fix to enable calibration factor use"]

{"sheet":"Inputs","index":7,"n_rows":26,"n_cols":13,"rows_kept":26,"cut":false,"hidden":false,"merged":[[21,1,21,4],[0,4,2,4],[0,5,2,5],[0,6,2,6],[23,0,23,1],[13,1,13,4],[14,1,14,4],[15,1,15,4],[17,1,17,4],[18,1,18,4],[19,1,19,4],[20,1,20,4]]}
[null,null,null,null,"Rural 2-Lane","Rural multilane","Urban & Suburban",null,null,null,null,0,0]
[]
["HSM or Locally Derived Values [Local Only]:","Local"]
["Site-Specific or Project Level Empirical Bayes (EB):","Site",null,"Total Observed Crashes:",25,0,0]
["Hide Calculations:","Y"]
["Use colored formatting for rankings:","Y"]
[]
["Display Empirical Bayes on Output?","Y"]
["Display Excess Crashes on Output?","Y"]
["Display Predicted Total Crashes on Output?","Y"]
["Display Predicted Fatal & Injury Crashes on Output?","Y"]
["Number of Outputs to Display:",10]
[]
["Analyst:","DCK"]
["Organization:","MDOT"]
["Date Performed:","2014-01-27"]
[]
["Project Name:","ads"]
["Control Section(s):",12345]
["PR Number(s):",1234567]
["Job Number(s):","12345A"]
["Job Description:","Description"]
[]
["Analysis Years"]
["Start:",2006]
["End:",2010]

{"sheet":"Rural 2-Lane Segments","index":8,"n_rows":5,"n_cols":181,"rows_kept":5,"cut":false,"hidden":false,"merged":[[1,7,2,8],[0,85,0,168],[2,163,2,168],[1,9,2,10],[2,145,2,150],[0,0,0,28],[0,36,0,52],[2,91,2,96],[0,53,2,58],[2,121,2,126],[2,109,2,114],[1,85,2,90],[0,59,2,63],[2,103,2,108],[1,64,2,70],[1,29,2,29],[1,169,2,172],[2,139,2,144],[0,64,0,84],[1,78,2,84],[1,71,2,77],[2,97,2,102],[2,133,2,138],[2,157,2,162],[1,133,1,168],[0,169,0,180],[1,177,2,180],[1,91,1,132],[1,173,2,176],[2,115,2,120],[2,127,2,132],[2,151,2,156],[1,30,2,30],[1,31,2,31],[0,29,0,35],[1,34,2,34],[1,35,2,35],[1,32,2,32],[1,33,2,33]]}
["Worksheet 1A -- General Information and Input Data for Rural Two-Lane Two-Way Roadway Segments",null,null,null,null,null,null,null,null,null,null,null,null,null,null,null,null,null,null,null,null,null,null,null,null,null,null,null,null,"Empirical Bayes Analysis",null,null,null,null,null,null,"Worksheet 1B -- Crash Modification Factors for Rural Two-Lane Two-Way Roadway Segments",null,null,null,null,null,null,null,null,null,null,null,null,null,null,null,null,"Supplemental CMF Calculations for Shoulders:",null,null,null,null,null,"Supplemental CMF Calculations for Horizontal Curves:",null,null,null,null,"Worksheet 1C -- Roadway Segment Crashes for Rural Two-Lane Two-Way Roadway Segments",null,null,null,null,null,null,null,null,null,null,null,null,null,null,null,null,null,null,null,null,"Worksheet 1D -- Crashes by Severity Level and Collision Type for Rural Two-Lane Two-Way Roadway Segments",null,null,null,null,null,null,null,null,null,null,null,null,null,null,null,null,null,null,null,null,null,null,null,null,null,null,null,null,null,null,null,null,null,null,null,null,null,null,null,null,null,null,null,null,null,null,null,null,null,null,null,null,null,null,null,null,null,null,null,null,null,null,null,null,null,null,null,null,null,null,null,null,null,null,null,null,null,null,null,null,null,null,null,"Worksheet 1E -- Summary Results for Rural Two-Lane Two-Way Roadway Segments"]
[null,null,null,null,null,null,null,"Right Shoulder",null,"Left Shoulder",null,null,null,null,null,null,null,null,null,null,null,null,null,null,null,null,null,null,null,null,null,null,null,null,null,null,null,null,null,null,null,null,null,null,null,null,null,null,null,null,null,null,null,null,null,null,null,null,null,null,null,null,null,null,"Total",null,null,null,null,null,null,"Fatal and Injury (FI)",null,null,null,null,null,null,"Property Damage Only (PDO)",null,null,null,null,null,null,"Total",null,null,null,null,null,"Single-Vehicle",null,null,null,null,null,null,null,null,null,null,null,null,null,null,null,null,null,null,null,null,null,null,null,null,null,null,null,null,null,null,null,null,null,null,null,null,null,null,null,null,null,"Multiple-Vehicle",null,null,null,null,null,null,null,null,null,null,null,null,null,null,null,null,null,null,null,null,null,null,null,null,null,null,null,null,null,null,null,null,null,null,null,"Property Damage Only (PDO)",null,null,null,"Fatal and Injury (FI)",null,null,null,"Total"]
[null,null,null,null,"N","N",null,null,null,null,null,null,null,null,null,null,null,null,null,null,null,null,null,null,null,null,null,null,null,null,null,null,null,null,null,null,null,null,null,null,null,null,null,null,null,null,null,null,null,null,null,null,null,null,null,null,null,null,null,null,null,null,null,null,null,null,null,null,null,null,null,null,null,null,null,null,null,null,null,null,null,null,null,null,null,null,null,null,null,null,null,"Collision with animal",null,null,null,null,null,"Collision with bicycle",null,null,null,null,null,"Collision with pedestrian",null,null,null,null,null,"Overturned",null,null,null,null,null,"Ran off road",null,null,null,null,null,"Other single-vehicle collision",null,null,null,null,null,"Total single-vehicle crashes",null,null,null,null,null,"Angle collision",null,null,null,null,null,"Head-on collision",null,null,null,null,null,"Rear-end collision",null,null,null,null,null,"Sideswipe collision",null,null,null,null,null,"Other multiple-vehicle collision",null,null,null,null,null,"Total multiple-vehicle crashes"]
["#","Roadway","Roadway Section","Jurisdiction","Length of segment, L (miles)","AADT (vehicles/day)","Lane width (feet)","Width","Type","Width","Type","Length of horizontal curve (miles)","Radius of curvature (feet)","Spiral transition curve (present/not present)","Superelevation variance above\nmaximum allowed (feet/foot)","Grade (%)","Driveway density (driveways/mile)","Centerline rumble strips (present/not present)","Passing lanes [present (1 lane) /\npresent (2 lane) / not present)]","Two-way left-turn lane (present/not present)","Roadside hazard rating (1-7 scale)","Segment lighting (present/not present)","Auto speed enforcement (present/not present)","Additional CMF - 1","Additional CMF - 2","Additional CMF - 3","Additional CMF - Numeric","Calibration Factor, Cr","Calibration Factor, Cr","Observed Crashes Nobserved (crashes/year)","Ovedispersion Parameter, k","Weighted Adjustment, w\n(Equation A-5 from Part C Appendix)","Expected Average Crash Frequency, Nexpected\n(Equation A-4 from Part C Appendix)","Excess Expected Crashes\nNobserved - Nexpected","Nw0 (Equation A-8)","Nw1 (Equation A-9)","(1) CMF for Lane Width CMF 1r from Equation 10-11","(2) CMF for Shoulder Width and Type CMF 2r from Equation 10-12","(3) CMF for Horizontal Curves CMF 3r from Equation 10-13","(4) CMF for Super-elevation CMF 4r from Equations 10-14, 10-15, or 10-16","(5) CMF for Grades CMR 5r from Table 10-11","(6) CMF for Driveway Density CMF 6r from Equation 10-17","(7) CMF for Centerline Rumble Strips CMF 7r from Section 10.7.1","(8) CMF for Passing Lanes CMF 8r from Section 10.7.1","(9) CMF for Two-Way Left-Turn Lane CMF 9r from Equation 10-18 & 10-19","(10) CMF for Roadside Design CMF 10r from Equation 10-20","(11) CMF for Lighting CMF 11r from Equation 10-21","(12) CMF for Automated Speed Enforcement CMF 12r from Section 10.7.1","Additional CMF - 1","Additional CMF - 2","Additional CMF - 3","Additional CMF - Numeric","(13) Combined CMF CMF comb (1)x(2)x … x(11)x(12)","Calculated Right Shoulder Width (CMFwra) :","Calculated Right Shoulder Type (CMF tra) :","Computed Right Shoulder CMF2r :","Calculated Left Shoulder Width (CMFwra) :","Calculated Left Shoulder Type (CMF tra) :","Computed Left Shoulder CMF2r :","Adjusted Curve Radius (if less than 100 ft):","Adjusted Curve Length (if less than 100 ft):","Numeric Value for S:","Calculated Horizonatal Curve CMF:","Adjusted Horizontal Curve CMF:","(2) N spf rs from  Equation 10-6","(3) Overdispersion Parameter, k   from Equation 10-7","(4) Crash Severity Distribution from Table 10-3 (proportion)","(5) N spf rs by Severity Distribution (2)TOTAL x (4)","(6) Combined CMFs (13) from Worksheet 1B","(7) Calibration Factor, Cr ","(8) Predicted average crash frequency,      N predicted rs (crashes/year) (5)x(6)x(7)","(2) N spf rs from  Equation 10-6","(3) Overdispersion Parameter, k   from Equation 10-7","(4) Crash Severity Distribution from Table 10-3 (proportion)","(5) N spf rs by Severity Distribution (2)TOTAL x (4)","(6) Combined CMFs (13) from Worksheet 1B","(7) Calibration Factor, Cr ","(8) Predicted average crash frequency,      N predicted rs (crashes/year) (5)x(6)x(7)","(2) N spf rs from  Equation 10-6","(3) Overdispersion Parameter, k   from Equation 10-7","(4) Crash Severity Distribution from Table 10-3 (proportion)","(5) N spf rs by Severity Distribution (2)TOTAL x (4)","(6) Combined CMFs (13) from Worksheet 1B","(7) Calibration Factor, Cr ","(8) Predicted average crash frequency,      N predicted rs (crashes/year) (5)x(6)x(7)","(2) Proportion of Collision Type(TOTAL)   from Table   10-4","(3) N predicted rs (TOTAL) (crashes/year) (8)TOTAL from Worksheet 1C","(4) Proportion of Collision Type(FI) from Table 10-4","(5) N predicted rs (FI) (crashes/year) (8)FI from Worksheet 1C","(6) Proportion of Collision Type(PDO) from Table 10-4","(7) N predicted rs (PDO) (crashes/year) (8)PDO from Worksheet 1C","(2) Proportion of Collision Type(TOTAL)   from Table   10-4","(3) N predicted rs (TOTAL) (crashes/year) (8)TOTAL from Worksheet 1C","(4) Proportion of Collision Type(FI) from Table 10-4","(5) N predicted rs (FI) (crashes/year) (8)FI from Worksheet 1C","(6) Proportion of Collision Type(PDO) from Table 10-4","(7) N predicted rs (PDO) (crashes/year) (8)PDO from Worksheet 1C","(2) Proportion of Collision Type(TOTAL)   from Table   10-4","(3) N predicted rs (TOTAL) (crashes/year) (8)TOTAL from Worksheet 1C","(4) Proportion of Collision Type(FI) from Table 10-4","(5) N predicted rs (FI) (crashes/year) (8)FI from Worksheet 1C","(6) Proportion of Collision Type(PDO) from Table 10-4","(7) N predicted rs (PDO) (crashes/year) (8)PDO from Worksheet 1C","(2) Proportion of Collision Type(TOTAL)   from Table   10-4","(3) N predicted rs (TOTAL) (crashes/year) (8)TOTAL from Worksheet 1C","(4) Proportion of Collision Type(FI) from Table 10-4","(5) N predicted rs (FI) (crashes/year) (8)FI from Worksheet 1C","(6) Proportion of Collision Type(PDO) from Table 10-4","(7) N predicted rs (PDO) (crashes/year) (8)PDO from Worksheet 1C","(2) Proportion of Collision Type(TOTAL)   from Table   10-4","(3) N predicted rs (TOTAL) (crashes/year) (8)TOTAL from Worksheet 1C","(4) Proportion of Collision Type(FI) from Table 10-4","(5) N predicted rs (FI) (crashes/year) (8)FI from Worksheet 1C","(6) Proportion of Collision Type(PDO) from Table 10-4","(7) N predicted rs (PDO) (crashes/year) (8)PDO from Worksheet 1C","(2) Proportion of Collision Type(TOTAL)   from Table   10-4","(3) N predicted rs (TOTAL) (crashes/year) (8)TOTAL from Worksheet 1C","(4) Proportion of Collision Type(FI) from Table 10-4","(5) N predicted rs (FI) (crashes/year) (8)FI from Worksheet 1C","(6) Proportion of Collision Type(PDO) from Table 10-4","(7) N predicted rs (PDO) (crashes/year) (8)PDO from Worksheet 1C","(2) Proportion of Collision Type(TOTAL)   from Table   10-4","(3) N predicted rs (TOTAL) (crashes/year) (8)TOTAL from Worksheet 1C","(4) Proportion of Collision Type(FI) from Table 10-4","(5) N predicted rs (FI) (crashes/year) (8)FI from Worksheet 1C","(6) Proportion of Collision Type(PDO) from Table 10-4","(7) N predicted rs (PDO) (crashes/year) (8)PDO from Worksheet 1C","(2) Proportion of Collision Type(TOTAL)   from Table   10-4","(3) N predicted rs (TOTAL) (crashes/year) (8)TOTAL from Worksheet 1C","(4) Proportion of Collision Type(FI) from Table 10-4","(5) N predicted rs (FI) (crashes/year) (8)FI from Worksheet 1C","(6) Proportion of Collision Type(PDO) from Table 10-4","(7) N predicted rs (PDO) (crashes/year) (8)PDO from Worksheet 1C","(2) Proportion of Collision Type(TOTAL)   from Table   10-4","(3) N predicted rs (TOTAL) (crashes/year) (8)TOTAL from Worksheet 1C","(4) Proportion of Collision Type(FI) from Table 10-4","(5) N predicted rs (FI) (crashes/year) (8)FI from Worksheet 1C","(6) Proportion of Collision Type(PDO) from Table 10-4","(7) N predicted rs (PDO) (crashes/year) (8)PDO from Worksheet 1C","(2) Proportion of Collision Type(TOTAL)   from Table   10-4","(3) N predicted rs (TOTAL) (crashes/year) (8)TOTAL from Worksheet 1C","(4) Proportion of Collision Type(FI) from Table 10-4","(5) N predicted rs (FI) (crashes/year) (8)FI from Worksheet 1C","(6) Proportion of Collision Type(PDO) from Table 10-4","(7) N predicted rs (PDO) (crashes/year) (8)PDO from Worksheet 1C","(2) Proportion of Collision Type(TOTAL)   from Table   10-4","(3) N predicted rs (TOTAL) (crashes/year) (8)TOTAL from Worksheet 1C","(4) Proportion of Collision Type(FI) from Table 10-4","(5) N predicted rs (FI) (crashes/year) (8)FI from Worksheet 1C","(6) Proportion of Collision Type(PDO) from Table 10-4","(7) N predicted rs (PDO) (crashes/year) (8)PDO from Worksheet 1C","(2) Proportion of Collision Type(TOTAL)   from Table   10-4","(3) N predicted rs (TOTAL) (crashes/year) (8)TOTAL from Worksheet 1C","(4) Proportion of Collision Type(FI) from Table 10-4","(5) N predicted rs (FI) (crashes/year) (8)FI from Worksheet 1C","(6) Proportion of Collision Type(PDO) from Table 10-4","(7) N predicted rs (PDO) (crashes/year) (8)PDO from Worksheet 1C","(2) Proportion of Collision Type(TOTAL)   from Table   10-4","(3) N predicted rs (TOTAL) (crashes/year) (8)TOTAL from Worksheet 1C","(4) Proportion of Collision Type(FI) from Table 10-4","(5) N predicted rs (FI) (crashes/year) (8)FI from Worksheet 1C","(6) Proportion of Collision Type(PDO) from Table 10-4","(7) N predicted rs (PDO) (crashes/year) (8)PDO from Worksheet 1C","(2) Proportion of Collision Type(TOTAL)   from Table   10-4","(3) N predicted rs (TOTAL) (crashes/year) (8)TOTAL from Worksheet 1C","(4) Proportion of Collision Type(FI) from Table 10-4","(5) N predicted rs (FI) (crashes/year) (8)FI from Worksheet 1C","(6) Proportion of Collision Type(PDO) from Table 10-4","(7) N predicted rs (PDO) (crashes/year) (8)PDO from Worksheet 1C","Crash Severity Distribution (proportion)","Predicted average crash frequency (crashes/year)","Roadway segment length (miles)","Crash rate (crashes/mile/year)","Crash Severity Distribution (proportion)","Predicted average crash frequency (crashes/year)","Roadway segment length (miles)","Crash rate (crashes/mile/year)","Crash Severity Distribution (proportion)","Predicted average crash frequency (crashes/year)","Roadway segment length (miles)","Crash rate (crashes/mile/year)"]
["Example 1","SH 321","MP 0.0 to MP 1.5","Anywhere, USA",1.5,10000,12,6,"Paved",6,"Paved",0,0,"NP",0,0,5,"NP","NP","NP",3,"NP","NP","N/A (1.000)","N/A (1.000)","N/A (1.000)",null,1,{"$f":"AVERAGE(INDIRECT(ADDRESS(MATCH(sYear,'Calibration Factors'!$A:$A,0),2,,,\"Calibration Factors\")&\":\"&ADDRESS(MATCH(eYear,'Calibration Factors'!$A:$A,0),2)))","v":1.3982298},null,{"$f":"BN5","v":0.15733333333333333},{"$f":"1/(1+AE5*FW5)","v":0.53145572674023067},{"$f":"IF(AD5=0,0,AF5*FW5+((1-AF5)*AD5))","v":0},{"$f":"IF(AD5=\"\",\"\",AD5-AG5)","v":""},{"$f":"AE5*FW5^2","v":4.9402205962364727},{"$f":"SQRT(AE5*FW5)","v":0.93894849781228251},{"$f":"CHOOSE(MATCH($F5,{0,400,2001}),(CHOOSE(MATCH(G5,{9,9.5,10,10.5,11,11.5,12},0),1.05,1.035,1.02,1.015,1.01,1.005,1)-1)*(IF( Inputs!$B$3=\"HSM\", ((Tables!$G$29+Tables!$G$34+Tables!$G$36)/100),((Tables!$K$29+Tables!$K$34+Tables!$K$36)/100)))+1,(CHOOSE(MATCH(G5,{9,9.5,10,10.5,11,11.5,12},0),($F5-400)*0.000281+1.05,((($F5-400)*0.000281+1.05)+(($F5-400)*0.000175+1.02))/2,($F5-400)*0.000175+1.02,((($F5-400)*0.000175+1.02)+(($F5-400)*0.000025+1.01))/2,($F5-400)*0.000025+1.01,((($F5-400)*0.000025+1.01)+1)/2,1)-1)*(IF( Inputs!$B$3=\"HSM\", ((Tables!$G$29+Tables!$G$34+Tables!$G$36)/100),((Tables!$K$29+Tables!$K$34+Tables!$K$36)/100)))+1,(CHOOSE(MATCH(G5,{9,9.5,10,10.5,11,11.5,12},0),1.5,1.4,1.3,1.175,1.05,1.025,1)-1)*(IF( Inputs!$B$3=\"HSM\", ((Tables!$G$29+Tables!$G$34+Tables!$G$36)/100),((Tables!$K$29+Tables!$K$34+Tables!$K$36)/100)))+1)","v":1},{"$f":"($BD5+$BG5)/2","v":1},{"$f":"+BL5","v":1},{"$f":"IF($O5>=0.02,(1.06+3*($O5-0.02)),IF($O5<0.01,1,(1+6*($O5-0.01))))","v":1},{"$f":"IF($P5>6,1.16,(IF($P5<=3,1,1.1)))","v":1},{"$f":"IF($Q5>5,(0.322+$Q5*(0.05-0.005*LN($F5)))/(0.322+5*(0.05-0.005*LN($F5))),1)","v":1},{"$f":"IF(T5=\"P\",1,IF($R5=\"P\",0.94,1))","v":1},{"$f":"IF($S5=\"P1\",0.75,IF($S5=\"P2\", 0.65, 1))","v":1},{"$f":"IF($T5=\"NP\",1,IF($Q5<=5,1,(1-(0.7*0.5*((0.0047*$Q5)+($Q5*$Q5*0.0024))/(1.199+(0.0047*$Q5)+(0.0024*$Q5*$Q5))))))","v":1},{"$f":"EXP($U5*0.0668-0.6869)/EXP(-0.4865)","v":1},{"$f":"IF($V5=\"P\",(1-((1-(0.72*IF(Inputs!$B$3=\"HSM\",Tables!$C$90,Tables!$I$90))-(0.83*IF(Inputs!$B$3=\"HSM\",Tables!$E$90,Tables!$K$90)))*IF(Inputs!$B$3=\"HSM\",Tables!$F$90,Tables!$L$90))),1)","v":1},{"$f":"IF($W5=\"P\",0.93,1)","v":1},{"$f":"OFFSET(Tables!$AM$1,MATCH(X5,Tables!$AM:$AM,0)-1,1)","v":1},{"$f":"OFFSET(Tables!$AM$1,MATCH(Y5,Tables!$AM:$AM,0)-1,1)","v":1},{"$f":"OFFSET(Tables!$AM$1,MATCH(Z5,Tables!$AM:$AM,0)-1,1)","v":1},{"$f":"IF(AA5=\"\",1,AA5)","v":1},{"$f":"+AK5*AL5*AM5*AN5*AO5*AP5*AQ5*AR5*AS5*AT5*AU5*AV5*AW5*AX5*AY5*AZ5","v":1},{"$f":"CHOOSE(MATCH($F5,{0,400,2001}),CHOOSE($H5+1,1.1,1.085,1.07,1.045,1.02,1.01,1,0.99,0.98),CHOOSE($H5+1,($F5-400)*0.00025+1.1,((($F5-400)*0.00025+1.1)+(($F5-400)*0.000143+1.07))/2,($F5-400)*0.000143+1.07,((($F5-400)*0.000143+1.07)+(($F5-400)*0.00008125+1.02))/2,($F5-400)*0.00008125+1.02,((($F5-400)*0.00008125+1.02)+1)/2,1,(1+((($F5-400)*-0.00006875)+0.98))/2,(($F5-400)*-0.00006875)+0.98),CHOOSE($H5+1,1.5,1.4,1.3,1.225,1.15,1.075,1,0.935,0.87))","v":1},{"$f":"IF($I5=\"Paved\",(HLOOKUP($H5,Tables!$Z$8:$AH$12,2,FALSE)),(IF($I5=\"Gravel\",(HLOOKUP($H5,Tables!$Z$8:$AH$12,3,FALSE)),(IF($I5=\"Turf\",(HLOOKUP($H5,Tables!$Z$8:$AH$12,5,FALSE)),HLOOKUP($H5,Tables!$Z$8:$AH$12,4,FALSE))))))","v":1},{"$f":"(+$BB5*$BC5-1)*(IF(Inputs!$B$3=\"HSM\",((Tables!$G$29+Tables!$G$34+Tables!$G$36)/100),((Tables!$K$29+Tables!$K$34+Tables!$K$36)/100)))+1","v":1},{"$f":"CHOOSE(MATCH($F5,{0,400,2001}),CHOOSE($J5+1,1.1,1.085,1.07,1.045,1.02,1.01,1,0.99,0.98),CHOOSE($J5+1,($F5-400)*0.00025+1.1,((($F5-400)*0.00025+1.1)+(($F5-400)*0.000143+1.07))/2,($F5-400)*0.000143+1.07,((($F5-400)*0.000143+1.07)+(($F5-400)*0.00008125+1.02))/2,($F5-400)*0.00008125+1.02,((($F5-400)*0.00008125+1.02)+1)/2,1,(1+((($F5-400)*-0.00006875)+0.98))/2,(($F5-400)*-0.00006875)+0.98),CHOOSE($J5+1,1.5,1.4,1.3,1.225,1.15,1.075,1,0.935,0.87))","v":1},{"$f":"IF($K5=\"Paved\",(HLOOKUP($J5,Tables!$Z$8:$AH$12,2,FALSE)),(IF($K5=\"Gravel\",(HLOOKUP($J5,Tables!$Z$8:$AH$12,3,FALSE)),(IF($K5=\"Turf\",(HLOOKUP($J5,Tables!$Z$8:$AH$12,5,FALSE)),HLOOKUP($J5,Tables!$Z$8:$AH$12,4,FALSE))))))","v":1},{"$f":"(+$BE5*$BF5-1)*(IF(Inputs!$B$3=\"HSM\",((Tables!$G$29+Tables!$G$34+Tables!$G$36)/100),((Tables!$K$29+Tables!$K$34+Tables!$K$36)/100)))+1","v":1},{"$f":"IF($M5>0,IF($M5<=100,100,$M5),0)","v":0},{"$f":"IF($L5>0,IF($L5<=100/5280,100/5280,$L5),0)","v":0},{"$f":"IF(N5=\"P\",1,IF(N5=\"NP\",0,0.5))","v":0},{"$f":"IF( $BI5>0, ((1.55*$BI5)+(80.2/$BH5)-(0.012*(IF($BJ5=\"Present\",TRUE,FALSE))))/(1.55*$BI5), 1)","v":1},{"$f":"IF($BK5<1,1,$BK5)","v":1},{"$f":"+F5*E5*365*0.000001*EXP(-0.312)","v":4.0075988670500111},{"$f":"0.236/E5","v":0.15733333333333333},{"$f":"+Tables!$E$15/100","v":1},{"$f":"+BM5*BO5","v":4.0075988670500111},{"$f":"+BA5","v":1},{"$f":"IF(Inputs!$B$3<>\"HSM\",$AC5,$AB5)","v":1.3982298},{"$f":"+BP5*BQ5*BR5","v":5.6035441623555631},"--","--",{"$f":"+IF(Inputs!$B$3=\"HSM\",(Tables!$E$13/100),(Tables!$H$13/100))","v":0.10899999999999999},{"$f":"+BM5*BV5","v":0.43682827650845113},{"$f":"+BA5","v":1},{"$f":"IF(Inputs!$B$3<>\"HSM\",$AC5,$AB5)","v":1.3982298},{"$f":"+BW5*BX5*BY5","v":0.61078631369675629},"--","--",{"$f":"+IF(Inputs!$B$3=\"HSM\",(Tables!$E$14/100),(Tables!$H$14/100))","v":0.8909999999999999},{"$f":"+BM5*CC5","v":3.5707705905415597},{"$f":"+BA5","v":1},{"$f":"IF(Inputs!$B$3<>\"HSM\",$AC5,$AB5)","v":1.3982298},{"$f":"+CD5*CE5*CF5","v":4.9927578486588065},{"$f":"+DX5+FH5","v":0.99900000000000011},{"$f":"+$BS5","v":5.6035441623555631},{"$f":"+DZ5+FJ5","v":1},{"$f":"+$BZ5","v":0.61078631369675629},2,{"$f":"+$CG5","v":4.9927578486588065},{"$f":"IF(Inputs!$B$3=\"HSM\",(Tables!$G$25/100),(Tables!$K$25/100))","v":0.67700000000000005},{"$f":"+$BS5*CN5","v":3.7935993979147167},{"$f":"IF(Inputs!$B$3=\"HSM\",Tables!$E$25/100,Tables!$I$25/100)","v":0.115},{"$f":"+$BZ5*CP5","v":7.0240426075126983E-2},{"$f":"IF(Inputs!$B$3=\"HSM\",Tables!$F$25/100,Tables!$J$25/100)","v":0.748},{"$f":"+$CG5*CR5","v":3.7345828707967872},{"$f":"IF(Inputs!$B$3=\"HSM\",(Tables!$G$26/100),(Tables!$K$26/100))","v":0},{"$f":"+$BS5*CT5","v":0},{"$f":"IF(Inputs!$B$3=\"HSM\",Tables!$E$26/100,Tables!$I$26/100)","v":6.9999999999999993E-3},{"$f":"+$BZ5*CV5","v":4.2755041958772938E-3},{"$f":"IF(Inputs!$B$3=\"HSM\",Tables!$F$26/100,Tables!$J$26/100)","v":0},{"$f":"+$CG5*CX5","v":0},{"$f":"IF(Inputs!$B$3=\"HSM\",(Tables!$G$27/100),(Tables!$K$27/100))","v":2E-3},{"$f":"+$BS5*CZ5","v":1.1207088324711127E-2},{"$f":"IF(Inputs!$B$3=\"HSM\",Tables!$E$27/100,Tables!$I$27/100)","v":1.3000000000000001E-2},{"$f":"+$BZ5*DB5","v":7.940222078057833E-3},{"$f":"IF(Inputs!$B$3=\"HSM\",Tables!$F$27/100,Tables!$J$27/100)","v":0},{"$f":"+$CG5*DD5","v":0},{"$f":"IF(Inputs!$B$3=\"HSM\",(Tables!$G$28/100),(Tables!$K$28/100))","v":0.04},{"$f":"+$BS5*DF5","v":0.22414176649422252},{"$f":"IF(Inputs!$B$3=\"HSM\",Tables!$E$28/100,Tables!$I$28/100)","v":0.155},{"$f":"+$BZ5*DH5","v":9.4671878622997224E-2},{"$f":"IF(Inputs!$B$3=\"HSM\",Tables!$F$28/100,Tables!$J$28/100)","v":2.5000000000000001E-2},{"$f":"+$CG5*DJ5","v":0.12481894621647016},{"$f":"IF(Inputs!$B$3=\"HSM\",(Tables!$G$29/100),(Tables!$K$29/100))","v":0.129},{"$f":"+$BS5*DL5","v":0.72285719694386763},{"$f":"IF(Inputs!$B$3=\"HSM\",Tables!$E$29/100,Tables!$I$29/100)","v":0.26700000000000002},{"$f":"+$BZ5*DN5","v":0.16307994575703394},{"$f":"IF(Inputs!$B$3=\"HSM\",Tables!$F$29/100,Tables!$J$29/100)","v":0.11199999999999999},{"$f":"+$CG5*DP5","v":0.55918887904978631},{"$f":"IF(Inputs!$B$3=\"HSM\",(Tables!$G$30/100),(Tables!$K$30/100))","v":1.4999999999999999E-2},{"$f":"+$BS5*DR5","v":8.4053162435333437E-2},{"$f":"IF(Inputs!$B$3=\"HSM\",Tables!$E$30/100,Tables!$I$30/100)","v":2.8999999999999998E-2},{"$f":"+$BZ5*DT5","v":1.771280309720593E-2},{"$f":"IF(Inputs!$B$3=\"HSM\",Tables!$F$30/100,Tables!$J$30/100)","v":1.3000000000000001E-2},{"$f":"+$CG5*DV5","v":6.4905852032564493E-2},{"$f":"CN5+CT5+CZ5+DF5+DL5+DR5","v":0.8630000000000001},{"$f":"+$BS5*DX5","v":4.8358586121128511},{"$f":"CP5+CV5+DB5+DH5+DN5+DT5","v":0.58600000000000008},{"$f":"+$BZ5*DZ5","v":0.35792077982629922},{"$f":"CR5+CX5+DD5+DJ5+DP5+DV5","v":0.89800000000000002},{"$f":"+$CG5*EB5","v":4.4834965480956086},{"$f":"IF(Inputs!$B$3=\"HSM\",(Tables!$G$33/100),(Tables!$K$33/100))","v":1.7000000000000001E-2},{"$f":"+$BS5*ED5","v":9.5260250760044574E-2},{"$f":"IF(Inputs!$B$3=\"HSM\",Tables!$E$33/100,Tables!$I$33/100)","v":6.0999999999999999E-2},{"$f":"+$BZ5*EF5","v":3.7257965135502134E-2},{"$f":"IF(Inputs!$B$3=\"HSM\",Tables!$F$33/100,Tables!$J$33/100)","v":1.2E-2},{"$f":"+$CG5*EH5","v":5.9913094183905675E-2},{"$f":"IF(Inputs!$B$3=\"HSM\",(Tables!$G$34/100),(Tables!$K$34/100))","v":1.3000000000000001E-2},{"$f":"+$BS5*EJ5","v":7.2846074110622328E-2},{"$f":"IF(Inputs!$B$3=\"HSM\",Tables!$E$34/100,Tables!$I$34/100)","v":0.09},{"$f":"+$BZ5*EL5","v":5.4970768232708064E-2},{"$f":"IF(Inputs!$B$3=\"HSM\",Tables!$F$34/100,Tables!$J$34/100)","v":3.0000000000000001E-3},{"$f":"+$CG5*EN5","v":1.4978273545976419E-2},{"$f":"IF(Inputs!$B$3=\"HSM\",(Tables!$G$35/100),(Tables!$K$35/100))","v":5.5E-2},{"$f":"+$BS5*EP5","v":0.30819492892955597},{"$f":"IF(Inputs!$B$3=\"HSM\",Tables!$E$35/100,Tables!$I$35/100)","v":0.16399999999999998},{"$f":"+$BZ5*ER5","v":0.10016895544626801},{"$f":"IF(Inputs!$B$3=\"HSM\",Tables!$F$35/100,Tables!$J$35/100)","v":4.2000000000000003E-2},{"$f":"+$CG5*ET5","v":0.2096958296436699},{"$f":"IF(Inputs!$B$3=\"HSM\",(Tables!$G$36/100),(Tables!$K$36/100))","v":2.7999999999999997E-2},{"$f":"+$BS5*EV5","v":0.15689923654595575},{"$f":"IF(Inputs!$B$3=\"HSM\",Tables!$E$36/100,Tables!$I$36/100)","v":5.7000000000000002E-2},{"$f":"+$BZ5*EX5","v":3.4814819880715109E-2},{"$f":"IF(Inputs!$B$3=\"HSM\",Tables!$F$36/100,Tables!$J$36/100)","v":2.4E-2},{"$f":"+$CG5*EZ5","v":0.11982618836781135},{"$f":"IF(Inputs!$B$3=\"HSM\",(Tables!$G$37/100),(Tables!$K$37/100))","v":2.3E-2},{"$f":"+$BS5*FB5","v":0.12888151573417794},{"$f":"IF(Inputs!$B$3=\"HSM\",Tables!$E$37/100,Tables!$I$37/100)","v":4.2000000000000003E-2},{"$f":"+$BZ5*FD5","v":2.5653025175263765E-2},{"$f":"IF(Inputs!$B$3=\"HSM\",Tables!$F$37/100,Tables!$J$37/100)","v":0.02},{"$f":"+$CG5*FF5","v":9.9855156973176137E-2},{"$f":"ED5+EJ5+EP5+EV5+FB5","v":0.13600000000000001},{"$f":"+$BS5*FH5","v":0.76208200608035659},{"$f":"EF5+EL5+ER5+EX5+FD5","v":0.41399999999999992},{"$f":"+$BZ5*FJ5","v":0.25286553387045707},{"$f":"EH5+EN5+ET5+EZ5+FF5","v":0.10100000000000001},{"$f":"EI5+EO5+EU5+FA5+FG5","v":0.50426854271453947},{"$f":"+CC5","v":0.8909999999999999},{"$f":"+CG5","v":4.9927578486588065},{"$f":"+$E5","v":1.5},{"$f":"+FO5/FP5","v":3.3285052324392042},{"$f":"+BV5","v":0.10899999999999999},{"$f":"+BZ5","v":0.61078631369675629},{"$f":"+$E5","v":1.5},{"$f":"+FS5/FT5","v":0.40719087579783753},{"$f":"+BO5","v":1},{"$f":"+BS5","v":5.6035441623555631},{"$f":"+$E5","v":1.5},{"$f":"+FW5/FX5","v":3.7356961082370419}]

{"sheet":"Rural 2-Lane Intersections","index":9,"n_rows":14,"n_cols":142,"rows_kept":14,"cut":false,"hidden":false,"merged":[[0,19,0,25],[1,100,1,135],[0,0,0,18],[0,136,0,141],[1,7,1,18],[0,26,0,34],[0,35,0,51],[1,58,1,99],[0,52,0,135],[1,20,2,20],[1,21,2,21],[1,35,2,41],[1,42,2,46],[1,47,2,51],[1,52,2,57],[1,136,2,138],[1,139,2,141],[2,58,2,64],[2,65,2,71],[2,72,2,78],[2,79,2,85],[2,86,2,92],[2,93,2,99],[2,100,2,105],[2,106,2,111],[2,112,2,117],[2,118,2,123],[2,124,2,129],[2,130,2,135]]}
["Worksheet 2A -- General Information and Input Data for Rural Two-Lane Two-Way Roadway Intersections",null,null,null,null,null,null,null,null,null,null,null,null,null,null,null,null,null,null,"Empirical Bayes Analysis",null,null,null,null,null,null,"Worksheet 2B -- Crash Modification Factors for Rural Two-Lane Two-Way Roadway Intersections",null,null,null,null,null,null,null,null,"Worksheet 2C -- Intersection Crashes for Rural Two-Lane Two-Way Roadway Intersections",null,null,null,null,null,null,null,null,null,null,null,null,null,null,null,null,"Worksheet 2D -- Crashes by Severity Level and Collision Type for Rural Two-Lane Two-Way Road Intersections",null,null,null,null,null,null,null,null,null,null,null,null,null,null,null,null,null,null,null,null,null,null,null,null,null,null,null,null,null,null,null,null,null,null,null,null,null,null,null,null,null,null,null,null,null,null,null,null,null,null,null,null,null,null,null,null,null,null,null,null,null,null,null,null,null,null,null,null,null,null,null,null,null,null,null,null,null,null,null,null,null,null,null,"Worksheet 2E -- Summary Results for Rural Two-Lane Two-Way Road Intersections"]
[null,null,null,null,null,null,null,null,null,null,null,null,null,null,null,null,null,null,null,null,null,null,null,null,null,null,null,null,null,null,null,null,null,null,null,"Total",null,null,null,null,null,null,"Fatal and Injury (FI)",null,null,null,null,"Property Damage Only (PDO)",null,null,null,null,"Total",null,null,null,null,null,"Single Vehicle",null,null,null,null,null,null,null,null,null,null,null,null,null,null,null,null,null,null,null,null,null,null,null,null,null,null,null,null,null,null,null,null,null,null,null,null,null,null,null,null,null,"Multiple Vehicle",null,null,null,null,null,null,null,null,null,null,null,null,null,null,null,null,null,null,null,null,null,null,null,null,null,null,null,null,null,null,null,null,null,null,null,"Crash Severity Distribution",null,null,"Predicted average crash frequency (crashes / year)"]
[null,null,null,null,"N","N",null,null,null,null,null,null,null,null,null,null,null,null,null,null,null,null,null,null,null,null,null,null,null,null,null,null,null,null,null,null,null,null,null,null,null,null,null,null,null,null,null,null,null,null,null,null,null,null,null,null,null,null,"(2) Proportion of Collision Type(TOTAL) from Table 10-6",null,null,null,null,null,null,"(3) Npredicted int (TOTAL) (crashes/year) (8)TOTAL from Worksheet 2C",null,null,null,null,null,null,"(4) Proportion of Collision Type(FI) from Table 10-6",null,null,null,null,null,null,"(5) Npredicted int (FI) (crashes/year) (8)FI from Worksheet 2C",null,null,null,null,null,null,"(6) Proportion of Collision Type(PDO) from Table 10-6",null,null,null,null,null,null,"(7) Npredicted int (PDO) (crashes/year) (8)FI from Worksheet 2C",null,null,null,null,null,null,"(2) Proportion of Collision Type(TOTAL) from Table 10-6",null,null,null,null,null,"(3) Npredicted int (TOTAL) (crashes/year) (8)TOTAL from Worksheet 2C",null,null,null,null,null,"(4) Proportion of Collision Type(FI) from Table 10-6",null,null,null,null,null,"(5) Npredicted int (FI) (crashes/year) (8)FI from Worksheet 2C",null,null,null,null,null,"(6) Proportion of Collision Type(PDO) from Table 10-6",null,null,null,null,null,"(7) Npredicted int (PDO) (crashes/year) (8)FI from Worksheet 2C"]
["#","Major Roadway","Minor Roadway","Jurisdiction","Intersection Type","AADT major (vehicles/day)","AADT minor (vehicles/day)","[If 4ST, does skew differ for minor legs?]","Skew for Leg 1 (All):","Skew for Leg 2 (4ST only):","Number of signalized or uncontrolled\napproaches with a left-turn lane (0, 1, 2, 3, 4)","Number of signalized or uncontrolled\napproaches with a right-turn lane (0, 1, 2, 3, 4)","Intersection lighting","Additional CMF - 1","Additional CMF - 2","Additional CMF - 3","Additional CMF - Numeric","Calibration factor, Ci","Calibration factor, Ci","Observed Crashes Nobserved (crashes/year)","Ovedispersion Parameter, k","Weighted Adjustment, w (Equation A-5 from Part C Appendix)","Expected Average Crash Frequency, Nexpected (Equation A-4 from Part C Appendix)","Excess Expected Crashes\nNobserved - Nexpected","Nw0 (Equation A-8)","Nw1 (Equation A-9)","(1) CMF for Intersection Skew Angle, CMF 1i, from Equations 10-22 or 12-23","(2) CMF for Left-Turn Lanes, CMF 2i, from Table 10-13","(3) CMF for Right-Turn Lanes, CMF 3i, from Table 10-14","(4) CMF for Lighting, CMF 4i, from Equation 10-24","Additional CMF - 1","Additional CMF - 2","Additional CMF - 3","Additional CMF - Numeric","(5) Combined CMF, CMF COMB, (1)*(2)*(3)*(4)","N spf 3ST, 4ST or 4SG from Equations 10-8, 10-9, or 10-10","Overdispersion Parameter, k from Section 10.6.2","Crash Severity Distribution from Table 10-5","N spf 3ST, 4ST or 4SG by Severity Distribution (2)TOTAL * (4)","Combined CMFs from (5) of Worksheet 2B","Calibration Factor, Ci","Predicted average crash frequency,   N predicted int (5)*(6)*(7)","Crash Severity Distribution from Table 10-5","N spf 3ST, 4ST or 4SG by Severity Distribution (2)TOTAL * (4)","Combined CMFs from (5) of Worksheet 2B","Calibration Factor, Ci","Predicted average crash frequency,   N predicted int (5)*(6)*(7)","Crash Severity Distribution from Table 10-5","N spf 3ST, 4ST or 4SG by Severity Distribution (2)TOTAL * (4)","Combined CMFs from (5) of Worksheet 2B","Calibration Factor, Ci","Predicted average crash frequency,   N predicted int (5)*(6)*(7)","(2) Proportion of Collision Type(TOTAL) from Table 10-6","(3) Npredicted int (TOTAL) (crashes/year) (8)TOTAL from Worksheet 2C","(4) Proportion of Collision Type(FI) from Table 10-6","(5) Npredicted int (FI) (crashes/year) (8)FI from Worksheet 2C","(6) Proportion of Collision Type(PDO) from Table 10-6","(7) Npredicted int (PDO) (crashes/year) (8)FI from Worksheet 2C","Collision with Animal","Collision with bicycle","Collision with pedestrian","Overturned","Ran off road","Other single-vehicle collision","Total single vehicle crashes","Collision with Animal","Collision with bicycle","Collision with pedestrian","Overturned","Ran off road","Other single-vehicle collision","Total single vehicle crashes","Collision with Animal","Collision with bicycle","Collision with pedestrian","Overturned","Ran off road","Other single-vehicle collision","Total single vehicle crashes","Collision with Animal","Collision with bicycle","Collision with pedestrian","Overturned","Ran off road","Other single-vehicle collision","Total single vehicle crashes","Collision with Animal","Collision with bicycle","Collision with pedestrian","Overturned","Ran off road","Other single-vehicle collision","Total single vehicle crashes","Collision with Animal","Collision with bicycle","Collision with pedestrian","Overturned","Ran off road","Other single-vehicle collision","Total single vehicle crashes","Angle Collision","Head-on collision","Rear-end collision","Sideswipe collision","Other multiple-vehicle collision","Total Multiple vehicle crashes","Angle Collision","Head-on collision","Rear-end collision","Sideswipe collision","Other multiple-vehicle collision","Total Multiple vehicle crashes","Angle Collision","Head-on collision","Rear-end collision","Sideswipe collision","Other multiple-vehicle collision","Total Multiple vehicle crashes","Angle Collision","Head-on collision","Rear-end collision","Sideswipe collision","Other multiple-vehicle collision","Total Multiple vehicle crashes","Angle Collision","Head-on collision","Rear-end collision","Sideswipe collision","Other multiple-vehicle collision","Total Multiple vehicle crashes","Angle Collision","Head-on collision","Rear-end collision","Sideswipe collision","Other multiple-vehicle collision","Total Multiple vehicle crashes","Total","Fatal and Injury (FI)","Property Damage Only (PDO)","Property Damage Only (PDO)","Fatal and Injury (FI)","Total"]
[1,"Apple","Heikki","Heritage County","4ST",3300,2400,"N",0,null,2,0,"P","N/A (1.000)","N/A (1.000)","N/A (1.000)",1,1,{"$f":"AVERAGE(INDIRECT(ADDRESS(MATCH(sYear,'Calibration Factors'!$A:$A,0),CHOOSE(MATCH(E5,{\"3ST\",\"4ST\",\"4SG\"},0),14,18,20),,,\"Calibration Factors\")&\":\"&ADDRESS(MATCH(eYear,'Calibration Factors'!$A:$A,0),CHOOSE(MATCH(E5,{\"3ST\",\"4ST\",\"4SG\"},0),14,18,20))))","v":1.6480646000000001},{"$f":"7/5","v":1.4},{"$f":"AK5","v":0.24},{"$f":"1/(1+U5*EL5)","v":0.649082020630115},{"$f":"IF(T5=0,0,V5*EL5+((1-V5)*T5))","v":1.9534434184923599},{"$f":"IF(T5=\"\",\"\",T5-W5)","v":-0.55344341849236001},{"$f":"U5*EL5^2","v":1.2178697384363781},{"$f":"SQRT(U5*EL5)","v":0.73528045230043881},{"$f":"IF(+$E5=\"3ST\",(EXP(0.004*$I5)),(IF(+$E5=\"4ST\",(IF($H5=\"N\",(EXP(0.0054*$I5)),(((EXP(0.0054*$I5))+(EXP(0.0054*$J5)))/2))),1)))","v":1},{"$f":"IF($E5=\"3ST\",(IF($K5=0,1,(HLOOKUP($K5,Tables!$AC$20:$AF$26,3,FALSE)))),(IF($E5=\"4ST\",(IF($K5=0,1,(HLOOKUP($K5,Tables!$AC$20:$AF$26,5,FALSE)))),(IF($K5=0,1,(HLOOKUP($K5,Tables!$AC$20:$AF$26,7,FALSE)))))))","v":0.52},{"$f":"IF($E5=\"3ST\",(IF($L5=0,1,(HLOOKUP($L5,Tables!$AC$36:$AF$42,3,FALSE)))),(IF($E5=\"4ST\",(IF($L5=0,1,(HLOOKUP($L5,Tables!$AC$36:$AF$42,5,FALSE)))),(IF($L5=0,1,(HLOOKUP($L5,Tables!$AC$36:$AF$42,7,FALSE)))))))","v":1},{"$f":"IF(($M5=\"NP\"),1,(1-0.38*(IF(Inputs!$B$3=\"HSM\",(VLOOKUP( $E5,Tables!$B$97:$F$99,4,FALSE)),(VLOOKUP($E5,Tables!$B$97:$H$99,6,FALSE))))))","v":0.92096},{"$f":"OFFSET(Tables!$AO$1,MATCH(N5,Tables!$AO:$AO,0)-1,1)","v":1},{"$f":"OFFSET(Tables!$AO$1,MATCH(O5,Tables!$AO:$AO,0)-1,1)","v":1},{"$f":"OFFSET(Tables!$AO$1,MATCH(P5,Tables!$AO:$AO,0)-1,1)","v":1},{"$f":"IF(Q5=\"\",1,Q5)","v":1},{"$f":"+AA5*AB5*AC5*AD5*AE5*AF5*AG5*AH5","v":0.47889920000000002},{"$f":"IF($E5=\"3ST\",(EXP(-9.86+0.79*(LN($F5))+(0.49*(LN($G5))))),IF($E5=\"4ST\",(EXP(-8.56+0.6*(LN($F5))+(0.61*(LN($G5))))),(EXP(-5.13+(0.6*(LN($F5)))+(0.2*(LN($G5)))))))","v":2.8541477821853132},{"$f":"IF($E5=\"3ST\",0.54,(IF($E5=\"4ST\",0.24,0.11)))","v":0.24},{"$f":"IF($E5=\"3ST\",IF(Inputs!$B$3=\"HSM\",Tables!$E$55,Tables!$K$55),(IF($E5=\"4ST\",(IF(Inputs!$B$3=\"HSM\",Tables!$G$55,Tables!$M$55)),(IF(Inputs!$B$3=\"HSM\",Tables!$I$55,Tables!$O$55)))))/100","v":1},{"$f":"+AJ5*AL5","v":2.8541477821853132},{"$f":"+$AI5","v":0.47889920000000002},{"$f":"IF(Inputs!$B$3<>\"HSM\",$S5,$R5)","v":1.6480646000000001},{"$f":"+AM5*AN5*AO5","v":2.2526555980630749},{"$f":"IF($E5=\"3ST\",IF(Inputs!$B$3=\"HSM\",Tables!$E$53,Tables!$K$53),(IF($E5=\"4ST\",(IF(Inputs!$B$3=\"HSM\",Tables!$G$53,Tables!$M$53)),(IF(Inputs!$B$3=\"HSM\",Tables!$I$53,Tables!$O$53)))))/100","v":0.23499999999999999},{"$f":"+AJ5*AQ5","v":0.67072472881354861},{"$f":"+$AI5","v":0.47889920000000002},{"$f":"IF(Inputs!$B$3<>\"HSM\",$S5,$R5)","v":1.6480646000000001},{"$f":"+AR5*AS5*AT5","v":0.52937406554482269},{"$f":"IF($E5=\"3ST\",IF(Inputs!$B$3=\"HSM\",Tables!$E$54,Tables!$K$54),(IF($E5=\"4ST\",(IF(Inputs!$B$3=\"HSM\",Tables!$G$54,Tables!$M$54)),(IF(Inputs!$B$3=\"HSM\",Tables!$I$54,Tables!$O$54)))))/100","v":0.76500000000000001},{"$f":"+AJ5*AV5","v":2.1834230533717647},{"$f":"+$AI5","v":0.47889920000000002},{"$f":"IF(Inputs!$B$3<>\"HSM\",$S5,$R5)","v":1.6480646000000001},{"$f":"+AW5*AX5*AY5","v":1.7232815325182524},{"$f":"IF(Inputs!$B$3=\"HSM\",(IF($E5=\"3ST\",Tables!$G$80,(IF($E5=\"4ST\",Tables!$J$80,Tables!$M$80)))/100),(IF($E5=\"3ST\",Tables!$P$80,(IF($E5=\"4ST\",+Tables!$S$80,+Tables!$V$80)))/100))","v":1},{"$f":"+AP5","v":2.2526555980630749},{"$f":"IF(Inputs!$B$3=\"HSM\",(IF($E5=\"3ST\",Tables!$E$80,(IF($E5=\"4ST\",Tables!$H$80,Tables!$K$80)))/100),(IF($E5=\"3ST\",Tables!$N$80,(IF($E5=\"4ST\",+Tables!$Q$80,+Tables!$T$80)))/100))","v":1},{"$f":"+AU5","v":0.52937406554482269},{"$f":"IF(Inputs!$B$3=\"HSM\",(IF($E5=\"3ST\",Tables!$F$80,(IF($E5=\"4ST\",Tables!$I$80,Tables!$L$80)))/100),(IF($E5=\"3ST\",Tables!$O$80,(IF($E5=\"4ST\",+Tables!$R$80,+Tables!$U$80)))/100))","v":1},{"$f":"+AZ5","v":1.7232815325182524},{"$f":"IF(Inputs!$B$3=\"HSM\",(IF($E5=\"3ST\",Tables!$G$66,(IF($E5=\"4ST\",Tables!$J$66,Tables!$M$66)))/100),(IF($E5=\"3ST\",Tables!$P$66,(IF($E5=\"4ST\",+Tables!$S$66,+Tables!$V$66)))/100))","v":0.223},{"$f":"IF(Inputs!$B$3=\"HSM\",(IF($E5=\"3ST\",Tables!$G$67,(IF($E5=\"4ST\",Tables!$J$67,Tables!$M$67)))/100),(IF($E5=\"3ST\",Tables!$P$67,(IF($E5=\"4ST\",+Tables!$S$67,+Tables!$V$67)))/100))","v":4.0000000000000001E-3},{"$f":"IF(Inputs!$B$3=\"HSM\",(IF($E5=\"3ST\",Tables!$G$68,(IF($E5=\"4ST\",Tables!$J$68,Tables!$M$68)))/100),(IF($E5=\"3ST\",Tables!$P$68,(IF($E5=\"4ST\",+Tables!$S$68,+Tables!$V$68)))/100))","v":4.0000000000000001E-3},{"$f":"IF(Inputs!$B$3=\"HSM\",(IF($E5=\"3ST\",Tables!$G$69,(IF($E5=\"4ST\",Tables!$J$69,Tables!$M$69)))/100),(IF($E5=\"3ST\",Tables!$P$69,(IF($E5=\"4ST\",+Tables!$S$69,+Tables!$V$69)))/100))","v":1.8000000000000002E-2},{"$f":"IF(Inputs!$B$3=\"HSM\",(IF($E5=\"3ST\",Tables!$G$70,(IF($E5=\"4ST\",Tables!$J$70,Tables!$M$70)))/100),(IF($E5=\"3ST\",Tables!$P$70,(IF($E5=\"4ST\",+Tables!$S$70,+Tables!$V$70)))/100))","v":0.11},{"$f":"IF(Inputs!$B$3=\"HSM\",(IF($E5=\"3ST\",Tables!$G$71,(IF($E5=\"4ST\",Tables!$J$71,Tables!$M$71)))/100),(IF($E5=\"3ST\",Tables!$P$71,(IF($E5=\"4ST\",+Tables!$S$71,+Tables!$V$71)))/100))","v":1.6E-2},{"$f":"IF(Inputs!$B$3=\"HSM\",(IF($E5=\"3ST\",Tables!$G$72,(IF($E5=\"4ST\",Tables!$J$72,Tables!$M$72)))/100),(IF($E5=\"3ST\",Tables!$P$72,(IF($E5=\"4ST\",+Tables!$S$72,+Tables!$V$72)))/100))","v":0.375},{"$f":"BG5*$BB5","v":0.50234219836806571},9.0106223922522995E-3,9.0106223922522995E-3,4.0547800765135353E-2,0.24779211578693824,3.6042489569009198E-2,0.84474584927365304,{"$f":"IF(Inputs!$B$3=\"HSM\",(IF($E5=\"3ST\",Tables!$E$66,(IF($E5=\"4ST\",Tables!$H$66,Tables!$K$66)))/100),(IF($E5=\"3ST\",Tables!$N$66,(IF($E5=\"4ST\",+Tables!$Q$66,+Tables!$T$66)))/100))","v":1.4999999999999999E-2},{"$f":"IF(Inputs!$B$3=\"HSM\",(IF($E5=\"3ST\",Tables!$E$67,(IF($E5=\"4ST\",Tables!$H$67,Tables!$K$67)))/100),(IF($E5=\"3ST\",Tables!$N$67,(IF($E5=\"4ST\",+Tables!$Q$67,+Tables!$T$67)))/100))","v":1.2E-2},{"$f":"IF(Inputs!$B$3=\"HSM\",(IF($E5=\"3ST\",Tables!$E$68,(IF($E5=\"4ST\",Tables!$H$68,Tables!$K$68)))/100),(IF($E5=\"3ST\",Tables!$N$68,(IF($E5=\"4ST\",+Tables!$Q$68,+Tables!$T$68)))/100))","v":1.4999999999999999E-2},{"$f":"IF(Inputs!$B$3=\"HSM\",(IF($E5=\"3ST\",Tables!$E$69,(IF($E5=\"4ST\",Tables!$H$69,Tables!$K$69)))/100),(IF($E5=\"3ST\",Tables!$N$69,(IF($E5=\"4ST\",+Tables!$Q$69,+Tables!$T$69)))/100))","v":3.1E-2},{"$f":"IF(Inputs!$B$3=\"HSM\",(IF($E5=\"3ST\",Tables!$E$70,(IF($E5=\"4ST\",Tables!$H$70,Tables!$K$70)))/100),(IF($E5=\"3ST\",Tables!$N$70,(IF($E5=\"4ST\",+Tables!$Q$70,+Tables!$T$70)))/100))","v":8.5000000000000006E-2},{"$f":"IF(Inputs!$B$3=\"HSM\",(IF($E5=\"3ST\",Tables!$E$71,(IF($E5=\"4ST\",Tables!$H$71,Tables!$K$71)))/100),(IF($E5=\"3ST\",Tables!$N$71,(IF($E5=\"4ST\",+Tables!$Q$71,+Tables!$T$71)))/100))","v":1.4999999999999999E-2},{"$f":"IF(Inputs!$B$3=\"HSM\",(IF($E5=\"3ST\",Tables!$E$72,(IF($E5=\"4ST\",Tables!$H$72,Tables!$K$72)))/100),(IF($E5=\"3ST\",Tables!$N$72,(IF($E5=\"4ST\",+Tables!$Q$72,+Tables!$T$72)))/100))","v":0.17300000000000001},{"$f":"BU5*$BD5","v":7.9406109831723394E-3},6.352488786537872E-3,7.9406109831723394E-3,1.6410596031889504E-2,4.4996795571309929E-2,7.9406109831723394E-3,9.1581713339254328E-2,{"$f":"IF(Inputs!$B$3=\"HSM\",(IF($E5=\"3ST\",Tables!$F$66,(IF($E5=\"4ST\",Tables!$I$66,Tables!$L$66)))/100),(IF($E5=\"3ST\",Tables!$O$66,(IF($E5=\"4ST\",+Tables!$R$66,+Tables!$U$66)))/100))","v":0.28800000000000003},{"$f":"IF(Inputs!$B$3=\"HSM\",(IF($E5=\"3ST\",Tables!$F$67,(IF($E5=\"4ST\",Tables!$I$67,Tables!$L$67)))/100),(IF($E5=\"3ST\",Tables!$O$67,(IF($E5=\"4ST\",+Tables!$R$67,+Tables!$U$67)))/100))","v":1E-3},{"$f":"IF(Inputs!$B$3=\"HSM\",(IF($E5=\"3ST\",Tables!$F$68,(IF($E5=\"4ST\",Tables!$I$68,Tables!$L$68)))/100),(IF($E5=\"3ST\",Tables!$O$68,(IF($E5=\"4ST\",+Tables!$R$68,+Tables!$U$68)))/100))","v":0},{"$f":"IF(Inputs!$B$3=\"HSM\",(IF($E5=\"3ST\",Tables!$F$69,(IF($E5=\"4ST\",Tables!$I$69,Tables!$L$69)))/100),(IF($E5=\"3ST\",Tables!$O$69,(IF($E5=\"4ST\",+Tables!$R$69,+Tables!$U$69)))/100))","v":1.3999999999999999E-2},{"$f":"IF(Inputs!$B$3=\"HSM\",(IF($E5=\"3ST\",Tables!$F$70,(IF($E5=\"4ST\",Tables!$I$70,Tables!$L$70)))/100),(IF($E5=\"3ST\",Tables!$O$70,(IF($E5=\"4ST\",+Tables!$R$70,+Tables!$U$70)))/100))","v":0.11800000000000001},{"$f":"IF(Inputs!$B$3=\"HSM\",(IF($E5=\"3ST\",Tables!$F$71,(IF($E5=\"4ST\",Tables!$I$71,Tables!$L$71)))/100),(IF($E5=\"3ST\",Tables!$O$71,(IF($E5=\"4ST\",+Tables!$R$71,+Tables!$U$71)))/100))","v":1.7000000000000001E-2},{"$f":"IF(Inputs!$B$3=\"HSM\",(IF($E5=\"3ST\",Tables!$F$72,(IF($E5=\"4ST\",Tables!$I$72,Tables!$L$72)))/100),(IF($E5=\"3ST\",Tables!$O$72,(IF($E5=\"4ST\",+Tables!$R$72,+Tables!$U$72)))/100))","v":0.43800000000000006},{"$f":"CI5*$BF5","v":0.49630508136525675},1.7232815325182525E-3,0,2.4125941455255533E-2,0.20334722083715381,2.9295786052810295E-2,0.75479731124299465,{"$f":"IF(Inputs!$B$3=\"HSM\",(IF($E5=\"3ST\",Tables!$G$74,(IF($E5=\"4ST\",Tables!$J$74,Tables!$M$74)))/100),(IF($E5=\"3ST\",Tables!$P$74,(IF($E5=\"4ST\",+Tables!$S$74,+Tables!$V$74)))/100))","v":0.23800000000000002},{"$f":"IF(Inputs!$B$3=\"HSM\",(IF($E5=\"3ST\",Tables!$G$75,(IF($E5=\"4ST\",Tables!$J$75,Tables!$M$75)))/100),(IF($E5=\"3ST\",Tables!$P$75,(IF($E5=\"4ST\",+Tables!$S$75,+Tables!$V$75)))/100))","v":4.0999999999999995E-2},{"$f":"IF(Inputs!$B$3=\"HSM\",(IF($E5=\"3ST\",Tables!$G$76,(IF($E5=\"4ST\",Tables!$J$76,Tables!$M$76)))/100),(IF($E5=\"3ST\",Tables!$P$76,(IF($E5=\"4ST\",+Tables!$S$76,+Tables!$V$76)))/100))","v":0.18100000000000002},{"$f":"IF(Inputs!$B$3=\"HSM\",(IF($E5=\"3ST\",Tables!$G$77,(IF($E5=\"4ST\",Tables!$J$77,Tables!$M$77)))/100),(IF($E5=\"3ST\",Tables!$P$77,(IF($E5=\"4ST\",+Tables!$S$77,+Tables!$V$77)))/100))","v":7.400000000000001E-2},{"$f":"IF(Inputs!$B$3=\"HSM\",(IF($E5=\"3ST\",Tables!$G$78,(IF($E5=\"4ST\",Tables!$J$78,Tables!$M$78)))/100),(IF($E5=\"3ST\",Tables!$P$78,(IF($E5=\"4ST\",+Tables!$S$78,+Tables!$V$78)))/100))","v":9.0999999999999998E-2},{"$f":"IF(Inputs!$B$3=\"HSM\",(IF($E5=\"3ST\",Tables!$G$79,(IF($E5=\"4ST\",Tables!$J$79,Tables!$M$79)))/100),(IF($E5=\"3ST\",Tables!$P$79,(IF($E5=\"4ST\",+Tables!$S$79,+Tables!$V$79)))/100))","v":0.625},{"$f":"+$CW5*$BB5","v":0.53613203233901185},{"$f":"+$CX5*$BB5","v":9.2358879520586065E-2},{"$f":"+$CY5*$BB5","v":0.40773066324941659},{"$f":"+$CZ5*$BB5","v":0.16669651425666757},{"$f":"+$DA5*$BB5","v":0.20499165942373981},{"$f":"+$DB5*$BB5","v":1.4079097487894219},{"$f":"IF(Inputs!$B$3=\"HSM\",(IF($E5=\"3ST\",Tables!$E$74,(IF($E5=\"4ST\",Tables!$H$74,Tables!$K$74)))/100),(IF($E5=\"3ST\",Tables!$N$74,(IF($E5=\"4ST\",+Tables!$Q$74,+Tables!$T$74)))/100))","v":0.41600000000000004},{"$f":"IF(Inputs!$B$3=\"HSM\",(IF($E5=\"3ST\",Tables!$E$75,(IF($E5=\"4ST\",Tables!$H$75,Tables!$K$75)))/100),(IF($E5=\"3ST\",Tables!$N$75,(IF($E5=\"4ST\",+Tables!$Q$75,+Tables!$T$75)))/100))","v":0.09},{"$f":"IF(Inputs!$B$3=\"HSM\",(IF($E5=\"3ST\",Tables!$E$76,(IF($E5=\"4ST\",Tables!$H$76,Tables!$K$76)))/100),(IF($E5=\"3ST\",Tables!$N$76,(IF($E5=\"4ST\",+Tables!$Q$76,+Tables!$T$76)))/100))","v":0.20699999999999999},{"$f":"IF(Inputs!$B$3=\"HSM\",(IF($E5=\"3ST\",Tables!$E$77,(IF($E5=\"4ST\",Tables!$H$77,Tables!$K$77)))/100),(IF($E5=\"3ST\",Tables!$N$77,(IF($E5=\"4ST\",+Tables!$Q$77,+Tables!$T$77)))/100))","v":4.7E-2},{"$f":"IF(Inputs!$B$3=\"HSM\",(IF($E5=\"3ST\",Tables!$E$78,(IF($E5=\"4ST\",Tables!$H$78,Tables!$K$78)))/100),(IF($E5=\"3ST\",Tables!$N$78,(IF($E5=\"4ST\",+Tables!$Q$78,+Tables!$T$78)))/100))","v":6.7000000000000004E-2},{"$f":"IF(Inputs!$B$3=\"HSM\",(IF($E5=\"3ST\",Tables!$E$79,(IF($E5=\"4ST\",Tables!$H$79,Tables!$K$79)))/100),(IF($E5=\"3ST\",Tables!$N$79,(IF($E5=\"4ST\",+Tables!$Q$79,+Tables!$T$79)))/100))","v":0.82700000000000007},{"$f":"+$BD5*$DI5","v":0.22021961126664627},{"$f":"+$BD5*$DJ5","v":4.7643665899034043E-2},{"$f":"+$BD5*$DK5","v":0.10958043156777829},{"$f":"+$BD5*$DL5","v":2.4880581080606666E-2},{"$f":"+$BD5*$DM5","v":3.5468062391503123E-2},{"$f":"+$BD5*$DN5","v":0.43779235220556839},{"$f":"IF(Inputs!$B$3=\"HSM\",(IF($E5=\"3ST\",Tables!$F$74,(IF($E5=\"4ST\",Tables!$I$74,Tables!$L$74)))/100),(IF($E5=\"3ST\",Tables!$O$74,(IF($E5=\"4ST\",+Tables!$R$74,+Tables!$U$74)))/100))","v":0.18100000000000002},{"$f":"IF(Inputs!$B$3=\"HSM\",(IF($E5=\"3ST\",Tables!$F$75,(IF($E5=\"4ST\",Tables!$I$75,Tables!$L$75)))/100),(IF($E5=\"3ST\",Tables!$O$75,(IF($E5=\"4ST\",+Tables!$R$75,+Tables!$U$75)))/100))","v":2.6000000000000002E-2},{"$f":"IF(Inputs!$B$3=\"HSM\",(IF($E5=\"3ST\",Tables!$F$76,(IF($E5=\"4ST\",Tables!$I$76,Tables!$L$76)))/100),(IF($E5=\"3ST\",Tables!$O$76,(IF($E5=\"4ST\",+Tables!$R$76,+Tables!$U$76)))/100))","v":0.17399999999999999},{"$f":"IF(Inputs!$B$3=\"HSM\",(IF($E5=\"3ST\",Tables!$F$77,(IF($E5=\"4ST\",Tables!$I$77,Tables!$L$77)))/100),(IF($E5=\"3ST\",Tables!$O$77,(IF($E5=\"4ST\",+Tables!$R$77,+Tables!$U$77)))/100))","v":8.3000000000000004E-2},{"$f":"IF(Inputs!$B$3=\"HSM\",(IF($E5=\"3ST\",Tables!$F$78,(IF($E5=\"4ST\",Tables!$I$78,Tables!$L$78)))/100),(IF($E5=\"3ST\",Tables!$O$78,(IF($E5=\"4ST\",+Tables!$R$78,+Tables!$U$78)))/100))","v":9.8000000000000004E-2},{"$f":"IF(Inputs!$B$3=\"HSM\",(IF($E5=\"3ST\",Tables!$F$79,(IF($E5=\"4ST\",Tables!$I$79,Tables!$L$79)))/100),(IF($E5=\"3ST\",Tables!$O$79,(IF($E5=\"4ST\",+Tables!$R$79,+Tables!$U$79)))/100))","v":0.56200000000000006},{"$f":"+$BF5*$DU5","v":0.31191395738580374},{"$f":"+$BF5*$DV5","v":4.4805319845474569E-2},{"$f":"+$BF5*$DW5","v":0.29985098665817589},{"$f":"+$BF5*$DX5","v":0.14303236719901496},{"$f":"+$BF5*$DY5","v":0.16888159018678875},{"$f":"+$BF5*$DZ5","v":0.96848422127525802},{"$f":"+$AL5","v":1},{"$f":"+$AQ5","v":0.23499999999999999},{"$f":"+$AV5","v":0.76500000000000001},{"$f":"+$AZ5","v":1.7232815325182524},{"$f":"+$AU5","v":0.52937406554482269},{"$f":"+$AP5","v":2.2526555980630749}]
[2,"Banana","Toivo","Heritage County","4ST",2100,2000,"Y",0,5,0,0,"NP","N/A (1.000)","N/A (1.000)","N/A (1.000)",1,1,{"$f":"AVERAGE(INDIRECT(ADDRESS(MATCH(sYear,'Calibration Factors'!$A:$A,0),CHOOSE(MATCH(E6,{\"3ST\",\"4ST\",\"4SG\"},0),14,18,20),,,\"Calibration Factors\")&\":\"&ADDRESS(MATCH(eYear,'Calibration Factors'!$A:$A,0),CHOOSE(MATCH(E6,{\"3ST\",\"4ST\",\"4SG\"},0),14,18,20))))","v":1.6480646000000001},{"$f":"4/5","v":0.8},0.24,0.56157523454224323,2.1775096684401922,-1.3775096684401922,2.539586563269884,0.88357529743413732,1.0136839013817447,{"$f":"IF($E6=\"3ST\",(IF($K6=0,1,(HLOOKUP($K6,Tables!$AC$20:$AF$26,3,FALSE)))),(IF($E6=\"4ST\",(IF($K6=0,1,(HLOOKUP($K6,Tables!$AC$20:$AF$26,5,FALSE)))),(IF($K6=0,1,(HLOOKUP($K6,Tables!$AC$20:$AF$26,7,FALSE)))))))","v":1},{"$f":"IF($E6=\"3ST\",(IF($L6=0,1,(HLOOKUP($L6,Tables!$AC$36:$AF$42,3,FALSE)))),(IF($E6=\"4ST\",(IF($L6=0,1,(HLOOKUP($L6,Tables!$AC$36:$AF$42,5,FALSE)))),(IF($L6=0,1,(HLOOKUP($L6,Tables!$AC$36:$AF$42,7,FALSE)))))))","v":1},{"$f":"IF(($M6=\"NP\"),1,(1-0.38*(IF(Inputs!$B$3=\"HSM\",(VLOOKUP( $E6,Tables!$B$97:$F$99,4,FALSE)),(VLOOKUP($E6,Tables!$B$97:$H$99,6,FALSE))))))","v":1},{"$f":"OFFSET(Tables!$AO$1,MATCH(N6,Tables!$AO:$AO,0)-1,1)","v":1},{"$f":"OFFSET(Tables!$AO$1,MATCH(O6,Tables!$AO:$AO,0)-1,1)","v":1},{"$f":"OFFSET(Tables!$AO$1,MATCH(P6,Tables!$AO:$AO,0)-1,1)","v":1},1,1.0136839013817447,1.9471486555373982,0.24,{"$f":"IF($E6=\"3ST\",IF(Inputs!$B$3=\"HSM\",Tables!$E$55,Tables!$K$55),(IF($E6=\"4ST\",(IF(Inputs!$B$3=\"HSM\",Tables!$G$55,Tables!$M$55)),(IF(Inputs!$B$3=\"HSM\",Tables!$I$55,Tables!$O$55)))))/100","v":1},1.9471486555373982,1.0136839013817447,{"$f":"IF(Inputs!$B$3<>\"HSM\",$S6,$R6)","v":1.6480646000000001},3.2529387759826012,{"$f":"IF($E6=\"3ST\",IF(Inputs!$B$3=\"HSM\",Tables!$E$53,Tables!$K$53),(IF($E6=\"4ST\",(IF(Inputs!$B$3=\"HSM\",Tables!$G$53,Tables!$M$53)),(IF(Inputs!$B$3=\"HSM\",Tables!$I$53,Tables!$O$53)))))/100","v":0.23499999999999999},0.45757993405128855,1.0136839013817447,{"$f":"IF(Inputs!$B$3<>\"HSM\",$S6,$R6)","v":1.6480646000000001},0.76444061235591121,{"$f":"IF($E6=\"3ST\",IF(Inputs!$B$3=\"HSM\",Tables!$E$54,Tables!$K$54),(IF($E6=\"4ST\",(IF(Inputs!$B$3=\"HSM\",Tables!$G$54,Tables!$M$54)),(IF(Inputs!$B$3=\"HSM\",Tables!$I$54,Tables!$O$54)))))/100","v":0.76500000000000001},1.4895687214861097,1.0136839013817447,{"$f":"IF(Inputs!$B$3<>\"HSM\",$S6,$R6)","v":1.6480646000000001},2.4884981636266899,{"$f":"IF(Inputs!$B$3=\"HSM\",(IF($E6=\"3ST\",Tables!$G$80,(IF($E6=\"4ST\",Tables!$J$80,Tables!$M$80)))/100),(IF($E6=\"3ST\",Tables!$P$80,(IF($E6=\"4ST\",+Tables!$S$80,+Tables!$V$80)))/100))","v":1},3.2529387759826012,{"$f":"IF(Inputs!$B$3=\"HSM\",(IF($E6=\"3ST\",Tables!$E$80,(IF($E6=\"4ST\",Tables!$H$80,Tables!$K$80)))/100),(IF($E6=\"3ST\",Tables!$N$80,(IF($E6=\"4ST\",+Tables!$Q$80,+Tables!$T$80)))/100))","v":1},0.76444061235591121,{"$f":"IF(Inputs!$B$3=\"HSM\",(IF($E6=\"3ST\",Tables!$F$80,(IF($E6=\"4ST\",Tables!$I$80,Tables!$L$80)))/100),(IF($E6=\"3ST\",Tables!$O$80,(IF($E6=\"4ST\",+Tables!$R$80,+Tables!$U$80)))/100))","v":1},2.4884981636266899,{"$f":"IF(Inputs!$B$3=\"HSM\",(IF($E6=\"3ST\",Tables!$G$66,(IF($E6=\"4ST\",Tables!$J$66,Tables!$M$66)))/100),(IF($E6=\"3ST\",Tables!$P$66,(IF($E6=\"4ST\",+Tables!$S$66,+Tables!$V$66)))/100))","v":0.223},{"$f":"IF(Inputs!$B$3=\"HSM\",(IF($E6=\"3ST\",Tables!$G$67,(IF($E6=\"4ST\",Tables!$J$67,Tables!$M$67)))/100),(IF($E6=\"3ST\",Tables!$P$67,(IF($E6=\"4ST\",+Tables!$S$67,+Tables!$V$67)))/100))","v":4.0000000000000001E-3},{"$f":"IF(Inputs!$B$3=\"HSM\",(IF($E6=\"3ST\",Tables!$G$68,(IF($E6=\"4ST\",Tables!$J$68,Tables!$M$68)))/100),(IF($E6=\"3ST\",Tables!$P$68,(IF($E6=\"4ST\",+Tables!$S$68,+Tables!$V$68)))/100))","v":4.0000000000000001E-3},{"$f":"IF(Inputs!$B$3=\"HSM\",(IF($E6=\"3ST\",Tables!$G$69,(IF($E6=\"4ST\",Tables!$J$69,Tables!$M$69)))/100),(IF($E6=\"3ST\",Tables!$P$69,(IF($E6=\"4ST\",+Tables!$S$69,+Tables!$V$69)))/100))","v":1.8000000000000002E-2},{"$f":"IF(Inputs!$B$3=\"HSM\",(IF($E6=\"3ST\",Tables!$G$70,(IF($E6=\"4ST\",Tables!$J$70,Tables!$M$70)))/100),(IF($E6=\"3ST\",Tables!$P$70,(IF($E6=\"4ST\",+Tables!$S$70,+Tables!$V$70)))/100))","v":0.11},{"$f":"IF(Inputs!$B$3=\"HSM\",(IF($E6=\"3ST\",Tables!$G$71,(IF($E6=\"4ST\",Tables!$J$71,Tables!$M$71)))/100),(IF($E6=\"3ST\",Tables!$P$71,(IF($E6=\"4ST\",+Tables!$S$71,+Tables!$V$71)))/100))","v":1.6E-2},{"$f":"IF(Inputs!$B$3=\"HSM\",(IF($E6=\"3ST\",Tables!$G$72,(IF($E6=\"4ST\",Tables!$J$72,Tables!$M$72)))/100),(IF($E6=\"3ST\",Tables!$P$72,(IF($E6=\"4ST\",+Tables!$S$72,+Tables!$V$72)))/100))","v":0.375},0.72540534704412007,1.3011755103930406E-2,1.3011755103930406E-2,5.8552897967686826E-2,0.35782326535808612,5.2047020415721623E-2,1.2198520409934754,{"$f":"IF(Inputs!$B$3=\"HSM\",(IF($E6=\"3ST\",Tables!$E$66,(IF($E6=\"4ST\",Tables!$H$66,Tables!$K$66)))/100),(IF($E6=\"3ST\",Tables!$N$66,(IF($E6=\"4ST\",+Tables!$Q$66,+Tables!$T$66)))/100))","v":1.4999999999999999E-2},{"$f":"IF(Inputs!$B$3=\"HSM\",(IF($E6=\"3ST\",Tables!$E$67,(IF($E6=\"4ST\",Tables!$H$67,Tables!$K$67)))/100),(IF($E6=\"3ST\",Tables!$N$67,(IF($E6=\"4ST\",+Tables!$Q$67,+Tables!$T$67)))/100))","v":1.2E-2},{"$f":"IF(Inputs!$B$3=\"HSM\",(IF($E6=\"3ST\",Tables!$E$68,(IF($E6=\"4ST\",Tables!$H$68,Tables!$K$68)))/100),(IF($E6=\"3ST\",Tables!$N$68,(IF($E6=\"4ST\",+Tables!$Q$68,+Tables!$T$68)))/100))","v":1.4999999999999999E-2},{"$f":"IF(Inputs!$B$3=\"HSM\",(IF($E6=\"3ST\",Tables!$E$69,(IF($E6=\"4ST\",Tables!$H$69,Tables!$K$69)))/100),(IF($E6=\"3ST\",Tables!$N$69,(IF($E6=\"4ST\",+Tables!$Q$69,+Tables!$T$69)))/100))","v":3.1E-2},{"$f":"IF(Inputs!$B$3=\"HSM\",(IF($E6=\"3ST\",Tables!$E$70,(IF($E6=\"4ST\",Tables!$H$70,Tables!$K$70)))/100),(IF($E6=\"3ST\",Tables!$N$70,(IF($E6=\"4ST\",+Tables!$Q$70,+Tables!$T$70)))/100))","v":8.5000000000000006E-2},{"$f":"IF(Inputs!$B$3=\"HSM\",(IF($E6=\"3ST\",Tables!$E$71,(IF($E6=\"4ST\",Tables!$H$71,Tables!$K$71)))/100),(IF($E6=\"3ST\",Tables!$N$71,(IF($E6=\"4ST\",+Tables!$Q$71,+Tables!$T$71)))/100))","v":1.4999999999999999E-2},{"$f":"IF(Inputs!$B$3=\"HSM\",(IF($E6=\"3ST\",Tables!$E$72,(IF($E6=\"4ST\",Tables!$H$72,Tables!$K$72)))/100),(IF($E6=\"3ST\",Tables!$N$72,(IF($E6=\"4ST\",+Tables!$Q$72,+Tables!$T$72)))/100))","v":0.17300000000000001},1.1466609185338667E-2,9.1732873482709351E-3,1.1466609185338667E-2,2.3697658983033248E-2,6.497745205025246E-2,1.1466609185338667E-2,0.13224822593757266,{"$f":"IF(Inputs!$B$3=\"HSM\",(IF($E6=\"3ST\",Tables!$F$66,(IF($E6=\"4ST\",Tables!$I$66,Tables!$L$66)))/100),(IF($E6=\"3ST\",Tables!$O$66,(IF($E6=\"4ST\",+Tables!$R$66,+Tables!$U$66)))/100))","v":0.28800000000000003},{"$f":"IF(Inputs!$B$3=\"HSM\",(IF($E6=\"3ST\",Tables!$F$67,(IF($E6=\"4ST\",Tables!$I$67,Tables!$L$67)))/100),(IF($E6=\"3ST\",Tables!$O$67,(IF($E6=\"4ST\",+Tables!$R$67,+Tables!$U$67)))/100))","v":1E-3},{"$f":"IF(Inputs!$B$3=\"HSM\",(IF($E6=\"3ST\",Tables!$F$68,(IF($E6=\"4ST\",Tables!$I$68,Tables!$L$68)))/100),(IF($E6=\"3ST\",Tables!$O$68,(IF($E6=\"4ST\",+Tables!$R$68,+Tables!$U$68)))/100))","v":0},{"$f":"IF(Inputs!$B$3=\"HSM\",(IF($E6=\"3ST\",Tables!$F$69,(IF($E6=\"4ST\",Tables!$I$69,Tables!$L$69)))/100),(IF($E6=\"3ST\",Tables!$O$69,(IF($E6=\"4ST\",+Tables!$R$69,+Tables!$U$69)))/100))","v":1.3999999999999999E-2},{"$f":"IF(Inputs!$B$3=\"HSM\",(IF($E6=\"3ST\",Tables!$F$70,(IF($E6=\"4ST\",Tables!$I$70,Tables!$L$70)))/100),(IF($E6=\"3ST\",Tables!$O$70,(IF($E6=\"4ST\",+Tables!$R$70,+Tables!$U$70)))/100))","v":0.11800000000000001},{"$f":"IF(Inputs!$B$3=\"HSM\",(IF($E6=\"3ST\",Tables!$F$71,(IF($E6=\"4ST\",Tables!$I$71,Tables!$L$71)))/100),(IF($E6=\"3ST\",Tables!$O$71,(IF($E6=\"4ST\",+Tables!$R$71,+Tables!$U$71)))/100))","v":1.7000000000000001E-2},{"$f":"IF(Inputs!$B$3=\"HSM\",(IF($E6=\"3ST\",Tables!$F$72,(IF($E6=\"4ST\",Tables!$I$72,Tables!$L$72)))/100),(IF($E6=\"3ST\",Tables!$O$72,(IF($E6=\"4ST\",+Tables!$R$72,+Tables!$U$72)))/100))","v":0.43800000000000006},0.71668747112448672,2.4884981636266899E-3,0,3.4838974290773657E-2,0.29364278330794941,4.2304468781653733E-2,1.0899621956684904,{"$f":"IF(Inputs!$B$3=\"HSM\",(IF($E6=\"3ST\",Tables!$G$74,(IF($E6=\"4ST\",Tables!$J$74,Tables!$M$74)))/100),(IF($E6=\"3ST\",Tables!$P$74,(IF($E6=\"4ST\",+Tables!$S$74,+Tables!$V$74)))/100))","v":0.23800000000000002},{"$f":"IF(Inputs!$B$3=\"HSM\",(IF($E6=\"3ST\",Tables!$G$75,(IF($E6=\"4ST\",Tables!$J$75,Tables!$M$75)))/100),(IF($E6=\"3ST\",Tables!$P$75,(IF($E6=\"4ST\",+Tables!$S$75,+Tables!$V$75)))/100))","v":4.0999999999999995E-2},{"$f":"IF(Inputs!$B$3=\"HSM\",(IF($E6=\"3ST\",Tables!$G$76,(IF($E6=\"4ST\",Tables!$J$76,Tables!$M$76)))/100),(IF($E6=\"3ST\",Tables!$P$76,(IF($E6=\"4ST\",+Tables!$S$76,+Tables!$V$76)))/100))","v":0.18100000000000002},{"$f":"IF(Inputs!$B$3=\"HSM\",(IF($E6=\"3ST\",Tables!$G$77,(IF($E6=\"4ST\",Tables!$J$77,Tables!$M$77)))/100),(IF($E6=\"3ST\",Tables!$P$77,(IF($E6=\"4ST\",+Tables!$S$77,+Tables!$V$77)))/100))","v":7.400000000000001E-2},{"$f":"IF(Inputs!$B$3=\"HSM\",(IF($E6=\"3ST\",Tables!$G$78,(IF($E6=\"4ST\",Tables!$J$78,Tables!$M$78)))/100),(IF($E6=\"3ST\",Tables!$P$78,(IF($E6=\"4ST\",+Tables!$S$78,+Tables!$V$78)))/100))","v":9.0999999999999998E-2},{"$f":"IF(Inputs!$B$3=\"HSM\",(IF($E6=\"3ST\",Tables!$G$79,(IF($E6=\"4ST\",Tables!$J$79,Tables!$M$79)))/100),(IF($E6=\"3ST\",Tables!$P$79,(IF($E6=\"4ST\",+Tables!$S$79,+Tables!$V$79)))/100))","v":0.625},0.77419942868385916,0.13337048981528662,0.58878191845285088,0.24071746942271252,0.29601742861441671,2.0330867349891255,{"$f":"IF(Inputs!$B$3=\"HSM\",(IF($E6=\"3ST\",Tables!$E$74,(IF($E6=\"4ST\",Tables!$H$74,Tables!$K$74)))/100),(IF($E6=\"3ST\",Tables!$N$74,(IF($E6=\"4ST\",+Tables!$Q$74,+Tables!$T$74)))/100))","v":0.41600000000000004},{"$f":"IF(Inputs!$B$3=\"HSM\",(IF($E6=\"3ST\",Tables!$E$75,(IF($E6=\"4ST\",Tables!$H$75,Tables!$K$75)))/100),(IF($E6=\"3ST\",Tables!$N$75,(IF($E6=\"4ST\",+Tables!$Q$75,+Tables!$T$75)))/100))","v":0.09},{"$f":"IF(Inputs!$B$3=\"HSM\",(IF($E6=\"3ST\",Tables!$E$76,(IF($E6=\"4ST\",Tables!$H$76,Tables!$K$76)))/100),(IF($E6=\"3ST\",Tables!$N$76,(IF($E6=\"4ST\",+Tables!$Q$76,+Tables!$T$76)))/100))","v":0.20699999999999999},{"$f":"IF(Inputs!$B$3=\"HSM\",(IF($E6=\"3ST\",Tables!$E$77,(IF($E6=\"4ST\",Tables!$H$77,Tables!$K$77)))/100),(IF($E6=\"3ST\",Tables!$N$77,(IF($E6=\"4ST\",+Tables!$Q$77,+Tables!$T$77)))/100))","v":4.7E-2},{"$f":"IF(Inputs!$B$3=\"HSM\",(IF($E6=\"3ST\",Tables!$E$78,(IF($E6=\"4ST\",Tables!$H$78,Tables!$K$78)))/100),(IF($E6=\"3ST\",Tables!$N$78,(IF($E6=\"4ST\",+Tables!$Q$78,+Tables!$T$78)))/100))","v":6.7000000000000004E-2},{"$f":"IF(Inputs!$B$3=\"HSM\",(IF($E6=\"3ST\",Tables!$E$79,(IF($E6=\"4ST\",Tables!$H$79,Tables!$K$79)))/100),(IF($E6=\"3ST\",Tables!$N$79,(IF($E6=\"4ST\",+Tables!$Q$79,+Tables!$T$79)))/100))","v":0.82700000000000007},0.31800729474005907,6.879965511203201E-2,0.15823920675767361,3.5928708780727826E-2,5.1217521027846054E-2,0.63219238641833864,{"$f":"IF(Inputs!$B$3=\"HSM\",(IF($E6=\"3ST\",Tables!$F$74,(IF($E6=\"4ST\",Tables!$I$74,Tables!$L$74)))/100),(IF($E6=\"3ST\",Tables!$O$74,(IF($E6=\"4ST\",+Tables!$R$74,+Tables!$U$74)))/100))","v":0.18100000000000002},{"$f":"IF(Inputs!$B$3=\"HSM\",(IF($E6=\"3ST\",Tables!$F$75,(IF($E6=\"4ST\",Tables!$I$75,Tables!$L$75)))/100),(IF($E6=\"3ST\",Tables!$O$75,(IF($E6=\"4ST\",+Tables!$R$75,+Tables!$U$75)))/100))","v":2.6000000000000002E-2},{"$f":"IF(Inputs!$B$3=\"HSM\",(IF($E6=\"3ST\",Tables!$F$76,(IF($E6=\"4ST\",Tables!$I$76,Tables!$L$76)))/100),(IF($E6=\"3ST\",Tables!$O$76,(IF($E6=\"4ST\",+Tables!$R$76,+Tables!$U$76)))/100))","v":0.17399999999999999},{"$f":"IF(Inputs!$B$3=\"HSM\",(IF($E6=\"3ST\",Tables!$F$77,(IF($E6=\"4ST\",Tables!$I$77,Tables!$L$77)))/100),(IF($E6=\"3ST\",Tables!$O$77,(IF($E6=\"4ST\",+Tables!$R$77,+Tables!$U$77)))/100))","v":8.3000000000000004E-2},{"$f":"IF(Inputs!$B$3=\"HSM\",(IF($E6=\"3ST\",Tables!$F$78,(IF($E6=\"4ST\",Tables!$I$78,Tables!$L$78)))/100),(IF($E6=\"3ST\",Tables!$O$78,(IF($E6=\"4ST\",+Tables!$R$78,+Tables!$U$78)))/100))","v":9.8000000000000004E-2},{"$f":"IF(Inputs!$B$3=\"HSM\",(IF($E6=\"3ST\",Tables!$F$79,(IF($E6=\"4ST\",Tables!$I$79,Tables!$L$79)))/100),(IF($E6=\"3ST\",Tables!$O$79,(IF($E6=\"4ST\",+Tables!$R$79,+Tables!$U$79)))/100))","v":0.56200000000000006},0.45041816761643094,6.4700952254293939E-2,0.43299868047104401,0.20654534758101528,0.24387282003541561,1.3985359679581999,1,0.23499999999999999,0.76500000000000001,2.4884981636266899,0.76444061235591121,3.2529387759826012]
[3,"Mango","Aili","Heritage County","4ST",3200,1150,"N",10,null,0,0,"NP","N/A (1.000)","N/A (1.000)","N/A (1.000)",1,1,{"$f":"AVERAGE(INDIRECT(ADDRESS(MATCH(sYear,'Calibration Factors'!$A:$A,0),CHOOSE(MATCH(E7,{\"3ST\",\"4ST\",\"4SG\"},0),14,18,20),,,\"Calibration Factors\")&\":\"&ADDRESS(MATCH(eYear,'Calibration Factors'!$A:$A,0),CHOOSE(MATCH(E7,{\"3ST\",\"4ST\",\"4SG\"},0),14,18,20))))","v":1.6480646000000001},{"$f":"5/5","v":1},0.24,0.57248216311337008,2.208842157247588,-1.208842157247588,2.3236639308325739,0.86416393914569334,1.0554846021550801,{"$f":"IF($E7=\"3ST\",(IF($K7=0,1,(HLOOKUP($K7,Tables!$AC$20:$AF$26,3,FALSE)))),(IF($E7=\"4ST\",(IF($K7=0,1,(HLOOKUP($K7,Tables!$AC$20:$AF$26,5,FALSE)))),(IF($K7=0,1,(HLOOKUP($K7,Tables!$AC$20:$AF$26,7,FALSE)))))))","v":1},{"$f":"IF($E7=\"3ST\",(IF($L7=0,1,(HLOOKUP($L7,Tables!$AC$36:$AF$42,3,FALSE)))),(IF($E7=\"4ST\",(IF($L7=0,1,(HLOOKUP($L7,Tables!$AC$36:$AF$42,5,FALSE)))),(IF($L7=0,1,(HLOOKUP($L7,Tables!$AC$36:$AF$42,7,FALSE)))))))","v":1},{"$f":"IF(($M7=\"NP\"),1,(1-0.38*(IF(Inputs!$B$3=\"HSM\",(VLOOKUP( $E7,Tables!$B$97:$F$99,4,FALSE)),(VLOOKUP($E7,Tables!$B$97:$H$99,6,FALSE))))))","v":1},{"$f":"OFFSET(Tables!$AO$1,MATCH(N7,Tables!$AO:$AO,0)-1,1)","v":1},{"$f":"OFFSET(Tables!$AO$1,MATCH(O7,Tables!$AO:$AO,0)-1,1)","v":1},{"$f":"OFFSET(Tables!$AO$1,MATCH(P7,Tables!$AO:$AO,0)-1,1)","v":1},1,1.0554846021550801,1.7887716554757593,0.24,{"$f":"IF($E7=\"3ST\",IF(Inputs!$B$3=\"HSM\",Tables!$E$55,Tables!$K$55),(IF($E7=\"4ST\",(IF(Inputs!$B$3=\"HSM\",Tables!$G$55,Tables!$M$55)),(IF(Inputs!$B$3=\"HSM\",Tables!$I$55,Tables!$O$55)))))/100","v":1},1.7887716554757593,1.0554846021550801,{"$f":"IF(Inputs!$B$3<>\"HSM\",$S7,$R7)","v":1.6480646000000001},3.1115804738325066,{"$f":"IF($E7=\"3ST\",IF(Inputs!$B$3=\"HSM\",Tables!$E$53,Tables!$K$53),(IF($E7=\"4ST\",(IF(Inputs!$B$3=\"HSM\",Tables!$G$53,Tables!$M$53)),(IF(Inputs!$B$3=\"HSM\",Tables!$I$53,Tables!$O$53)))))/100","v":0.23499999999999999},0.42036133903680339,1.0554846021550801,{"$f":"IF(Inputs!$B$3<>\"HSM\",$S7,$R7)","v":1.6480646000000001},0.73122141135063901,{"$f":"IF($E7=\"3ST\",IF(Inputs!$B$3=\"HSM\",Tables!$E$54,Tables!$K$54),(IF($E7=\"4ST\",(IF(Inputs!$B$3=\"HSM\",Tables!$G$54,Tables!$M$54)),(IF(Inputs!$B$3=\"HSM\",Tables!$I$54,Tables!$O$54)))))/100","v":0.76500000000000001},1.3684103164389558,1.0554846021550801,{"$f":"IF(Inputs!$B$3<>\"HSM\",$S7,$R7)","v":1.6480646000000001},2.3803590624818676,{"$f":"IF(Inputs!$B$3=\"HSM\",(IF($E7=\"3ST\",Tables!$G$80,(IF($E7=\"4ST\",Tables!$J$80,Tables!$M$80)))/100),(IF($E7=\"3ST\",Tables!$P$80,(IF($E7=\"4ST\",+Tables!$S$80,+Tables!$V$80)))/100))","v":1},3.1115804738325066,{"$f":"IF(Inputs!$B$3=\"HSM\",(IF($E7=\"3ST\",Tables!$E$80,(IF($E7=\"4ST\",Tables!$H$80,Tables!$K$80)))/100),(IF($E7=\"3ST\",Tables!$N$80,(IF($E7=\"4ST\",+Tables!$Q$80,+Tables!$T$80)))/100))","v":1},0.73122141135063901,{"$f":"IF(Inputs!$B$3=\"HSM\",(IF($E7=\"3ST\",Tables!$F$80,(IF($E7=\"4ST\",Tables!$I$80,Tables!$L$80)))/100),(IF($E7=\"3ST\",Tables!$O$80,(IF($E7=\"4ST\",+Tables!$R$80,+Tables!$U$80)))/100))","v":1},2.3803590624818676,{"$f":"IF(Inputs!$B$3=\"HSM\",(IF($E7=\"3ST\",Tables!$G$66,(IF($E7=\"4ST\",Tables!$J$66,Tables!$M$66)))/100),(IF($E7=\"3ST\",Tables!$P$66,(IF($E7=\"4ST\",+Tables!$S$66,+Tables!$V$66)))/100))","v":0.223},{"$f":"IF(Inputs!$B$3=\"HSM\",(IF($E7=\"3ST\",Tables!$G$67,(IF($E7=\"4ST\",Tables!$J$67,Tables!$M$67)))/100),(IF($E7=\"3ST\",Tables!$P$67,(IF($E7=\"4ST\",+Tables!$S$67,+Tables!$V$67)))/100))","v":4.0000000000000001E-3},{"$f":"IF(Inputs!$B$3=\"HSM\",(IF($E7=\"3ST\",Tables!$G$68,(IF($E7=\"4ST\",Tables!$J$68,Tables!$M$68)))/100),(IF($E7=\"3ST\",Tables!$P$68,(IF($E7=\"4ST\",+Tables!$S$68,+Tables!$V$68)))/100))","v":4.0000000000000001E-3},{"$f":"IF(Inputs!$B$3=\"HSM\",(IF($E7=\"3ST\",Tables!$G$69,(IF($E7=\"4ST\",Tables!$J$69,Tables!$M$69)))/100),(IF($E7=\"3ST\",Tables!$P$69,(IF($E7=\"4ST\",+Tables!$S$69,+Tables!$V$69)))/100))","v":1.8000000000000002E-2},{"$f":"IF(Inputs!$B$3=\"HSM\",(IF($E7=\"3ST\",Tables!$G$70,(IF($E7=\"4ST\",Tables!$J$70,Tables!$M$70)))/100),(IF($E7=\"3ST\",Tables!$P$70,(IF($E7=\"4ST\",+Tables!$S$70,+Tables!$V$70)))/100))","v":0.11},{"$f":"IF(Inputs!$B$3=\"HSM\",(IF($E7=\"3ST\",Tables!$G$71,(IF($E7=\"4ST\",Tables!$J$71,Tables!$M$71)))/100),(IF($E7=\"3ST\",Tables!$P$71,(IF($E7=\"4ST\",+Tables!$S$71,+Tables!$V$71)))/100))","v":1.6E-2},{"$f":"IF(Inputs!$B$3=\"HSM\",(IF($E7=\"3ST\",Tables!$G$72,(IF($E7=\"4ST\",Tables!$J$72,Tables!$M$72)))/100),(IF($E7=\"3ST\",Tables!$P$72,(IF($E7=\"4ST\",+Tables!$S$72,+Tables!$V$72)))/100))","v":0.375},0.69388244566464896,1.2446321895330027E-2,1.2446321895330027E-2,5.6008448528985122E-2,0.34227385212157574,4.9785287581320108E-2,1.1668426776871899,{"$f":"IF(Inputs!$B$3=\"HSM\",(IF($E7=\"3ST\",Tables!$E$66,(IF($E7=\"4ST\",Tables!$H$66,Tables!$K$66)))/100),(IF($E7=\"3ST\",Tables!$N$66,(IF($E7=\"4ST\",+Tables!$Q$66,+Tables!$T$66)))/100))","v":1.4999999999999999E-2},{"$f":"IF(Inputs!$B$3=\"HSM\",(IF($E7=\"3ST\",Tables!$E$67,(IF($E7=\"4ST\",Tables!$H$67,Tables!$K$67)))/100),(IF($E7=\"3ST\",Tables!$N$67,(IF($E7=\"4ST\",+Tables!$Q$67,+Tables!$T$67)))/100))","v":1.2E-2},{"$f":"IF(Inputs!$B$3=\"HSM\",(IF($E7=\"3ST\",Tables!$E$68,(IF($E7=\"4ST\",Tables!$H$68,Tables!$K$68)))/100),(IF($E7=\"3ST\",Tables!$N$68,(IF($E7=\"4ST\",+Tables!$Q$68,+Tables!$T$68)))/100))","v":1.4999999999999999E-2},{"$f":"IF(Inputs!$B$3=\"HSM\",(IF($E7=\"3ST\",Tables!$E$69,(IF($E7=\"4ST\",Tables!$H$69,Tables!$K$69)))/100),(IF($E7=\"3ST\",Tables!$N$69,(IF($E7=\"4ST\",+Tables!$Q$69,+Tables!$T$69)))/100))","v":3.1E-2},{"$f":"IF(Inputs!$B$3=\"HSM\",(IF($E7=\"3ST\",Tables!$E$70,(IF($E7=\"4ST\",Tables!$H$70,Tables!$K$70)))/100),(IF($E7=\"3ST\",Tables!$N$70,(IF($E7=\"4ST\",+Tables!$Q$70,+Tables!$T$70)))/100))","v":8.5000000000000006E-2},{"$f":"IF(Inputs!$B$3=\"HSM\",(IF($E7=\"3ST\",Tables!$E$71,(IF($E7=\"4ST\",Tables!$H$71,Tables!$K$71)))/100),(IF($E7=\"3ST\",Tables!$N$71,(IF($E7=\"4ST\",+Tables!$Q$71,+Tables!$T$71)))/100))","v":1.4999999999999999E-2},{"$f":"IF(Inputs!$B$3=\"HSM\",(IF($E7=\"3ST\",Tables!$E$72,(IF($E7=\"4ST\",Tables!$H$72,Tables!$K$72)))/100),(IF($E7=\"3ST\",Tables!$N$72,(IF($E7=\"4ST\",+Tables!$Q$72,+Tables!$T$72)))/100))","v":0.17300000000000001},1.0968321170259584E-2,8.7746569362076674E-3,1.0968321170259584E-2,2.2667863751869809E-2,6.2153819964804319E-2,1.0968321170259584E-2,0.12650130416366057,{"$f":"IF(Inputs!$B$3=\"HSM\",(IF($E7=\"3ST\",Tables!$F$66,(IF($E7=\"4ST\",Tables!$I$66,Tables!$L$66)))/100),(IF($E7=\"3ST\",Tables!$O$66,(IF($E7=\"4ST\",+Tables!$R$66,+Tables!$U$66)))/100))","v":0.28800000000000003},{"$f":"IF(Inputs!$B$3=\"HSM\",(IF($E7=\"3ST\",Tables!$F$67,(IF($E7=\"4ST\",Tables!$I$67,Tables!$L$67)))/100),(IF($E7=\"3ST\",Tables!$O$67,(IF($E7=\"4ST\",+Tables!$R$67,+Tables!$U$67)))/100))","v":1E-3},{"$f":"IF(Inputs!$B$3=\"HSM\",(IF($E7=\"3ST\",Tables!$F$68,(IF($E7=\"4ST\",Tables!$I$68,Tables!$L$68)))/100),(IF($E7=\"3ST\",Tables!$O$68,(IF($E7=\"4ST\",+Tables!$R$68,+Tables!$U$68)))/100))","v":0},{"$f":"IF(Inputs!$B$3=\"HSM\",(IF($E7=\"3ST\",Tables!$F$69,(IF($E7=\"4ST\",Tables!$I$69,Tables!$L$69)))/100),(IF($E7=\"3ST\",Tables!$O$69,(IF($E7=\"4ST\",+Tables!$R$69,+Tables!$U$69)))/100))","v":1.3999999999999999E-2},{"$f":"IF(Inputs!$B$3=\"HSM\",(IF($E7=\"3ST\",Tables!$F$70,(IF($E7=\"4ST\",Tables!$I$70,Tables!$L$70)))/100),(IF($E7=\"3ST\",Tables!$O$70,(IF($E7=\"4ST\",+Tables!$R$70,+Tables!$U$70)))/100))","v":0.11800000000000001},{"$f":"IF(Inputs!$B$3=\"HSM\",(IF($E7=\"3ST\",Tables!$F$71,(IF($E7=\"4ST\",Tables!$I$71,Tables!$L$71)))/100),(IF($E7=\"3ST\",Tables!$O$71,(IF($E7=\"4ST\",+Tables!$R$71,+Tables!$U$71)))/100))","v":1.7000000000000001E-2},{"$f":"IF(Inputs!$B$3=\"HSM\",(IF($E7=\"3ST\",Tables!$F$72,(IF($E7=\"4ST\",Tables!$I$72,Tables!$L$72)))/100),(IF($E7=\"3ST\",Tables!$O$72,(IF($E7=\"4ST\",+Tables!$R$72,+Tables!$U$72)))/100))","v":0.43800000000000006},0.68554340999477792,2.3803590624818676E-3,0,3.3325026874746144E-2,0.28088236937286037,4.0466104062191754E-2,1.0425972693670582,{"$f":"IF(Inputs!$B$3=\"HSM\",(IF($E7=\"3ST\",Tables!$G$74,(IF($E7=\"4ST\",Tables!$J$74,Tables!$M$74)))/100),(IF($E7=\"3ST\",Tables!$P$74,(IF($E7=\"4ST\",+Tables!$S$74,+Tables!$V$74)))/100))","v":0.23800000000000002},{"$f":"IF(Inputs!$B$3=\"HSM\",(IF($E7=\"3ST\",Tables!$G$75,(IF($E7=\"4ST\",Tables!$J$75,Tables!$M$75)))/100),(IF($E7=\"3ST\",Tables!$P$75,(IF($E7=\"4ST\",+Tables!$S$75,+Tables!$V$75)))/100))","v":4.0999999999999995E-2},{"$f":"IF(Inputs!$B$3=\"HSM\",(IF($E7=\"3ST\",Tables!$G$76,(IF($E7=\"4ST\",Tables!$J$76,Tables!$M$76)))/100),(IF($E7=\"3ST\",Tables!$P$76,(IF($E7=\"4ST\",+Tables!$S$76,+Tables!$V$76)))/100))","v":0.18100000000000002},{"$f":"IF(Inputs!$B$3=\"HSM\",(IF($E7=\"3ST\",Tables!$G$77,(IF($E7=\"4ST\",Tables!$J$77,Tables!$M$77)))/100),(IF($E7=\"3ST\",Tables!$P$77,(IF($E7=\"4ST\",+Tables!$S$77,+Tables!$V$77)))/100))","v":7.400000000000001E-2},{"$f":"IF(Inputs!$B$3=\"HSM\",(IF($E7=\"3ST\",Tables!$G$78,(IF($E7=\"4ST\",Tables!$J$78,Tables!$M$78)))/100),(IF($E7=\"3ST\",Tables!$P$78,(IF($E7=\"4ST\",+Tables!$S$78,+Tables!$V$78)))/100))","v":9.0999999999999998E-2},{"$f":"IF(Inputs!$B$3=\"HSM\",(IF($E7=\"3ST\",Tables!$G$79,(IF($E7=\"4ST\",Tables!$J$79,Tables!$M$79)))/100),(IF($E7=\"3ST\",Tables!$P$79,(IF($E7=\"4ST\",+Tables!$S$79,+Tables!$V$79)))/100))","v":0.625},0.7405561527721366,0.12757479942713276,0.56319606576368375,0.23025695506360552,0.28315382311875809,1.9447377961453167,{"$f":"IF(Inputs!$B$3=\"HSM\",(IF($E7=\"3ST\",Tables!$E$74,(IF($E7=\"4ST\",Tables!$H$74,Tables!$K$74)))/100),(IF($E7=\"3ST\",Tables!$N$74,(IF($E7=\"4ST\",+Tables!$Q$74,+Tables!$T$74)))/100))","v":0.41600000000000004},{"$f":"IF(Inputs!$B$3=\"HSM\",(IF($E7=\"3ST\",Tables!$E$75,(IF($E7=\"4ST\",Tables!$H$75,Tables!$K$75)))/100),(IF($E7=\"3ST\",Tables!$N$75,(IF($E7=\"4ST\",+Tables!$Q$75,+Tables!$T$75)))/100))","v":0.09},{"$f":"IF(Inputs!$B$3=\"HSM\",(IF($E7=\"3ST\",Tables!$E$76,(IF($E7=\"4ST\",Tables!$H$76,Tables!$K$76)))/100),(IF($E7=\"3ST\",Tables!$N$76,(IF($E7=\"4ST\",+Tables!$Q$76,+Tables!$T$76)))/100))","v":0.20699999999999999},{"$f":"IF(Inputs!$B$3=\"HSM\",(IF($E7=\"3ST\",Tables!$E$77,(IF($E7=\"4ST\",Tables!$H$77,Tables!$K$77)))/100),(IF($E7=\"3ST\",Tables!$N$77,(IF($E7=\"4ST\",+Tables!$Q$77,+Tables!$T$77)))/100))","v":4.7E-2},{"$f":"IF(Inputs!$B$3=\"HSM\",(IF($E7=\"3ST\",Tables!$E$78,(IF($E7=\"4ST\",Tables!$H$78,Tables!$K$78)))/100),(IF($E7=\"3ST\",Tables!$N$78,(IF($E7=\"4ST\",+Tables!$Q$78,+Tables!$T$78)))/100))","v":6.7000000000000004E-2},{"$f":"IF(Inputs!$B$3=\"HSM\",(IF($E7=\"3ST\",Tables!$E$79,(IF($E7=\"4ST\",Tables!$H$79,Tables!$K$79)))/100),(IF($E7=\"3ST\",Tables!$N$79,(IF($E7=\"4ST\",+Tables!$Q$79,+Tables!$T$79)))/100))","v":0.82700000000000007},0.30418810712186584,6.580992702155751E-2,0.15136283214958227,3.4367406333480031E-2,4.8991834560492817E-2,0.60472010718697855,{"$f":"IF(Inputs!$B$3=\"HSM\",(IF($E7=\"3ST\",Tables!$F$74,(IF($E7=\"4ST\",Tables!$I$74,Tables!$L$74)))/100),(IF($E7=\"3ST\",Tables!$O$74,(IF($E7=\"4ST\",+Tables!$R$74,+Tables!$U$74)))/100))","v":0.18100000000000002},{"$f":"IF(Inputs!$B$3=\"HSM\",(IF($E7=\"3ST\",Tables!$F$75,(IF($E7=\"4ST\",Tables!$I$75,Tables!$L$75)))/100),(IF($E7=\"3ST\",Tables!$O$75,(IF($E7=\"4ST\",+Tables!$R$75,+Tables!$U$75)))/100))","v":2.6000000000000002E-2},{"$f":"IF(Inputs!$B$3=\"HSM\",(IF($E7=\"3ST\",Tables!$F$76,(IF($E7=\"4ST\",Tables!$I$76,Tables!$L$76)))/100),(IF($E7=\"3ST\",Tables!$O$76,(IF($E7=\"4ST\",+Tables!$R$76,+Tables!$U$76)))/100))","v":0.17399999999999999},{"$f":"IF(Inputs!$B$3=\"HSM\",(IF($E7=\"3ST\",Tables!$F$77,(IF($E7=\"4ST\",Tables!$I$77,Tables!$L$77)))/100),(IF($E7=\"3ST\",Tables!$O$77,(IF($E7=\"4ST\",+Tables!$R$77,+Tables!$U$77)))/100))","v":8.3000000000000004E-2},{"$f":"IF(Inputs!$B$3=\"HSM\",(IF($E7=\"3ST\",Tables!$F$78,(IF($E7=\"4ST\",Tables!$I$78,Tables!$L$78)))/100),(IF($E7=\"3ST\",Tables!$O$78,(IF($E7=\"4ST\",+Tables!$R$78,+Tables!$U$78)))/100))","v":9.8000000000000004E-2},{"$f":"IF(Inputs!$B$3=\"HSM\",(IF($E7=\"3ST\",Tables!$F$79,(IF($E7=\"4ST\",Tables!$I$79,Tables!$L$79)))/100),(IF($E7=\"3ST\",Tables!$O$79,(IF($E7=\"4ST\",+Tables!$R$79,+Tables!$U$79)))/100))","v":0.56200000000000006},0.43084499030921808,6.1889335624528564E-2,0.41418247687184495,0.19756980218599501,0.23327518812322304,1.3377617931148098,1,0.23499999999999999,0.76500000000000001,2.3803590624818676,0.73122141135063901,3.1115804738325066]
[4,"Pineapple","Emil","Heritage County","4ST",3500,3300,"N",0,null,2,0,"NP","N/A (1.000)","N/A (1.000)","N/A (1.000)",1,1,{"$f":"AVERAGE(INDIRECT(ADDRESS(MATCH(sYear,'Calibration Factors'!$A:$A,0),CHOOSE(MATCH(E8,{\"3ST\",\"4ST\",\"4SG\"},0),14,18,20),,,\"Calibration Factors\")&\":\"&ADDRESS(MATCH(eYear,'Calibration Factors'!$A:$A,0),CHOOSE(MATCH(E8,{\"3ST\",\"4ST\",\"4SG\"},0),14,18,20))))","v":1.6480646000000001},{"$f":"25/5","v":5},0.24,0.57520182828222222,3.8939832407462966,1.1060167592537034,2.2725503837944676,0.85937198247736013,1,{"$f":"IF($E8=\"3ST\",(IF($K8=0,1,(HLOOKUP($K8,Tables!$AC$20:$AF$26,3,FALSE)))),(IF($E8=\"4ST\",(IF($K8=0,1,(HLOOKUP($K8,Tables!$AC$20:$AF$26,5,FALSE)))),(IF($K8=0,1,(HLOOKUP($K8,Tables!$AC$20:$AF$26,7,FALSE)))))))","v":0.52},{"$f":"IF($E8=\"3ST\",(IF($L8=0,1,(HLOOKUP($L8,Tables!$AC$36:$AF$42,3,FALSE)))),(IF($E8=\"4ST\",(IF($L8=0,1,(HLOOKUP($L8,Tables!$AC$36:$AF$42,5,FALSE)))),(IF($L8=0,1,(HLOOKUP($L8,Tables!$AC$36:$AF$42,7,FALSE)))))))","v":1},{"$f":"IF(($M8=\"NP\"),1,(1-0.38*(IF(Inputs!$B$3=\"HSM\",(VLOOKUP( $E8,Tables!$B$97:$F$99,4,FALSE)),(VLOOKUP($E8,Tables!$B$97:$H$99,6,FALSE))))))","v":1},{"$f":"OFFSET(Tables!$AO$1,MATCH(N8,Tables!$AO:$AO,0)-1,1)","v":1},{"$f":"OFFSET(Tables!$AO$1,MATCH(O8,Tables!$AO:$AO,0)-1,1)","v":1},{"$f":"OFFSET(Tables!$AO$1,MATCH(P8,Tables!$AO:$AO,0)-1,1)","v":1},1,0.52,3.5906540568152239,0.24,{"$f":"IF($E8=\"3ST\",IF(Inputs!$B$3=\"HSM\",Tables!$E$55,Tables!$K$55),(IF($E8=\"4ST\",(IF(Inputs!$B$3=\"HSM\",Tables!$G$55,Tables!$M$55)),(IF(Inputs!$B$3=\"HSM\",Tables!$I$55,Tables!$O$55)))))/100","v":1},3.5906540568152239,0.52,{"$f":"IF(Inputs!$B$3<>\"HSM\",$S8,$R8)","v":1.6480646000000001},3.0771675177794511,{"$f":"IF($E8=\"3ST\",IF(Inputs!$B$3=\"HSM\",Tables!$E$53,Tables!$K$53),(IF($E8=\"4ST\",(IF(Inputs!$B$3=\"HSM\",Tables!$G$53,Tables!$M$53)),(IF(Inputs!$B$3=\"HSM\",Tables!$I$53,Tables!$O$53)))))/100","v":0.23499999999999999},0.84380370335157762,0.52,{"$f":"IF(Inputs!$B$3<>\"HSM\",$S8,$R8)","v":1.6480646000000001},0.72313436667817099,{"$f":"IF($E8=\"3ST\",IF(Inputs!$B$3=\"HSM\",Tables!$E$54,Tables!$K$54),(IF($E8=\"4ST\",(IF(Inputs!$B$3=\"HSM\",Tables!$G$54,Tables!$M$54)),(IF(Inputs!$B$3=\"HSM\",Tables!$I$54,Tables!$O$54)))))/100","v":0.76500000000000001},2.7468503534636461,0.52,{"$f":"IF(Inputs!$B$3<>\"HSM\",$S8,$R8)","v":1.6480646000000001},2.3540331511012798,{"$f":"IF(Inputs!$B$3=\"HSM\",(IF($E8=\"3ST\",Tables!$G$80,(IF($E8=\"4ST\",Tables!$J$80,Tables!$M$80)))/100),(IF($E8=\"3ST\",Tables!$P$80,(IF($E8=\"4ST\",+Tables!$S$80,+Tables!$V$80)))/100))","v":1},3.0771675177794511,{"$f":"IF(Inputs!$B$3=\"HSM\",(IF($E8=\"3ST\",Tables!$E$80,(IF($E8=\"4ST\",Tables!$H$80,Tables!$K$80)))/100),(IF($E8=\"3ST\",Tables!$N$80,(IF($E8=\"4ST\",+Tables!$Q$80,+Tables!$T$80)))/100))","v":1},0.72313436667817099,{"$f":"IF(Inputs!$B$3=\"HSM\",(IF($E8=\"3ST\",Tables!$F$80,(IF($E8=\"4ST\",Tables!$I$80,Tables!$L$80)))/100),(IF($E8=\"3ST\",Tables!$O$80,(IF($E8=\"4ST\",+Tables!$R$80,+Tables!$U$80)))/100))","v":1},2.3540331511012798,{"$f":"IF(Inputs!$B$3=\"HSM\",(IF($E8=\"3ST\",Tables!$G$66,(IF($E8=\"4ST\",Tables!$J$66,Tables!$M$66)))/100),(IF($E8=\"3ST\",Tables!$P$66,(IF($E8=\"4ST\",+Tables!$S$66,+Tables!$V$66)))/100))","v":0.223},{"$f":"IF(Inputs!$B$3=\"HSM\",(IF($E8=\"3ST\",Tables!$G$67,(IF($E8=\"4ST\",Tables!$J$67,Tables!$M$67)))/100),(IF($E8=\"3ST\",Tables!$P$67,(IF($E8=\"4ST\",+Tables!$S$67,+Tables!$V$67)))/100))","v":4.0000000000000001E-3},{"$f":"IF(Inputs!$B$3=\"HSM\",(IF($E8=\"3ST\",Tables!$G$68,(IF($E8=\"4ST\",Tables!$J$68,Tables!$M$68)))/100),(IF($E8=\"3ST\",Tables!$P$68,(IF($E8=\"4ST\",+Tables!$S$68,+Tables!$V$68)))/100))","v":4.0000000000000001E-3},{"$f":"IF(Inputs!$B$3=\"HSM\",(IF($E8=\"3ST\",Tables!$G$69,(IF($E8=\"4ST\",Tables!$J$69,Tables!$M$69)))/100),(IF($E8=\"3ST\",Tables!$P$69,(IF($E8=\"4ST\",+Tables!$S$69,+Tables!$V$69)))/100))","v":1.8000000000000002E-2},{"$f":"IF(Inputs!$B$3=\"HSM\",(IF($E8=\"3ST\",Tables!$G$70,(IF($E8=\"4ST\",Tables!$J$70,Tables!$M$70)))/100),(IF($E8=\"3ST\",Tables!$P$70,(IF($E8=\"4ST\",+Tables!$S$70,+Tables!$V$70)))/100))","v":0.11},{"$f":"IF(Inputs!$B$3=\"HSM\",(IF($E8=\"3ST\",Tables!$G$71,(IF($E8=\"4ST\",Tables!$J$71,Tables!$M$71)))/100),(IF($E8=\"3ST\",Tables!$P$71,(IF($E8=\"4ST\",+Tables!$S$71,+Tables!$V$71)))/100))","v":1.6E-2},{"$f":"IF(Inputs!$B$3=\"HSM\",(IF($E8=\"3ST\",Tables!$G$72,(IF($E8=\"4ST\",Tables!$J$72,Tables!$M$72)))/100),(IF($E8=\"3ST\",Tables!$P$72,(IF($E8=\"4ST\",+Tables!$S$72,+Tables!$V$72)))/100))","v":0.375},0.68620835646481759,1.2308670071117805E-2,1.2308670071117805E-2,5.5389015320030127E-2,0.33848842695573961,4.923468028447122E-2,1.1539378191672942,{"$f":"IF(Inputs!$B$3=\"HSM\",(IF($E8=\"3ST\",Tables!$E$66,(IF($E8=\"4ST\",Tables!$H$66,Tables!$K$66)))/100),(IF($E8=\"3ST\",Tables!$N$66,(IF($E8=\"4ST\",+Tables!$Q$66,+Tables!$T$66)))/100))","v":1.4999999999999999E-2},{"$f":"IF(Inputs!$B$3=\"HSM\",(IF($E8=\"3ST\",Tables!$E$67,(IF($E8=\"4ST\",Tables!$H$67,Tables!$K$67)))/100),(IF($E8=\"3ST\",Tables!$N$67,(IF($E8=\"4ST\",+Tables!$Q$67,+Tables!$T$67)))/100))","v":1.2E-2},{"$f":"IF(Inputs!$B$3=\"HSM\",(IF($E8=\"3ST\",Tables!$E$68,(IF($E8=\"4ST\",Tables!$H$68,Tables!$K$68)))/100),(IF($E8=\"3ST\",Tables!$N$68,(IF($E8=\"4ST\",+Tables!$Q$68,+Tables!$T$68)))/100))","v":1.4999999999999999E-2},{"$f":"IF(Inputs!$B$3=\"HSM\",(IF($E8=\"3ST\",Tables!$E$69,(IF($E8=\"4ST\",Tables!$H$69,Tables!$K$69)))/100),(IF($E8=\"3ST\",Tables!$N$69,(IF($E8=\"4ST\",+Tables!$Q$69,+Tables!$T$69)))/100))","v":3.1E-2},{"$f":"IF(Inputs!$B$3=\"HSM\",(IF($E8=\"3ST\",Tables!$E$70,(IF($E8=\"4ST\",Tables!$H$70,Tables!$K$70)))/100),(IF($E8=\"3ST\",Tables!$N$70,(IF($E8=\"4ST\",+Tables!$Q$70,+Tables!$T$70)))/100))","v":8.5000000000000006E-2},{"$f":"IF(Inputs!$B$3=\"HSM\",(IF($E8=\"3ST\",Tables!$E$71,(IF($E8=\"4ST\",Tables!$H$71,Tables!$K$71)))/100),(IF($E8=\"3ST\",Tables!$N$71,(IF($E8=\"4ST\",+Tables!$Q$71,+Tables!$T$71)))/100))","v":1.4999999999999999E-2},{"$f":"IF(Inputs!$B$3=\"HSM\",(IF($E8=\"3ST\",Tables!$E$72,(IF($E8=\"4ST\",Tables!$H$72,Tables!$K$72)))/100),(IF($E8=\"3ST\",Tables!$N$72,(IF($E8=\"4ST\",+Tables!$Q$72,+Tables!$T$72)))/100))","v":0.17300000000000001},1.0847015500172565E-2,8.6776124001380524E-3,1.0847015500172565E-2,2.24171653670233E-2,6.1466421167644537E-2,1.0847015500172565E-2,0.12510224543532358,{"$f":"IF(Inputs!$B$3=\"HSM\",(IF($E8=\"3ST\",Tables!$F$66,(IF($E8=\"4ST\",Tables!$I$66,Tables!$L$66)))/100),(IF($E8=\"3ST\",Tables!$O$66,(IF($E8=\"4ST\",+Tables!$R$66,+Tables!$U$66)))/100))","v":0.28800000000000003},{"$f":"IF(Inputs!$B$3=\"HSM\",(IF($E8=\"3ST\",Tables!$F$67,(IF($E8=\"4ST\",Tables!$I$67,Tables!$L$67)))/100),(IF($E8=\"3ST\",Tables!$O$67,(IF($E8=\"4ST\",+Tables!$R$67,+Tables!$U$67)))/100))","v":1E-3},{"$f":"IF(Inputs!$B$3=\"HSM\",(IF($E8=\"3ST\",Tables!$F$68,(IF($E8=\"4ST\",Tables!$I$68,Tables!$L$68)))/100),(IF($E8=\"3ST\",Tables!$O$68,(IF($E8=\"4ST\",+Tables!$R$68,+Tables!$U$68)))/100))","v":0},{"$f":"IF(Inputs!$B$3=\"HSM\",(IF($E8=\"3ST\",Tables!$F$69,(IF($E8=\"4ST\",Tables!$I$69,Tables!$L$69)))/100),(IF($E8=\"3ST\",Tables!$O$69,(IF($E8=\"4ST\",+Tables!$R$69,+Tables!$U$69)))/100))","v":1.3999999999999999E-2},{"$f":"IF(Inputs!$B$3=\"HSM\",(IF($E8=\"3ST\",Tables!$F$70,(IF($E8=\"4ST\",Tables!$I$70,Tables!$L$70)))/100),(IF($E8=\"3ST\",Tables!$O$70,(IF($E8=\"4ST\",+Tables!$R$70,+Tables!$U$70)))/100))","v":0.11800000000000001},{"$f":"IF(Inputs!$B$3=\"HSM\",(IF($E8=\"3ST\",Tables!$F$71,(IF($E8=\"4ST\",Tables!$I$71,Tables!$L$71)))/100),(IF($E8=\"3ST\",Tables!$O$71,(IF($E8=\"4ST\",+Tables!$R$71,+Tables!$U$71)))/100))","v":1.7000000000000001E-2},{"$f":"IF(Inputs!$B$3=\"HSM\",(IF($E8=\"3ST\",Tables!$F$72,(IF($E8=\"4ST\",Tables!$I$72,Tables!$L$72)))/100),(IF($E8=\"3ST\",Tables!$O$72,(IF($E8=\"4ST\",+Tables!$R$72,+Tables!$U$72)))/100))","v":0.43800000000000006},0.67796154751716864,2.3540331511012797E-3,0,3.2956464115417916E-2,0.27777591182995104,4.0018563568721757E-2,1.0310665201823606,{"$f":"IF(Inputs!$B$3=\"HSM\",(IF($E8=\"3ST\",Tables!$G$74,(IF($E8=\"4ST\",Tables!$J$74,Tables!$M$74)))/100),(IF($E8=\"3ST\",Tables!$P$74,(IF($E8=\"4ST\",+Tables!$S$74,+Tables!$V$74)))/100))","v":0.23800000000000002},{"$f":"IF(Inputs!$B$3=\"HSM\",(IF($E8=\"3ST\",Tables!$G$75,(IF($E8=\"4ST\",Tables!$J$75,Tables!$M$75)))/100),(IF($E8=\"3ST\",Tables!$P$75,(IF($E8=\"4ST\",+Tables!$S$75,+Tables!$V$75)))/100))","v":4.0999999999999995E-2},{"$f":"IF(Inputs!$B$3=\"HSM\",(IF($E8=\"3ST\",Tables!$G$76,(IF($E8=\"4ST\",Tables!$J$76,Tables!$M$76)))/100),(IF($E8=\"3ST\",Tables!$P$76,(IF($E8=\"4ST\",+Tables!$S$76,+Tables!$V$76)))/100))","v":0.18100000000000002},{"$f":"IF(Inputs!$B$3=\"HSM\",(IF($E8=\"3ST\",Tables!$G$77,(IF($E8=\"4ST\",Tables!$J$77,Tables!$M$77)))/100),(IF($E8=\"3ST\",Tables!$P$77,(IF($E8=\"4ST\",+Tables!$S$77,+Tables!$V$77)))/100))","v":7.400000000000001E-2},{"$f":"IF(Inputs!$B$3=\"HSM\",(IF($E8=\"3ST\",Tables!$G$78,(IF($E8=\"4ST\",Tables!$J$78,Tables!$M$78)))/100),(IF($E8=\"3ST\",Tables!$P$78,(IF($E8=\"4ST\",+Tables!$S$78,+Tables!$V$78)))/100))","v":9.0999999999999998E-2},{"$f":"IF(Inputs!$B$3=\"HSM\",(IF($E8=\"3ST\",Tables!$G$79,(IF($E8=\"4ST\",Tables!$J$79,Tables!$M$79)))/100),(IF($E8=\"3ST\",Tables!$P$79,(IF($E8=\"4ST\",+Tables!$S$79,+Tables!$V$79)))/100))","v":0.625},0.73236586923150937,0.12616386822895748,0.55696732071808075,0.22771039631567941,0.28002224411793003,1.9232296986121569,{"$f":"IF(Inputs!$B$3=\"HSM\",(IF($E8=\"3ST\",Tables!$E$74,(IF($E8=\"4ST\",Tables!$H$74,Tables!$K$74)))/100),(IF($E8=\"3ST\",Tables!$N$74,(IF($E8=\"4ST\",+Tables!$Q$74,+Tables!$T$74)))/100))","v":0.41600000000000004},{"$f":"IF(Inputs!$B$3=\"HSM\",(IF($E8=\"3ST\",Tables!$E$75,(IF($E8=\"4ST\",Tables!$H$75,Tables!$K$75)))/100),(IF($E8=\"3ST\",Tables!$N$75,(IF($E8=\"4ST\",+Tables!$Q$75,+Tables!$T$75)))/100))","v":0.09},{"$f":"IF(Inputs!$B$3=\"HSM\",(IF($E8=\"3ST\",Tables!$E$76,(IF($E8=\"4ST\",Tables!$H$76,Tables!$K$76)))/100),(IF($E8=\"3ST\",Tables!$N$76,(IF($E8=\"4ST\",+Tables!$Q$76,+Tables!$T$76)))/100))","v":0.20699999999999999},{"$f":"IF(Inputs!$B$3=\"HSM\",(IF($E8=\"3ST\",Tables!$E$77,(IF($E8=\"4ST\",Tables!$H$77,Tables!$K$77)))/100),(IF($E8=\"3ST\",Tables!$N$77,(IF($E8=\"4ST\",+Tables!$Q$77,+Tables!$T$77)))/100))","v":4.7E-2},{"$f":"IF(Inputs!$B$3=\"HSM\",(IF($E8=\"3ST\",Tables!$E$78,(IF($E8=\"4ST\",Tables!$H$78,Tables!$K$78)))/100),(IF($E8=\"3ST\",Tables!$N$78,(IF($E8=\"4ST\",+Tables!$Q$78,+Tables!$T$78)))/100))","v":6.7000000000000004E-2},{"$f":"IF(Inputs!$B$3=\"HSM\",(IF($E8=\"3ST\",Tables!$E$79,(IF($E8=\"4ST\",Tables!$H$79,Tables!$K$79)))/100),(IF($E8=\"3ST\",Tables!$N$79,(IF($E8=\"4ST\",+Tables!$Q$79,+Tables!$T$79)))/100))","v":0.82700000000000007},0.30082389653811914,6.5082093001035388E-2,0.1496888139023814,3.3987315233874035E-2,4.8450002567437457E-2,0.59803212124284744,{"$f":"IF(Inputs!$B$3=\"HSM\",(IF($E8=\"3ST\",Tables!$F$74,(IF($E8=\"4ST\",Tables!$I$74,Tables!$L$74)))/100),(IF($E8=\"3ST\",Tables!$O$74,(IF($E8=\"4ST\",+Tables!$R$74,+Tables!$U$74)))/100))","v":0.18100000000000002},{"$f":"IF(Inputs!$B$3=\"HSM\",(IF($E8=\"3ST\",Tables!$F$75,(IF($E8=\"4ST\",Tables!$I$75,Tables!$L$75)))/100),(IF($E8=\"3ST\",Tables!$O$75,(IF($E8=\"4ST\",+Tables!$R$75,+Tables!$U$75)))/100))","v":2.6000000000000002E-2},{"$f":"IF(Inputs!$B$3=\"HSM\",(IF($E8=\"3ST\",Tables!$F$76,(IF($E8=\"4ST\",Tables!$I$76,Tables!$L$76)))/100),(IF($E8=\"3ST\",Tables!$O$76,(IF($E8=\"4ST\",+Tables!$R$76,+Tables!$U$76)))/100))","v":0.17399999999999999},{"$f":"IF(Inputs!$B$3=\"HSM\",(IF($E8=\"3ST\",Tables!$F$77,(IF($E8=\"4ST\",Tables!$I$77,Tables!$L$77)))/100),(IF($E8=\"3ST\",Tables!$O$77,(IF($E8=\"4ST\",+Tables!$R$77,+Tables!$U$77)))/100))","v":8.3000000000000004E-2},{"$f":"IF(Inputs!$B$3=\"HSM\",(IF($E8=\"3ST\",Tables!$F$78,(IF($E8=\"4ST\",Tables!$I$78,Tables!$L$78)))/100),(IF($E8=\"3ST\",Tables!$O$78,(IF($E8=\"4ST\",+Tables!$R$78,+Tables!$U$78)))/100))","v":9.8000000000000004E-2},{"$f":"IF(Inputs!$B$3=\"HSM\",(IF($E8=\"3ST\",Tables!$F$79,(IF($E8=\"4ST\",Tables!$I$79,Tables!$L$79)))/100),(IF($E8=\"3ST\",Tables!$O$79,(IF($E8=\"4ST\",+Tables!$R$79,+Tables!$U$79)))/100))","v":0.56200000000000006},0.42608000034933169,6.1204861928633281E-2,0.40960176829162265,0.19538475154140622,0.23069524880792541,1.3229666309189194,1,0.23499999999999999,0.76500000000000001,2.3540331511012798,0.72313436667817099,3.0771675177794511]
[5,"Orange","Jaakko","Heritage County","4ST",2750,2500,"N",0,null,0,0,"NP","N/A (1.000)","N/A (1.000)","N/A (1.000)",1,1,{"$f":"AVERAGE(INDIRECT(ADDRESS(MATCH(sYear,'Calibration Factors'!$A:$A,0),CHOOSE(MATCH(E9,{\"3ST\",\"4ST\",\"4SG\"},0),14,18,20),,,\"Calibration Factors\")&\":\"&ADDRESS(MATCH(eYear,'Calibration Factors'!$A:$A,0),CHOOSE(MATCH(E9,{\"3ST\",\"4ST\",\"4SG\"},0),14,18,20))))","v":1.6480646000000001},{"$f":"5/5","v":1},0.24,0.49080927154307513,2.6308187636941125,-1.6308187636941125,4.48460520454395,1.0185535448473215,1,{"$f":"IF($E9=\"3ST\",(IF($K9=0,1,(HLOOKUP($K9,Tables!$AC$20:$AF$26,3,FALSE)))),(IF($E9=\"4ST\",(IF($K9=0,1,(HLOOKUP($K9,Tables!$AC$20:$AF$26,5,FALSE)))),(IF($K9=0,1,(HLOOKUP($K9,Tables!$AC$20:$AF$26,7,FALSE)))))))","v":1},{"$f":"IF($E9=\"3ST\",(IF($L9=0,1,(HLOOKUP($L9,Tables!$AC$36:$AF$42,3,FALSE)))),(IF($E9=\"4ST\",(IF($L9=0,1,(HLOOKUP($L9,Tables!$AC$36:$AF$42,5,FALSE)))),(IF($L9=0,1,(HLOOKUP($L9,Tables!$AC$36:$AF$42,7,FALSE)))))))","v":1},{"$f":"IF(($M9=\"NP\"),1,(1-0.38*(IF(Inputs!$B$3=\"HSM\",(VLOOKUP( $E9,Tables!$B$97:$F$99,4,FALSE)),(VLOOKUP($E9,Tables!$B$97:$H$99,6,FALSE))))))","v":1},{"$f":"OFFSET(Tables!$AO$1,MATCH(N9,Tables!$AO:$AO,0)-1,1)","v":1},{"$f":"OFFSET(Tables!$AO$1,MATCH(O9,Tables!$AO:$AO,0)-1,1)","v":1},{"$f":"OFFSET(Tables!$AO$1,MATCH(P9,Tables!$AO:$AO,0)-1,1)","v":1},1,1,2.6229031609790576,0.24,{"$f":"IF($E9=\"3ST\",IF(Inputs!$B$3=\"HSM\",Tables!$E$55,Tables!$K$55),(IF($E9=\"4ST\",(IF(Inputs!$B$3=\"HSM\",Tables!$G$55,Tables!$M$55)),(IF(Inputs!$B$3=\"HSM\",Tables!$I$55,Tables!$O$55)))))/100","v":1},2.6229031609790576,1,{"$f":"IF(Inputs!$B$3<>\"HSM\",$S9,$R9)","v":1.6480646000000001},4.3227138488376866,{"$f":"IF($E9=\"3ST\",IF(Inputs!$B$3=\"HSM\",Tables!$E$53,Tables!$K$53),(IF($E9=\"4ST\",(IF(Inputs!$B$3=\"HSM\",Tables!$G$53,Tables!$M$53)),(IF(Inputs!$B$3=\"HSM\",Tables!$I$53,Tables!$O$53)))))/100","v":0.23499999999999999},0.61638224283007848,1,{"$f":"IF(Inputs!$B$3<>\"HSM\",$S9,$R9)","v":1.6480646000000001},1.0158377544768562,{"$f":"IF($E9=\"3ST\",IF(Inputs!$B$3=\"HSM\",Tables!$E$54,Tables!$K$54),(IF($E9=\"4ST\",(IF(Inputs!$B$3=\"HSM\",Tables!$G$54,Tables!$M$54)),(IF(Inputs!$B$3=\"HSM\",Tables!$I$54,Tables!$O$54)))))/100","v":0.76500000000000001},2.0065209181489791,1,{"$f":"IF(Inputs!$B$3<>\"HSM\",$S9,$R9)","v":1.6480646000000001},3.3068760943608302,{"$f":"IF(Inputs!$B$3=\"HSM\",(IF($E9=\"3ST\",Tables!$G$80,(IF($E9=\"4ST\",Tables!$J$80,Tables!$M$80)))/100),(IF($E9=\"3ST\",Tables!$P$80,(IF($E9=\"4ST\",+Tables!$S$80,+Tables!$V$80)))/100))","v":1},4.3227138488376866,{"$f":"IF(Inputs!$B$3=\"HSM\",(IF($E9=\"3ST\",Tables!$E$80,(IF($E9=\"4ST\",Tables!$H$80,Tables!$K$80)))/100),(IF($E9=\"3ST\",Tables!$N$80,(IF($E9=\"4ST\",+Tables!$Q$80,+Tables!$T$80)))/100))","v":1},1.0158377544768562,{"$f":"IF(Inputs!$B$3=\"HSM\",(IF($E9=\"3ST\",Tables!$F$80,(IF($E9=\"4ST\",Tables!$I$80,Tables!$L$80)))/100),(IF($E9=\"3ST\",Tables!$O$80,(IF($E9=\"4ST\",+Tables!$R$80,+Tables!$U$80)))/100))","v":1},3.3068760943608302,{"$f":"IF(Inputs!$B$3=\"HSM\",(IF($E9=\"3ST\",Tables!$G$66,(IF($E9=\"4ST\",Tables!$J$66,Tables!$M$66)))/100),(IF($E9=\"3ST\",Tables!$P$66,(IF($E9=\"4ST\",+Tables!$S$66,+Tables!$V$66)))/100))","v":0.223},{"$f":"IF(Inputs!$B$3=\"HSM\",(IF($E9=\"3ST\",Tables!$G$67,(IF($E9=\"4ST\",Tables!$J$67,Tables!$M$67)))/100),(IF($E9=\"3ST\",Tables!$P$67,(IF($E9=\"4ST\",+Tables!$S$67,+Tables!$V$67)))/100))","v":4.0000000000000001E-3},{"$f":"IF(Inputs!$B$3=\"HSM\",(IF($E9=\"3ST\",Tables!$G$68,(IF($E9=\"4ST\",Tables!$J$68,Tables!$M$68)))/100),(IF($E9=\"3ST\",Tables!$P$68,(IF($E9=\"4ST\",+Tables!$S$68,+Tables!$V$68)))/100))","v":4.0000000000000001E-3},{"$f":"IF(Inputs!$B$3=\"HSM\",(IF($E9=\"3ST\",Tables!$G$69,(IF($E9=\"4ST\",Tables!$J$69,Tables!$M$69)))/100),(IF($E9=\"3ST\",Tables!$P$69,(IF($E9=\"4ST\",+Tables!$S$69,+Tables!$V$69)))/100))","v":1.8000000000000002E-2},{"$f":"IF(Inputs!$B$3=\"HSM\",(IF($E9=\"3ST\",Tables!$G$70,(IF($E9=\"4ST\",Tables!$J$70,Tables!$M$70)))/100),(IF($E9=\"3ST\",Tables!$P$70,(IF($E9=\"4ST\",+Tables!$S$70,+Tables!$V$70)))/100))","v":0.11},{"$f":"IF(Inputs!$B$3=\"HSM\",(IF($E9=\"3ST\",Tables!$G$71,(IF($E9=\"4ST\",Tables!$J$71,Tables!$M$71)))/100),(IF($E9=\"3ST\",Tables!$P$71,(IF($E9=\"4ST\",+Tables!$S$71,+Tables!$V$71)))/100))","v":1.6E-2},{"$f":"IF(Inputs!$B$3=\"HSM\",(IF($E9=\"3ST\",Tables!$G$72,(IF($E9=\"4ST\",Tables!$J$72,Tables!$M$72)))/100),(IF($E9=\"3ST\",Tables!$P$72,(IF($E9=\"4ST\",+Tables!$S$72,+Tables!$V$72)))/100))","v":0.375},0.96396518829080413,1.7290855395350746E-2,1.7290855395350746E-2,7.7808849279078371E-2,0.47549852337214554,6.9163421581402984E-2,1.6210176933141325,{"$f":"IF(Inputs!$B$3=\"HSM\",(IF($E9=\"3ST\",Tables!$E$66,(IF($E9=\"4ST\",Tables!$H$66,Tables!$K$66)))/100),(IF($E9=\"3ST\",Tables!$N$66,(IF($E9=\"4ST\",+Tables!$Q$66,+Tables!$T$66)))/100))","v":1.4999999999999999E-2},{"$f":"IF(Inputs!$B$3=\"HSM\",(IF($E9=\"3ST\",Tables!$E$67,(IF($E9=\"4ST\",Tables!$H$67,Tables!$K$67)))/100),(IF($E9=\"3ST\",Tables!$N$67,(IF($E9=\"4ST\",+Tables!$Q$67,+Tables!$T$67)))/100))","v":1.2E-2},{"$f":"IF(Inputs!$B$3=\"HSM\",(IF($E9=\"3ST\",Tables!$E$68,(IF($E9=\"4ST\",Tables!$H$68,Tables!$K$68)))/100),(IF($E9=\"3ST\",Tables!$N$68,(IF($E9=\"4ST\",+Tables!$Q$68,+Tables!$T$68)))/100))","v":1.4999999999999999E-2},{"$f":"IF(Inputs!$B$3=\"HSM\",(IF($E9=\"3ST\",Tables!$E$69,(IF($E9=\"4ST\",Tables!$H$69,Tables!$K$69)))/100),(IF($E9=\"3ST\",Tables!$N$69,(IF($E9=\"4ST\",+Tables!$Q$69,+Tables!$T$69)))/100))","v":3.1E-2},{"$f":"IF(Inputs!$B$3=\"HSM\",(IF($E9=\"3ST\",Tables!$E$70,(IF($E9=\"4ST\",Tables!$H$70,Tables!$K$70)))/100),(IF($E9=\"3ST\",Tables!$N$70,(IF($E9=\"4ST\",+Tables!$Q$70,+Tables!$T$70)))/100))","v":8.5000000000000006E-2},{"$f":"IF(Inputs!$B$3=\"HSM\",(IF($E9=\"3ST\",Tables!$E$71,(IF($E9=\"4ST\",Tables!$H$71,Tables!$K$71)))/100),(IF($E9=\"3ST\",Tables!$N$71,(IF($E9=\"4ST\",+Tables!$Q$71,+Tables!$T$71)))/100))","v":1.4999999999999999E-2},{"$f":"IF(Inputs!$B$3=\"HSM\",(IF($E9=\"3ST\",Tables!$E$72,(IF($E9=\"4ST\",Tables!$H$72,Tables!$K$72)))/100),(IF($E9=\"3ST\",Tables!$N$72,(IF($E9=\"4ST\",+Tables!$Q$72,+Tables!$T$72)))/100))","v":0.17300000000000001},1.5237566317152843E-2,1.2190053053722274E-2,1.5237566317152843E-2,3.1490970388782541E-2,8.6346209130532786E-2,1.5237566317152843E-2,0.17573993152449613,{"$f":"IF(Inputs!$B$3=\"HSM\",(IF($E9=\"3ST\",Tables!$F$66,(IF($E9=\"4ST\",Tables!$I$66,Tables!$L$66)))/100),(IF($E9=\"3ST\",Tables!$O$66,(IF($E9=\"4ST\",+Tables!$R$66,+Tables!$U$66)))/100))","v":0.28800000000000003},{"$f":"IF(Inputs!$B$3=\"HSM\",(IF($E9=\"3ST\",Tables!$F$67,(IF($E9=\"4ST\",Tables!$I$67,Tables!$L$67)))/100),(IF($E9=\"3ST\",Tables!$O$67,(IF($E9=\"4ST\",+Tables!$R$67,+Tables!$U$67)))/100))","v":1E-3},{"$f":"IF(Inputs!$B$3=\"HSM\",(IF($E9=\"3ST\",Tables!$F$68,(IF($E9=\"4ST\",Tables!$I$68,Tables!$L$68)))/100),(IF($E9=\"3ST\",Tables!$O$68,(IF($E9=\"4ST\",+Tables!$R$68,+Tables!$U$68)))/100))","v":0},{"$f":"IF(Inputs!$B$3=\"HSM\",(IF($E9=\"3ST\",Tables!$F$69,(IF($E9=\"4ST\",Tables!$I$69,Tables!$L$69)))/100),(IF($E9=\"3ST\",Tables!$O$69,(IF($E9=\"4ST\",+Tables!$R$69,+Tables!$U$69)))/100))","v":1.3999999999999999E-2},{"$f":"IF(Inputs!$B$3=\"HSM\",(IF($E9=\"3ST\",Tables!$F$70,(IF($E9=\"4ST\",Tables!$I$70,Tables!$L$70)))/100),(IF($E9=\"3ST\",Tables!$O$70,(IF($E9=\"4ST\",+Tables!$R$70,+Tables!$U$70)))/100))","v":0.11800000000000001},{"$f":"IF(Inputs!$B$3=\"HSM\",(IF($E9=\"3ST\",Tables!$F$71,(IF($E9=\"4ST\",Tables!$I$71,Tables!$L$71)))/100),(IF($E9=\"3ST\",Tables!$O$71,(IF($E9=\"4ST\",+Tables!$R$71,+Tables!$U$71)))/100))","v":1.7000000000000001E-2},{"$f":"IF(Inputs!$B$3=\"HSM\",(IF($E9=\"3ST\",Tables!$F$72,(IF($E9=\"4ST\",Tables!$I$72,Tables!$L$72)))/100),(IF($E9=\"3ST\",Tables!$O$72,(IF($E9=\"4ST\",+Tables!$R$72,+Tables!$U$72)))/100))","v":0.43800000000000006},0.95238031517591926,3.3068760943608302E-3,0,4.6296265321051619E-2,0.39021137913457798,5.6216893604134115E-2,1.4484117293300438,{"$f":"IF(Inputs!$B$3=\"HSM\",(IF($E9=\"3ST\",Tables!$G$74,(IF($E9=\"4ST\",Tables!$J$74,Tables!$M$74)))/100),(IF($E9=\"3ST\",Tables!$P$74,(IF($E9=\"4ST\",+Tables!$S$74,+Tables!$V$74)))/100))","v":0.23800000000000002},{"$f":"IF(Inputs!$B$3=\"HSM\",(IF($E9=\"3ST\",Tables!$G$75,(IF($E9=\"4ST\",Tables!$J$75,Tables!$M$75)))/100),(IF($E9=\"3ST\",Tables!$P$75,(IF($E9=\"4ST\",+Tables!$S$75,+Tables!$V$75)))/100))","v":4.0999999999999995E-2},{"$f":"IF(Inputs!$B$3=\"HSM\",(IF($E9=\"3ST\",Tables!$G$76,(IF($E9=\"4ST\",Tables!$J$76,Tables!$M$76)))/100),(IF($E9=\"3ST\",Tables!$P$76,(IF($E9=\"4ST\",+Tables!$S$76,+Tables!$V$76)))/100))","v":0.18100000000000002},{"$f":"IF(Inputs!$B$3=\"HSM\",(IF($E9=\"3ST\",Tables!$G$77,(IF($E9=\"4ST\",Tables!$J$77,Tables!$M$77)))/100),(IF($E9=\"3ST\",Tables!$P$77,(IF($E9=\"4ST\",+Tables!$S$77,+Tables!$V$77)))/100))","v":7.400000000000001E-2},{"$f":"IF(Inputs!$B$3=\"HSM\",(IF($E9=\"3ST\",Tables!$G$78,(IF($E9=\"4ST\",Tables!$J$78,Tables!$M$78)))/100),(IF($E9=\"3ST\",Tables!$P$78,(IF($E9=\"4ST\",+Tables!$S$78,+Tables!$V$78)))/100))","v":9.0999999999999998E-2},{"$f":"IF(Inputs!$B$3=\"HSM\",(IF($E9=\"3ST\",Tables!$G$79,(IF($E9=\"4ST\",Tables!$J$79,Tables!$M$79)))/100),(IF($E9=\"3ST\",Tables!$P$79,(IF($E9=\"4ST\",+Tables!$S$79,+Tables!$V$79)))/100))","v":0.625},1.0288058960233695,0.17723126780234513,0.78241120663962138,0.31988082481398883,0.39336696024422946,2.7016961555235541,{"$f":"IF(Inputs!$B$3=\"HSM\",(IF($E9=\"3ST\",Tables!$E$74,(IF($E9=\"4ST\",Tables!$H$74,Tables!$K$74)))/100),(IF($E9=\"3ST\",Tables!$N$74,(IF($E9=\"4ST\",+Tables!$Q$74,+Tables!$T$74)))/100))","v":0.41600000000000004},{"$f":"IF(Inputs!$B$3=\"HSM\",(IF($E9=\"3ST\",Tables!$E$75,(IF($E9=\"4ST\",Tables!$H$75,Tables!$K$75)))/100),(IF($E9=\"3ST\",Tables!$N$75,(IF($E9=\"4ST\",+Tables!$Q$75,+Tables!$T$75)))/100))","v":0.09},{"$f":"IF(Inputs!$B$3=\"HSM\",(IF($E9=\"3ST\",Tables!$E$76,(IF($E9=\"4ST\",Tables!$H$76,Tables!$K$76)))/100),(IF($E9=\"3ST\",Tables!$N$76,(IF($E9=\"4ST\",+Tables!$Q$76,+Tables!$T$76)))/100))","v":0.20699999999999999},{"$f":"IF(Inputs!$B$3=\"HSM\",(IF($E9=\"3ST\",Tables!$E$77,(IF($E9=\"4ST\",Tables!$H$77,Tables!$K$77)))/100),(IF($E9=\"3ST\",Tables!$N$77,(IF($E9=\"4ST\",+Tables!$Q$77,+Tables!$T$77)))/100))","v":4.7E-2},{"$f":"IF(Inputs!$B$3=\"HSM\",(IF($E9=\"3ST\",Tables!$E$78,(IF($E9=\"4ST\",Tables!$H$78,Tables!$K$78)))/100),(IF($E9=\"3ST\",Tables!$N$78,(IF($E9=\"4ST\",+Tables!$Q$78,+Tables!$T$78)))/100))","v":6.7000000000000004E-2},{"$f":"IF(Inputs!$B$3=\"HSM\",(IF($E9=\"3ST\",Tables!$E$79,(IF($E9=\"4ST\",Tables!$H$79,Tables!$K$79)))/100),(IF($E9=\"3ST\",Tables!$N$79,(IF($E9=\"4ST\",+Tables!$Q$79,+Tables!$T$79)))/100))","v":0.82700000000000007},0.42258850586237223,9.1425397902917052E-2,0.21027841517670923,4.7744374460412242E-2,6.8061129549949376E-2,0.84009782295236013,{"$f":"IF(Inputs!$B$3=\"HSM\",(IF($E9=\"3ST\",Tables!$F$74,(IF($E9=\"4ST\",Tables!$I$74,Tables!$L$74)))/100),(IF($E9=\"3ST\",Tables!$O$74,(IF($E9=\"4ST\",+Tables!$R$74,+Tables!$U$74)))/100))","v":0.18100000000000002},{"$f":"IF(Inputs!$B$3=\"HSM\",(IF($E9=\"3ST\",Tables!$F$75,(IF($E9=\"4ST\",Tables!$I$75,Tables!$L$75)))/100),(IF($E9=\"3ST\",Tables!$O$75,(IF($E9=\"4ST\",+Tables!$R$75,+Tables!$U$75)))/100))","v":2.6000000000000002E-2},{"$f":"IF(Inputs!$B$3=\"HSM\",(IF($E9=\"3ST\",Tables!$F$76,(IF($E9=\"4ST\",Tables!$I$76,Tables!$L$76)))/100),(IF($E9=\"3ST\",Tables!$O$76,(IF($E9=\"4ST\",+Tables!$R$76,+Tables!$U$76)))/100))","v":0.17399999999999999},{"$f":"IF(Inputs!$B$3=\"HSM\",(IF($E9=\"3ST\",Tables!$F$77,(IF($E9=\"4ST\",Tables!$I$77,Tables!$L$77)))/100),(IF($E9=\"3ST\",Tables!$O$77,(IF($E9=\"4ST\",+Tables!$R$77,+Tables!$U$77)))/100))","v":8.3000000000000004E-2},{"$f":"IF(Inputs!$B$3=\"HSM\",(IF($E9=\"3ST\",Tables!$F$78,(IF($E9=\"4ST\",Tables!$I$78,Tables!$L$78)))/100),(IF($E9=\"3ST\",Tables!$O$78,(IF($E9=\"4ST\",+Tables!$R$78,+Tables!$U$78)))/100))","v":9.8000000000000004E-2},{"$f":"IF(Inputs!$B$3=\"HSM\",(IF($E9=\"3ST\",Tables!$F$79,(IF($E9=\"4ST\",Tables!$I$79,Tables!$L$79)))/100),(IF($E9=\"3ST\",Tables!$O$79,(IF($E9=\"4ST\",+Tables!$R$79,+Tables!$U$79)))/100))","v":0.56200000000000006},0.5985445730793103,8.5978778453381588E-2,0.57539644041878446,0.27447071583194893,0.32407385724736137,1.8584643650307868,1,0.23499999999999999,0.76500000000000001,3.3068760943608302,1.0158377544768562,4.3227138488376866]
[6,"Blueberry","Matti","Heritage County","3ST",1800,700,"N",8,null,0,0,"NP","N/A (1.000)","N/A (1.000)","N/A (1.000)",1,1,{"$f":"AVERAGE(INDIRECT(ADDRESS(MATCH(sYear,'Calibration Factors'!$A:$A,0),CHOOSE(MATCH(E10,{\"3ST\",\"4ST\",\"4SG\"},0),14,18,20),,,\"Calibration Factors\")&\":\"&ADDRESS(MATCH(eYear,'Calibration Factors'!$A:$A,0),CHOOSE(MATCH(E10,{\"3ST\",\"4ST\",\"4SG\"},0),14,18,20))))","v":1.8383938},{"$f":"9/5","v":1.8},0.54,0.66902672697024446,1.2086653600271815,0.59133463997281854,0.45321591725350002,0.70335524193998566,1.0325175053051183,{"$f":"IF($E10=\"3ST\",(IF($K10=0,1,(HLOOKUP($K10,Tables!$AC$20:$AF$26,3,FALSE)))),(IF($E10=\"4ST\",(IF($K10=0,1,(HLOOKUP($K10,Tables!$AC$20:$AF$26,5,FALSE)))),(IF($K10=0,1,(HLOOKUP($K10,Tables!$AC$20:$AF$26,7,FALSE)))))))","v":1},{"$f":"IF($E10=\"3ST\",(IF($L10=0,1,(HLOOKUP($L10,Tables!$AC$36:$AF$42,3,FALSE)))),(IF($E10=\"4ST\",(IF($L10=0,1,(HLOOKUP($L10,Tables!$AC$36:$AF$42,5,FALSE)))),(IF($L10=0,1,(HLOOKUP($L10,Tables!$AC$36:$AF$42,7,FALSE)))))))","v":1},{"$f":"IF(($M10=\"NP\"),1,(1-0.38*(IF(Inputs!$B$3=\"HSM\",(VLOOKUP( $E10,Tables!$B$97:$F$99,4,FALSE)),(VLOOKUP($E10,Tables!$B$97:$H$99,6,FALSE))))))","v":1},{"$f":"OFFSET(Tables!$AO$1,MATCH(N10,Tables!$AO:$AO,0)-1,1)","v":1},{"$f":"OFFSET(Tables!$AO$1,MATCH(O10,Tables!$AO:$AO,0)-1,1)","v":1},{"$f":"OFFSET(Tables!$AO$1,MATCH(P10,Tables!$AO:$AO,0)-1,1)","v":1},1,1.0325175053051183,0.48263601567336822,0.54,{"$f":"IF($E10=\"3ST\",IF(Inputs!$B$3=\"HSM\",Tables!$E$55,Tables!$K$55),(IF($E10=\"4ST\",(IF(Inputs!$B$3=\"HSM\",Tables!$G$55,Tables!$M$55)),(IF(Inputs!$B$3=\"HSM\",Tables!$I$55,Tables!$O$55)))))/100","v":1},0.48263601567336822,1.0325175053051183,{"$f":"IF(Inputs!$B$3<>\"HSM\",$S10,$R10)","v":1.8383938},0.91612703030454767,{"$f":"IF($E10=\"3ST\",IF(Inputs!$B$3=\"HSM\",Tables!$E$53,Tables!$K$53),(IF($E10=\"4ST\",(IF(Inputs!$B$3=\"HSM\",Tables!$G$53,Tables!$M$53)),(IF(Inputs!$B$3=\"HSM\",Tables!$I$53,Tables!$O$53)))))/100","v":0.18600000000000003},8.9770298915246502E-2,1.0325175053051183,{"$f":"IF(Inputs!$B$3<>\"HSM\",$S10,$R10)","v":1.8383938},0.17039962763664587,{"$f":"IF($E10=\"3ST\",IF(Inputs!$B$3=\"HSM\",Tables!$E$54,Tables!$K$54),(IF($E10=\"4ST\",(IF(Inputs!$B$3=\"HSM\",Tables!$G$54,Tables!$M$54)),(IF(Inputs!$B$3=\"HSM\",Tables!$I$54,Tables!$O$54)))))/100","v":0.81400000000000006},0.39286571675812176,1.0325175053051183,{"$f":"IF(Inputs!$B$3<>\"HSM\",$S10,$R10)","v":1.8383938},0.74572740266790183,{"$f":"IF(Inputs!$B$3=\"HSM\",(IF($E10=\"3ST\",Tables!$G$80,(IF($E10=\"4ST\",Tables!$J$80,Tables!$M$80)))/100),(IF($E10=\"3ST\",Tables!$P$80,(IF($E10=\"4ST\",+Tables!$S$80,+Tables!$V$80)))/100))","v":0.99999999999999989},0.91612703030454767,{"$f":"IF(Inputs!$B$3=\"HSM\",(IF($E10=\"3ST\",Tables!$E$80,(IF($E10=\"4ST\",Tables!$H$80,Tables!$K$80)))/100),(IF($E10=\"3ST\",Tables!$N$80,(IF($E10=\"4ST\",+Tables!$Q$80,+Tables!$T$80)))/100))","v":1},0.17039962763664587,{"$f":"IF(Inputs!$B$3=\"HSM\",(IF($E10=\"3ST\",Tables!$F$80,(IF($E10=\"4ST\",Tables!$I$80,Tables!$L$80)))/100),(IF($E10=\"3ST\",Tables!$O$80,(IF($E10=\"4ST\",+Tables!$R$80,+Tables!$U$80)))/100))","v":1},0.74572740266790183,{"$f":"IF(Inputs!$B$3=\"HSM\",(IF($E10=\"3ST\",Tables!$G$66,(IF($E10=\"4ST\",Tables!$J$66,Tables!$M$66)))/100),(IF($E10=\"3ST\",Tables!$P$66,(IF($E10=\"4ST\",+Tables!$S$66,+Tables!$V$66)))/100))","v":0.32799999999999996},{"$f":"IF(Inputs!$B$3=\"HSM\",(IF($E10=\"3ST\",Tables!$G$67,(IF($E10=\"4ST\",Tables!$J$67,Tables!$M$67)))/100),(IF($E10=\"3ST\",Tables!$P$67,(IF($E10=\"4ST\",+Tables!$S$67,+Tables!$V$67)))/100))","v":3.0000000000000001E-3},{"$f":"IF(Inputs!$B$3=\"HSM\",(IF($E10=\"3ST\",Tables!$G$68,(IF($E10=\"4ST\",Tables!$J$68,Tables!$M$68)))/100),(IF($E10=\"3ST\",Tables!$P$68,(IF($E10=\"4ST\",+Tables!$S$68,+Tables!$V$68)))/100))","v":3.0000000000000001E-3},{"$f":"IF(Inputs!$B$3=\"HSM\",(IF($E10=\"3ST\",Tables!$G$69,(IF($E10=\"4ST\",Tables!$J$69,Tables!$M$69)))/100),(IF($E10=\"3ST\",Tables!$P$69,(IF($E10=\"4ST\",+Tables!$S$69,+Tables!$V$69)))/100))","v":3.9E-2},{"$f":"IF(Inputs!$B$3=\"HSM\",(IF($E10=\"3ST\",Tables!$G$70,(IF($E10=\"4ST\",Tables!$J$70,Tables!$M$70)))/100),(IF($E10=\"3ST\",Tables!$P$70,(IF($E10=\"4ST\",+Tables!$S$70,+Tables!$V$70)))/100))","v":0.17899999999999999},{"$f":"IF(Inputs!$B$3=\"HSM\",(IF($E10=\"3ST\",Tables!$G$71,(IF($E10=\"4ST\",Tables!$J$71,Tables!$M$71)))/100),(IF($E10=\"3ST\",Tables!$P$71,(IF($E10=\"4ST\",+Tables!$S$71,+Tables!$V$71)))/100))","v":2.6000000000000002E-2},{"$f":"IF(Inputs!$B$3=\"HSM\",(IF($E10=\"3ST\",Tables!$G$72,(IF($E10=\"4ST\",Tables!$J$72,Tables!$M$72)))/100),(IF($E10=\"3ST\",Tables!$P$72,(IF($E10=\"4ST\",+Tables!$S$72,+Tables!$V$72)))/100))","v":0.57799999999999985},0.30048966593989163,2.7483810909136432E-3,2.7483810909136432E-3,3.5728954181877361E-2,0.16398673842451403,2.3819302787918242E-2,0.52952142351602838,{"$f":"IF(Inputs!$B$3=\"HSM\",(IF($E10=\"3ST\",Tables!$E$66,(IF($E10=\"4ST\",Tables!$H$66,Tables!$K$66)))/100),(IF($E10=\"3ST\",Tables!$N$66,(IF($E10=\"4ST\",+Tables!$Q$66,+Tables!$T$66)))/100))","v":3.9E-2},{"$f":"IF(Inputs!$B$3=\"HSM\",(IF($E10=\"3ST\",Tables!$E$67,(IF($E10=\"4ST\",Tables!$H$67,Tables!$K$67)))/100),(IF($E10=\"3ST\",Tables!$N$67,(IF($E10=\"4ST\",+Tables!$Q$67,+Tables!$T$67)))/100))","v":0.01},{"$f":"IF(Inputs!$B$3=\"HSM\",(IF($E10=\"3ST\",Tables!$E$68,(IF($E10=\"4ST\",Tables!$H$68,Tables!$K$68)))/100),(IF($E10=\"3ST\",Tables!$N$68,(IF($E10=\"4ST\",+Tables!$Q$68,+Tables!$T$68)))/100))","v":1.4999999999999999E-2},{"$f":"IF(Inputs!$B$3=\"HSM\",(IF($E10=\"3ST\",Tables!$E$69,(IF($E10=\"4ST\",Tables!$H$69,Tables!$K$69)))/100),(IF($E10=\"3ST\",Tables!$N$69,(IF($E10=\"4ST\",+Tables!$Q$69,+Tables!$T$69)))/100))","v":9.6000000000000002E-2},{"$f":"IF(Inputs!$B$3=\"HSM\",(IF($E10=\"3ST\",Tables!$E$70,(IF($E10=\"4ST\",Tables!$H$70,Tables!$K$70)))/100),(IF($E10=\"3ST\",Tables!$N$70,(IF($E10=\"4ST\",+Tables!$Q$70,+Tables!$T$70)))/100))","v":0.188},{"$f":"IF(Inputs!$B$3=\"HSM\",(IF($E10=\"3ST\",Tables!$E$71,(IF($E10=\"4ST\",Tables!$H$71,Tables!$K$71)))/100),(IF($E10=\"3ST\",Tables!$N$71,(IF($E10=\"4ST\",+Tables!$Q$71,+Tables!$T$71)))/100))","v":2.8999999999999998E-2},{"$f":"IF(Inputs!$B$3=\"HSM\",(IF($E10=\"3ST\",Tables!$E$72,(IF($E10=\"4ST\",Tables!$H$72,Tables!$K$72)))/100),(IF($E10=\"3ST\",Tables!$N$72,(IF($E10=\"4ST\",+Tables!$Q$72,+Tables!$T$72)))/100))","v":0.37699999999999995},6.6455854778291893E-3,1.7039962763664587E-3,2.5559944145496882E-3,1.6358364253118002E-2,3.2035129995689422E-2,4.9415892014627299E-3,6.4240659619015483E-2,{"$f":"IF(Inputs!$B$3=\"HSM\",(IF($E10=\"3ST\",Tables!$F$66,(IF($E10=\"4ST\",Tables!$I$66,Tables!$L$66)))/100),(IF($E10=\"3ST\",Tables!$O$66,(IF($E10=\"4ST\",+Tables!$R$66,+Tables!$U$66)))/100))","v":0.39399999999999996},{"$f":"IF(Inputs!$B$3=\"HSM\",(IF($E10=\"3ST\",Tables!$F$67,(IF($E10=\"4ST\",Tables!$I$67,Tables!$L$67)))/100),(IF($E10=\"3ST\",Tables!$O$67,(IF($E10=\"4ST\",+Tables!$R$67,+Tables!$U$67)))/100))","v":1E-3},{"$f":"IF(Inputs!$B$3=\"HSM\",(IF($E10=\"3ST\",Tables!$F$68,(IF($E10=\"4ST\",Tables!$I$68,Tables!$L$68)))/100),(IF($E10=\"3ST\",Tables!$O$68,(IF($E10=\"4ST\",+Tables!$R$68,+Tables!$U$68)))/100))","v":0},{"$f":"IF(Inputs!$B$3=\"HSM\",(IF($E10=\"3ST\",Tables!$F$69,(IF($E10=\"4ST\",Tables!$I$69,Tables!$L$69)))/100),(IF($E10=\"3ST\",Tables!$O$69,(IF($E10=\"4ST\",+Tables!$R$69,+Tables!$U$69)))/100))","v":2.6000000000000002E-2},{"$f":"IF(Inputs!$B$3=\"HSM\",(IF($E10=\"3ST\",Tables!$F$70,(IF($E10=\"4ST\",Tables!$I$70,Tables!$L$70)))/100),(IF($E10=\"3ST\",Tables!$O$70,(IF($E10=\"4ST\",+Tables!$R$70,+Tables!$U$70)))/100))","v":0.17699999999999999},{"$f":"IF(Inputs!$B$3=\"HSM\",(IF($E10=\"3ST\",Tables!$F$71,(IF($E10=\"4ST\",Tables!$I$71,Tables!$L$71)))/100),(IF($E10=\"3ST\",Tables!$O$71,(IF($E10=\"4ST\",+Tables!$R$71,+Tables!$U$71)))/100))","v":2.5000000000000001E-2},{"$f":"IF(Inputs!$B$3=\"HSM\",(IF($E10=\"3ST\",Tables!$F$72,(IF($E10=\"4ST\",Tables!$I$72,Tables!$L$72)))/100),(IF($E10=\"3ST\",Tables!$O$72,(IF($E10=\"4ST\",+Tables!$R$72,+Tables!$U$72)))/100))","v":0.623},0.29381659665115328,7.457274026679018E-4,0,1.938891246936545E-2,0.13199375027221863,1.8643185066697546E-2,0.46458817186210283,{"$f":"IF(Inputs!$B$3=\"HSM\",(IF($E10=\"3ST\",Tables!$G$74,(IF($E10=\"4ST\",Tables!$J$74,Tables!$M$74)))/100),(IF($E10=\"3ST\",Tables!$P$74,(IF($E10=\"4ST\",+Tables!$S$74,+Tables!$V$74)))/100))","v":9.4E-2},{"$f":"IF(Inputs!$B$3=\"HSM\",(IF($E10=\"3ST\",Tables!$G$75,(IF($E10=\"4ST\",Tables!$J$75,Tables!$M$75)))/100),(IF($E10=\"3ST\",Tables!$P$75,(IF($E10=\"4ST\",+Tables!$S$75,+Tables!$V$75)))/100))","v":2.8999999999999998E-2},{"$f":"IF(Inputs!$B$3=\"HSM\",(IF($E10=\"3ST\",Tables!$G$76,(IF($E10=\"4ST\",Tables!$J$76,Tables!$M$76)))/100),(IF($E10=\"3ST\",Tables!$P$76,(IF($E10=\"4ST\",+Tables!$S$76,+Tables!$V$76)))/100))","v":0.17699999999999999},{"$f":"IF(Inputs!$B$3=\"HSM\",(IF($E10=\"3ST\",Tables!$G$77,(IF($E10=\"4ST\",Tables!$J$77,Tables!$M$77)))/100),(IF($E10=\"3ST\",Tables!$P$77,(IF($E10=\"4ST\",+Tables!$S$77,+Tables!$V$77)))/100))","v":6.4000000000000001E-2},{"$f":"IF(Inputs!$B$3=\"HSM\",(IF($E10=\"3ST\",Tables!$G$78,(IF($E10=\"4ST\",Tables!$J$78,Tables!$M$78)))/100),(IF($E10=\"3ST\",Tables!$P$78,(IF($E10=\"4ST\",+Tables!$S$78,+Tables!$V$78)))/100))","v":5.7999999999999996E-2},{"$f":"IF(Inputs!$B$3=\"HSM\",(IF($E10=\"3ST\",Tables!$G$79,(IF($E10=\"4ST\",Tables!$J$79,Tables!$M$79)))/100),(IF($E10=\"3ST\",Tables!$P$79,(IF($E10=\"4ST\",+Tables!$S$79,+Tables!$V$79)))/100))","v":0.42199999999999993},8.6115940848627476E-2,2.656768387883188E-2,0.16215448436390492,5.8632129939491053E-2,5.3135367757663761E-2,0.38660560678851907,{"$f":"IF(Inputs!$B$3=\"HSM\",(IF($E10=\"3ST\",Tables!$E$74,(IF($E10=\"4ST\",Tables!$H$74,Tables!$K$74)))/100),(IF($E10=\"3ST\",Tables!$N$74,(IF($E10=\"4ST\",+Tables!$Q$74,+Tables!$T$74)))/100))","v":0.16699999999999998},{"$f":"IF(Inputs!$B$3=\"HSM\",(IF($E10=\"3ST\",Tables!$E$75,(IF($E10=\"4ST\",Tables!$H$75,Tables!$K$75)))/100),(IF($E10=\"3ST\",Tables!$N$75,(IF($E10=\"4ST\",+Tables!$Q$75,+Tables!$T$75)))/100))","v":8.900000000000001E-2},{"$f":"IF(Inputs!$B$3=\"HSM\",(IF($E10=\"3ST\",Tables!$E$76,(IF($E10=\"4ST\",Tables!$H$76,Tables!$K$76)))/100),(IF($E10=\"3ST\",Tables!$N$76,(IF($E10=\"4ST\",+Tables!$Q$76,+Tables!$T$76)))/100))","v":0.26600000000000001},{"$f":"IF(Inputs!$B$3=\"HSM\",(IF($E10=\"3ST\",Tables!$E$77,(IF($E10=\"4ST\",Tables!$H$77,Tables!$K$77)))/100),(IF($E10=\"3ST\",Tables!$N$77,(IF($E10=\"4ST\",+Tables!$Q$77,+Tables!$T$77)))/100))","v":4.4999999999999998E-2},{"$f":"IF(Inputs!$B$3=\"HSM\",(IF($E10=\"3ST\",Tables!$E$78,(IF($E10=\"4ST\",Tables!$H$78,Tables!$K$78)))/100),(IF($E10=\"3ST\",Tables!$N$78,(IF($E10=\"4ST\",+Tables!$Q$78,+Tables!$T$78)))/100))","v":5.5999999999999994E-2},{"$f":"IF(Inputs!$B$3=\"HSM\",(IF($E10=\"3ST\",Tables!$E$79,(IF($E10=\"4ST\",Tables!$H$79,Tables!$K$79)))/100),(IF($E10=\"3ST\",Tables!$N$79,(IF($E10=\"4ST\",+Tables!$Q$79,+Tables!$T$79)))/100))","v":0.623},2.8456737815319856E-2,1.5165566859661484E-2,4.5326300951347806E-2,7.6679832436490642E-3,9.5423791476521684E-3,0.10615896801763038,{"$f":"IF(Inputs!$B$3=\"HSM\",(IF($E10=\"3ST\",Tables!$F$74,(IF($E10=\"4ST\",Tables!$I$74,Tables!$L$74)))/100),(IF($E10=\"3ST\",Tables!$O$74,(IF($E10=\"4ST\",+Tables!$R$74,+Tables!$U$74)))/100))","v":7.6999999999999999E-2},{"$f":"IF(Inputs!$B$3=\"HSM\",(IF($E10=\"3ST\",Tables!$F$75,(IF($E10=\"4ST\",Tables!$I$75,Tables!$L$75)))/100),(IF($E10=\"3ST\",Tables!$O$75,(IF($E10=\"4ST\",+Tables!$R$75,+Tables!$U$75)))/100))","v":1.4999999999999999E-2},{"$f":"IF(Inputs!$B$3=\"HSM\",(IF($E10=\"3ST\",Tables!$F$76,(IF($E10=\"4ST\",Tables!$I$76,Tables!$L$76)))/100),(IF($E10=\"3ST\",Tables!$O$76,(IF($E10=\"4ST\",+Tables!$R$76,+Tables!$U$76)))/100))","v":0.157},{"$f":"IF(Inputs!$B$3=\"HSM\",(IF($E10=\"3ST\",Tables!$F$77,(IF($E10=\"4ST\",Tables!$I$77,Tables!$L$77)))/100),(IF($E10=\"3ST\",Tables!$O$77,(IF($E10=\"4ST\",+Tables!$R$77,+Tables!$U$77)))/100))","v":6.9000000000000006E-2},{"$f":"IF(Inputs!$B$3=\"HSM\",(IF($E10=\"3ST\",Tables!$F$78,(IF($E10=\"4ST\",Tables!$I$78,Tables!$L$78)))/100),(IF($E10=\"3ST\",Tables!$O$78,(IF($E10=\"4ST\",+Tables!$R$78,+Tables!$U$78)))/100))","v":5.9000000000000004E-2},{"$f":"IF(Inputs!$B$3=\"HSM\",(IF($E10=\"3ST\",Tables!$F$79,(IF($E10=\"4ST\",Tables!$I$79,Tables!$L$79)))/100),(IF($E10=\"3ST\",Tables!$O$79,(IF($E10=\"4ST\",+Tables!$R$79,+Tables!$U$79)))/100))","v":0.37699999999999995},5.7421010005428437E-2,1.1185911040018526E-2,0.11707920221886059,5.1455190784085232E-2,4.3997916757406212E-2,0.28113923080579895,1,0.18600000000000003,0.81400000000000006,0.74572740266790183,0.17039962763664587,0.91612703030454767]
[7,"Raspberry","Arvo","Heritage County","3ST",2350,900,"N",0,null,2,0,"NP","N/A (1.000)","N/A (1.000)","N/A (1.000)",1,1,{"$f":"AVERAGE(INDIRECT(ADDRESS(MATCH(sYear,'Calibration Factors'!$A:$A,0),CHOOSE(MATCH(E11,{\"3ST\",\"4ST\",\"4SG\"},0),14,18,20),,,\"Calibration Factors\")&\":\"&ADDRESS(MATCH(eYear,'Calibration Factors'!$A:$A,0),CHOOSE(MATCH(E11,{\"3ST\",\"4ST\",\"4SG\"},0),14,18,20))))","v":1.8383938},{"$f":"3/5","v":0.6},0.54,0.82823770077209913,0.42113571144026074,0.17886428855973924,7.9643793814257319E-2,0.45539307775747345,1,{"$f":"IF($E11=\"3ST\",(IF($K11=0,1,(HLOOKUP($K11,Tables!$AC$20:$AF$26,3,FALSE)))),(IF($E11=\"4ST\",(IF($K11=0,1,(HLOOKUP($K11,Tables!$AC$20:$AF$26,5,FALSE)))),(IF($K11=0,1,(HLOOKUP($K11,Tables!$AC$20:$AF$26,7,FALSE)))))))","v":0.31},{"$f":"IF($E11=\"3ST\",(IF($L11=0,1,(HLOOKUP($L11,Tables!$AC$36:$AF$42,3,FALSE)))),(IF($E11=\"4ST\",(IF($L11=0,1,(HLOOKUP($L11,Tables!$AC$36:$AF$42,5,FALSE)))),(IF($L11=0,1,(HLOOKUP($L11,Tables!$AC$36:$AF$42,7,FALSE)))))))","v":1},{"$f":"IF(($M11=\"NP\"),1,(1-0.38*(IF(Inputs!$B$3=\"HSM\",(VLOOKUP( $E11,Tables!$B$97:$F$99,4,FALSE)),(VLOOKUP($E11,Tables!$B$97:$H$99,6,FALSE))))))","v":1},{"$f":"OFFSET(Tables!$AO$1,MATCH(N11,Tables!$AO:$AO,0)-1,1)","v":1},{"$f":"OFFSET(Tables!$AO$1,MATCH(O11,Tables!$AO:$AO,0)-1,1)","v":1},{"$f":"OFFSET(Tables!$AO$1,MATCH(P11,Tables!$AO:$AO,0)-1,1)","v":1},1,0.31,0.67387423102712007,0.54,{"$f":"IF($E11=\"3ST\",IF(Inputs!$B$3=\"HSM\",Tables!$E$55,Tables!$K$55),(IF($E11=\"4ST\",(IF(Inputs!$B$3=\"HSM\",Tables!$G$55,Tables!$M$55)),(IF(Inputs!$B$3=\"HSM\",Tables!$I$55,Tables!$O$55)))))/100","v":1},0.67387423102712007,0.31,{"$f":"IF(Inputs!$B$3<>\"HSM\",$S11,$R11)","v":1.8383938},0.3840423245730078,{"$f":"IF($E11=\"3ST\",IF(Inputs!$B$3=\"HSM\",Tables!$E$53,Tables!$K$53),(IF($E11=\"4ST\",(IF(Inputs!$B$3=\"HSM\",Tables!$G$53,Tables!$M$53)),(IF(Inputs!$B$3=\"HSM\",Tables!$I$53,Tables!$O$53)))))/100","v":0.18600000000000003},0.12534060697104435,0.31,{"$f":"IF(Inputs!$B$3<>\"HSM\",$S11,$R11)","v":1.8383938},7.1431872370579449E-2,{"$f":"IF($E11=\"3ST\",IF(Inputs!$B$3=\"HSM\",Tables!$E$54,Tables!$K$54),(IF($E11=\"4ST\",(IF(Inputs!$B$3=\"HSM\",Tables!$G$54,Tables!$M$54)),(IF(Inputs!$B$3=\"HSM\",Tables!$I$54,Tables!$O$54)))))/100","v":0.81400000000000006},0.54853362405607575,0.31,{"$f":"IF(Inputs!$B$3<>\"HSM\",$S11,$R11)","v":1.8383938},0.31261045220242839,{"$f":"IF(Inputs!$B$3=\"HSM\",(IF($E11=\"3ST\",Tables!$G$80,(IF($E11=\"4ST\",Tables!$J$80,Tables!$M$80)))/100),(IF($E11=\"3ST\",Tables!$P$80,(IF($E11=\"4ST\",+Tables!$S$80,+Tables!$V$80)))/100))","v":0.99999999999999989},0.3840423245730078,{"$f":"IF(Inputs!$B$3=\"HSM\",(IF($E11=\"3ST\",Tables!$E$80,(IF($E11=\"4ST\",Tables!$H$80,Tables!$K$80)))/100),(IF($E11=\"3ST\",Tables!$N$80,(IF($E11=\"4ST\",+Tables!$Q$80,+Tables!$T$80)))/100))","v":1},7.1431872370579449E-2,{"$f":"IF(Inputs!$B$3=\"HSM\",(IF($E11=\"3ST\",Tables!$F$80,(IF($E11=\"4ST\",Tables!$I$80,Tables!$L$80)))/100),(IF($E11=\"3ST\",Tables!$O$80,(IF($E11=\"4ST\",+Tables!$R$80,+Tables!$U$80)))/100))","v":1},0.31261045220242839,{"$f":"IF(Inputs!$B$3=\"HSM\",(IF($E11=\"3ST\",Tables!$G$66,(IF($E11=\"4ST\",Tables!$J$66,Tables!$M$66)))/100),(IF($E11=\"3ST\",Tables!$P$66,(IF($E11=\"4ST\",+Tables!$S$66,+Tables!$V$66)))/100))","v":0.32799999999999996},{"$f":"IF(Inputs!$B$3=\"HSM\",(IF($E11=\"3ST\",Tables!$G$67,(IF($E11=\"4ST\",Tables!$J$67,Tables!$M$67)))/100),(IF($E11=\"3ST\",Tables!$P$67,(IF($E11=\"4ST\",+Tables!$S$67,+Tables!$V$67)))/100))","v":3.0000000000000001E-3},{"$f":"IF(Inputs!$B$3=\"HSM\",(IF($E11=\"3ST\",Tables!$G$68,(IF($E11=\"4ST\",Tables!$J$68,Tables!$M$68)))/100),(IF($E11=\"3ST\",Tables!$P$68,(IF($E11=\"4ST\",+Tables!$S$68,+Tables!$V$68)))/100))","v":3.0000000000000001E-3},{"$f":"IF(Inputs!$B$3=\"HSM\",(IF($E11=\"3ST\",Tables!$G$69,(IF($E11=\"4ST\",Tables!$J$69,Tables!$M$69)))/100),(IF($E11=\"3ST\",Tables!$P$69,(IF($E11=\"4ST\",+Tables!$S$69,+Tables!$V$69)))/100))","v":3.9E-2},{"$f":"IF(Inputs!$B$3=\"HSM\",(IF($E11=\"3ST\",Tables!$G$70,(IF($E11=\"4ST\",Tables!$J$70,Tables!$M$70)))/100),(IF($E11=\"3ST\",Tables!$P$70,(IF($E11=\"4ST\",+Tables!$S$70,+Tables!$V$70)))/100))","v":0.17899999999999999},{"$f":"IF(Inputs!$B$3=\"HSM\",(IF($E11=\"3ST\",Tables!$G$71,(IF($E11=\"4ST\",Tables!$J$71,Tables!$M$71)))/100),(IF($E11=\"3ST\",Tables!$P$71,(IF($E11=\"4ST\",+Tables!$S$71,+Tables!$V$71)))/100))","v":2.6000000000000002E-2},{"$f":"IF(Inputs!$B$3=\"HSM\",(IF($E11=\"3ST\",Tables!$G$72,(IF($E11=\"4ST\",Tables!$J$72,Tables!$M$72)))/100),(IF($E11=\"3ST\",Tables!$P$72,(IF($E11=\"4ST\",+Tables!$S$72,+Tables!$V$72)))/100))","v":0.57799999999999985},0.12596588245994655,1.1521269737190234E-3,1.1521269737190234E-3,1.4977650658347304E-2,6.874357609856839E-2,9.9851004388982045E-3,0.22197646360319845,{"$f":"IF(Inputs!$B$3=\"HSM\",(IF($E11=\"3ST\",Tables!$E$66,(IF($E11=\"4ST\",Tables!$H$66,Tables!$K$66)))/100),(IF($E11=\"3ST\",Tables!$N$66,(IF($E11=\"4ST\",+Tables!$Q$66,+Tables!$T$66)))/100))","v":3.9E-2},{"$f":"IF(Inputs!$B$3=\"HSM\",(IF($E11=\"3ST\",Tables!$E$67,(IF($E11=\"4ST\",Tables!$H$67,Tables!$K$67)))/100),(IF($E11=\"3ST\",Tables!$N$67,(IF($E11=\"4ST\",+Tables!$Q$67,+Tables!$T$67)))/100))","v":0.01},{"$f":"IF(Inputs!$B$3=\"HSM\",(IF($E11=\"3ST\",Tables!$E$68,(IF($E11=\"4ST\",Tables!$H$68,Tables!$K$68)))/100),(IF($E11=\"3ST\",Tables!$N$68,(IF($E11=\"4ST\",+Tables!$Q$68,+Tables!$T$68)))/100))","v":1.4999999999999999E-2},{"$f":"IF(Inputs!$B$3=\"HSM\",(IF($E11=\"3ST\",Tables!$E$69,(IF($E11=\"4ST\",Tables!$H$69,Tables!$K$69)))/100),(IF($E11=\"3ST\",Tables!$N$69,(IF($E11=\"4ST\",+Tables!$Q$69,+Tables!$T$69)))/100))","v":9.6000000000000002E-2},{"$f":"IF(Inputs!$B$3=\"HSM\",(IF($E11=\"3ST\",Tables!$E$70,(IF($E11=\"4ST\",Tables!$H$70,Tables!$K$70)))/100),(IF($E11=\"3ST\",Tables!$N$70,(IF($E11=\"4ST\",+Tables!$Q$70,+Tables!$T$70)))/100))","v":0.188},{"$f":"IF(Inputs!$B$3=\"HSM\",(IF($E11=\"3ST\",Tables!$E$71,(IF($E11=\"4ST\",Tables!$H$71,Tables!$K$71)))/100),(IF($E11=\"3ST\",Tables!$N$71,(IF($E11=\"4ST\",+Tables!$Q$71,+Tables!$T$71)))/100))","v":2.8999999999999998E-2},{"$f":"IF(Inputs!$B$3=\"HSM\",(IF($E11=\"3ST\",Tables!$E$72,(IF($E11=\"4ST\",Tables!$H$72,Tables!$K$72)))/100),(IF($E11=\"3ST\",Tables!$N$72,(IF($E11=\"4ST\",+Tables!$Q$72,+Tables!$T$72)))/100))","v":0.37699999999999995},2.7858430224525985E-3,7.1431872370579454E-4,1.0714780855586917E-3,6.857459747575627E-3,1.3429192005668937E-2,2.0715242987468037E-3,2.6929815883708449E-2,{"$f":"IF(Inputs!$B$3=\"HSM\",(IF($E11=\"3ST\",Tables!$F$66,(IF($E11=\"4ST\",Tables!$I$66,Tables!$L$66)))/100),(IF($E11=\"3ST\",Tables!$O$66,(IF($E11=\"4ST\",+Tables!$R$66,+Tables!$U$66)))/100))","v":0.39399999999999996},{"$f":"IF(Inputs!$B$3=\"HSM\",(IF($E11=\"3ST\",Tables!$F$67,(IF($E11=\"4ST\",Tables!$I$67,Tables!$L$67)))/100),(IF($E11=\"3ST\",Tables!$O$67,(IF($E11=\"4ST\",+Tables!$R$67,+Tables!$U$67)))/100))","v":1E-3},{"$f":"IF(Inputs!$B$3=\"HSM\",(IF($E11=\"3ST\",Tables!$F$68,(IF($E11=\"4ST\",Tables!$I$68,Tables!$L$68)))/100),(IF($E11=\"3ST\",Tables!$O$68,(IF($E11=\"4ST\",+Tables!$R$68,+Tables!$U$68)))/100))","v":0},{"$f":"IF(Inputs!$B$3=\"HSM\",(IF($E11=\"3ST\",Tables!$F$69,(IF($E11=\"4ST\",Tables!$I$69,Tables!$L$69)))/100),(IF($E11=\"3ST\",Tables!$O$69,(IF($E11=\"4ST\",+Tables!$R$69,+Tables!$U$69)))/100))","v":2.6000000000000002E-2},{"$f":"IF(Inputs!$B$3=\"HSM\",(IF($E11=\"3ST\",Tables!$F$70,(IF($E11=\"4ST\",Tables!$I$70,Tables!$L$70)))/100),(IF($E11=\"3ST\",Tables!$O$70,(IF($E11=\"4ST\",+Tables!$R$70,+Tables!$U$70)))/100))","v":0.17699999999999999},{"$f":"IF(Inputs!$B$3=\"HSM\",(IF($E11=\"3ST\",Tables!$F$71,(IF($E11=\"4ST\",Tables!$I$71,Tables!$L$71)))/100),(IF($E11=\"3ST\",Tables!$O$71,(IF($E11=\"4ST\",+Tables!$R$71,+Tables!$U$71)))/100))","v":2.5000000000000001E-2},{"$f":"IF(Inputs!$B$3=\"HSM\",(IF($E11=\"3ST\",Tables!$F$72,(IF($E11=\"4ST\",Tables!$I$72,Tables!$L$72)))/100),(IF($E11=\"3ST\",Tables!$O$72,(IF($E11=\"4ST\",+Tables!$R$72,+Tables!$U$72)))/100))","v":0.623},0.12316851816775677,3.1261045220242839E-4,0,8.1278717572631394E-3,5.5332050039829821E-2,7.8152613050607098E-3,0.19475631172211288,{"$f":"IF(Inputs!$B$3=\"HSM\",(IF($E11=\"3ST\",Tables!$G$74,(IF($E11=\"4ST\",Tables!$J$74,Tables!$M$74)))/100),(IF($E11=\"3ST\",Tables!$P$74,(IF($E11=\"4ST\",+Tables!$S$74,+Tables!$V$74)))/100))","v":9.4E-2},{"$f":"IF(Inputs!$B$3=\"HSM\",(IF($E11=\"3ST\",Tables!$G$75,(IF($E11=\"4ST\",Tables!$J$75,Tables!$M$75)))/100),(IF($E11=\"3ST\",Tables!$P$75,(IF($E11=\"4ST\",+Tables!$S$75,+Tables!$V$75)))/100))","v":2.8999999999999998E-2},{"$f":"IF(Inputs!$B$3=\"HSM\",(IF($E11=\"3ST\",Tables!$G$76,(IF($E11=\"4ST\",Tables!$J$76,Tables!$M$76)))/100),(IF($E11=\"3ST\",Tables!$P$76,(IF($E11=\"4ST\",+Tables!$S$76,+Tables!$V$76)))/100))","v":0.17699999999999999},{"$f":"IF(Inputs!$B$3=\"HSM\",(IF($E11=\"3ST\",Tables!$G$77,(IF($E11=\"4ST\",Tables!$J$77,Tables!$M$77)))/100),(IF($E11=\"3ST\",Tables!$P$77,(IF($E11=\"4ST\",+Tables!$S$77,+Tables!$V$77)))/100))","v":6.4000000000000001E-2},{"$f":"IF(Inputs!$B$3=\"HSM\",(IF($E11=\"3ST\",Tables!$G$78,(IF($E11=\"4ST\",Tables!$J$78,Tables!$M$78)))/100),(IF($E11=\"3ST\",Tables!$P$78,(IF($E11=\"4ST\",+Tables!$S$78,+Tables!$V$78)))/100))","v":5.7999999999999996E-2},{"$f":"IF(Inputs!$B$3=\"HSM\",(IF($E11=\"3ST\",Tables!$G$79,(IF($E11=\"4ST\",Tables!$J$79,Tables!$M$79)))/100),(IF($E11=\"3ST\",Tables!$P$79,(IF($E11=\"4ST\",+Tables!$S$79,+Tables!$V$79)))/100))","v":0.42199999999999993},3.6099978509862733E-2,1.1137227412617225E-2,6.7975491449422373E-2,2.45787087726725E-2,2.2274454825234449E-2,0.16206586096980927,{"$f":"IF(Inputs!$B$3=\"HSM\",(IF($E11=\"3ST\",Tables!$E$74,(IF($E11=\"4ST\",Tables!$H$74,Tables!$K$74)))/100),(IF($E11=\"3ST\",Tables!$N$74,(IF($E11=\"4ST\",+Tables!$Q$74,+Tables!$T$74)))/100))","v":0.16699999999999998},{"$f":"IF(Inputs!$B$3=\"HSM\",(IF($E11=\"3ST\",Tables!$E$75,(IF($E11=\"4ST\",Tables!$H$75,Tables!$K$75)))/100),(IF($E11=\"3ST\",Tables!$N$75,(IF($E11=\"4ST\",+Tables!$Q$75,+Tables!$T$75)))/100))","v":8.900000000000001E-2},{"$f":"IF(Inputs!$B$3=\"HSM\",(IF($E11=\"3ST\",Tables!$E$76,(IF($E11=\"4ST\",Tables!$H$76,Tables!$K$76)))/100),(IF($E11=\"3ST\",Tables!$N$76,(IF($E11=\"4ST\",+Tables!$Q$76,+Tables!$T$76)))/100))","v":0.26600000000000001},{"$f":"IF(Inputs!$B$3=\"HSM\",(IF($E11=\"3ST\",Tables!$E$77,(IF($E11=\"4ST\",Tables!$H$77,Tables!$K$77)))/100),(IF($E11=\"3ST\",Tables!$N$77,(IF($E11=\"4ST\",+Tables!$Q$77,+Tables!$T$77)))/100))","v":4.4999999999999998E-2},{"$f":"IF(Inputs!$B$3=\"HSM\",(IF($E11=\"3ST\",Tables!$E$78,(IF($E11=\"4ST\",Tables!$H$78,Tables!$K$78)))/100),(IF($E11=\"3ST\",Tables!$N$78,(IF($E11=\"4ST\",+Tables!$Q$78,+Tables!$T$78)))/100))","v":5.5999999999999994E-2},{"$f":"IF(Inputs!$B$3=\"HSM\",(IF($E11=\"3ST\",Tables!$E$79,(IF($E11=\"4ST\",Tables!$H$79,Tables!$K$79)))/100),(IF($E11=\"3ST\",Tables!$N$79,(IF($E11=\"4ST\",+Tables!$Q$79,+Tables!$T$79)))/100))","v":0.623},1.1929122685886766E-2,6.3574366409815718E-3,1.9000878050574134E-2,3.2144342566760753E-3,4.0001848527524489E-3,4.4502056486871E-2,{"$f":"IF(Inputs!$B$3=\"HSM\",(IF($E11=\"3ST\",Tables!$F$74,(IF($E11=\"4ST\",Tables!$I$74,Tables!$L$74)))/100),(IF($E11=\"3ST\",Tables!$O$74,(IF($E11=\"4ST\",+Tables!$R$74,+Tables!$U$74)))/100))","v":7.6999999999999999E-2},{"$f":"IF(Inputs!$B$3=\"HSM\",(IF($E11=\"3ST\",Tables!$F$75,(IF($E11=\"4ST\",Tables!$I$75,Tables!$L$75)))/100),(IF($E11=\"3ST\",Tables!$O$75,(IF($E11=\"4ST\",+Tables!$R$75,+Tables!$U$75)))/100))","v":1.4999999999999999E-2},{"$f":"IF(Inputs!$B$3=\"HSM\",(IF($E11=\"3ST\",Tables!$F$76,(IF($E11=\"4ST\",Tables!$I$76,Tables!$L$76)))/100),(IF($E11=\"3ST\",Tables!$O$76,(IF($E11=\"4ST\",+Tables!$R$76,+Tables!$U$76)))/100))","v":0.157},{"$f":"IF(Inputs!$B$3=\"HSM\",(IF($E11=\"3ST\",Tables!$F$77,(IF($E11=\"4ST\",Tables!$I$77,Tables!$L$77)))/100),(IF($E11=\"3ST\",Tables!$O$77,(IF($E11=\"4ST\",+Tables!$R$77,+Tables!$U$77)))/100))","v":6.9000000000000006E-2},{"$f":"IF(Inputs!$B$3=\"HSM\",(IF($E11=\"3ST\",Tables!$F$78,(IF($E11=\"4ST\",Tables!$I$78,Tables!$L$78)))/100),(IF($E11=\"3ST\",Tables!$O$78,(IF($E11=\"4ST\",+Tables!$R$78,+Tables!$U$78)))/100))","v":5.9000000000000004E-2},{"$f":"IF(Inputs!$B$3=\"HSM\",(IF($E11=\"3ST\",Tables!$F$79,(IF($E11=\"4ST\",Tables!$I$79,Tables!$L$79)))/100),(IF($E11=\"3ST\",Tables!$O$79,(IF($E11=\"4ST\",+Tables!$R$79,+Tables!$U$79)))/100))","v":0.37699999999999995},2.4071004819586985E-2,4.6891567830364255E-3,4.9079840995781256E-2,2.1570121201967562E-2,1.8444016679943276E-2,0.11785414048031549,1,0.18600000000000003,0.81400000000000006,0.31261045220242839,7.1431872370579449E-2,0.3840423245730078]
[8,"Kiwi","Hilma","Heritage County","3ST",1200,1150,"N",0,null,0,0,"NP","N/A (1.000)","N/A (1.000)","N/A (1.000)",1,1,{"$f":"AVERAGE(INDIRECT(ADDRESS(MATCH(sYear,'Calibration Factors'!$A:$A,0),CHOOSE(MATCH(E12,{\"3ST\",\"4ST\",\"4SG\"},0),14,18,20),,,\"Calibration Factors\")&\":\"&ADDRESS(MATCH(eYear,'Calibration Factors'!$A:$A,0),CHOOSE(MATCH(E12,{\"3ST\",\"4ST\",\"4SG\"},0),14,18,20))))","v":1.8383938},{"$f":"1/5","v":0.2},0.54,0.69271643502271829,0.63050035184227426,-0.43050035184227425,0.36439626960038773,0.66602713066089658,1,{"$f":"IF($E12=\"3ST\",(IF($K12=0,1,(HLOOKUP($K12,Tables!$AC$20:$AF$26,3,FALSE)))),(IF($E12=\"4ST\",(IF($K12=0,1,(HLOOKUP($K12,Tables!$AC$20:$AF$26,5,FALSE)))),(IF($K12=0,1,(HLOOKUP($K12,Tables!$AC$20:$AF$26,7,FALSE)))))))","v":1},{"$f":"IF($E12=\"3ST\",(IF($L12=0,1,(HLOOKUP($L12,Tables!$AC$36:$AF$42,3,FALSE)))),(IF($E12=\"4ST\",(IF($L12=0,1,(HLOOKUP($L12,Tables!$AC$36:$AF$42,5,FALSE)))),(IF($L12=0,1,(HLOOKUP($L12,Tables!$AC$36:$AF$42,7,FALSE)))))))","v":1},{"$f":"IF(($M12=\"NP\"),1,(1-0.38*(IF(Inputs!$B$3=\"HSM\",(VLOOKUP( $E12,Tables!$B$97:$F$99,4,FALSE)),(VLOOKUP($E12,Tables!$B$97:$H$99,6,FALSE))))))","v":1},{"$f":"OFFSET(Tables!$AO$1,MATCH(N12,Tables!$AO:$AO,0)-1,1)","v":1},{"$f":"OFFSET(Tables!$AO$1,MATCH(O12,Tables!$AO:$AO,0)-1,1)","v":1},{"$f":"OFFSET(Tables!$AO$1,MATCH(P12,Tables!$AO:$AO,0)-1,1)","v":1},1,1,0.44683947675409691,0.54,{"$f":"IF($E12=\"3ST\",IF(Inputs!$B$3=\"HSM\",Tables!$E$55,Tables!$K$55),(IF($E12=\"4ST\",(IF(Inputs!$B$3=\"HSM\",Tables!$G$55,Tables!$M$55)),(IF(Inputs!$B$3=\"HSM\",Tables!$I$55,Tables!$O$55)))))/100","v":1},0.44683947675409691,1,{"$f":"IF(Inputs!$B$3<>\"HSM\",$S12,$R12)","v":1.8383938},0.82146692365997587,{"$f":"IF($E12=\"3ST\",IF(Inputs!$B$3=\"HSM\",Tables!$E$53,Tables!$K$53),(IF($E12=\"4ST\",(IF(Inputs!$B$3=\"HSM\",Tables!$G$53,Tables!$M$53)),(IF(Inputs!$B$3=\"HSM\",Tables!$I$53,Tables!$O$53)))))/100","v":0.18600000000000003},8.3112142676262032E-2,1,{"$f":"IF(Inputs!$B$3<>\"HSM\",$S12,$R12)","v":1.8383938},0.15279284780075553,{"$f":"IF($E12=\"3ST\",IF(Inputs!$B$3=\"HSM\",Tables!$E$54,Tables!$K$54),(IF($E12=\"4ST\",(IF(Inputs!$B$3=\"HSM\",Tables!$G$54,Tables!$M$54)),(IF(Inputs!$B$3=\"HSM\",Tables!$I$54,Tables!$O$54)))))/100","v":0.81400000000000006},0.36372733407783492,1,{"$f":"IF(Inputs!$B$3<>\"HSM\",$S12,$R12)","v":1.8383938},0.66867407585922045,{"$f":"IF(Inputs!$B$3=\"HSM\",(IF($E12=\"3ST\",Tables!$G$80,(IF($E12=\"4ST\",Tables!$J$80,Tables!$M$80)))/100),(IF($E12=\"3ST\",Tables!$P$80,(IF($E12=\"4ST\",+Tables!$S$80,+Tables!$V$80)))/100))","v":0.99999999999999989},0.82146692365997587,{"$f":"IF(Inputs!$B$3=\"HSM\",(IF($E12=\"3ST\",Tables!$E$80,(IF($E12=\"4ST\",Tables!$H$80,Tables!$K$80)))/100),(IF($E12=\"3ST\",Tables!$N$80,(IF($E12=\"4ST\",+Tables!$Q$80,+Tables!$T$80)))/100))","v":1},0.15279284780075553,{"$f":"IF(Inputs!$B$3=\"HSM\",(IF($E12=\"3ST\",Tables!$F$80,(IF($E12=\"4ST\",Tables!$I$80,Tables!$L$80)))/100),(IF($E12=\"3ST\",Tables!$O$80,(IF($E12=\"4ST\",+Tables!$R$80,+Tables!$U$80)))/100))","v":1},0.66867407585922045,{"$f":"IF(Inputs!$B$3=\"HSM\",(IF($E12=\"3ST\",Tables!$G$66,(IF($E12=\"4ST\",Tables!$J$66,Tables!$M$66)))/100),(IF($E12=\"3ST\",Tables!$P$66,(IF($E12=\"4ST\",+Tables!$S$66,+Tables!$V$66)))/100))","v":0.32799999999999996},{"$f":"IF(Inputs!$B$3=\"HSM\",(IF($E12=\"3ST\",Tables!$G$67,(IF($E12=\"4ST\",Tables!$J$67,Tables!$M$67)))/100),(IF($E12=\"3ST\",Tables!$P$67,(IF($E12=\"4ST\",+Tables!$S$67,+Tables!$V$67)))/100))","v":3.0000000000000001E-3},{"$f":"IF(Inputs!$B$3=\"HSM\",(IF($E12=\"3ST\",Tables!$G$68,(IF($E12=\"4ST\",Tables!$J$68,Tables!$M$68)))/100),(IF($E12=\"3ST\",Tables!$P$68,(IF($E12=\"4ST\",+Tables!$S$68,+Tables!$V$68)))/100))","v":3.0000000000000001E-3},{"$f":"IF(Inputs!$B$3=\"HSM\",(IF($E12=\"3ST\",Tables!$G$69,(IF($E12=\"4ST\",Tables!$J$69,Tables!$M$69)))/100),(IF($E12=\"3ST\",Tables!$P$69,(IF($E12=\"4ST\",+Tables!$S$69,+Tables!$V$69)))/100))","v":3.9E-2},{"$f":"IF(Inputs!$B$3=\"HSM\",(IF($E12=\"3ST\",Tables!$G$70,(IF($E12=\"4ST\",Tables!$J$70,Tables!$M$70)))/100),(IF($E12=\"3ST\",Tables!$P$70,(IF($E12=\"4ST\",+Tables!$S$70,+Tables!$V$70)))/100))","v":0.17899999999999999},{"$f":"IF(Inputs!$B$3=\"HSM\",(IF($E12=\"3ST\",Tables!$G$71,(IF($E12=\"4ST\",Tables!$J$71,Tables!$M$71)))/100),(IF($E12=\"3ST\",Tables!$P$71,(IF($E12=\"4ST\",+Tables!$S$71,+Tables!$V$71)))/100))","v":2.6000000000000002E-2},{"$f":"IF(Inputs!$B$3=\"HSM\",(IF($E12=\"3ST\",Tables!$G$72,(IF($E12=\"4ST\",Tables!$J$72,Tables!$M$72)))/100),(IF($E12=\"3ST\",Tables!$P$72,(IF($E12=\"4ST\",+Tables!$S$72,+Tables!$V$72)))/100))","v":0.57799999999999985},0.26944115096047205,2.4644007709799277E-3,2.4644007709799277E-3,3.2037210022739057E-2,0.14704257933513568,2.1358140015159375E-2,0.47480788187546591,{"$f":"IF(Inputs!$B$3=\"HSM\",(IF($E12=\"3ST\",Tables!$E$66,(IF($E12=\"4ST\",Tables!$H$66,Tables!$K$66)))/100),(IF($E12=\"3ST\",Tables!$N$66,(IF($E12=\"4ST\",+Tables!$Q$66,+Tables!$T$66)))/100))","v":3.9E-2},{"$f":"IF(Inputs!$B$3=\"HSM\",(IF($E12=\"3ST\",Tables!$E$67,(IF($E12=\"4ST\",Tables!$H$67,Tables!$K$67)))/100),(IF($E12=\"3ST\",Tables!$N$67,(IF($E12=\"4ST\",+Tables!$Q$67,+Tables!$T$67)))/100))","v":0.01},{"$f":"IF(Inputs!$B$3=\"HSM\",(IF($E12=\"3ST\",Tables!$E$68,(IF($E12=\"4ST\",Tables!$H$68,Tables!$K$68)))/100),(IF($E12=\"3ST\",Tables!$N$68,(IF($E12=\"4ST\",+Tables!$Q$68,+Tables!$T$68)))/100))","v":1.4999999999999999E-2},{"$f":"IF(Inputs!$B$3=\"HSM\",(IF($E12=\"3ST\",Tables!$E$69,(IF($E12=\"4ST\",Tables!$H$69,Tables!$K$69)))/100),(IF($E12=\"3ST\",Tables!$N$69,(IF($E12=\"4ST\",+Tables!$Q$69,+Tables!$T$69)))/100))","v":9.6000000000000002E-2},{"$f":"IF(Inputs!$B$3=\"HSM\",(IF($E12=\"3ST\",Tables!$E$70,(IF($E12=\"4ST\",Tables!$H$70,Tables!$K$70)))/100),(IF($E12=\"3ST\",Tables!$N$70,(IF($E12=\"4ST\",+Tables!$Q$70,+Tables!$T$70)))/100))","v":0.188},{"$f":"IF(Inputs!$B$3=\"HSM\",(IF($E12=\"3ST\",Tables!$E$71,(IF($E12=\"4ST\",Tables!$H$71,Tables!$K$71)))/100),(IF($E12=\"3ST\",Tables!$N$71,(IF($E12=\"4ST\",+Tables!$Q$71,+Tables!$T$71)))/100))","v":2.8999999999999998E-2},{"$f":"IF(Inputs!$B$3=\"HSM\",(IF($E12=\"3ST\",Tables!$E$72,(IF($E12=\"4ST\",Tables!$H$72,Tables!$K$72)))/100),(IF($E12=\"3ST\",Tables!$N$72,(IF($E12=\"4ST\",+Tables!$Q$72,+Tables!$T$72)))/100))","v":0.37699999999999995},5.9589210642294653E-3,1.5279284780075552E-3,2.2918927170113329E-3,1.4668113388872531E-2,2.8725055386542041E-2,4.4309925862219103E-3,5.7602903620884827E-2,{"$f":"IF(Inputs!$B$3=\"HSM\",(IF($E12=\"3ST\",Tables!$F$66,(IF($E12=\"4ST\",Tables!$I$66,Tables!$L$66)))/100),(IF($E12=\"3ST\",Tables!$O$66,(IF($E12=\"4ST\",+Tables!$R$66,+Tables!$U$66)))/100))","v":0.39399999999999996},{"$f":"IF(Inputs!$B$3=\"HSM\",(IF($E12=\"3ST\",Tables!$F$67,(IF($E12=\"4ST\",Tables!$I$67,Tables!$L$67)))/100),(IF($E12=\"3ST\",Tables!$O$67,(IF($E12=\"4ST\",+Tables!$R$67,+Tables!$U$67)))/100))","v":1E-3},{"$f":"IF(Inputs!$B$3=\"HSM\",(IF($E12=\"3ST\",Tables!$F$68,(IF($E12=\"4ST\",Tables!$I$68,Tables!$L$68)))/100),(IF($E12=\"3ST\",Tables!$O$68,(IF($E12=\"4ST\",+Tables!$R$68,+Tables!$U$68)))/100))","v":0},{"$f":"IF(Inputs!$B$3=\"HSM\",(IF($E12=\"3ST\",Tables!$F$69,(IF($E12=\"4ST\",Tables!$I$69,Tables!$L$69)))/100),(IF($E12=\"3ST\",Tables!$O$69,(IF($E12=\"4ST\",+Tables!$R$69,+Tables!$U$69)))/100))","v":2.6000000000000002E-2},{"$f":"IF(Inputs!$B$3=\"HSM\",(IF($E12=\"3ST\",Tables!$F$70,(IF($E12=\"4ST\",Tables!$I$70,Tables!$L$70)))/100),(IF($E12=\"3ST\",Tables!$O$70,(IF($E12=\"4ST\",+Tables!$R$70,+Tables!$U$70)))/100))","v":0.17699999999999999},{"$f":"IF(Inputs!$B$3=\"HSM\",(IF($E12=\"3ST\",Tables!$F$71,(IF($E12=\"4ST\",Tables!$I$71,Tables!$L$71)))/100),(IF($E12=\"3ST\",Tables!$O$71,(IF($E12=\"4ST\",+Tables!$R$71,+Tables!$U$71)))/100))","v":2.5000000000000001E-2},{"$f":"IF(Inputs!$B$3=\"HSM\",(IF($E12=\"3ST\",Tables!$F$72,(IF($E12=\"4ST\",Tables!$I$72,Tables!$L$72)))/100),(IF($E12=\"3ST\",Tables!$O$72,(IF($E12=\"4ST\",+Tables!$R$72,+Tables!$U$72)))/100))","v":0.623},0.26345758588853285,6.6867407585922045E-4,0,1.7385525972339732E-2,0.11835531142708201,1.6716851896480513E-2,0.41658394926029435,{"$f":"IF(Inputs!$B$3=\"HSM\",(IF($E12=\"3ST\",Tables!$G$74,(IF($E12=\"4ST\",Tables!$J$74,Tables!$M$74)))/100),(IF($E12=\"3ST\",Tables!$P$74,(IF($E12=\"4ST\",+Tables!$S$74,+Tables!$V$74)))/100))","v":9.4E-2},{"$f":"IF(Inputs!$B$3=\"HSM\",(IF($E12=\"3ST\",Tables!$G$75,(IF($E12=\"4ST\",Tables!$J$75,Tables!$M$75)))/100),(IF($E12=\"3ST\",Tables!$P$75,(IF($E12=\"4ST\",+Tables!$S$75,+Tables!$V$75)))/100))","v":2.8999999999999998E-2},{"$f":"IF(Inputs!$B$3=\"HSM\",(IF($E12=\"3ST\",Tables!$G$76,(IF($E12=\"4ST\",Tables!$J$76,Tables!$M$76)))/100),(IF($E12=\"3ST\",Tables!$P$76,(IF($E12=\"4ST\",+Tables!$S$76,+Tables!$V$76)))/100))","v":0.17699999999999999},{"$f":"IF(Inputs!$B$3=\"HSM\",(IF($E12=\"3ST\",Tables!$G$77,(IF($E12=\"4ST\",Tables!$J$77,Tables!$M$77)))/100),(IF($E12=\"3ST\",Tables!$P$77,(IF($E12=\"4ST\",+Tables!$S$77,+Tables!$V$77)))/100))","v":6.4000000000000001E-2},{"$f":"IF(Inputs!$B$3=\"HSM\",(IF($E12=\"3ST\",Tables!$G$78,(IF($E12=\"4ST\",Tables!$J$78,Tables!$M$78)))/100),(IF($E12=\"3ST\",Tables!$P$78,(IF($E12=\"4ST\",+Tables!$S$78,+Tables!$V$78)))/100))","v":5.7999999999999996E-2},{"$f":"IF(Inputs!$B$3=\"HSM\",(IF($E12=\"3ST\",Tables!$G$79,(IF($E12=\"4ST\",Tables!$J$79,Tables!$M$79)))/100),(IF($E12=\"3ST\",Tables!$P$79,(IF($E12=\"4ST\",+Tables!$S$79,+Tables!$V$79)))/100))","v":0.42199999999999993},7.7217890824037738E-2,2.3822540786139299E-2,0.14539964548781573,5.2573883114238454E-2,4.7645081572278598E-2,0.34665904178450974,{"$f":"IF(Inputs!$B$3=\"HSM\",(IF($E12=\"3ST\",Tables!$E$74,(IF($E12=\"4ST\",Tables!$H$74,Tables!$K$74)))/100),(IF($E12=\"3ST\",Tables!$N$74,(IF($E12=\"4ST\",+Tables!$Q$74,+Tables!$T$74)))/100))","v":0.16699999999999998},{"$f":"IF(Inputs!$B$3=\"HSM\",(IF($E12=\"3ST\",Tables!$E$75,(IF($E12=\"4ST\",Tables!$H$75,Tables!$K$75)))/100),(IF($E12=\"3ST\",Tables!$N$75,(IF($E12=\"4ST\",+Tables!$Q$75,+Tables!$T$75)))/100))","v":8.900000000000001E-2},{"$f":"IF(Inputs!$B$3=\"HSM\",(IF($E12=\"3ST\",Tables!$E$76,(IF($E12=\"4ST\",Tables!$H$76,Tables!$K$76)))/100),(IF($E12=\"3ST\",Tables!$N$76,(IF($E12=\"4ST\",+Tables!$Q$76,+Tables!$T$76)))/100))","v":0.26600000000000001},{"$f":"IF(Inputs!$B$3=\"HSM\",(IF($E12=\"3ST\",Tables!$E$77,(IF($E12=\"4ST\",Tables!$H$77,Tables!$K$77)))/100),(IF($E12=\"3ST\",Tables!$N$77,(IF($E12=\"4ST\",+Tables!$Q$77,+Tables!$T$77)))/100))","v":4.4999999999999998E-2},{"$f":"IF(Inputs!$B$3=\"HSM\",(IF($E12=\"3ST\",Tables!$E$78,(IF($E12=\"4ST\",Tables!$H$78,Tables!$K$78)))/100),(IF($E12=\"3ST\",Tables!$N$78,(IF($E12=\"4ST\",+Tables!$Q$78,+Tables!$T$78)))/100))","v":5.5999999999999994E-2},{"$f":"IF(Inputs!$B$3=\"HSM\",(IF($E12=\"3ST\",Tables!$E$79,(IF($E12=\"4ST\",Tables!$H$79,Tables!$K$79)))/100),(IF($E12=\"3ST\",Tables!$N$79,(IF($E12=\"4ST\",+Tables!$Q$79,+Tables!$T$79)))/100))","v":0.623},2.5516405582726172E-2,1.3598563454267243E-2,4.064289751500097E-2,6.8756781510339983E-3,8.5563994768423079E-3,9.5189944179870686E-2,{"$f":"IF(Inputs!$B$3=\"HSM\",(IF($E12=\"3ST\",Tables!$F$74,(IF($E12=\"4ST\",Tables!$I$74,Tables!$L$74)))/100),(IF($E12=\"3ST\",Tables!$O$74,(IF($E12=\"4ST\",+Tables!$R$74,+Tables!$U$74)))/100))","v":7.6999999999999999E-2},{"$f":"IF(Inputs!$B$3=\"HSM\",(IF($E12=\"3ST\",Tables!$F$75,(IF($E12=\"4ST\",Tables!$I$75,Tables!$L$75)))/100),(IF($E12=\"3ST\",Tables!$O$75,(IF($E12=\"4ST\",+Tables!$R$75,+Tables!$U$75)))/100))","v":1.4999999999999999E-2},{"$f":"IF(Inputs!$B$3=\"HSM\",(IF($E12=\"3ST\",Tables!$F$76,(IF($E12=\"4ST\",Tables!$I$76,Tables!$L$76)))/100),(IF($E12=\"3ST\",Tables!$O$76,(IF($E12=\"4ST\",+Tables!$R$76,+Tables!$U$76)))/100))","v":0.157},{"$f":"IF(Inputs!$B$3=\"HSM\",(IF($E12=\"3ST\",Tables!$F$77,(IF($E12=\"4ST\",Tables!$I$77,Tables!$L$77)))/100),(IF($E12=\"3ST\",Tables!$O$77,(IF($E12=\"4ST\",+Tables!$R$77,+Tables!$U$77)))/100))","v":6.9000000000000006E-2},{"$f":"IF(Inputs!$B$3=\"HSM\",(IF($E12=\"3ST\",Tables!$F$78,(IF($E12=\"4ST\",Tables!$I$78,Tables!$L$78)))/100),(IF($E12=\"3ST\",Tables!$O$78,(IF($E12=\"4ST\",+Tables!$R$78,+Tables!$U$78)))/100))","v":5.9000000000000004E-2},{"$f":"IF(Inputs!$B$3=\"HSM\",(IF($E12=\"3ST\",Tables!$F$79,(IF($E12=\"4ST\",Tables!$I$79,Tables!$L$79)))/100),(IF($E12=\"3ST\",Tables!$O$79,(IF($E12=\"4ST\",+Tables!$R$79,+Tables!$U$79)))/100))","v":0.37699999999999995},5.1487903841159977E-2,1.0030111137888306E-2,0.10498182990989761,4.6138511234286216E-2,3.9451770475694009E-2,0.2520901265989261,1,0.18600000000000003,0.81400000000000006,0.66867407585922045,0.15279284780075553,0.82146692365997587]
[9,"Lemon","Tuula","Heritage County","4ST",3700,2100,"Y",10,15,2,0,"P","N/A (1.000)","N/A (1.000)","N/A (1.000)",1,1,{"$f":"AVERAGE(INDIRECT(ADDRESS(MATCH(sYear,'Calibration Factors'!$A:$A,0),CHOOSE(MATCH(E13,{\"3ST\",\"4ST\",\"4SG\"},0),14,18,20),,,\"Calibration Factors\")&\":\"&ADDRESS(MATCH(eYear,'Calibration Factors'!$A:$A,0),CHOOSE(MATCH(E13,{\"3ST\",\"4ST\",\"4SG\"},0),14,18,20))))","v":1.6480646000000001},{"$f":"7/5","v":1.4},0.24,0.63650422594972367,2.0234598088798723,-0.6234598088798724,1.3588918933749232,0.75569933036118719,1.0699277493609203,{"$f":"IF($E13=\"3ST\",(IF($K13=0,1,(HLOOKUP($K13,Tables!$AC$20:$AF$26,3,FALSE)))),(IF($E13=\"4ST\",(IF($K13=0,1,(HLOOKUP($K13,Tables!$AC$20:$AF$26,5,FALSE)))),(IF($K13=0,1,(HLOOKUP($K13,Tables!$AC$20:$AF$26,7,FALSE)))))))","v":0.52},{"$f":"IF($E13=\"3ST\",(IF($L13=0,1,(HLOOKUP($L13,Tables!$AC$36:$AF$42,3,FALSE)))),(IF($E13=\"4ST\",(IF($L13=0,1,(HLOOKUP($L13,Tables!$AC$36:$AF$42,5,FALSE)))),(IF($L13=0,1,(HLOOKUP($L13,Tables!$AC$36:$AF$42,7,FALSE)))))))","v":1},{"$f":"IF(($M13=\"NP\"),1,(1-0.38*(IF(Inputs!$B$3=\"HSM\",(VLOOKUP( $E13,Tables!$B$97:$F$99,4,FALSE)),(VLOOKUP($E13,Tables!$B$97:$H$99,6,FALSE))))))","v":0.92096},{"$f":"OFFSET(Tables!$AO$1,MATCH(N13,Tables!$AO:$AO,0)-1,1)","v":1},{"$f":"OFFSET(Tables!$AO$1,MATCH(O13,Tables!$AO:$AO,0)-1,1)","v":1},{"$f":"OFFSET(Tables!$AO$1,MATCH(P13,Tables!$AO:$AO,0)-1,1)","v":1},1,0.51238754322674529,2.8178251377238839,0.24,{"$f":"IF($E13=\"3ST\",IF(Inputs!$B$3=\"HSM\",Tables!$E$55,Tables!$K$55),(IF($E13=\"4ST\",(IF(Inputs!$B$3=\"HSM\",Tables!$G$55,Tables!$M$55)),(IF(Inputs!$B$3=\"HSM\",Tables!$I$55,Tables!$O$55)))))/100","v":1},2.8178251377238839,0.51238754322674529,{"$f":"IF(Inputs!$B$3<>\"HSM\",$S13,$R13)","v":1.6480646000000001},2.3795061579514449,{"$f":"IF($E13=\"3ST\",IF(Inputs!$B$3=\"HSM\",Tables!$E$53,Tables!$K$53),(IF($E13=\"4ST\",(IF(Inputs!$B$3=\"HSM\",Tables!$G$53,Tables!$M$53)),(IF(Inputs!$B$3=\"HSM\",Tables!$I$53,Tables!$O$53)))))/100","v":0.23499999999999999},0.66218890736511271,0.51238754322674529,{"$f":"IF(Inputs!$B$3<>\"HSM\",$S13,$R13)","v":1.6480646000000001},0.55918394711858965,{"$f":"IF($E13=\"3ST\",IF(Inputs!$B$3=\"HSM\",Tables!$E$54,Tables!$K$54),(IF($E13=\"4ST\",(IF(Inputs!$B$3=\"HSM\",Tables!$G$54,Tables!$M$54)),(IF(Inputs!$B$3=\"HSM\",Tables!$I$54,Tables!$O$54)))))/100","v":0.76500000000000001},2.1556362303587711,0.51238754322674529,{"$f":"IF(Inputs!$B$3<>\"HSM\",$S13,$R13)","v":1.6480646000000001},1.8203222108328552,{"$f":"IF(Inputs!$B$3=\"HSM\",(IF($E13=\"3ST\",Tables!$G$80,(IF($E13=\"4ST\",Tables!$J$80,Tables!$M$80)))/100),(IF($E13=\"3ST\",Tables!$P$80,(IF($E13=\"4ST\",+Tables!$S$80,+Tables!$V$80)))/100))","v":1},2.3795061579514449,{"$f":"IF(Inputs!$B$3=\"HSM\",(IF($E13=\"3ST\",Tables!$E$80,(IF($E13=\"4ST\",Tables!$H$80,Tables!$K$80)))/100),(IF($E13=\"3ST\",Tables!$N$80,(IF($E13=\"4ST\",+Tables!$Q$80,+Tables!$T$80)))/100))","v":1},0.55918394711858965,{"$f":"IF(Inputs!$B$3=\"HSM\",(IF($E13=\"3ST\",Tables!$F$80,(IF($E13=\"4ST\",Tables!$I$80,Tables!$L$80)))/100),(IF($E13=\"3ST\",Tables!$O$80,(IF($E13=\"4ST\",+Tables!$R$80,+Tables!$U$80)))/100))","v":1},1.8203222108328552,{"$f":"IF(Inputs!$B$3=\"HSM\",(IF($E13=\"3ST\",Tables!$G$66,(IF($E13=\"4ST\",Tables!$J$66,Tables!$M$66)))/100),(IF($E13=\"3ST\",Tables!$P$66,(IF($E13=\"4ST\",+Tables!$S$66,+Tables!$V$66)))/100))","v":0.223},{"$f":"IF(Inputs!$B$3=\"HSM\",(IF($E13=\"3ST\",Tables!$G$67,(IF($E13=\"4ST\",Tables!$J$67,Tables!$M$67)))/100),(IF($E13=\"3ST\",Tables!$P$67,(IF($E13=\"4ST\",+Tables!$S$67,+Tables!$V$67)))/100))","v":4.0000000000000001E-3},{"$f":"IF(Inputs!$B$3=\"HSM\",(IF($E13=\"3ST\",Tables!$G$68,(IF($E13=\"4ST\",Tables!$J$68,Tables!$M$68)))/100),(IF($E13=\"3ST\",Tables!$P$68,(IF($E13=\"4ST\",+Tables!$S$68,+Tables!$V$68)))/100))","v":4.0000000000000001E-3},{"$f":"IF(Inputs!$B$3=\"HSM\",(IF($E13=\"3ST\",Tables!$G$69,(IF($E13=\"4ST\",Tables!$J$69,Tables!$M$69)))/100),(IF($E13=\"3ST\",Tables!$P$69,(IF($E13=\"4ST\",+Tables!$S$69,+Tables!$V$69)))/100))","v":1.8000000000000002E-2},{"$f":"IF(Inputs!$B$3=\"HSM\",(IF($E13=\"3ST\",Tables!$G$70,(IF($E13=\"4ST\",Tables!$J$70,Tables!$M$70)))/100),(IF($E13=\"3ST\",Tables!$P$70,(IF($E13=\"4ST\",+Tables!$S$70,+Tables!$V$70)))/100))","v":0.11},{"$f":"IF(Inputs!$B$3=\"HSM\",(IF($E13=\"3ST\",Tables!$G$71,(IF($E13=\"4ST\",Tables!$J$71,Tables!$M$71)))/100),(IF($E13=\"3ST\",Tables!$P$71,(IF($E13=\"4ST\",+Tables!$S$71,+Tables!$V$71)))/100))","v":1.6E-2},{"$f":"IF(Inputs!$B$3=\"HSM\",(IF($E13=\"3ST\",Tables!$G$72,(IF($E13=\"4ST\",Tables!$J$72,Tables!$M$72)))/100),(IF($E13=\"3ST\",Tables!$P$72,(IF($E13=\"4ST\",+Tables!$S$72,+Tables!$V$72)))/100))","v":0.375},0.53062987322317223,9.5180246318057795E-3,9.5180246318057795E-3,4.2831110843126012E-2,0.26174567737465892,3.8072098527223118E-2,0.89231480923179185,{"$f":"IF(Inputs!$B$3=\"HSM\",(IF($E13=\"3ST\",Tables!$E$66,(IF($E13=\"4ST\",Tables!$H$66,Tables!$K$66)))/100),(IF($E13=\"3ST\",Tables!$N$66,(IF($E13=\"4ST\",+Tables!$Q$66,+Tables!$T$66)))/100))","v":1.4999999999999999E-2},{"$f":"IF(Inputs!$B$3=\"HSM\",(IF($E13=\"3ST\",Tables!$E$67,(IF($E13=\"4ST\",Tables!$H$67,Tables!$K$67)))/100),(IF($E13=\"3ST\",Tables!$N$67,(IF($E13=\"4ST\",+Tables!$Q$67,+Tables!$T$67)))/100))","v":1.2E-2},{"$f":"IF(Inputs!$B$3=\"HSM\",(IF($E13=\"3ST\",Tables!$E$68,(IF($E13=\"4ST\",Tables!$H$68,Tables!$K$68)))/100),(IF($E13=\"3ST\",Tables!$N$68,(IF($E13=\"4ST\",+Tables!$Q$68,+Tables!$T$68)))/100))","v":1.4999999999999999E-2},{"$f":"IF(Inputs!$B$3=\"HSM\",(IF($E13=\"3ST\",Tables!$E$69,(IF($E13=\"4ST\",Tables!$H$69,Tables!$K$69)))/100),(IF($E13=\"3ST\",Tables!$N$69,(IF($E13=\"4ST\",+Tables!$Q$69,+Tables!$T$69)))/100))","v":3.1E-2},{"$f":"IF(Inputs!$B$3=\"HSM\",(IF($E13=\"3ST\",Tables!$E$70,(IF($E13=\"4ST\",Tables!$H$70,Tables!$K$70)))/100),(IF($E13=\"3ST\",Tables!$N$70,(IF($E13=\"4ST\",+Tables!$Q$70,+Tables!$T$70)))/100))","v":8.5000000000000006E-2},{"$f":"IF(Inputs!$B$3=\"HSM\",(IF($E13=\"3ST\",Tables!$E$71,(IF($E13=\"4ST\",Tables!$H$71,Tables!$K$71)))/100),(IF($E13=\"3ST\",Tables!$N$71,(IF($E13=\"4ST\",+Tables!$Q$71,+Tables!$T$71)))/100))","v":1.4999999999999999E-2},{"$f":"IF(Inputs!$B$3=\"HSM\",(IF($E13=\"3ST\",Tables!$E$72,(IF($E13=\"4ST\",Tables!$H$72,Tables!$K$72)))/100),(IF($E13=\"3ST\",Tables!$N$72,(IF($E13=\"4ST\",+Tables!$Q$72,+Tables!$T$72)))/100))","v":0.17300000000000001},8.3877592067788439E-3,6.7102073654230756E-3,8.3877592067788439E-3,1.7334702360676277E-2,4.7530635505080125E-2,8.3877592067788439E-3,9.6738822851516013E-2,{"$f":"IF(Inputs!$B$3=\"HSM\",(IF($E13=\"3ST\",Tables!$F$66,(IF($E13=\"4ST\",Tables!$I$66,Tables!$L$66)))/100),(IF($E13=\"3ST\",Tables!$O$66,(IF($E13=\"4ST\",+Tables!$R$66,+Tables!$U$66)))/100))","v":0.28800000000000003},{"$f":"IF(Inputs!$B$3=\"HSM\",(IF($E13=\"3ST\",Tables!$F$67,(IF($E13=\"4ST\",Tables!$I$67,Tables!$L$67)))/100),(IF($E13=\"3ST\",Tables!$O$67,(IF($E13=\"4ST\",+Tables!$R$67,+Tables!$U$67)))/100))","v":1E-3},{"$f":"IF(Inputs!$B$3=\"HSM\",(IF($E13=\"3ST\",Tables!$F$68,(IF($E13=\"4ST\",Tables!$I$68,Tables!$L$68)))/100),(IF($E13=\"3ST\",Tables!$O$68,(IF($E13=\"4ST\",+Tables!$R$68,+Tables!$U$68)))/100))","v":0},{"$f":"IF(Inputs!$B$3=\"HSM\",(IF($E13=\"3ST\",Tables!$F$69,(IF($E13=\"4ST\",Tables!$I$69,Tables!$L$69)))/100),(IF($E13=\"3ST\",Tables!$O$69,(IF($E13=\"4ST\",+Tables!$R$69,+Tables!$U$69)))/100))","v":1.3999999999999999E-2},{"$f":"IF(Inputs!$B$3=\"HSM\",(IF($E13=\"3ST\",Tables!$F$70,(IF($E13=\"4ST\",Tables!$I$70,Tables!$L$70)))/100),(IF($E13=\"3ST\",Tables!$O$70,(IF($E13=\"4ST\",+Tables!$R$70,+Tables!$U$70)))/100))","v":0.11800000000000001},{"$f":"IF(Inputs!$B$3=\"HSM\",(IF($E13=\"3ST\",Tables!$F$71,(IF($E13=\"4ST\",Tables!$I$71,Tables!$L$71)))/100),(IF($E13=\"3ST\",Tables!$O$71,(IF($E13=\"4ST\",+Tables!$R$71,+Tables!$U$71)))/100))","v":1.7000000000000001E-2},{"$f":"IF(Inputs!$B$3=\"HSM\",(IF($E13=\"3ST\",Tables!$F$72,(IF($E13=\"4ST\",Tables!$I$72,Tables!$L$72)))/100),(IF($E13=\"3ST\",Tables!$O$72,(IF($E13=\"4ST\",+Tables!$R$72,+Tables!$U$72)))/100))","v":0.43800000000000006},0.52425279671986236,1.8203222108328552E-3,0,2.5484510951659971E-2,0.21479802087827693,3.094547758415854E-2,0.79730112834479072,{"$f":"IF(Inputs!$B$3=\"HSM\",(IF($E13=\"3ST\",Tables!$G$74,(IF($E13=\"4ST\",Tables!$J$74,Tables!$M$74)))/100),(IF($E13=\"3ST\",Tables!$P$74,(IF($E13=\"4ST\",+Tables!$S$74,+Tables!$V$74)))/100))","v":0.23800000000000002},{"$f":"IF(Inputs!$B$3=\"HSM\",(IF($E13=\"3ST\",Tables!$G$75,(IF($E13=\"4ST\",Tables!$J$75,Tables!$M$75)))/100),(IF($E13=\"3ST\",Tables!$P$75,(IF($E13=\"4ST\",+Tables!$S$75,+Tables!$V$75)))/100))","v":4.0999999999999995E-2},{"$f":"IF(Inputs!$B$3=\"HSM\",(IF($E13=\"3ST\",Tables!$G$76,(IF($E13=\"4ST\",Tables!$J$76,Tables!$M$76)))/100),(IF($E13=\"3ST\",Tables!$P$76,(IF($E13=\"4ST\",+Tables!$S$76,+Tables!$V$76)))/100))","v":0.18100000000000002},{"$f":"IF(Inputs!$B$3=\"HSM\",(IF($E13=\"3ST\",Tables!$G$77,(IF($E13=\"4ST\",Tables!$J$77,Tables!$M$77)))/100),(IF($E13=\"3ST\",Tables!$P$77,(IF($E13=\"4ST\",+Tables!$S$77,+Tables!$V$77)))/100))","v":7.400000000000001E-2},{"$f":"IF(Inputs!$B$3=\"HSM\",(IF($E13=\"3ST\",Tables!$G$78,(IF($E13=\"4ST\",Tables!$J$78,Tables!$M$78)))/100),(IF($E13=\"3ST\",Tables!$P$78,(IF($E13=\"4ST\",+Tables!$S$78,+Tables!$V$78)))/100))","v":9.0999999999999998E-2},{"$f":"IF(Inputs!$B$3=\"HSM\",(IF($E13=\"3ST\",Tables!$G$79,(IF($E13=\"4ST\",Tables!$J$79,Tables!$M$79)))/100),(IF($E13=\"3ST\",Tables!$P$79,(IF($E13=\"4ST\",+Tables!$S$79,+Tables!$V$79)))/100))","v":0.625},0.56632246559244392,9.7559752476009232E-2,0.4306906145892116,0.17608345568840694,0.21653506037358147,1.4871913487196531,{"$f":"IF(Inputs!$B$3=\"HSM\",(IF($E13=\"3ST\",Tables!$E$74,(IF($E13=\"4ST\",Tables!$H$74,Tables!$K$74)))/100),(IF($E13=\"3ST\",Tables!$N$74,(IF($E13=\"4ST\",+Tables!$Q$74,+Tables!$T$74)))/100))","v":0.41600000000000004},{"$f":"IF(Inputs!$B$3=\"HSM\",(IF($E13=\"3ST\",Tables!$E$75,(IF($E13=\"4ST\",Tables!$H$75,Tables!$K$75)))/100),(IF($E13=\"3ST\",Tables!$N$75,(IF($E13=\"4ST\",+Tables!$Q$75,+Tables!$T$75)))/100))","v":0.09},{"$f":"IF(Inputs!$B$3=\"HSM\",(IF($E13=\"3ST\",Tables!$E$76,(IF($E13=\"4ST\",Tables!$H$76,Tables!$K$76)))/100),(IF($E13=\"3ST\",Tables!$N$76,(IF($E13=\"4ST\",+Tables!$Q$76,+Tables!$T$76)))/100))","v":0.20699999999999999},{"$f":"IF(Inputs!$B$3=\"HSM\",(IF($E13=\"3ST\",Tables!$E$77,(IF($E13=\"4ST\",Tables!$H$77,Tables!$K$77)))/100),(IF($E13=\"3ST\",Tables!$N$77,(IF($E13=\"4ST\",+Tables!$Q$77,+Tables!$T$77)))/100))","v":4.7E-2},{"$f":"IF(Inputs!$B$3=\"HSM\",(IF($E13=\"3ST\",Tables!$E$78,(IF($E13=\"4ST\",Tables!$H$78,Tables!$K$78)))/100),(IF($E13=\"3ST\",Tables!$N$78,(IF($E13=\"4ST\",+Tables!$Q$78,+Tables!$T$78)))/100))","v":6.7000000000000004E-2},{"$f":"IF(Inputs!$B$3=\"HSM\",(IF($E13=\"3ST\",Tables!$E$79,(IF($E13=\"4ST\",Tables!$H$79,Tables!$K$79)))/100),(IF($E13=\"3ST\",Tables!$N$79,(IF($E13=\"4ST\",+Tables!$Q$79,+Tables!$T$79)))/100))","v":0.82700000000000007},0.23262052200133332,5.0326555240673067E-2,0.11575107705354805,2.6281645514573713E-2,3.746532445694551E-2,0.46244512426707368,{"$f":"IF(Inputs!$B$3=\"HSM\",(IF($E13=\"3ST\",Tables!$F$74,(IF($E13=\"4ST\",Tables!$I$74,Tables!$L$74)))/100),(IF($E13=\"3ST\",Tables!$O$74,(IF($E13=\"4ST\",+Tables!$R$74,+Tables!$U$74)))/100))","v":0.18100000000000002},{"$f":"IF(Inputs!$B$3=\"HSM\",(IF($E13=\"3ST\",Tables!$F$75,(IF($E13=\"4ST\",Tables!$I$75,Tables!$L$75)))/100),(IF($E13=\"3ST\",Tables!$O$75,(IF($E13=\"4ST\",+Tables!$R$75,+Tables!$U$75)))/100))","v":2.6000000000000002E-2},{"$f":"IF(Inputs!$B$3=\"HSM\",(IF($E13=\"3ST\",Tables!$F$76,(IF($E13=\"4ST\",Tables!$I$76,Tables!$L$76)))/100),(IF($E13=\"3ST\",Tables!$O$76,(IF($E13=\"4ST\",+Tables!$R$76,+Tables!$U$76)))/100))","v":0.17399999999999999},{"$f":"IF(Inputs!$B$3=\"HSM\",(IF($E13=\"3ST\",Tables!$F$77,(IF($E13=\"4ST\",Tables!$I$77,Tables!$L$77)))/100),(IF($E13=\"3ST\",Tables!$O$77,(IF($E13=\"4ST\",+Tables!$R$77,+Tables!$U$77)))/100))","v":8.3000000000000004E-2},{"$f":"IF(Inputs!$B$3=\"HSM\",(IF($E13=\"3ST\",Tables!$F$78,(IF($E13=\"4ST\",Tables!$I$78,Tables!$L$78)))/100),(IF($E13=\"3ST\",Tables!$O$78,(IF($E13=\"4ST\",+Tables!$R$78,+Tables!$U$78)))/100))","v":9.8000000000000004E-2},{"$f":"IF(Inputs!$B$3=\"HSM\",(IF($E13=\"3ST\",Tables!$F$79,(IF($E13=\"4ST\",Tables!$I$79,Tables!$L$79)))/100),(IF($E13=\"3ST\",Tables!$O$79,(IF($E13=\"4ST\",+Tables!$R$79,+Tables!$U$79)))/100))","v":0.56200000000000006},0.32947832016074685,4.7328377481654235E-2,0.31673606468491677,0.15108674349912699,0.17839157666161981,1.0230210824880648,1,0.23499999999999999,0.76500000000000001,1.8203222108328552,0.55918394711858965,2.3795061579514449]
[10,"Starfruit","Alma","Heritage County","4ST",1900,500,"Y",0,10,0,0,"NP","N/A (1.000)","N/A (1.000)","N/A (1.000)",1,1,{"$f":"AVERAGE(INDIRECT(ADDRESS(MATCH(sYear,'Calibration Factors'!$A:$A,0),CHOOSE(MATCH(E13,{\"3ST\",\"4ST\",\"4SG\"},0),14,18,20),,,\"Calibration Factors\")&\":\"&ADDRESS(MATCH(eYear,'Calibration Factors'!$A:$A,0),CHOOSE(MATCH(E13,{\"3ST\",\"4ST\",\"4SG\"},0),14,18,20))))","v":1.6480646000000001},{"$f":"15/5","v":3},0.24,0.75758302065172922,1.7373216853292739,1.2626783146707261,0.42663292050130575,0.56567423923823357,1.0277423010775402,{"$f":"IF($E14=\"3ST\",(IF($K14=0,1,(HLOOKUP($K14,Tables!$AC$20:$AF$26,3,FALSE)))),(IF($E14=\"4ST\",(IF($K14=0,1,(HLOOKUP($K14,Tables!$AC$20:$AF$26,5,FALSE)))),(IF($K14=0,1,(HLOOKUP($K14,Tables!$AC$20:$AF$26,7,FALSE)))))))","v":1},{"$f":"IF($E14=\"3ST\",(IF($L14=0,1,(HLOOKUP($L14,Tables!$AC$36:$AF$42,3,FALSE)))),(IF($E14=\"4ST\",(IF($L14=0,1,(HLOOKUP($L14,Tables!$AC$36:$AF$42,5,FALSE)))),(IF($L14=0,1,(HLOOKUP($L14,Tables!$AC$36:$AF$42,7,FALSE)))))))","v":1},{"$f":"IF(($M14=\"NP\"),1,(1-0.38*(IF(Inputs!$B$3=\"HSM\",(VLOOKUP( $E14,Tables!$B$97:$F$99,4,FALSE)),(VLOOKUP($E14,Tables!$B$97:$H$99,6,FALSE))))))","v":1},{"$f":"OFFSET(Tables!$AO$1,MATCH(N14,Tables!$AO:$AO,0)-1,1)","v":1},{"$f":"OFFSET(Tables!$AO$1,MATCH(O14,Tables!$AO:$AO,0)-1,1)","v":1},{"$f":"OFFSET(Tables!$AO$1,MATCH(P14,Tables!$AO:$AO,0)-1,1)","v":1},1,1.0277423010775402,0.78716014694192871,0.24,{"$f":"IF($E14=\"3ST\",IF(Inputs!$B$3=\"HSM\",Tables!$E$55,Tables!$K$55),(IF($E14=\"4ST\",(IF(Inputs!$B$3=\"HSM\",Tables!$G$55,Tables!$M$55)),(IF(Inputs!$B$3=\"HSM\",Tables!$I$55,Tables!$O$55)))))/100","v":1},0.78716014694192871,1.0277423010775402,{"$f":"IF(Inputs!$B$3<>\"HSM\",$S14,$R14)","v":1.6480646000000001},1.3332806039073097,{"$f":"IF($E14=\"3ST\",IF(Inputs!$B$3=\"HSM\",Tables!$E$53,Tables!$K$53),(IF($E14=\"4ST\",(IF(Inputs!$B$3=\"HSM\",Tables!$G$53,Tables!$M$53)),(IF(Inputs!$B$3=\"HSM\",Tables!$I$53,Tables!$O$53)))))/100","v":0.23499999999999999},0.18498263453135325,1.0277423010775402,{"$f":"IF(Inputs!$B$3<>\"HSM\",$S14,$R14)","v":1.6480646000000001},0.3133209419182178,{"$f":"IF($E14=\"3ST\",IF(Inputs!$B$3=\"HSM\",Tables!$E$54,Tables!$K$54),(IF($E14=\"4ST\",(IF(Inputs!$B$3=\"HSM\",Tables!$G$54,Tables!$M$54)),(IF(Inputs!$B$3=\"HSM\",Tables!$I$54,Tables!$O$54)))))/100","v":0.76500000000000001},0.60217751241057549,1.0277423010775402,{"$f":"IF(Inputs!$B$3<>\"HSM\",$S14,$R14)","v":1.6480646000000001},1.019959661989092,{"$f":"IF(Inputs!$B$3=\"HSM\",(IF($E14=\"3ST\",Tables!$G$80,(IF($E14=\"4ST\",Tables!$J$80,Tables!$M$80)))/100),(IF($E14=\"3ST\",Tables!$P$80,(IF($E14=\"4ST\",+Tables!$S$80,+Tables!$V$80)))/100))","v":1},1.3332806039073097,{"$f":"IF(Inputs!$B$3=\"HSM\",(IF($E14=\"3ST\",Tables!$E$80,(IF($E14=\"4ST\",Tables!$H$80,Tables!$K$80)))/100),(IF($E14=\"3ST\",Tables!$N$80,(IF($E14=\"4ST\",+Tables!$Q$80,+Tables!$T$80)))/100))","v":1},0.3133209419182178,{"$f":"IF(Inputs!$B$3=\"HSM\",(IF($E14=\"3ST\",Tables!$F$80,(IF($E14=\"4ST\",Tables!$I$80,Tables!$L$80)))/100),(IF($E14=\"3ST\",Tables!$O$80,(IF($E14=\"4ST\",+Tables!$R$80,+Tables!$U$80)))/100))","v":1},1.019959661989092,{"$f":"IF(Inputs!$B$3=\"HSM\",(IF($E14=\"3ST\",Tables!$G$66,(IF($E14=\"4ST\",Tables!$J$66,Tables!$M$66)))/100),(IF($E14=\"3ST\",Tables!$P$66,(IF($E14=\"4ST\",+Tables!$S$66,+Tables!$V$66)))/100))","v":0.223},{"$f":"IF(Inputs!$B$3=\"HSM\",(IF($E14=\"3ST\",Tables!$G$67,(IF($E14=\"4ST\",Tables!$J$67,Tables!$M$67)))/100),(IF($E14=\"3ST\",Tables!$P$67,(IF($E14=\"4ST\",+Tables!$S$67,+Tables!$V$67)))/100))","v":4.0000000000000001E-3},{"$f":"IF(Inputs!$B$3=\"HSM\",(IF($E14=\"3ST\",Tables!$G$68,(IF($E14=\"4ST\",Tables!$J$68,Tables!$M$68)))/100),(IF($E14=\"3ST\",Tables!$P$68,(IF($E14=\"4ST\",+Tables!$S$68,+Tables!$V$68)))/100))","v":4.0000000000000001E-3},{"$f":"IF(Inputs!$B$3=\"HSM\",(IF($E14=\"3ST\",Tables!$G$69,(IF($E14=\"4ST\",Tables!$J$69,Tables!$M$69)))/100),(IF($E14=\"3ST\",Tables!$P$69,(IF($E14=\"4ST\",+Tables!$S$69,+Tables!$V$69)))/100))","v":1.8000000000000002E-2},{"$f":"IF(Inputs!$B$3=\"HSM\",(IF($E14=\"3ST\",Tables!$G$70,(IF($E14=\"4ST\",Tables!$J$70,Tables!$M$70)))/100),(IF($E14=\"3ST\",Tables!$P$70,(IF($E14=\"4ST\",+Tables!$S$70,+Tables!$V$70)))/100))","v":0.11},{"$f":"IF(Inputs!$B$3=\"HSM\",(IF($E14=\"3ST\",Tables!$G$71,(IF($E14=\"4ST\",Tables!$J$71,Tables!$M$71)))/100),(IF($E14=\"3ST\",Tables!$P$71,(IF($E14=\"4ST\",+Tables!$S$71,+Tables!$V$71)))/100))","v":1.6E-2},{"$f":"IF(Inputs!$B$3=\"HSM\",(IF($E14=\"3ST\",Tables!$G$72,(IF($E14=\"4ST\",Tables!$J$72,Tables!$M$72)))/100),(IF($E14=\"3ST\",Tables!$P$72,(IF($E14=\"4ST\",+Tables!$S$72,+Tables!$V$72)))/100))","v":0.375},0.29732157467133008,5.3331224156292394E-3,5.3331224156292394E-3,2.3999050870331579E-2,0.14666086642980408,2.1332489662516958E-2,0.49998022646524115,{"$f":"IF(Inputs!$B$3=\"HSM\",(IF($E14=\"3ST\",Tables!$E$66,(IF($E14=\"4ST\",Tables!$H$66,Tables!$K$66)))/100),(IF($E14=\"3ST\",Tables!$N$66,(IF($E14=\"4ST\",+Tables!$Q$66,+Tables!$T$66)))/100))","v":1.4999999999999999E-2},{"$f":"IF(Inputs!$B$3=\"HSM\",(IF($E14=\"3ST\",Tables!$E$67,(IF($E14=\"4ST\",Tables!$H$67,Tables!$K$67)))/100),(IF($E14=\"3ST\",Tables!$N$67,(IF($E14=\"4ST\",+Tables!$Q$67,+Tables!$T$67)))/100))","v":1.2E-2},{"$f":"IF(Inputs!$B$3=\"HSM\",(IF($E14=\"3ST\",Tables!$E$68,(IF($E14=\"4ST\",Tables!$H$68,Tables!$K$68)))/100),(IF($E14=\"3ST\",Tables!$N$68,(IF($E14=\"4ST\",+Tables!$Q$68,+Tables!$T$68)))/100))","v":1.4999999999999999E-2},{"$f":"IF(Inputs!$B$3=\"HSM\",(IF($E14=\"3ST\",Tables!$E$69,(IF($E14=\"4ST\",Tables!$H$69,Tables!$K$69)))/100),(IF($E14=\"3ST\",Tables!$N$69,(IF($E14=\"4ST\",+Tables!$Q$69,+Tables!$T$69)))/100))","v":3.1E-2},{"$f":"IF(Inputs!$B$3=\"HSM\",(IF($E14=\"3ST\",Tables!$E$70,(IF($E14=\"4ST\",Tables!$H$70,Tables!$K$70)))/100),(IF($E14=\"3ST\",Tables!$N$70,(IF($E14=\"4ST\",+Tables!$Q$70,+Tables!$T$70)))/100))","v":8.5000000000000006E-2},{"$f":"IF(Inputs!$B$3=\"HSM\",(IF($E14=\"3ST\",Tables!$E$71,(IF($E14=\"4ST\",Tables!$H$71,Tables!$K$71)))/100),(IF($E14=\"3ST\",Tables!$N$71,(IF($E14=\"4ST\",+Tables!$Q$71,+Tables!$T$71)))/100))","v":1.4999999999999999E-2},{"$f":"IF(Inputs!$B$3=\"HSM\",(IF($E14=\"3ST\",Tables!$E$72,(IF($E14=\"4ST\",Tables!$H$72,Tables!$K$72)))/100),(IF($E14=\"3ST\",Tables!$N$72,(IF($E14=\"4ST\",+Tables!$Q$72,+Tables!$T$72)))/100))","v":0.17300000000000001},4.6998141287732664E-3,3.7598513030186135E-3,4.6998141287732664E-3,9.7129491994647522E-3,2.6632280063048516E-2,4.6998141287732664E-3,5.4204522951851686E-2,{"$f":"IF(Inputs!$B$3=\"HSM\",(IF($E14=\"3ST\",Tables!$F$66,(IF($E14=\"4ST\",Tables!$I$66,Tables!$L$66)))/100),(IF($E14=\"3ST\",Tables!$O$66,(IF($E14=\"4ST\",+Tables!$R$66,+Tables!$U$66)))/100))","v":0.28800000000000003},{"$f":"IF(Inputs!$B$3=\"HSM\",(IF($E14=\"3ST\",Tables!$F$67,(IF($E14=\"4ST\",Tables!$I$67,Tables!$L$67)))/100),(IF($E14=\"3ST\",Tables!$O$67,(IF($E14=\"4ST\",+Tables!$R$67,+Tables!$U$67)))/100))","v":1E-3},{"$f":"IF(Inputs!$B$3=\"HSM\",(IF($E14=\"3ST\",Tables!$F$68,(IF($E14=\"4ST\",Tables!$I$68,Tables!$L$68)))/100),(IF($E14=\"3ST\",Tables!$O$68,(IF($E14=\"4ST\",+Tables!$R$68,+Tables!$U$68)))/100))","v":0},{"$f":"IF(Inputs!$B$3=\"HSM\",(IF($E14=\"3ST\",Tables!$F$69,(IF($E14=\"4ST\",Tables!$I$69,Tables!$L$69)))/100),(IF($E14=\"3ST\",Tables!$O$69,(IF($E14=\"4ST\",+Tables!$R$69,+Tables!$U$69)))/100))","v":1.3999999999999999E-2},{"$f":"IF(Inputs!$B$3=\"HSM\",(IF($E14=\"3ST\",Tables!$F$70,(IF($E14=\"4ST\",Tables!$I$70,Tables!$L$70)))/100),(IF($E14=\"3ST\",Tables!$O$70,(IF($E14=\"4ST\",+Tables!$R$70,+Tables!$U$70)))/100))","v":0.11800000000000001},{"$f":"IF(Inputs!$B$3=\"HSM\",(IF($E14=\"3ST\",Tables!$F$71,(IF($E14=\"4ST\",Tables!$I$71,Tables!$L$71)))/100),(IF($E14=\"3ST\",Tables!$O$71,(IF($E14=\"4ST\",+Tables!$R$71,+Tables!$U$71)))/100))","v":1.7000000000000001E-2},{"$f":"IF(Inputs!$B$3=\"HSM\",(IF($E14=\"3ST\",Tables!$F$72,(IF($E14=\"4ST\",Tables!$I$72,Tables!$L$72)))/100),(IF($E14=\"3ST\",Tables!$O$72,(IF($E14=\"4ST\",+Tables!$R$72,+Tables!$U$72)))/100))","v":0.43800000000000006},0.29374838265285852,1.019959661989092E-3,0,1.4279435267847288E-2,0.12035524011471287,1.7339314253814565E-2,0.44674233195122237,{"$f":"IF(Inputs!$B$3=\"HSM\",(IF($E14=\"3ST\",Tables!$G$74,(IF($E14=\"4ST\",Tables!$J$74,Tables!$M$74)))/100),(IF($E14=\"3ST\",Tables!$P$74,(IF($E14=\"4ST\",+Tables!$S$74,+Tables!$V$74)))/100))","v":0.23800000000000002},{"$f":"IF(Inputs!$B$3=\"HSM\",(IF($E14=\"3ST\",Tables!$G$75,(IF($E14=\"4ST\",Tables!$J$75,Tables!$M$75)))/100),(IF($E14=\"3ST\",Tables!$P$75,(IF($E14=\"4ST\",+Tables!$S$75,+Tables!$V$75)))/100))","v":4.0999999999999995E-2},{"$f":"IF(Inputs!$B$3=\"HSM\",(IF($E14=\"3ST\",Tables!$G$76,(IF($E14=\"4ST\",Tables!$J$76,Tables!$M$76)))/100),(IF($E14=\"3ST\",Tables!$P$76,(IF($E14=\"4ST\",+Tables!$S$76,+Tables!$V$76)))/100))","v":0.18100000000000002},{"$f":"IF(Inputs!$B$3=\"HSM\",(IF($E14=\"3ST\",Tables!$G$77,(IF($E14=\"4ST\",Tables!$J$77,Tables!$M$77)))/100),(IF($E14=\"3ST\",Tables!$P$77,(IF($E14=\"4ST\",+Tables!$S$77,+Tables!$V$77)))/100))","v":7.400000000000001E-2},{"$f":"IF(Inputs!$B$3=\"HSM\",(IF($E14=\"3ST\",Tables!$G$78,(IF($E14=\"4ST\",Tables!$J$78,Tables!$M$78)))/100),(IF($E14=\"3ST\",Tables!$P$78,(IF($E14=\"4ST\",+Tables!$S$78,+Tables!$V$78)))/100))","v":9.0999999999999998E-2},{"$f":"IF(Inputs!$B$3=\"HSM\",(IF($E14=\"3ST\",Tables!$G$79,(IF($E14=\"4ST\",Tables!$J$79,Tables!$M$79)))/100),(IF($E14=\"3ST\",Tables!$P$79,(IF($E14=\"4ST\",+Tables!$S$79,+Tables!$V$79)))/100))","v":0.625},0.31732078372993971,5.4664504760199691E-2,0.24132378930722309,9.8662764689140939E-2,0.12132853495556518,0.83330037744206864,{"$f":"IF(Inputs!$B$3=\"HSM\",(IF($E14=\"3ST\",Tables!$E$74,(IF($E14=\"4ST\",Tables!$H$74,Tables!$K$74)))/100),(IF($E14=\"3ST\",Tables!$N$74,(IF($E14=\"4ST\",+Tables!$Q$74,+Tables!$T$74)))/100))","v":0.41600000000000004},{"$f":"IF(Inputs!$B$3=\"HSM\",(IF($E14=\"3ST\",Tables!$E$75,(IF($E14=\"4ST\",Tables!$H$75,Tables!$K$75)))/100),(IF($E14=\"3ST\",Tables!$N$75,(IF($E14=\"4ST\",+Tables!$Q$75,+Tables!$T$75)))/100))","v":0.09},{"$f":"IF(Inputs!$B$3=\"HSM\",(IF($E14=\"3ST\",Tables!$E$76,(IF($E14=\"4ST\",Tables!$H$76,Tables!$K$76)))/100),(IF($E14=\"3ST\",Tables!$N$76,(IF($E14=\"4ST\",+Tables!$Q$76,+Tables!$T$76)))/100))","v":0.20699999999999999},{"$f":"IF(Inputs!$B$3=\"HSM\",(IF($E14=\"3ST\",Tables!$E$77,(IF($E14=\"4ST\",Tables!$H$77,Tables!$K$77)))/100),(IF($E14=\"3ST\",Tables!$N$77,(IF($E14=\"4ST\",+Tables!$Q$77,+Tables!$T$77)))/100))","v":4.7E-2},{"$f":"IF(Inputs!$B$3=\"HSM\",(IF($E14=\"3ST\",Tables!$E$78,(IF($E14=\"4ST\",Tables!$H$78,Tables!$K$78)))/100),(IF($E14=\"3ST\",Tables!$N$78,(IF($E14=\"4ST\",+Tables!$Q$78,+Tables!$T$78)))/100))","v":6.7000000000000004E-2},{"$f":"IF(Inputs!$B$3=\"HSM\",(IF($E14=\"3ST\",Tables!$E$79,(IF($E14=\"4ST\",Tables!$H$79,Tables!$K$79)))/100),(IF($E14=\"3ST\",Tables!$N$79,(IF($E14=\"4ST\",+Tables!$Q$79,+Tables!$T$79)))/100))","v":0.82700000000000007},0.13034151183797862,2.8198884772639602E-2,6.4857434977071082E-2,1.4726084270156236E-2,2.0992503108520594E-2,0.25911641896636617,{"$f":"IF(Inputs!$B$3=\"HSM\",(IF($E14=\"3ST\",Tables!$F$74,(IF($E14=\"4ST\",Tables!$I$74,Tables!$L$74)))/100),(IF($E14=\"3ST\",Tables!$O$74,(IF($E14=\"4ST\",+Tables!$R$74,+Tables!$U$74)))/100))","v":0.18100000000000002},{"$f":"IF(Inputs!$B$3=\"HSM\",(IF($E14=\"3ST\",Tables!$F$75,(IF($E14=\"4ST\",Tables!$I$75,Tables!$L$75)))/100),(IF($E14=\"3ST\",Tables!$O$75,(IF($E14=\"4ST\",+Tables!$R$75,+Tables!$U$75)))/100))","v":2.6000000000000002E-2},{"$f":"IF(Inputs!$B$3=\"HSM\",(IF($E14=\"3ST\",Tables!$F$76,(IF($E14=\"4ST\",Tables!$I$76,Tables!$L$76)))/100),(IF($E14=\"3ST\",Tables!$O$76,(IF($E14=\"4ST\",+Tables!$R$76,+Tables!$U$76)))/100))","v":0.17399999999999999},{"$f":"IF(Inputs!$B$3=\"HSM\",(IF($E14=\"3ST\",Tables!$F$77,(IF($E14=\"4ST\",Tables!$I$77,Tables!$L$77)))/100),(IF($E14=\"3ST\",Tables!$O$77,(IF($E14=\"4ST\",+Tables!$R$77,+Tables!$U$77)))/100))","v":8.3000000000000004E-2},{"$f":"IF(Inputs!$B$3=\"HSM\",(IF($E14=\"3ST\",Tables!$F$78,(IF($E14=\"4ST\",Tables!$I$78,Tables!$L$78)))/100),(IF($E14=\"3ST\",Tables!$O$78,(IF($E14=\"4ST\",+Tables!$R$78,+Tables!$U$78)))/100))","v":9.8000000000000004E-2},{"$f":"IF(Inputs!$B$3=\"HSM\",(IF($E14=\"3ST\",Tables!$F$79,(IF($E14=\"4ST\",Tables!$I$79,Tables!$L$79)))/100),(IF($E14=\"3ST\",Tables!$O$79,(IF($E14=\"4ST\",+Tables!$R$79,+Tables!$U$79)))/100))","v":0.56200000000000006},0.18461269882002568,2.6518951211716397E-2,0.177472981186102,8.4656651945094641E-2,9.9956046874931023E-2,0.57321733003786979,1,0.23499999999999999,0.76500000000000001,1.019959661989092,0.3133209419182178,1.3332806039073097]

{"sheet":"Rural Divided Multilane Seg","index":10,"n_rows":4,"n_cols":156,"rows_kept":4,"cut":false,"hidden":false,"merged":[[1,153,2,155],[1,88,2,95],[0,144,0,155],[0,25,0,34],[2,35,2,55],[1,35,1,41],[1,42,1,48],[1,49,1,55],[0,35,0,55],[1,112,2,119],[1,104,2,111],[1,96,2,103],[0,88,0,143],[1,72,2,79],[0,56,0,87],[1,56,2,63],[0,0,0,17],[0,18,0,24],[1,24,2,24],[1,150,2,152],[1,18,2,18],[1,19,2,19],[1,20,2,20],[1,21,2,21],[1,23,2,23],[1,144,2,146],[1,147,2,149],[1,64,2,71],[1,136,2,143],[1,128,2,135],[1,120,2,127],[1,80,2,87]]}
["Worksheet 1A -- General Information and Input Data for Rural Divided Multilane Roadway Segments",null,null,null,null,null,null,null,null,null,null,null,null,null,null,null,null,null,"Empirical Bayes Analysis",null,null,null,null,null,null,"Worksheet 1B (a) -- Crash Modification Factors for Rural Multilane Divided Roadway Segments",null,null,null,null,null,null,null,null,null,"Table 11-16: CMF for Lane Width on Divided Roadway Segments (CMFRA)",null,null,null,null,null,null,null,null,null,null,null,null,null,null,null,null,null,null,null,null,"Worksheet 1C (a) -- Roadway Segment Crashes for Rural Multilane Divided Roadway Segments",null,null,null,null,null,null,null,null,null,null,null,null,null,null,null,null,null,null,null,null,null,null,null,null,null,null,null,null,null,null,null,"Worksheet 1D (a) -- Crashes by Severity Level and Collision Type for Rural Multilane Divided Roadway Segments",null,null,null,null,null,null,null,null,null,null,null,null,null,null,null,null,null,null,null,null,null,null,null,null,null,null,null,null,null,null,null,null,null,null,null,null,null,null,null,null,null,null,null,null,null,null,null,null,null,null,null,null,null,null,null,"Worksheet 1E -- Summary Results for Rural Multilane Roadway Segments"]
[null,null,null,null,null,null,null,null,null,null,null,null,null,null,null,null,null,null,null,null,null,null,null,null,null,null,null,null,null,null,null,null,null,null,null,"AADT (vehicles/day) < 400",null,null,null,null,null,null,"400 <= AADT (vehicles/day) <= 2,000",null,null,null,null,null,null,"AADT (vehicles/day) > 2,000",null,null,null,null,null,null,"Total",null,null,null,null,null,null,null,"Fatal and Injury (FI)",null,null,null,null,null,null,null,"Fatal and Injury (FI, KAB only)",null,null,null,null,null,null,null,"Property Damage Only (PDO)",null,null,null,null,null,null,null,"Total",null,null,null,null,null,null,null,"Head-on collision",null,null,null,null,null,null,null,"Sideswipe collision",null,null,null,null,null,null,null,"Rear-end collision",null,null,null,null,null,null,null,"Angle collision",null,null,null,null,null,null,null,"Single-vehicle collision",null,null,null,null,null,null,null,"Other Collision",null,null,null,null,null,null,null,"Property Damage Only (PDO)",null,null,"Fatal and Injurya (FIa, KAB only)",null,null,"Fatal and Injury (FI)",null,null,"Total"]
[null,null,null,null,"N","N",null,null,null,null,null,null,null,null,null,null,null,null,null,null,null,null,null,null,null,null,null,null,null,null,null,null,null,null,null,"Lane Width (feet)"]
["#","Roadway","Roadway Section","Jurisdiction","Length of segment, L (miles)","AADT (vehicles/day)","Lane width (feet)","Average Shoulder Width (feet)","Shoulder Type","Median Width (feet)","Segment lighting (present/not present)","Auto speed enforcement (present/not present)","Additional CMF - 1","Additional CMF - 2","Additional CMF - 3","Additional CMF - Numeric","Calibration Factor, Cr","Calibration Factor, Cr","Observed Crashes Nobserved (crashes/year)","Ovedispersion Parameter, k","Weighted Adjustment, w (Equation A-5 from Part C Appendix)","Expected Average Crash Frequency, Nexpected (Equation A-4 from Part C Appendix)","Excess Expected Crashes\nNobserved - Nexpected","Nw0 (Equation A-8)","Nw1 (Equation A-9)","(1) CMF for Lane Width CMF 1rd from Equation 11-16","(2) CMF for Shoulder Width and Type CMF 2rd from Equation 11-17","(3) CMF for Median Width CMF 3rd from Equation 11-18","(4) CMF for Lighting CMF 4rd from Equation 11-17","(5) CMF for Automated Speed Enforcement CMF 12rd from Section 11.7.2","Additional CMF - 1","Additional CMF - 2","Additional CMF - 3","Additional CMF - Numeric","(6) Combined CMF CMF comb\n(1)x(2)x (3) x(4)x(5)",9,9.5,10,10.5,11,11.5,12,9,9.5,10,10.5,11,11.5,12,9,9.5,10,10.5,11,11.5,12,"(2) SPF Coefficient, a\n(from Table 11-5","(2) SPF Coefficient, b\n(from Table 11-5","(2) SPF Coefficient, c\n(from Table 11-5","(3) N spf rd\n(from Equation 11-9)","(4) Overdispersion Parameter, k\n(from Equation 11-10)","(5) Combined CMFs\n(6) from Worksheet 1B (a)","(6) Calibration Factor, Cr ","(7) Predicted average crash frequency,\nN predicted rs (d) (crashes/year) (3)x(5)x(6)","(2) SPF Coefficient, a\n(from Table 11-5","(2) SPF Coefficient, b\n(from Table 11-5","(2) SPF Coefficient, c\n(from Table 11-5","(3) N spf rd\n(from Equation 11-9)","(4) Overdispersion Parameter, k\n(from Equation 11-10)","(5) Combined CMFs\n(6) from Worksheet 1B (a)","(6) Calibration Factor, Cr ","(7) Predicted average crash frequency,\nN predicted rs (d) (crashes/year) (3)x(5)x(6)","(2) SPF Coefficient, a\n(from Table 11-5","(2) SPF Coefficient, b\n(from Table 11-5","(2) SPF Coefficient, c\n(from Table 11-5","(3) N spf rd\n(from Equation 11-9)","(4) Overdispersion Parameter, k\n(from Equation 11-10)","(5) Combined CMFs\n(6) from Worksheet 1B (a)","(6) Calibration Factor, Cr ","(7) Predicted average crash frequency,\nN predicted rs (d) (crashes/year) (3)x(5)x(6)","(2) SPF Coefficient, a\n(from Table 11-5","(2) SPF Coefficient, b\n(from Table 11-5","(2) SPF Coefficient, c\n(from Table 11-5","(3) N spf rd\n(from Equation 11-9)","(4) Overdispersion Parameter, k\n(from Equation 11-10)","(5) Combined CMFs\n(6) from Worksheet 1B (a)","(6) Calibration Factor, Cr ","(7) Predicted average crash frequency,\nN predicted rs (d) (crashes/year) (3)x(5)x(6)","(2) Proportion of Collision Type(TOTAL)   from Table 11-5","(3) N predicted rs(d) (TOTAL) (crashes/year) (7)TOTAL from Worksheet 1C (a)","(4) Proportion of Collision Type(FI) from Table 11-6","(5) N predicted rs(d) (FI) (crashes/year) (7)FI from Worksheet 1C (a)","(6) Proportion of Collision Type(FIa) from Table 11-6","(7) N predicted rs(d) (FIa) (crashes/year) (7)FI from Worksheet 1C (a)","(8) Proportion of Collision Type(PDO) from Table 11-6","(8) N predicted rs(d) (PDO) (crashes/year) (7)PDO from Worksheet 1C (a)","(2) Proportion of Collision Type(TOTAL)   from Table 11-5","(3) N predicted rs(d) (TOTAL) (crashes/year) (7)TOTAL from Worksheet 1C (a)","(4) Proportion of Collision Type(FI) from Table 11-6","(5) N predicted rs(d) (FI) (crashes/year) (7)FI from Worksheet 1C (a)","(6) Proportion of Collision Type(FIa) from Table 11-6","(7) N predicted rs(d) (FIa) (crashes/year) (7)FI from Worksheet 1C (a)","(8) Proportion of Collision Type(PDO) from Table 11-6","(8) N predicted rs(d) (PDO) (crashes/year) (7)PDO from Worksheet 1C (a)","(2) Proportion of Collision Type(TOTAL)   from Table 11-5","(3) N predicted rs(d) (TOTAL) (crashes/year) (7)TOTAL from Worksheet 1C (a)","(4) Proportion of Collision Type(FI) from Table 11-6","(5) N predicted rs(d) (FI) (crashes/year) (7)FI from Worksheet 1C (a)","(6) Proportion of Collision Type(FIa) from Table 11-6","(7) N predicted rs(d) (FIa) (crashes/year) (7)FI from Worksheet 1C (a)","(8) Proportion of Collision Type(PDO) from Table 11-6","(8) N predicted rs(d) (PDO) (crashes/year) (7)PDO from Worksheet 1C (a)","(2) Proportion of Collision Type(TOTAL)   from Table 11-5","(3) N predicted rs(d) (TOTAL) (crashes/year) (7)TOTAL from Worksheet 1C (a)","(4) Proportion of Collision Type(FI) from Table 11-6","(5) N predicted rs(d) (FI) (crashes/year) (7)FI from Worksheet 1C (a)","(6) Proportion of Collision Type(FIa) from Table 11-6","(7) N predicted rs(d) (FIa) (crashes/year) (7)FI from Worksheet 1C (a)","(8) Proportion of Collision Type(PDO) from Table 11-6","(8) N predicted rs(d) (PDO) (crashes/year) (7)PDO from Worksheet 1C (a)","(2) Proportion of Collision Type(TOTAL)   from Table 11-5","(3) N predicted rs(d) (TOTAL) (crashes/year) (7)TOTAL from Worksheet 1C (a)","(4) Proportion of Collision Type(FI) from Table 11-6","(5) N predicted rs(d) (FI) (crashes/year) (7)FI from Worksheet 1C (a)","(6) Proportion of Collision Type(FIa) from Table 11-6","(7) N predicted rs(d) (FIa) (crashes/year) (7)FI from Worksheet 1C (a)","(8) Proportion of Collision Type(PDO) from Table 11-6","(8) N predicted rs(d) (PDO) (crashes/year) (7)PDO from Worksheet 1C (a)","(2) Proportion of Collision Type(TOTAL)   from Table 11-5","(3) N predicted rs(d) (TOTAL) (crashes/year) (7)TOTAL from Worksheet 1C (a)","(4) Proportion of Collision Type(FI) from Table 11-6","(5) N predicted rs(d) (FI) (crashes/year) (7)FI from Worksheet 1C (a)","(6) Proportion of Collision Type(FIa) from Table 11-6","(7) N predicted rs(d) (FIa) (crashes/year) (7)FI from Worksheet 1C (a)","(8) Proportion of Collision Type(PDO) from Table 11-6","(8) N predicted rs(d) (PDO) (crashes/year) (7)PDO from Worksheet 1C (a)","(2) Proportion of Collision Type(TOTAL)   from Table 11-5","(3) N predicted rs(d) (TOTAL) (crashes/year) (7)TOTAL from Worksheet 1C (a)","(4) Proportion of Collision Type(FI) from Table 11-6","(5) N predicted rs(d) (FI) (crashes/year) (7)FI from Worksheet 1C (a)","(6) Proportion of Collision Type(FIa) from Table 11-6","(7) N predicted rs(d) (FIa) (crashes/year) (7)FI from Worksheet 1C (a)","(8) Proportion of Collision Type(PDO) from Table 11-6","(8) N predicted rs(d) (PDO) (crashes/year) (7)PDO from Worksheet 1C (a)","Predicted average crash frequency (crashes/year)","Roadway segment length (miles)","Crash rate (crashes/mile/year)","Predicted average crash frequency (crashes/year)","Roadway segment length (miles)","Crash rate (crashes/mile/year)","Predicted average crash frequency (crashes/year)","Roadway segment length (miles)","Crash rate (crashes/mile/year)","Predicted average crash frequency (crashes/year)","Roadway segment length (miles)","Crash rate (crashes/mile/year)"]

{"sheet":"Rural Undivided Multilane Seg","index":11,"n_rows":4,"n_cols":185,"rows_kept":4,"cut":false,"hidden":false,"merged":[[1,176,2,178],[1,179,2,181],[1,182,2,184],[2,58,2,84],[1,133,2,140],[1,141,2,148],[1,149,2,156],[1,157,2,164],[1,165,2,172],[1,173,2,175],[1,85,2,92],[1,93,2,100],[1,101,2,108],[1,109,2,116],[1,117,2,124],[0,173,0,184],[1,18,2,18],[1,19,2,19],[1,20,2,20],[1,21,2,21],[1,23,2,23],[1,24,2,24],[1,58,1,66],[1,67,1,75],[1,76,1,84],[0,35,2,36],[0,37,0,57],[1,37,1,43],[1,44,1,50],[1,51,1,57],[2,37,2,57],[0,0,0,17],[0,18,0,24],[0,58,0,84],[0,85,0,116],[0,117,0,172],[0,25,1,34],[1,125,2,132]]}
["Worksheet 1A -- General Information and Input Data for Rural Undivided Multilane Roadway Segments",null,null,null,null,null,null,null,null,null,null,null,null,null,null,null,null,null,"Empirical Bayes Analysis",null,null,null,null,null,null,"Worksheet 1B (b) -- Crash Modification Factors for Rural Multilane Undivided Roadway Segments",null,null,null,null,null,null,null,null,null,"Calculations for the CMF for Shoulder Type and Widths",null,"Table 11-16: CMF for Lane Width on Divided Roadway Segments (CMFRA)",null,null,null,null,null,null,null,null,null,null,null,null,null,null,null,null,null,null,null,null,"Table 11-12: CMF for Collision Types Related to Shoulder Width (CMFWRA)",null,null,null,null,null,null,null,null,null,null,null,null,null,null,null,null,null,null,null,null,null,null,null,null,null,null,"Worksheet 1C (b) -- Roadway Segment Crashes for Rural Multilane Undivided Roadway Segments",null,null,null,null,null,null,null,null,null,null,null,null,null,null,null,null,null,null,null,null,null,null,null,null,null,null,null,null,null,null,null,"Worksheet 1D (b) -- Crashes by Severity Level and Collision Type for Rural Multilane Undivided Roadway Segments",null,null,null,null,null,null,null,null,null,null,null,null,null,null,null,null,null,null,null,null,null,null,null,null,null,null,null,null,null,null,null,null,null,null,null,null,null,null,null,null,null,null,null,null,null,null,null,null,null,null,null,null,null,null,null,"Worksheet 1E -- Summary Results for Rural Multilane Roadway Segments"]
[null,null,null,null,null,null,null,null,null,null,null,null,null,null,null,null,null,null,null,null,null,null,null,null,null,null,null,null,null,null,null,null,null,null,null,null,null,"AADT (vehicles/day) < 400",null,null,null,null,null,null,"400 <= AADT (vehicles/day) <= 2,000",null,null,null,null,null,null,"AADT (vehicles/day) > 2,000",null,null,null,null,null,null,"AADT (vehicles/day) < 400",null,null,null,null,null,null,null,null,"400 <= AADT (vehicles/day) <= 2,000",null,null,null,null,null,null,null,null,"AADT (vehicles/day) > 2,000",null,null,null,null,null,null,null,null,"Total",null,null,null,null,null,null,null,"Fatal and Injury (FI)",null,null,null,null,null,null,null,"Fatal and Injury (FI, KAB only)",null,null,null,null,null,null,null,"Property Damage Only (PDO)",null,null,null,null,null,null,null,"Total",null,null,null,null,null,null,null,"Head-on collision",null,null,null,null,null,null,null,"Sideswipe collision",null,null,null,null,null,null,null,"Rear-end collision",null,null,null,null,null,null,null,"Angle collision",null,null,null,null,null,null,null,"Single-vehicle collision",null,null,null,null,null,null,null,"Other Collision",null,null,null,null,null,null,null,"Property Damage Only (PDO)",null,null,"Fatal and Injurya (FIa, KAB only)",null,null,"Fatal and Injury (FI)",null,null,"Total"]
[null,null,null,null,"N","N",null,null,null,null,null,null,null,null,null,null,null,null,null,null,null,null,null,null,null,null,null,null,null,null,null,null,null,null,null,null,null,"Lane Width (feet)",null,null,null,null,null,null,null,null,null,null,null,null,null,null,null,null,null,null,null,null,"Shoulder Width (feet)"]
["#","Roadway","Roadway Section","Jurisdiction","Length of segment, L (miles)","AADT (vehicles/day)","Lane width (feet)","Average Shoulder Width (feet)","Shoulder Type","Side Slopes","Segment lighting (present/not present)","Auto speed enforcement (present/not present)","Additional CMF - 1","Additional CMF - 2","Additional CMF - 3","Additional CMF - Numeric","Calibration Factor, Cr","Calibration Factor, Cr","Observed Crashes Nobserved (crashes/year)","Ovedispersion Parameter, k","Weighted Adjustment, w (Equation A-5 from Part C Appendix)","Expected Average Crash Frequency, Nexpected (Equation A-4 from Part C Appendix)","Excess Expected Crashes\nNobserved - Nexpected","Nw0 (Equation A-8)","Nw1 (Equation A-9)","(1) CMF for Lane Width CMF 1ru from Equation 11-13","(2) CMF for Shoulder Width and Type CMF 2ru from Equation 11-14","(3) CMF for Side Slopes CMF 3ru from Table 11-14","(4) CMF for Lighting CMF 4ru from Equation 11-15","(5) CMF for Automated Speed Enforcement CMF 12ru from Section 11.7.1","Additional CMF - 1","Additional CMF - 2","Additional CMF - 3","Additional CMF - Numeric","(6) Combined CMF CMF comb\n(1)x(2)x(3)x(4)x(5)","Calculated Shoulder Width (CMFwrc)","Calculated Shoulder Type (CMF trc)",9,9.5,10,10.5,11,11.5,12,9,9.5,10,10.5,11,11.5,12,9,9.5,10,10.5,11,11.5,12,0,1,2,3,4,5,6,7,8,0,1,2,3,4,5,6,7,8,0,1,2,3,4,5,6,7,8,"(2) SPF Coefficient, a\n(from Table 11-5","(2) SPF Coefficient, b\n(from Table 11-5","(2) SPF Coefficient, c\n(from Table 11-5","(3) N spf rd\n(from Equation 11-9)","(4) Overdispersion Parameter, k\n(from Equation 11-10)","(5) Combined CMFs\n(6) from Worksheet 1B (a)","(6) Calibration Factor, Cr ","(7) Predicted average crash frequency,\nN predicted rs (d) (crashes/year) (3)x(5)x(6)","(2) SPF Coefficient, a\n(from Table 11-5","(2) SPF Coefficient, b\n(from Table 11-5","(2) SPF Coefficient, c\n(from Table 11-5","(3) N spf rd\n(from Equation 11-9)","(4) Overdispersion Parameter, k\n(from Equation 11-10)","(5) Combined CMFs\n(6) from Worksheet 1B (a)","(6) Calibration Factor, Cr ","(7) Predicted average crash frequency,\nN predicted rs (d) (crashes/year) (3)x(5)x(6)","(2) SPF Coefficient, a\n(from Table 11-5","(2) SPF Coefficient, b\n(from Table 11-5","(2) SPF Coefficient, c\n(from Table 11-5","(3) N spf rd\n(from Equation 11-9)","(4) Overdispersion Parameter, k\n(from Equation 11-10)","(5) Combined CMFs\n(6) from Worksheet 1B (a)","(6) Calibration Factor, Cr ","(7) Predicted average crash frequency,\nN predicted rs (d) (crashes/year) (3)x(5)x(6)","(2) SPF Coefficient, a\n(from Table 11-5","(2) SPF Coefficient, b\n(from Table 11-5","(2) SPF Coefficient, c\n(from Table 11-5","(3) N spf rd\n(from Equation 11-9)","(4) Overdispersion Parameter, k\n(from Equation 11-10)","(5) Combined CMFs\n(6) from Worksheet 1B (a)","(6) Calibration Factor, Cr ","(7) Predicted average crash frequency,\nN predicted rs (d) (crashes/year) (3)x(5)x(6)","(2) Proportion of Collision Type(TOTAL)   from Table 11-5","(3) N predicted rs(d) (TOTAL) (crashes/year) (7)TOTAL from Worksheet 1C (a)","(4) Proportion of Collision Type(FI) from Table 11-6","(5) N predicted rs(d) (FI) (crashes/year) (7)FI from Worksheet 1C (a)","(6) Proportion of Collision Type(FIa) from Table 11-6","(7) N predicted rs(d) (FIa) (crashes/year) (7)FI from Worksheet 1C (a)","(8) Proportion of Collision Type(PDO) from Table 11-6","(8) N predicted rs(d) (PDO) (crashes/year) (7)PDO from Worksheet 1C (a)","(2) Proportion of Collision Type(TOTAL)   from Table 11-5","(3) N predicted rs(d) (TOTAL) (crashes/year) (7)TOTAL from Worksheet 1C (a)","(4) Proportion of Collision Type(FI) from Table 11-6","(5) N predicted rs(d) (FI) (crashes/year) (7)FI from Worksheet 1C (a)","(6) Proportion of Collision Type(FIa) from Table 11-6","(7) N predicted rs(d) (FIa) (crashes/year) (7)FI from Worksheet 1C (a)","(8) Proportion of Collision Type(PDO) from Table 11-6","(8) N predicted rs(d) (PDO) (crashes/year) (7)PDO from Worksheet 1C (a)","(2) Proportion of Collision Type(TOTAL)   from Table 11-5","(3) N predicted rs(d) (TOTAL) (crashes/year) (7)TOTAL from Worksheet 1C (a)","(4) Proportion of Collision Type(FI) from Table 11-6","(5) N predicted rs(d) (FI) (crashes/year) (7)FI from Worksheet 1C (a)","(6) Proportion of Collision Type(FIa) from Table 11-6","(7) N predicted rs(d) (FIa) (crashes/year) (7)FI from Worksheet 1C (a)","(8) Proportion of Collision Type(PDO) from Table 11-6","(8) N predicted rs(d) (PDO) (crashes/year) (7)PDO from Worksheet 1C (a)","(2) Proportion of Collision Type(TOTAL)   from Table 11-5","(3) N predicted rs(d) (TOTAL) (crashes/year) (7)TOTAL from Worksheet 1C (a)","(4) Proportion of Collision Type(FI) from Table 11-6","(5) N predicted rs(d) (FI) (crashes/year) (7)FI from Worksheet 1C (a)","(6) Proportion of Collision Type(FIa) from Table 11-6","(7) N predicted rs(d) (FIa) (crashes/year) (7)FI from Worksheet 1C (a)","(8) Proportion of Collision Type(PDO) from Table 11-6","(8) N predicted rs(d) (PDO) (crashes/year) (7)PDO from Worksheet 1C (a)","(2) Proportion of Collision Type(TOTAL)   from Table 11-5","(3) N predicted rs(d) (TOTAL) (crashes/year) (7)TOTAL from Worksheet 1C (a)","(4) Proportion of Collision Type(FI) from Table 11-6","(5) N predicted rs(d) (FI) (crashes/year) (7)FI from Worksheet 1C (a)","(6) Proportion of Collision Type(FIa) from Table 11-6","(7) N predicted rs(d) (FIa) (crashes/year) (7)FI from Worksheet 1C (a)","(8) Proportion of Collision Type(PDO) from Table 11-6","(8) N predicted rs(d) (PDO) (crashes/year) (7)PDO from Worksheet 1C (a)","(2) Proportion of Collision Type(TOTAL)   from Table 11-5","(3) N predicted rs(d) (TOTAL) (crashes/year) (7)TOTAL from Worksheet 1C (a)","(4) Proportion of Collision Type(FI) from Table 11-6","(5) N predicted rs(d) (FI) (crashes/year) (7)FI from Worksheet 1C (a)","(6) Proportion of Collision Type(FIa) from Table 11-6","(7) N predicted rs(d) (FIa) (crashes/year) (7)FI from Worksheet 1C (a)","(8) Proportion of Collision Type(PDO) from Table 11-6","(8) N predicted rs(d) (PDO) (crashes/year) (7)PDO from Worksheet 1C (a)","(2) Proportion of Collision Type(TOTAL)   from Table 11-5","(3) N predicted rs(d) (TOTAL) (crashes/year) (7)TOTAL from Worksheet 1C (a)","(4) Proportion of Collision Type(FI) from Table 11-6","(5) N predicted rs(d) (FI) (crashes/year) (7)FI from Worksheet 1C (a)","(6) Proportion of Collision Type(FIa) from Table 11-6","(7) N predicted rs(d) (FIa) (crashes/year) (7)FI from Worksheet 1C (a)","(8) Proportion of Collision Type(PDO) from Table 11-6","(8) N predicted rs(d) (PDO) (crashes/year) (7)PDO from Worksheet 1C (a)","Predicted average crash frequency (crashes/year)","Roadway segment length (miles)","Crash rate (crashes/mile/year)","Predicted average crash frequency (crashes/year)","Roadway segment length (miles)","Crash rate (crashes/mile/year)","Predicted average crash frequency (crashes/year)","Roadway segment length (miles)","Crash rate (crashes/mile/year)","Predicted average crash frequency (crashes/year)","Roadway segment length (miles)","Crash rate (crashes/mile/year)"]

{"sheet":"Rural Multilane Intersections","index":12,"n_rows":4,"n_cols":135,"rows_kept":4,"cut":false,"hidden":false,"merged":[[1,115,2,122],[1,123,2,130],[1,67,2,74],[1,59,2,66],[1,18,2,18],[1,19,2,19],[1,20,2,20],[1,21,2,21],[1,23,2,23],[1,24,2,24],[0,0,0,17],[2,25,2,33],[2,34,2,42],[0,25,1,42],[1,131,2,134],[0,131,0,134],[1,75,2,82],[1,83,2,90],[1,91,2,98],[1,99,2,106],[1,107,2,114],[0,18,0,24],[0,43,0,74],[0,75,0,130],[1,43,2,50],[1,51,2,58]]}
["Worksheet 2A -- General Information and Input Data for Rural Multilane Intersections",null,null,null,null,null,null,null,null,null,null,null,null,null,null,null,null,null,"Empirical Bayes Analysis",null,null,null,null,null,null,"Worksheet 2B -- Crash Modification Factors for Rural Multilane Highway Intersections",null,null,null,null,null,null,null,null,null,null,null,null,null,null,null,null,null,"Worksheet 2C -- Intersection Crashes for Rural Multilane Highway Intersections",null,null,null,null,null,null,null,null,null,null,null,null,null,null,null,null,null,null,null,null,null,null,null,null,null,null,null,null,null,null,null,"Worksheet 2D -- Crashes by Severity Level and Collision Type for Rural Multilane Highway Intersections",null,null,null,null,null,null,null,null,null,null,null,null,null,null,null,null,null,null,null,null,null,null,null,null,null,null,null,null,null,null,null,null,null,null,null,null,null,null,null,null,null,null,null,null,null,null,null,null,null,null,null,null,null,null,null,"Worksheet 2E -- Summary Results for Rural Multilane Highway Intersections"]
[null,null,null,null,null,null,null,null,null,null,null,null,null,null,null,null,null,null,null,null,null,null,null,null,null,null,null,null,null,null,null,null,null,null,null,null,null,null,null,null,null,null,null,"Total",null,null,null,null,null,null,null,"Fatal and Injury (FI)",null,null,null,null,null,null,null,"Fatal and Injury (FI, KAB only)",null,null,null,null,null,null,null,"Property Damage Only (PDO)",null,null,null,null,null,null,null,"Total",null,null,null,null,null,null,null,"Head-on collision",null,null,null,null,null,null,null,"Sideswipe collision",null,null,null,null,null,null,null,"Rear-end collision",null,null,null,null,null,null,null,"Angle collision",null,null,null,null,null,null,null,"Single-vehicle collision",null,null,null,null,null,null,null,"Other Collision",null,null,null,null,null,null,null,"Predicted average crash frequency (crashes/year)"]
[null,null,null,null,"N","N",null,null,null,null,null,null,null,null,null,null,null,null,null,null,null,null,null,null,null,"Total",null,null,null,null,null,null,null,null,"Fatal and Injury (FI)"]
["#","Major Roadway","Minor Roadway","Jurisdiction","Intersection Type (3ST, 4ST, 4SG)","AADTmajor (vehicles/day)","AADTminor (vehicles/day)","Intersection skew angle (degrees)","Number of non-STOP-controlled approaches\nwith left-turn lanes (0, 1, 2)","Number of non-STOP-controlled approaches\nwith right-turn lanes (0, 1, 2, 3, or 4)","Intersection lighting (present/not present)","Additional CMF - 1","Additional CMF - 2","Additional CMF - 3","Additional CMF, numeric (Total)","Additional CMF, numeric, (Fatal and Injury)","Calibration Factor, Cr","Calibration Factor, Cr","Observed Crashes Nobserved (crashes/year)","Ovedispersion Parameter, k","Weighted Adjustment, w (Equation A-5 from Part C Appendix)","Expected Average Crash Frequency,\nNexpected (Equation A-4 from Part C Appendix)","Excess Expected Crashes\nNobserved - Nexpected","Nw0 (Equation A-8)","Nw1 (Equation A-9)","(2) CMF for Intersection Skew Angle (CMF 1I)\nfrom Equations 11-18 or 11-20 and 11-19 or 11-21","(3) CMF for Left-Turn Lanes (CMF 2I)\nfrom Table 11-22","(4) CMF for Right-Turn Lanes (CMF 3I)\nfrom Table 11-23","(5) CMF for Lighting (CMF 4I)\nfrom Equation 11-22","Additional CMF - 1","Additional CMF - 2","Additional CMF - 3","Additional CMF, numeric (Total)","(6) Combined CMF CMF comb\n(2)x (3) x(4)x(5)","(2) CMF for Intersection Skew Angle (CMF 1I)\nfrom Equations 11-18 or 11-20 and 11-19 or 11-21","(3) CMF for Left-Turn Lanes (CMF 2I)\nfrom Table 11-22","(4) CMF for Right-Turn Lanes (CMF 3I)\nfrom Table 11-23","(5) CMF for Lighting (CMF 4I)\nfrom Equation 11-22","Additional CMF - 1","Additional CMF - 2","Additional CMF - 3","Additional CMF, numeric, (Fatal and Injury)","(6) Combined CMF CMF comb\n(2)x (3) x(4)x(5)","(2) SPF Coefficient, a\n(from Table 11-7 or 11-8)","(2) SPF Coefficient, b\n(from Table 11-7 or 11-8)","(2) SPF Coefficient, c or d (4SG)\n(from Table 11-7 or 11-8)","(3) N spf int\n(from Equation 11-11 or 11-12)","(4) Overdispersion Parameter, k\n(from Equation 11-7 or 11-8)","(5) Combined CMFs\n(6) from Worksheet 2B","(6) Calibration Factor, Ci","(7) Predicted average crash frequency,\nN predicted int (crashes/year) (3)x(5)x(6)","(2) SPF Coefficient, a\n(from Table 11-7 or 11-8)","(2) SPF Coefficient, b\n(from Table 11-7 or 11-8)","(2) SPF Coefficient, c or d (4SG)\n(from Table 11-7 or 11-8)","(3) N spf int\n(from Equation 11-11 or 11-12)","(4) Overdispersion Parameter, k\n(from Equation 11-7 or 11-8)","(5) Combined CMFs\n(6) from Worksheet 2B","(6) Calibration Factor, Ci","(7) Predicted average crash frequency,\nN predicted int (crashes/year) (3)x(5)x(6)","(2) SPF Coefficient, a\n(from Table 11-7 or 11-8)","(2) SPF Coefficient, b\n(from Table 11-7 or 11-8)","(2) SPF Coefficient, c or d (4SG)\n(from Table 11-7 or 11-8)","(3) N spf int\n(from Equation 11-11 or 11-12)","(4) Overdispersion Parameter, k\n(from Equation 11-7 or 11-8)","(5) Combined CMFs\n(6) from Worksheet 2B","(6) Calibration Factor, Ci","(7) Predicted average crash frequency,\nN predicted int (crashes/year) (3)x(5)x(6)","(2) SPF Coefficient, a\n(from Table 11-7 or 11-8)","(2) SPF Coefficient, b\n(from Table 11-7 or 11-8)","(2) SPF Coefficient, c or d (4SG)\n(from Table 11-7 or 11-8)","(3) N spf int\n(from Equation 11-11 or 11-12)","(4) Overdispersion Parameter, k\n(from Equation 11-7 or 11-8)","(5) Combined CMFs\n(6) from Worksheet 2B","(6) Calibration Factor, Ci","(7) Predicted average crash frequency,\nN predicted int (crashes/year) (3)x(5)x(6)","(2) Proportion of Collision Type(TOTAL)   from Table 11-9","(3) N predicted int (TOTAL) (crashes/year)\n(7)TOTAL from Worksheet 2C","(4) Proportion of Collision Type(FI) from Table 11-9","(5) N predicted int (FI) (crashes/year)\n(7)FI from Worksheet 2C","(6) Proportion of Collision Type(FIa) from Table 11-9","(7) N predicted int (FIa) (crashes/year) (7)FIa from Worksheet 2C","(8) Proportion of Collision Type(PDO) from Table 11-9","(8) N predicted int (PDO) (crashes/year) (7)PDO from Worksheet 2C","(2) Proportion of Collision Type(TOTAL)   from Table 11-9","(3) N predicted int (TOTAL) (crashes/year)\n(7)TOTAL from Worksheet 2C","(4) Proportion of Collision Type(FI) from Table 11-9","(5) N predicted int (FI) (crashes/year)\n(7)FI from Worksheet 2C","(6) Proportion of Collision Type(FIa) from Table 11-9","(7) N predicted int (FIa) (crashes/year) (7)FIa from Worksheet 2C","(8) Proportion of Collision Type(PDO) from Table 11-9","(8) N predicted int (PDO) (crashes/year) (7)PDO from Worksheet 2C","(2) Proportion of Collision Type(TOTAL)   from Table 11-9","(3) N predicted int (TOTAL) (crashes/year)\n(7)TOTAL from Worksheet 2C","(4) Proportion of Collision Type(FI) from Table 11-9","(5) N predicted int (FI) (crashes/year)\n(7)FI from Worksheet 2C","(6) Proportion of Collision Type(FIa) from Table 11-9","(7) N predicted int (FIa) (crashes/year) (7)FIa from Worksheet 2C","(8) Proportion of Collision Type(PDO) from Table 11-9","(8) N predicted int (PDO) (crashes/year) (7)PDO from Worksheet 2C","(2) Proportion of Collision Type(TOTAL)   from Table 11-9","(3) N predicted int (TOTAL) (crashes/year)\n(7)TOTAL from Worksheet 2C","(4) Proportion of Collision Type(FI) from Table 11-9","(5) N predicted int (FI) (crashes/year)\n(7)FI from Worksheet 2C","(6) Proportion of Collision Type(FIa) from Table 11-9","(7) N predicted int (FIa) (crashes/year) (7)FIa from Worksheet 2C","(8) Proportion of Collision Type(PDO) from Table 11-9","(8) N predicted int (PDO) (crashes/year) (7)PDO from Worksheet 2C","(2) Proportion of Collision Type(TOTAL)   from Table 11-9","(3) N predicted int (TOTAL) (crashes/year)\n(7)TOTAL from Worksheet 2C","(4) Proportion of Collision Type(FI) from Table 11-9","(5) N predicted int (FI) (crashes/year)\n(7)FI from Worksheet 2C","(6) Proportion of Collision Type(FIa) from Table 11-9","(7) N predicted int (FIa) (crashes/year) (7)FIa from Worksheet 2C","(8) Proportion of Collision Type(PDO) from Table 11-9","(8) N predicted int (PDO) (crashes/year) (7)PDO from Worksheet 2C","(2) Proportion of Collision Type(TOTAL)   from Table 11-9","(3) N predicted int (TOTAL) (crashes/year)\n(7)TOTAL from Worksheet 2C","(4) Proportion of Collision Type(FI) from Table 11-9","(5) N predicted int (FI) (crashes/year)\n(7)FI from Worksheet 2C","(6) Proportion of Collision Type(FIa) from Table 11-9","(7) N predicted int (FIa) (crashes/year) (7)FIa from Worksheet 2C","(8) Proportion of Collision Type(PDO) from Table 11-9","(8) N predicted int (PDO) (crashes/year) (7)PDO from Worksheet 2C","(2) Proportion of Collision Type(TOTAL)   from Table 11-9","(3) N predicted int (TOTAL) (crashes/year)\n(7)TOTAL from Worksheet 2C","(4) Proportion of Collision Type(FI) from Table 11-9","(5) N predicted int (FI) (crashes/year)\n(7)FI from Worksheet 2C","(6) Proportion of Collision Type(FIa) from Table 11-9","(7) N predicted int (FIa) (crashes/year) (7)FIa from Worksheet 2C","(8) Proportion of Collision Type(PDO) from Table 11-9","(8) N predicted int (PDO) (crashes/year) (7)PDO from Worksheet 2C","Property Damage Only (PDO)","Fatal and Injurya (FIa, KAB only)","Fatal and Injury (FI)","Total"]

{"sheet":"Urban & Suburban Segments","index":13,"n_rows":4,"n_cols":314,"rows_kept":4,"cut":false,"hidden":false,"merged":[[0,0,0,27],[0,58,2,60],[0,61,2,63],[0,64,0,90],[1,64,2,72],[1,73,2,81],[1,82,2,90],[0,48,2,57],[1,28,2,30],[0,28,0,47],[1,31,2,33],[1,34,2,36],[1,37,2,40],[1,45,2,47],[1,42,2,44],[0,153,0,177],[1,153,2,157],[1,158,2,162],[1,163,2,167],[1,168,2,172],[1,173,2,177],[1,111,2,115],[1,116,2,120],[1,121,2,125],[0,126,0,152],[1,126,2,134],[1,135,2,143],[1,144,2,152],[0,91,0,125],[1,96,2,100],[1,101,2,105],[1,106,2,110],[1,91,2,95],[0,178,0,210],[0,211,0,228],[1,211,2,216],[1,217,2,222],[1,223,2,228],[1,178,2,181],[1,182,2,185],[1,186,2,189],[1,190,2,193],[1,194,2,197],[1,198,2,201],[1,202,2,205],[1,206,2,210],[2,257,2,264],[1,229,2,235],[1,236,2,242],[0,229,0,242],[0,243,0,256],[1,243,2,249],[1,250,2,256],[0,305,0,313],[1,305,2,307],[1,308,2,310],[1,311,2,313],[2,273,2,280],[1,289,1,304],[2,289,2,296],[2,297,2,303],[2,304,3,304],[0,257,0,304],[1,257,1,272],[2,265,2,271],[2,272,3,272],[1,273,1,288],[2,281,2,287],[2,288,3,288]]}
["Worksheet 1A -- General Information and Input Data for Urban and Suburban Roadway Segments",null,null,null,null,null,null,null,null,null,null,null,null,null,null,null,null,null,null,null,null,null,null,null,null,null,null,null,"Empirical Bayes Analysis",null,null,null,null,null,null,null,null,null,null,null,null,null,null,null,null,null,null,null,"Worksheet 1B -- Crash Modification Factors for Urban and Suburban Roadway Segments",null,null,null,null,null,null,null,null,null,"Calculations for CMF for Roadside Fiexed Objects",null,null,"Nightime crash proportion for CMF for Lighting",null,null,"Worksheet 1C -- Multiple-Vehicle Nondriveway Collisions by Severity Level for Urban and Suburban Roadway Segments",null,null,null,null,null,null,null,null,null,null,null,null,null,null,null,null,null,null,null,null,null,null,null,null,null,null,"Worksheet 1D -- Multiple-Vehicle Nondriveway Collisions by Collision Type for Urban and Suburban Roadway Segments",null,null,null,null,null,null,null,null,null,null,null,null,null,null,null,null,null,null,null,null,null,null,null,null,null,null,null,null,null,null,null,null,null,null,"Worksheet 1E -- Single-Vehicle Collisions by Severity Level for Urban and Suburban Roadway Segments",null,null,null,null,null,null,null,null,null,null,null,null,null,null,null,null,null,null,null,null,null,null,null,null,null,null,"Worksheet 1F -- Single-Vehicle Collisions by Collision Type for Urban and Suburban Roadway Segments",null,null,null,null,null,null,null,null,null,null,null,null,null,null,null,null,null,null,null,null,null,null,null,null,"Worksheet 1G -- Multiple-Vehicle Driveway-Related Collisions by Driveway Type for Urban and Suburban Roadway Segments",null,null,null,null,null,null,null,null,null,null,null,null,null,null,null,null,null,null,null,null,null,null,null,null,null,null,null,null,null,null,null,null,"Worksheet 1H -- Multiple-Vehicle Driveway-Related Collisions by Severity Level for Urban and Suburban Roadway Segments",null,null,null,null,null,null,null,null,null,null,null,null,null,null,null,null,null,"Worksheet 1I -- Vehicle-Pedestrian Collisions for Urban and Suburban Roadway Segments",null,null,null,null,null,null,null,null,null,null,null,null,null,"Worksheet 1J -- Vehicle-Bicycle Collisions for Urban and Suburban Roadway Segments",null,null,null,null,null,null,null,null,null,null,null,null,null,"Worksheet 1K -- Crash Severity Distribution for Urban and Suburban Roadway Segments",null,null,null,null,null,null,null,null,null,null,null,null,null,null,null,null,null,null,null,null,null,null,null,null,null,null,null,null,null,null,null,null,null,null,null,null,null,null,null,null,null,null,null,null,null,null,null,"Worksheet 1L -- Summary Results for Urban and Suburban Roadway Segments"]
[null,null,null,null,null,null,null,null,null,null,null,null,null,null,null,null,null,null,null,null,null,null,null,null,null,null,null,null,"Observed Crashes Nobserved (crashes/year)",null,null,"Ovedispersion Parameter, k",null,null,"Weighted Adjustment, w\n(Equation A-5 from Part C Appendix)",null,null,"Expected Average Crash Frequency, Nexpected (Equation A-4 from Part C Appendix)",null,null,null,null,"N predicted w0\n(Equation A-8)",null,null,"N predicted w1\n(Equation A-9)",null,null,null,null,null,null,null,null,null,null,null,null,null,null,null,null,null,null,"Total",null,null,null,null,null,null,null,null,"Fatal and Injury (FI)",null,null,null,null,null,null,null,null,"Property Damage Only (PDO)",null,null,null,null,null,null,null,null,"Total",null,null,null,null,"Rear-end collision",null,null,null,null,"Head-on collision",null,null,null,null,"Angle collision",null,null,null,null,"Sideswipe, same direction",null,null,null,null,"Sideswipe, opposite direction",null,null,null,null,"Other multiple-vehicle collision",null,null,null,null,"Total",null,null,null,null,null,null,null,null,"Fatal and Injury (FI)",null,null,null,null,null,null,null,null,"Property Damage Only (PDO)",null,null,null,null,null,null,null,null,"Total",null,null,null,null,"Collision with animal",null,null,null,null,"Collision with fixed object",null,null,null,null,"Collision with other object",null,null,null,null,"Other single-vehicle collision",null,null,null,null,"Major Commercial",null,null,null,"Minor Commercial",null,null,null,"Major industrial/institutional",null,null,null,"Minor industrial/institutional",null,null,null,"Major residential",null,null,null,"Minor residential",null,null,null,"Other",null,null,null,"Total",null,null,null,null,"Total",null,null,null,null,null,"Fatal and Injury (FI)",null,null,null,null,null,"Property Damage Only (PDO)",null,null,null,null,null,"Total",null,null,null,null,null,null,"Fatal and Injury (FI)",null,null,null,null,null,null,"Total",null,null,null,null,null,null,"Fatal and Injury (FI)",null,null,null,null,null,null,"Fatal and Injury (FI)",null,null,null,null,null,null,null,null,null,null,null,null,null,null,null,"Property Damage Only (PDO)",null,null,null,null,null,null,null,null,null,null,null,null,null,null,null,"Total",null,null,null,null,null,null,null,null,null,null,null,null,null,null,null,"Property Damage Only (PDO)",null,null,"Fatal and Injury (FI)",null,null,"Total"]
[null,null,null,null,"Y","Y",null,null,null,null,null,null,null,null,null,null,null,null,null,null,null,null,null,null,null,null,null,null,null,null,null,null,null,null,null,null,null,null,null,null,null,null,null,null,null,null,null,null,null,null,null,null,null,null,null,null,null,null,null,null,null,null,null,null,null,null,null,null,null,null,null,null,null,null,null,null,null,null,null,null,null,null,null,null,null,null,null,null,null,null,null,null,null,null,null,null,null,null,null,null,null,null,null,null,null,null,null,null,null,null,null,null,null,null,null,null,null,null,null,null,null,null,null,null,null,null,null,null,null,null,null,null,null,null,null,null,null,null,null,null,null,null,null,null,null,null,null,null,null,null,null,null,null,null,null,null,null,null,null,null,null,null,null,null,null,null,null,null,null,null,null,null,null,null,null,null,null,null,null,null,null,null,null,null,null,null,null,null,null,null,null,null,null,null,null,null,null,null,null,null,null,null,null,null,null,null,null,null,null,null,null,null,null,null,null,null,null,null,null,null,null,null,null,null,null,null,null,null,null,null,null,null,null,null,null,null,null,null,null,null,null,null,null,null,null,null,null,null,null,null,null,null,null,null,null,null,null,"Multiple-Vehicle",null,null,null,null,null,null,null,"Single Vehicle",null,null,null,null,null,null,"Total","Multiple-Vehicle",null,null,null,null,null,null,null,"Single Vehicle",null,null,null,null,null,null,"Total","Multiple-Vehicle",null,null,null,null,null,null,null,"Single Vehicle",null,null,null,null,null,null,"Total"]
["#","Roadway","Roadway Section","Jurisdiction","Roadway type (2U, 3T, 4U, 4D, ST)","Length of segment, L (miles)","AADT (vehicles/day)","Type of on-street parking (none/parallel/angle)","Proportion of curb length with on-street parking","Median width (feet) - for divided only","Lighting (present / not present)","Auto speed enforcement (present / not present)","Major commercial driveways (number)","Minor commercial driveways (number)","Major industrial / institutional driveways (number)","Minor industrial / institutional driveways (number)","Major residential driveways (number)","Minor residential driveways (number)","Other driveways (number)","Speed Category","Roadside fixed object density (fixed objects / mi)","Offset to roadside fixed objects (feet) [If greater than 30 or Not Present, input 30]","Additional CMF - 1","Additional CMF - 2","Additional CMF - 3","Additional CMF - Numeric","Calibration Factor, Cr","Calibration Factor, Cr","Multiple-vehicle nondriveway","Single-vehicle","Multiple-vehicle driveway-related","Multiple-vehicle nondriveway","Single-vehicle","Multiple-vehicle driveway-related","Multiple-vehicle nondriveway","Single-vehicle","Multiple-vehicle driveway-related","Multiple-vehicle nondriveway","Single-vehicle","Multiple-vehicle driveway-related","Total Expected Average Crash Frequency","Excess Expected Crashes\nNobserved - Nexpected","Multiple-vehicle nondriveway","Single-vehicle","Multiple-vehicle driveway-related","Multiple-vehicle nondriveway","Single-vehicle","Multiple-vehicle driveway-related","CMF for On-Street Parking CMF 1r from Equation 12-32","(2) CMF for Roadside Fixed Objects CMF 2r from Equation 12-33","(3) CMF for Median Width CMF 3r from Equation 12-22","(4) CMF for Lighting CMF 4r from Equation 12-34","(5) CMF for Automated Speed Enforcement CMR 5r from Section 12.7.1","Additional CMF - 1","Additional CMF - 2","Additional CMF - 3","Additional CMF - Numeric","(6) Combined CMF","foffset","Calculated CMF 2r","Adjusted CMF2r :","pinr","ppnr","pnr","(2) SPF Coefficients from Table 12-3, a","(2) SPF Coefficients from Table 12-3, b","(3) Overdispersion Parameter, k,\nfrom Table 12-3","(4) Initial Nbrmv from Equation 12-10","(5) Proportion of Total Crashes","(6) Adjusted Nbrmv","(7) Combined CMFs from Worksheet 1B","(8) Calibration Factor, Cr","(9) Predicted Nbrmv","(2) SPF Coefficients from Table 12-3, a","(2) SPF Coefficients from Table 12-3, b","(3) Overdispersion Parameter, k,\nfrom Table 12-3","(4) Initial Nbrmv from Equation 12-10","(5) Proportion of Total Crashes","(6) Adjusted Nbrmv","(7) Combined CMFs from Worksheet 1B","(8) Calibration Factor, Cr","(9) Predicted Nbrmv","(2) SPF Coefficients from Table 12-3, a","(2) SPF Coefficients from Table 12-3, b","(3) Overdispersion Parameter, k,\nfrom Table 12-3","(4) Initial Nbrmv from Equation 12-10","(5) Proportion of Total Crashes","(6) Adjusted Nbrmv","(7) Combined CMFs from Worksheet 1B","(8) Calibration Factor, Cr","(9) Predicted Nbrmv","(2) Proportion of Collision Type(FI)\nfrom Table 12-4","(3) Predicted N brmv (FI) (crashes/year)\n(9)PDO from Worksheet 1C","(4) Proportion of Collision Type(PDO)\nfrom Table 12-4","(5) Predicted N brmv (PDO) (crashes/year)\n(9)PDO from Worksheet 1C","(6) Predicted N brmv (TOTAL) (crashes/year) (9)TOTAL from Worksheet 1C","(2) Proportion of Collision Type(FI)\nfrom Table 12-4","(3) Predicted N brmv (FI) (crashes/year)\n(9)PDO from Worksheet 1C","(4) Proportion of Collision Type(PDO)\nfrom Table 12-4","(5) Predicted N brmv (PDO) (crashes/year)\n(9)PDO from Worksheet 1C","(6) Predicted N brmv (TOTAL) (crashes/year) (9)TOTAL from Worksheet 1C","(2) Proportion of Collision Type(FI)\nfrom Table 12-4","(3) Predicted N brmv (FI) (crashes/year)\n(9)PDO from Worksheet 1C","(4) Proportion of Collision Type(PDO)\nfrom Table 12-4","(5) Predicted N brmv (PDO) (crashes/year)\n(9)PDO from Worksheet 1C","(6) Predicted N brmv (TOTAL) (crashes/year) (9)TOTAL from Worksheet 1C","(2) Proportion of Collision Type(FI)\nfrom Table 12-4","(3) Predicted N brmv (FI) (crashes/year)\n(9)PDO from Worksheet 1C","(4) Proportion of Collision Type(PDO)\nfrom Table 12-4","(5) Predicted N brmv (PDO) (crashes/year)\n(9)PDO from Worksheet 1C","(6) Predicted N brmv (TOTAL) (crashes/year) (9)TOTAL from Worksheet 1C","(2) Proportion of Collision Type(FI)\nfrom Table 12-4","(3) Predicted N brmv (FI) (crashes/year)\n(9)PDO from Worksheet 1C","(4) Proportion of Collision Type(PDO)\nfrom Table 12-4","(5) Predicted N brmv (PDO) (crashes/year)\n(9)PDO from Worksheet 1C","(6) Predicted N brmv (TOTAL) (crashes/year) (9)TOTAL from Worksheet 1C","(2) Proportion of Collision Type(FI)\nfrom Table 12-4","(3) Predicted N brmv (FI) (crashes/year)\n(9)PDO from Worksheet 1C","(4) Proportion of Collision Type(PDO)\nfrom Table 12-4","(5) Predicted N brmv (PDO) (crashes/year)\n(9)PDO from Worksheet 1C","(6) Predicted N brmv (TOTAL) (crashes/year) (9)TOTAL from Worksheet 1C","(2) Proportion of Collision Type(FI)\nfrom Table 12-4","(3) Predicted N brmv (FI) (crashes/year)\n(9)PDO from Worksheet 1C","(4) Proportion of Collision Type(PDO)\nfrom Table 12-4","(5) Predicted N brmv (PDO) (crashes/year)\n(9)PDO from Worksheet 1C","(6) Predicted N brmv (TOTAL) (crashes/year) (9)TOTAL from Worksheet 1C","(2) SPF Coefficients from Table 12-5, a","(2) SPF Coefficients from Table 12-5, b","(3) Overdispersion Parameter, k,\nfrom Table 12-5","(4) Initial Nbrmv from Equation 12-13","(5) Proportion of Total Crashes","(6) Adjusted Nbrsv","(7) Combined CMFs from Worksheet 1B","(8) Calibration Factor, Cr","(9) Predicted Nbrsv","(2) SPF Coefficients from Table 12-5, a","(2) SPF Coefficients from Table 12-5, b","(3) Overdispersion Parameter, k,\nfrom Table 12-5","(4) Initial Nbrmv from Equation 12-13","(5) Proportion of Total Crashes","(6) Adjusted Nbrsv","(7) Combined CMFs from Worksheet 1B","(8) Calibration Factor, Cr","(9) Predicted Nbrsv","(2) SPF Coefficients from Table 12-5, a","(2) SPF Coefficients from Table 12-5, b","(3) Overdispersion Parameter, k,\nfrom Table 12-5","(4) Initial Nbrmv from Equation 12-13","(5) Proportion of Total Crashes","(6) Adjusted Nbrsv","(7) Combined CMFs from Worksheet 1B","(8) Calibration Factor, Cr","(9) Predicted Nbrsv","(2) Proportion of Collision Type(FI)\nfrom Table 12-6","(3) Predicted N brsv (FI) (crashes/year)\n(9)PDO from Worksheet 1E","(4) Proportion of Collision Type(PDO)\nfrom Table 12-6","(5) Predicted N brsv (PDO) (crashes/year)\n(9)PDO from Worksheet 1E","(6) Predicted N brsv (TOTAL) (crashes/year) (9)TOTAL from Worksheet 1E","(2) Proportion of Collision Type(FI)\nfrom Table 12-6","(3) Predicted N brsv (FI) (crashes/year)\n(9)PDO from Worksheet 1E","(4) Proportion of Collision Type(PDO)\nfrom Table 12-6","(5) Predicted N brsv (PDO) (crashes/year)\n(9)PDO from Worksheet 1E","(6) Predicted N brsv (TOTAL) (crashes/year) (9)TOTAL from Worksheet 1E","(2) Proportion of Collision Type(FI)\nfrom Table 12-6","(3) Predicted N brsv (FI) (crashes/year)\n(9)PDO from Worksheet 1E","(4) Proportion of Collision Type(PDO)\nfrom Table 12-6","(5) Predicted N brsv (PDO) (crashes/year)\n(9)PDO from Worksheet 1E","(6) Predicted N brsv (TOTAL) (crashes/year) (9)TOTAL from Worksheet 1E","(2) Proportion of Collision Type(FI)\nfrom Table 12-6","(3) Predicted N brsv (FI) (crashes/year)\n(9)PDO from Worksheet 1E","(4) Proportion of Collision Type(PDO)\nfrom Table 12-6","(5) Predicted N brsv (PDO) (crashes/year)\n(9)PDO from Worksheet 1E","(6) Predicted N brsv (TOTAL) (crashes/year) (9)TOTAL from Worksheet 1E","(2) Proportion of Collision Type(FI)\nfrom Table 12-6","(3) Predicted N brsv (FI) (crashes/year)\n(9)PDO from Worksheet 1E","(4) Proportion of Collision Type(PDO)\nfrom Table 12-6","(5) Predicted N brsv (PDO) (crashes/year)\n(9)PDO from Worksheet 1E","(6) Predicted N brsv (TOTAL) (crashes/year) (9)TOTAL from Worksheet 1E","Number of driveways, n j","Crashes perdriveway per year, N j\nfrom Table 12-7","Coefficient for traffic adjustment, t\nfrom Table 12-7","Initial N brdwy (Equation 12-16)\nn j * N j * (AADT/15,000) t","Number of driveways, n j","Crashes perdriveway per year, N j\nfrom Table 12-7","Coefficient for traffic adjustment, t\nfrom Table 12-7","Initial N brdwy (Equation 12-16)\nn j * N j * (AADT/15,000) t","Number of driveways, n j","Crashes perdriveway per year, N j\nfrom Table 12-7","Coefficient for traffic adjustment, t\nfrom Table 12-7","Initial N brdwy (Equation 12-16)\nn j * N j * (AADT/15,000) t","Number of driveways, n j","Crashes perdriveway per year, N j\nfrom Table 12-7","Coefficient for traffic adjustment, t\nfrom Table 12-7","Initial N brdwy (Equation 12-16)\nn j * N j * (AADT/15,000) t","Number of driveways, n j","Crashes perdriveway per year, N j\nfrom Table 12-7","Coefficient for traffic adjustment, t\nfrom Table 12-7","Initial N brdwy (Equation 12-16)\nn j * N j * (AADT/15,000) t","Number of driveways, n j","Crashes perdriveway per year, N j\nfrom Table 12-7","Coefficient for traffic adjustment, t\nfrom Table 12-7","Initial N brdwy (Equation 12-16)\nn j * N j * (AADT/15,000) t","Number of driveways, n j","Crashes perdriveway per year, N j\nfrom Table 12-7","Coefficient for traffic adjustment, t\nfrom Table 12-7","Initial N brdwy (Equation 12-16)\nn j * N j * (AADT/15,000) t","Number of driveways, n j","Crashes perdriveway per year, N j\nfrom Table 12-7","Coefficient for traffic adjustment, t\nfrom Table 12-7","Initial N brdwy (Equation 12-16)\nn j * N j * (AADT/15,000) t","Overdispersion parameter, k\nfrom Table 12-7","(2) Initial N brdwy\n(5) TOTAL from Worksheet 1G","(3) Proportion of total crashes (f dwy)\nfrom Table 12-7","(4) Adjusted N brdwy\n(2) TOTAL * (3)","(5) Combined CMFs\n(6) from Worksheet 1B","(6) Calibration Factor, Cr","(7) Predicted Nbrdwy","(2) Initial N brdwy\n(5) TOTAL from Worksheet 1G","(3) Proportion of total crashes (f dwy)\nfrom Table 12-8","(4) Adjusted N brdwy\n(2) TOTAL * (3)","(5) Combined CMFs\n(6) from Worksheet 1B","(6) Calibration Factor, Cr","(7) Predicted Nbrdwy","(2) Initial N brdwy\n(5) TOTAL from Worksheet 1G","(3) Proportion of total crashes (f dwy)\nfrom Table 12-9","(4) Adjusted N brdwy\n(2) TOTAL * (3)","(5) Combined CMFs\n(6) from Worksheet 1B","(6) Calibration Factor, Cr","(7) Predicted Nbrdwy","(2) Predicted N brmv\n(9)from Worksheet 1C","(3) Predicted N brsv\n(9) from Worksheet 1E","(4) Predicted N brdwy\n(7) from Worksheet 1H","(5) Predicted N br\n(2) + (3) + (4)","(6) f pedr\nfrom Table 12-8","(7) Calibration Factor, Cr","(7) Predicted Npedr\n(5) * (6) * (7)","(2) Predicted N brmv\n(9)from Worksheet 1C","(3) Predicted N brsv\n(9) from Worksheet 1E","(4) Predicted N brdwy\n(7) from Worksheet 1H","(5) Predicted N br\n(2) + (3) + (4)","(6) f pedr\nfrom Table 12-8","(7) Calibration Factor, Cr","(7) Predicted Npedr\n(5) * (6) * (7)","(2) Predicted N brmv\n(9)from Worksheet 1C","(3) Predicted N brsv\n(9) from Worksheet 1E","(4) Predicted N brdwy\n(7) from Worksheet 1H","(5) Predicted N br\n(2) + (3) + (4)","(6) f biker\nfrom Table 12-9","(7) Calibration Factor, Cr","(7) Predicted N biker\n(5) * (6) * (7)","(2) Predicted N brmv\n(9)from Worksheet 1C","(3) Predicted N brsv\n(9) from Worksheet 1E","(4) Predicted N brdwy\n(7) from Worksheet 1H","(5) Predicted N br\n(2) + (3) + (4)","(6) f biker\nfrom Table 12-9","(7) Calibration Factor, Cr","(7) Predicted N biker\n(5) * (6) * (7)","Rear-end collisions\n(from Worksheet 1D)","Head-on collisions\n(from Worksheet 1D)","Angle collisions\n(from Worksheet 1D)","Sideswipe, same direction\n(from Worksheet 1D)","Sideswipe, opposite direction\n(from Worksheet 1D)","Driveway-related collisions\n(from Worksheet 1H)","Other Multiple Vehicle collisions\n(from Worksheet 1D)","Subtotal","Collision with animal\n(from Worksheet 1F)","Collision with fixed object\n(from Worksheet 1F)","Collision with other object\n(from Worksheet 1F)","Other single-vehicle collision\n(from Worksheet 1F)","Collision with pedestrian\n(from Worksheet 1F)","Collision with bocycle\n(from Worksheet 1F)","Subtotal",null,"Rear-end collisions\n(from Worksheet 1D)","Head-on collisions\n(from Worksheet 1D)","Angle collisions\n(from Worksheet 1D)","Sideswipe, same direction\n(from Worksheet 1D)","Sideswipe, opposite direction\n(from Worksheet 1D)","Driveway-related collisions\n(from Worksheet 1H)","Other Multiple Vehicle collisions\n(from Worksheet 1D)","Subtotal","Collision with animal\n(from Worksheet 1F)","Collision with fixed object\n(from Worksheet 1F)","Collision with other object\n(from Worksheet 1F)","Other single-vehicle collision\n(from Worksheet 1F)","Collision with pedestrian\n(from Worksheet 1F)","Collision with bocycle\n(from Worksheet 1F)","Subtotal",null,"Rear-end collisions\n(from Worksheet 1D)","Head-on collisions\n(from Worksheet 1D)","Angle collisions\n(from Worksheet 1D)","Sideswipe, same direction\n(from Worksheet 1D)","Sideswipe, opposite direction\n(from Worksheet 1D)","Driveway-related collisions\n(from Worksheet 1H)","Other Multiple Vehicle collisions\n(from Worksheet 1D)","Subtotal","Collision with animal\n(from Worksheet 1F)","Collision with fixed object\n(from Worksheet 1F)","Collision with other object\n(from Worksheet 1F)","Other single-vehicle collision\n(from Worksheet 1F)","Collision with pedestrian\n(from Worksheet 1F)","Collision with bocycle\n(from Worksheet 1F)","Subtotal",null,"Predicted average crash frequency N predicted rs (crashes/year)","Roadway segment length, L (miles)","Crash rate (crashes/mile/year)","Predicted average crash frequency N predicted rs (crashes/year)","Roadway segment length, L (miles)","Crash rate (crashes/mile/year)","Predicted average crash frequency N predicted rs (crashes/year)","Roadway segment length, L (miles)","Crash rate (crashes/mile/year)"]

{"sheet":"Urban & Suburban Intersections","index":14,"n_rows":4,"n_cols":297,"rows_kept":4,"cut":false,"hidden":false,"merged":[[2,73,2,82],[2,83,2,92],[2,93,2,102],[2,108,2,112],[2,103,2,107],[2,113,2,117],[2,118,2,122],[2,123,2,127],[2,128,2,132],[1,103,1,132],[2,143,2,152],[2,204,2,209],[0,210,2,213],[2,214,2,223],[2,153,2,162],[2,168,2,172],[2,163,2,167],[1,163,1,197],[2,173,2,177],[2,178,2,182],[2,183,2,187],[2,188,2,192],[2,193,2,197],[0,214,1,233],[2,294,2,296],[0,294,1,296],[1,62,1,72],[1,73,1,102],[1,133,1,162],[2,224,2,233],[2,234,2,239],[2,240,2,245],[1,246,1,293],[0,234,1,245],[2,246,2,261],[2,262,2,277],[2,278,2,293],[1,198,1,209],[2,198,2,203],[2,133,2,142],[0,30,0,43],[1,49,1,61],[1,14,2,15],[1,16,2,29],[1,44,1,48],[1,30,2,31],[1,32,2,33],[1,34,2,35],[1,36,2,38],[1,40,2,41],[1,42,2,43],[0,0,0,29]]}
["Worksheet 2A -- General Information and Input Data for Urban and Suburban Arterial Intersections",null,null,null,null,null,null,null,null,null,null,null,null,null,null,null,null,null,null,null,null,null,null,null,null,null,null,null,null,null,"Empirical Bayes Analysis",null,null,null,null,null,null,null,null,null,null,null,null,null,null,null,null,null,null,null,null,null,null,null,null,null,null,null,null,null,null,null,null,null,null,null,null,null,null,null,null,null,null,null,null,null,null,null,null,null,null,null,null,null,null,null,null,null,null,null,null,null,null,null,null,null,null,null,null,null,null,null,null,null,null,null,null,null,null,null,null,null,null,null,null,null,null,null,null,null,null,null,null,null,null,null,null,null,null,null,null,null,null,null,null,null,null,null,null,null,null,null,null,null,null,null,null,null,null,null,null,null,null,null,null,null,null,null,null,null,null,null,null,null,null,null,null,null,null,null,null,null,null,null,null,null,null,null,null,null,null,null,null,null,null,null,null,null,null,null,null,null,null,null,null,null,null,null,null,null,null,null,null,null,null,null,null,null,null,null,"Worksheet 2H -- Crash Modification Factors for Vehicle-Pedestrian Collisions for Urban and Suburban Arterial Signalized Intersections",null,null,null,"Worksheet 2I -- Vehicle-Pedestrian Collisions for Urban and Suburban Arterial Signalized Intersections",null,null,null,null,null,null,null,null,null,null,null,null,null,null,null,null,null,null,null,"Worksheet 2J -- Vehicle-Bicycle Collisions for Urban and Suburban Arterial Stop-Controlled Intersections",null,null,null,null,null,null,null,null,null,null,null,null,null,null,null,null,null,null,null,null,null,null,null,null,null,null,null,null,null,null,null,null,null,null,null,null,null,null,null,null,null,null,null,null,null,null,null,null,null,null,null,null,null,null,null,null,null,null,null,"Predicted average crash frequency, Npredicted int (crashes/year)"]
[null,null,null,null,null,null,null,null,null,null,null,null,null,null,"Data for unsignalized intersections only:",null,"Data for signalized intersections only:",null,null,null,null,null,null,null,null,null,null,null,null,null,"Observed Crashes Nobserved (crashes/year)",null,"Ovedispersion Parameter, k",null,"Weighted Adjustment, w (Equation A-5 from Part C Appendix)",null,"Expected Average Crash Frequency, Nexpected (Equation A-4 from Part C Appendix)",null,null,null,"N predicted w0\n(Equation A-8)",null,"N predicted w1\n(Equation A-9)",null,"Calculations for CMF2i",null,null,null,null,"Calculations for CMF6i",null,null,null,null,null,null,null,null,null,null,null,null,"Worksheet 2B -- Crash Modification Factors for Urban and Suburban Arterial Intersections",null,null,null,null,null,null,null,null,null,null,"Worksheet 2C -- Multiple-Vehicle Collisions by Severity Level for Urban and Suburban Arterial Intersections",null,null,null,null,null,null,null,null,null,null,null,null,null,null,null,null,null,null,null,null,null,null,null,null,null,null,null,null,null,"Worksheet 2D -- Multiple-Vehicle Collisions by Collision Type for Urban and Suburban Arterial Intersections",null,null,null,null,null,null,null,null,null,null,null,null,null,null,null,null,null,null,null,null,null,null,null,null,null,null,null,null,null,"Worksheet 2E -- Single-Vehicle Collisions by Severity Level for Urban and Suburban Arterial Intersections",null,null,null,null,null,null,null,null,null,null,null,null,null,null,null,null,null,null,null,null,null,null,null,null,null,null,null,null,null,"Worksheet 2F -- Single-Vehicle Collisions by Collision Type for Urban and Suburban Arterial Intersections",null,null,null,null,null,null,null,null,null,null,null,null,null,null,null,null,null,null,null,null,null,null,null,null,null,null,null,null,null,null,null,null,null,null,"Worksheet 2G -- Vehicle-Pedestrian Collisions for Urban and Suburban Arterial Stop-Controlled Intersections",null,null,null,null,null,null,null,null,null,null,null,null,null,null,null,null,null,null,null,null,null,null,null,null,null,null,null,null,null,null,null,null,null,null,null,null,null,null,null,null,null,null,null,null,null,null,null,"Worksheet 2K -- Crash Severity Distribution for Urban and Suburban Arterial Intersections"]
[null,null,null,null,"N","N",null,null,null,null,null,null,null,null,null,null,null,null,null,null,null,null,null,null,null,null,null,null,null,null,null,null,null,null,null,null,null,null,null,null,null,null,null,null,null,null,null,null,null,null,null,null,null,null,null,null,null,null,null,null,null,null,null,null,null,null,null,null,null,null,null,null,null,"Total",null,null,null,null,null,null,null,null,null,"Fatal and Injury (FI)",null,null,null,null,null,null,null,null,null,"Property Damage Only (PDO)",null,null,null,null,null,null,null,null,null,"Total",null,null,null,null,"Rear-end collision",null,null,null,null,"Head-On Collision",null,null,null,null,"Angle Collision",null,null,null,null,"Sideswipe",null,null,null,null,"Other multiple-vehicle collision",null,null,null,null,"Total",null,null,null,null,null,null,null,null,null,"Fatal and Injury (FI)",null,null,null,null,null,null,null,null,null,"Property Damage Only (PDO)",null,null,null,null,null,null,null,null,null,"Total",null,null,null,null,"Collision with parked vehicle",null,null,null,null,"Collision with animal",null,null,null,null,"Collision with fixed object",null,null,null,null,"Collision with other",null,null,null,null,"Other single-vehicle collision",null,null,null,null,"Single-vehicle noncollision",null,null,null,null,"Total",null,null,null,null,null,"Fatal and Injury (FI)",null,null,null,null,null,null,null,null,null,"Total",null,null,null,null,null,null,null,null,null,"Fatal and Injury (FI)",null,null,null,null,null,null,null,null,null,"Total",null,null,null,null,null,"Fatal and Injury (FI)",null,null,null,null,null,"Fatal and Injury (FI)",null,null,null,null,null,null,null,null,null,null,null,null,null,null,null,"Property Damange Only (PDO)",null,null,null,null,null,null,null,null,null,null,null,null,null,null,null,"Total",null,null,null,null,null,null,null,null,null,null,null,null,null,null,null,"Worksheet 2L -- Summary Results for Urban and Suburban Arterial Intersections"]
["#","Major Roadway","Minor Roadway","Jurisdiction","Intersection Type","AADT major (vehicles/day)","AADT minor (vehicles/day)","Intersection lighting (present/not present)","Additional CMF - 1","Additional CMF - 2","Additional CMF - 3","Additional CMF - Numeric","Calibration factor, Ci","Calibration factor, Ci","Number of major-road approaches with left-turn lanes (0,1,2)","Number of major-road approaches with right-turn lanes (0,1,2)","Number of approaches with left-turn lanes (0,1,2,3,4) [for 3SG, use maximum value of 3]","Number of approaches with right-turn lanes (0,1,2,3,4) [for 3SG, use maximum value of 3]","Number of approaches with left-turn signal phasing [for 3SG, use maximum value of 3]","Type of left-turn signal phasing for Leg #1","Type of left-turn signal phasing for Leg #2","Type of left-turn signal phasing for Leg #3","Type of left-turn signal phasing for Leg #4 (if applicable)","Number of approaches with right-turn-on-red prohibited [for 3SG, use maximum value of 3]","Intersection red light cameras","Sum of all pedestrian crossing volumes  (PedVol) -- Signalized intersections only","Maximum number of lanes crossed by a pedestrian (nlanesx)","Number of bus stops within 300 m (1,000 ft) of the intersection","Schools within 300 m (1,000 ft) of the intersection","Number of alcohol sales establishments within 300 m (1,000 ft) of the intersection","Multiple-Vehicle","Single-Vehicle","Multiple-Vehicle","Single-Vehicle","Multiple-Vehicle","Single-Vehicle","Multiple-Vehicle","Single-Vehicle","Total","Excess Expected Crashes\nNobserved - Nexpected","Multiple-Vehicle","Single-Vehicle","Multiple-Vehicle","Single-Vehicle","Leg #1 CMF:","Leg #1 CMF:","Leg #2 CMF:","Leg #3 CMF:","Composite Value:","pramv(FI) :","pramv(PDO) :","Nbimv(FI) :","Nbimv(PDO) :","Nbisv :","pra :","premv(FI) :","premv(PDO) :","Nbimv(FI) :","Nbimv(PDO) :","Nbisv :","pre :","CMF6i :","(1) CMF for Left-Turn Lanes CMF 1i from Table 12-24","(2) CMF for Left-Turn Signal Phasing CMF 2i from Table 12-25","(3) CMF for Right-Turn Lanes CMF 3i from Table 12-26","(4) CMF for Right Turn on Red CMF 4i from Equation 12-35","(5) CMF for Lighting CMF 5i from Equation 12-36","(6) CMF for Red Light Cameras CMF 6i from Equation 12-37","Additional CMF - 1","Additional CMF - 2","Additional CMF - 3","Additional CMF - Numeric","(7) Combined CMF CMF COMB (1)*(2)*(3)*(4)*(5)*(6)","SPF Coefficients (Table 12-10), a","SPF Coefficients (Table 12-10), b","SPF Coefficients (Table 12-10), c","Overdispersion Parameter, k (Table 12-10)","Initial Nbimv (Equation 12-21)","Proportion of Total Crashes","Adjusted Nbimv\n(Initial Nbimv * Proportion of Total)","Combined CMFs (from Worksheet 2B)","Calibration Factor, Ci","Predicted Nbimv, TOTAL","SPF Coefficients (Table 12-10), a","SPF Coefficients (Table 12-10), b","SPF Coefficients (Table 12-10), c","Overdispersion Parameter, k (Table 12-10)","Initial Nbimv (Equation 12-21)","Proportion of Total Crashes, FI","Adjusted Nbimv\n(Initial Nbimv * Proportion of Total)","Combined CMFs (from Worksheet 2B)","Calibration Factor, Ci","Predicted Nbimv, FI","SPF Coefficients (Table 12-10), a","SPF Coefficients (Table 12-10), b","SPF Coefficients (Table 12-10), c","Overdispersion Parameter, k (Table 12-10)","Initial Nbimv (Equation 12-21)","Proportion of Total Crashes, PDO","Adjusted Nbimv\n(Initial Nbimv * Proportion of Total)","Combined CMFs (from Worksheet 2B)","Calibration Factor, Ci","Predicted Nbimv, PDO","Proportion of Collision Type (FI)","Predicted Nbimv (FI) (crashes/year)","Proportion of Collision Type (PDO)","Predicted Nbimv (PDO) (crashes/year)","Predicted Nbimv (TOTAL) (crashes/year)","Proportion of Collision Type (FI)","Predicted Nbimv (FI) (crashes/year)","Proportion of Collision Type (PDO)","Predicted Nbimv (PDO) (crashes/year)","Predicted Nbimv (TOTAL) (crashes/year)","Proportion of Collision Type (FI)","Predicted Nbimv (FI) (crashes/year)","Proportion of Collision Type (PDO)","Predicted Nbimv (PDO) (crashes/year)","Predicted Nbimv (TOTAL) (crashes/year)","Proportion of Collision Type (FI)","Predicted Nbimv (FI) (crashes/year)","Proportion of Collision Type (PDO)","Predicted Nbimv (PDO) (crashes/year)","Predicted Nbimv (TOTAL) (crashes/year)","Proportion of Collision Type (FI)","Predicted Nbimv (FI) (crashes/year)","Proportion of Collision Type (PDO)","Predicted Nbimv (PDO) (crashes/year)","Predicted Nbimv (TOTAL) (crashes/year)","Proportion of Collision Type (FI)","Predicted Nbimv (FI) (crashes/year)","Proportion of Collision Type (PDO)","Predicted Nbimv (PDO) (crashes/year)","Predicted Nbimv (TOTAL) (crashes/year)","SPF Coefficients (Table 12-10), a","SPF Coefficients (Table 12-10), b","SPF Coefficients (Table 12-10), c","Overdispersion Parameter, k (Table 12-10)","Initial Nbimv (Equation 12-21)","Proportion of Total Crashes","Adjusted Nbimv\n(Initial Nbimv * Proportion of Total)","Combined CMFs (from Worksheet 2B)","Calibration Factor, Ci","Predicted Nbimv, TOTAL","SPF Coefficients (Table 12-10), a","SPF Coefficients (Table 12-10), b","SPF Coefficients (Table 12-10), c","Overdispersion Parameter, k (Table 12-10)","Initial Nbimv (Equation 12-21)","Proportion of Total Crashes, FI","Adjusted Nbimv\n(Initial Nbimv * Proportion of Total)","Combined CMFs (from Worksheet 2B)","Calibration Factor, Ci","Predicted Nbimv, FI","SPF Coefficients (Table 12-10), a","SPF Coefficients (Table 12-10), b","SPF Coefficients (Table 12-10), c","Overdispersion Parameter, k (Table 12-10)","Initial Nbimv (Equation 12-21)","Proportion of Total Crashes, PDO","Adjusted Nbimv\n(Initial Nbimv * Proportion of Total)","Combined CMFs (from Worksheet 2B)","Calibration Factor, Ci","Predicted Nbimv, PDO","Proportion of Collision Type(FI)\n(from Table 12-13)","Predicted N bisv (FI) (crashes/year)\n(FI from Worksheet 2E)","Proportion of Collision Type (PDO)\n(from Table 12-13)","Predicted N bisv (PDO) (crashes/year)\n(PDO from Worksheet 2E)","Predicted N bisv (TOTAL) (crashes/year)","Proportion of Collision Type(FI)\n(from Table 12-13)","Predicted N bisv (FI) (crashes/year)\n(FI from Worksheet 2E)","Proportion of Collision Type (PDO)\n(from Table 12-13)","Predicted N bisv (PDO) (crashes/year)\n(PDO from Worksheet 2E)","Predicted N bisv (TOTAL) (crashes/year)","Proportion of Collision Type(FI)\n(from Table 12-13)","Predicted N bisv (FI) (crashes/year)\n(FI from Worksheet 2E)","Proportion of Collision Type (PDO)\n(from Table 12-13)","Predicted N bisv (PDO) (crashes/year)\n(PDO from Worksheet 2E)","Predicted N bisv (TOTAL) (crashes/year)","Proportion of Collision Type(FI)\n(from Table 12-13)","Predicted N bisv (FI) (crashes/year)\n(FI from Worksheet 2E)","Proportion of Collision Type (PDO)\n(from Table 12-13)","Predicted N bisv (PDO) (crashes/year)\n(PDO from Worksheet 2E)","Predicted N bisv (TOTAL) (crashes/year)","Proportion of Collision Type(FI)\n(from Table 12-13)","Predicted N bisv (FI) (crashes/year)\n(FI from Worksheet 2E)","Proportion of Collision Type (PDO)\n(from Table 12-13)","Predicted N bisv (PDO) (crashes/year)\n(PDO from Worksheet 2E)","Predicted N bisv (TOTAL) (crashes/year)","Proportion of Collision Type(FI)\n(from Table 12-13)","Predicted N bisv (FI) (crashes/year)\n(FI from Worksheet 2E)","Proportion of Collision Type (PDO)\n(from Table 12-13)","Predicted N bisv (PDO) (crashes/year)\n(PDO from Worksheet 2E)","Predicted N bisv (TOTAL) (crashes/year)","Proportion of Collision Type(FI)\n(from Table 12-13)","Predicted N bisv (FI) (crashes/year)\n(FI from Worksheet 2E)","Proportion of Collision Type (PDO)\n(from Table 12-13)","Predicted N bisv (PDO) (crashes/year)\n(PDO from Worksheet 2E)","Predicted N bisv (TOTAL) (crashes/year)","Predicted Nbimv\n(from Worksheet 2C)","Predicted Nbisv\n(from Worksheet 2E)","Predicted Nbi","fpedi\n(from Table 12-16)","Calibration Factor, Ci","Predicted Npedi","Predicted Nbimv\n(from Worksheet 2C)","Predicted Nbisv\n(from Worksheet 2E)","Predicted Nbi","fpedi\n(from Table 12-16)","Calibration Factor, Ci","Predicted Npedi","CMF for Bus Stops, CMF1p\n(from Table 12-28)","CMF for Schools, CMF2p\n(from Table 12-29)","CMF for Alcohol Sales Establishments, CMF3p\n(from Table 12-30)","Combined CMF","SPF Coefficients, a\n(from Table 12-14)","SPF Coefficients, b\n(from Table 12-14)","SPF Coefficients, c\n(from Table 12-14)","SPF Coefficients, d\n(from Table 12-14)","SPF Coefficients, e\n(from Table 12-14)","Overdispersion Parameter, k","Npedbase (from Equation 12-29)","Combined CMF (from Worksheet 2H)","Calibration factor, Ci","Predicted Npedi","SPF Coefficients, a\n(from Table 12-14)","SPF Coefficients, b\n(from Table 12-14)","SPF Coefficients, c\n(from Table 12-14)","SPF Coefficients, d\n(from Table 12-14)","SPF Coefficients, e\n(from Table 12-14)","Overdispersion Parameter, k","Npedbase (from Equation 12-29)","Combined CMF (from Worksheet 2H)","Calibration factor, Ci","Predicted Npedi","Predicted Nbimv\n(from Worksheet 2C)","Predicted Nbisv\n(from Worsheet 2E)","Predicted Nbi","fbikei\n(from Table 12-17)","Calibration Factor, Ci","Predicted Nbikei","Predicted Nbimv\n(from Worksheet 2C)","Predicted Nbisv\n(from Worsheet 2E)","Predicted Nbi","fbikei\n(from Table 12-17)","Calibration Factor, Ci","Predicted Nbikei","Rear-end collisions (from Worksheet 2D)","Head-on collisions (from Worksheet 2D)","Angle collisions (from Worksheet 2D)","Sideswipe (from Worksheet 2D)","Other multiple-vehicle collision (from Worksheet 2D)","Subtotal, Multiple-Vehicle","Collision with parked vehicle (from Worksheet 2F)","Collision with animal (from Worksheet 2F)","Collision with fixed object (from Worksheet 2F)","Collision with other object (from Worksheet 2F)","Other single-vehicle collision (from Worksheet 2F)","Single-vehicle noncollision (from Worksheet 2F)","Collision with pedestrian (from Worksheet 2G or 2I)","Collision with bicycle (from Worksheet 2J)","Subtotal, Single Vehicle","Total, Fatal and Injury","Rear-end collisions (from Worksheet 2D)","Head-on collisions (from Worksheet 2D)","Angle collisions (from Worksheet 2D)","Sideswipe (from Worksheet 2D)","Other multiple-vehicle collision (from Worksheet 2D)","Subtotal","Collision with parked vehicle (from Worksheet 2F)","Collision with animal (from Worksheet 2F)","Collision with fixed object (from Worksheet 2F)","Collision with other object (from Worksheet 2F)","Other single-vehicle collision (from Worksheet 2F)","Single-vehicle noncollision (from Worksheet 2F)","Collision with pedestrian (from Worksheet 2G or 2I)","Collision with bicycle (from Worksheet 2J)","Subtotal","Total","Rear-end collisions (from Worksheet 2D)","Head-on collisions (from Worksheet 2D)","Angle collisions (from Worksheet 2D)","Sideswipe (from Worksheet 2D)","Other multiple-vehicle collision (from Worksheet 2D)","Subtotal","Collision with parked vehicle (from Worksheet 2F)","Collision with animal (from Worksheet 2F)","Collision with fixed object (from Worksheet 2F)","Collision with other object (from Worksheet 2F)","Other single-vehicle collision (from Worksheet 2F)","Single-vehicle noncollision (from Worksheet 2F)","Collision with pedestrian (from Worksheet 2G or 2I)","Collision with bicycle (from Worksheet 2J)","Subtotal","Total","Property damage only (PDO)","Fatal and injury (FI)","Total"]

{"sheet":"RankingExpectedAverage","index":15,"n_rows":350,"n_cols":11,"rows_kept":350,"cut":false,"hidden":true,"merged":[]}
[{"$f":"MATCH(LARGE(INDIRECT(\"'Rural 2-Lane Segments'!$AG$5:$AG$10005\"),ROW()),INDIRECT(\"'Rural 2-Lane Segments'!$AG$5:$AG$10005\"),0)+4","v":5},{"$f":"\"(SEG) \"&INDIRECT(ADDRESS($A1,2,,,\"Rural 2-Lane Segments\"))&\", \"&INDIRECT(ADDRESS($A1,3,,,\"Rural 2-Lane Segments\"))","v":"(SEG) SH 321, MP 0.0 to MP 1.5"},{"$f":"INDIRECT(ADDRESS($A1,4,,,\"Rural 2-Lane Segments\"))","v":"Anywhere, USA"},{"$f":"\"Length = \"&INDIRECT(ADDRESS($A1,5,,,\"Rural 2-Lane Segments\"))&\" mi\"","v":"Length = 1.5 mi"},{"$f":"\"AADT: \"&TEXT(INDIRECT(ADDRESS($A1,6,,,\"Rural 2-Lane Segments\")),\"#,##0\")","v":"AADT: 10,000"},{"$f":"IF(ISERROR(A1),\"\",INDIRECT(ADDRESS($A1,33,,,\"Rural 2-Lane Segments\")))","v":0},null,null,null,{"$f":"LARGE($F$1:$F$350,ROW())","v":3.8939832407462966},{"$f":"MATCH(LARGE($F$1:$F$350,ROW()),$F$1:$F$350,0)","v":51}]
[{"$f":"IF(MATCH(LARGE(INDIRECT(\"'Rural 2-Lane Segments'!$AG$5:$AG$10005\"),ROW()),INDIRECT(\"'Rural 2-Lane Segments'!$AG$5:$AG$10005\"),0)=MATCH(LARGE(INDIRECT(\"'Rural 2-Lane Segments'!$AG$5:$AG$10005\"),ROW()-1),INDIRECT(\"'Rural 2-Lane Segments'!$AG$5:$AG$10005\"),0),MATCH(LARGE(INDIRECT(\"'Rural 2-Lane Segments'!$AG$5:$AG$10005\"),ROW()),INDIRECT(ADDRESS(A1+1,33,,,\"Rural 2-Lane Segments\")&\":AG10004\"),0)+A1,MATCH(LARGE(INDIRECT(\"'Rural 2-Lane Segments'!$AG$5:$AG$10005\"),ROW()),INDIRECT(\"'Rural 2-Lane Segments'!$AG$5:$AG$10005\"),0)+4)","v":{"$error":"#NUM!"}},{"$f":"\"(SEG) \"&INDIRECT(ADDRESS($A2,2,,,\"Rural 2-Lane Segments\"))&\", \"&INDIRECT(ADDRESS($A2,3,,,\"Rural 2-Lane Segments\"))","v":{"$error":"#NUM!"}},{"$f":"INDIRECT(ADDRESS($A2,4,,,\"Rural 2-Lane Segments\"))","v":{"$error":"#NUM!"}},{"$f":"\"Length = \"&INDIRECT(ADDRESS($A2,5,,,\"Rural 2-Lane Segments\"))&\" mi\"","v":{"$error":"#NUM!"}},{"$error":"#NUM!"},"",null,null,null,{"$f":"LARGE($F$1:$F$350,ROW())","v":2.6308187636941125},{"$f":"IF(MATCH(LARGE($F$1:$F$350,ROW()),$F$1:$F$350,0)=MATCH(LARGE($F$1:$F$350,ROW()-1),$F$1:$F$350,0),MATCH(LARGE($F$1:$F$350,ROW()),INDIRECT(ADDRESS(K1+1,6)&\":F350\"),0)+K1,MATCH(LARGE($F$1:$F$350,ROW()),$F$1:$F$350,0))","v":52}]
[{"$f":"IF(MATCH(LARGE(INDIRECT(\"'Rural 2-Lane Segments'!$AG$5:$AG$10005\"),ROW()),INDIRECT(\"'Rural 2-Lane Segments'!$AG$5:$AG$10005\"),0)=MATCH(LARGE(INDIRECT(\"'Rural 2-Lane Segments'!$AG$5:$AG$10005\"),ROW()-1),INDIRECT(\"'Rural 2-Lane Segments'!$AG$5:$AG$10005\"),0),MATCH(LARGE(INDIRECT(\"'Rural 2-Lane Segments'!$AG$5:$AG$10005\"),ROW()),INDIRECT(ADDRESS(A2+1,33,,,\"Rural 2-Lane Segments\")&\":AG10004\"),0)+A2,MATCH(LARGE(INDIRECT(\"'Rural 2-Lane Segments'!$AG$5:$AG$10005\"),ROW()),INDIRECT(\"'Rural 2-Lane Segments'!$AG$5:$AG$10005\"),0)+4)","v":{"$error":"#NUM!"}},{"$error":"#NUM!"},{"$error":"#NUM!"},{"$error":"#NUM!"},{"$error":"#NUM!"},"",null,null,null,2.208842157247588,{"$f":"IF(MATCH(LARGE($F$1:$F$350,ROW()),$F$1:$F$350,0)=MATCH(LARGE($F$1:$F$350,ROW()-1),$F$1:$F$350,0),MATCH(LARGE($F$1:$F$350,ROW()),INDIRECT(ADDRESS(K2+1,6)&\":F350\"),0)+K2,MATCH(LARGE($F$1:$F$350,ROW()),$F$1:$F$350,0))","v":53}]
[{"$error":"#NUM!"},{"$error":"#NUM!"},{"$error":"#NUM!"},{"$error":"#NUM!"},{"$error":"#NUM!"},"",null,null,null,2.1775096684401922,54]
[{"$error":"#NUM!"},{"$error":"#NUM!"},{"$error":"#NUM!"},{"$error":"#NUM!"},{"$error":"#NUM!"},"",null,null,null,2.0234598088798723,55]
[{"$error":"#NUM!"},{"$error":"#NUM!"},{"$error":"#NUM!"},{"$error":"#NUM!"},{"$error":"#NUM!"},"",null,null,null,1.9534434184923599,56]
[{"$error":"#NUM!"},{"$error":"#NUM!"},{"$error":"#NUM!"},{"$error":"#NUM!"},{"$error":"#NUM!"},"",null,null,null,1.7373216853292739,57]
[{"$error":"#NUM!"},{"$error":"#NUM!"},{"$error":"#NUM!"},{"$error":"#NUM!"},{"$error":"#NUM!"},"",null,null,null,1.2086653600271815,58]
[{"$error":"#NUM!"},{"$error":"#NUM!"},{"$error":"#NUM!"},{"$error":"#NUM!"},{"$error":"#NUM!"},"",null,null,null,0.63050035184227426,59]
[{"$error":"#NUM!"},{"$error":"#NUM!"},{"$error":"#NUM!"},{"$error":"#NUM!"},{"$error":"#NUM!"},"",null,null,null,0.42113571144026074,60]
[{"$error":"#NUM!"},{"$error":"#NUM!"},{"$error":"#NUM!"},{"$error":"#NUM!"},{"$error":"#NUM!"},"",null,null,null,0,1]
[{"$error":"#NUM!"},{"$error":"#NUM!"},{"$error":"#NUM!"},{"$error":"#NUM!"},{"$error":"#NUM!"},"",null,null,null,{"$error":"#NUM!"},{"$error":"#NUM!"}]
[{"$error":"#NUM!"},{"$error":"#NUM!"},{"$error":"#NUM!"},{"$error":"#NUM!"},{"$error":"#NUM!"},"",null,null,null,{"$error":"#NUM!"},{"$error":"#NUM!"}]
[{"$error":"#NUM!"},{"$error":"#NUM!"},{"$error":"#NUM!"},{"$error":"#NUM!"},{"$error":"#NUM!"},"",null,null,null,{"$error":"#NUM!"},{"$error":"#NUM!"}]
[{"$error":"#NUM!"},{"$error":"#NUM!"},{"$error":"#NUM!"},{"$error":"#NUM!"},{"$error":"#NUM!"},"",null,null,null,{"$error":"#NUM!"},{"$error":"#NUM!"}]
[{"$error":"#NUM!"},{"$error":"#NUM!"},{"$error":"#NUM!"},{"$error":"#NUM!"},{"$error":"#NUM!"},"",null,null,null,{"$error":"#NUM!"},{"$error":"#NUM!"}]
[{"$error":"#NUM!"},{"$error":"#NUM!"},{"$error":"#NUM!"},{"$error":"#NUM!"},{"$error":"#NUM!"},"",null,null,null,{"$error":"#NUM!"},{"$error":"#NUM!"}]
[{"$error":"#NUM!"},{"$error":"#NUM!"},{"$error":"#NUM!"},{"$error":"#NUM!"},{"$error":"#NUM!"},"",null,null,null,{"$error":"#NUM!"},{"$error":"#NUM!"}]
[{"$error":"#NUM!"},{"$error":"#NUM!"},{"$error":"#NUM!"},{"$error":"#NUM!"},{"$error":"#NUM!"},"",null,null,null,{"$error":"#NUM!"},{"$error":"#NUM!"}]
[{"$error":"#NUM!"},{"$error":"#NUM!"},{"$error":"#NUM!"},{"$error":"#NUM!"},{"$error":"#NUM!"},"",null,null,null,{"$error":"#NUM!"},{"$error":"#NUM!"}]
[{"$error":"#NUM!"},{"$error":"#NUM!"},{"$error":"#NUM!"},{"$error":"#NUM!"},{"$error":"#NUM!"},"",null,null,null,{"$error":"#NUM!"},{"$error":"#NUM!"}]
[{"$error":"#NUM!"},{"$error":"#NUM!"},{"$error":"#NUM!"},{"$error":"#NUM!"},{"$error":"#NUM!"},"",null,null,null,{"$error":"#NUM!"},{"$error":"#NUM!"}]
[{"$error":"#NUM!"},{"$error":"#NUM!"},{"$error":"#NUM!"},{"$error":"#NUM!"},{"$error":"#NUM!"},"",null,null,null,{"$error":"#NUM!"},{"$error":"#NUM!"}]
[{"$error":"#NUM!"},{"$error":"#NUM!"},{"$error":"#NUM!"},{"$error":"#NUM!"},{"$error":"#NUM!"},"",null,null,null,{"$error":"#NUM!"},{"$error":"#NUM!"}]
[{"$error":"#NUM!"},{"$error":"#NUM!"},{"$error":"#NUM!"},{"$error":"#NUM!"},{"$error":"#NUM!"},"",null,null,null,{"$error":"#NUM!"},{"$error":"#NUM!"}]
[{"$error":"#NUM!"},{"$error":"#NUM!"},{"$error":"#NUM!"},{"$error":"#NUM!"},{"$error":"#NUM!"},"",null,null,null,{"$error":"#NUM!"},{"$error":"#NUM!"}]
[{"$error":"#NUM!"},{"$error":"#NUM!"},{"$error":"#NUM!"},{"$error":"#NUM!"},{"$error":"#NUM!"},"",null,null,null,{"$error":"#NUM!"},{"$error":"#NUM!"}]
[{"$error":"#NUM!"},{"$error":"#NUM!"},{"$error":"#NUM!"},{"$error":"#NUM!"},{"$error":"#NUM!"},"",null,null,null,{"$error":"#NUM!"},{"$error":"#NUM!"}]
[{"$error":"#NUM!"},{"$error":"#NUM!"},{"$error":"#NUM!"},{"$error":"#NUM!"},{"$error":"#NUM!"},"",null,null,null,{"$error":"#NUM!"},{"$error":"#NUM!"}]
[{"$error":"#NUM!"},{"$error":"#NUM!"},{"$error":"#NUM!"},{"$error":"#NUM!"},{"$error":"#NUM!"},"",null,null,null,{"$error":"#NUM!"},{"$error":"#NUM!"}]
[{"$error":"#NUM!"},{"$error":"#NUM!"},{"$error":"#NUM!"},{"$error":"#NUM!"},{"$error":"#NUM!"},"",null,null,null,{"$error":"#NUM!"},{"$error":"#NUM!"}]
[{"$error":"#NUM!"},{"$error":"#NUM!"},{"$error":"#NUM!"},{"$error":"#NUM!"},{"$error":"#NUM!"},"",null,null,null,{"$error":"#NUM!"},{"$error":"#NUM!"}]
[{"$error":"#NUM!"},{"$error":"#NUM!"},{"$error":"#NUM!"},{"$error":"#NUM!"},{"$error":"#NUM!"},{"$f":"IF(ISERROR(A33),\"\",INDIRECT(ADDRESS($A33,33,,,\"Rural 2-Lane Segments\")))","v":""},null,null,null,{"$error":"#NUM!"},{"$error":"#NUM!"}]
[{"$error":"#NUM!"},{"$error":"#NUM!"},{"$error":"#NUM!"},{"$error":"#NUM!"},{"$error":"#NUM!"},"",null,null,null,{"$error":"#NUM!"},{"$error":"#NUM!"}]
[{"$error":"#NUM!"},{"$error":"#NUM!"},{"$error":"#NUM!"},{"$error":"#NUM!"},{"$error":"#NUM!"},"",null,null,null,{"$error":"#NUM!"},{"$error":"#NUM!"}]
[{"$error":"#NUM!"},{"$error":"#NUM!"},{"$error":"#NUM!"},{"$error":"#NUM!"},{"$error":"#NUM!"},"",null,null,null,{"$error":"#NUM!"},{"$error":"#NUM!"}]
[{"$error":"#NUM!"},{"$error":"#NUM!"},{"$error":"#NUM!"},{"$error":"#NUM!"},{"$error":"#NUM!"},"",null,null,null,{"$error":"#NUM!"},{"$error":"#NUM!"}]
[{"$error":"#NUM!"},{"$error":"#NUM!"},{"$error":"#NUM!"},{"$error":"#NUM!"},{"$error":"#NUM!"},"",null,null,null,{"$error":"#NUM!"},{"$error":"#NUM!"}]
[{"$error":"#NUM!"},{"$error":"#NUM!"},{"$error":"#NUM!"},{"$error":"#NUM!"},{"$error":"#NUM!"},"",null,null,null,{"$error":"#NUM!"},{"$error":"#NUM!"}]
[{"$error":"#NUM!"},{"$error":"#NUM!"},{"$error":"#NUM!"},{"$error":"#NUM!"},{"$error":"#NUM!"},"",null,null,null,{"$error":"#NUM!"},{"$error":"#NUM!"}]
[{"$error":"#NUM!"},{"$error":"#NUM!"},{"$error":"#NUM!"},{"$error":"#NUM!"},{"$error":"#NUM!"},"",null,null,null,{"$error":"#NUM!"},{"$error":"#NUM!"}]
[{"$error":"#NUM!"},{"$error":"#NUM!"},{"$error":"#NUM!"},{"$error":"#NUM!"},{"$error":"#NUM!"},"",null,null,null,{"$error":"#NUM!"},{"$error":"#NUM!"}]
[{"$error":"#NUM!"},{"$error":"#NUM!"},{"$error":"#NUM!"},{"$error":"#NUM!"},{"$error":"#NUM!"},"",null,null,null,{"$error":"#NUM!"},{"$error":"#NUM!"}]
[{"$error":"#NUM!"},{"$error":"#NUM!"},{"$error":"#NUM!"},{"$error":"#NUM!"},{"$error":"#NUM!"},"",null,null,null,{"$error":"#NUM!"},{"$error":"#NUM!"}]
[{"$error":"#NUM!"},{"$error":"#NUM!"},{"$error":"#NUM!"},{"$error":"#NUM!"},{"$error":"#NUM!"},"",null,null,null,{"$error":"#NUM!"},{"$error":"#NUM!"}]
[{"$error":"#NUM!"},{"$error":"#NUM!"},{"$error":"#NUM!"},{"$error":"#NUM!"},{"$error":"#NUM!"},"",null,null,null,{"$error":"#NUM!"},{"$error":"#NUM!"}]
[{"$error":"#NUM!"},{"$error":"#NUM!"},{"$error":"#NUM!"},{"$error":"#NUM!"},{"$error":"#NUM!"},"",null,null,null,{"$error":"#NUM!"},{"$error":"#NUM!"}]
[{"$error":"#NUM!"},{"$error":"#NUM!"},{"$error":"#NUM!"},{"$error":"#NUM!"},{"$error":"#NUM!"},"",null,null,null,{"$error":"#NUM!"},{"$error":"#NUM!"}]
[{"$error":"#NUM!"},{"$error":"#NUM!"},{"$error":"#NUM!"},{"$error":"#NUM!"},{"$error":"#NUM!"},"",null,null,null,{"$error":"#NUM!"},{"$error":"#NUM!"}]
[{"$error":"#NUM!"},{"$error":"#NUM!"},{"$error":"#NUM!"},{"$error":"#NUM!"},{"$error":"#NUM!"},"",null,null,null,{"$error":"#NUM!"},{"$error":"#NUM!"}]
[{"$f":"MATCH(LARGE(INDIRECT(\"'Rural 2-Lane Intersections'!$W5:$W10004\"),ROW()-50),INDIRECT(\"'Rural 2-Lane Intersections'!$W5:$W10004\"),0)+4","v":8},{"$f":"\"(INT) \"&INDIRECT(ADDRESS($A51,2,,,\"Rural 2-Lane Intersections\"))&\" @ \"&INDIRECT(ADDRESS($A51,3,,,\"Rural 2-Lane Intersections\"))","v":"(INT) Pineapple @ Emil"},{"$f":"INDIRECT(ADDRESS($A51,4,,,\"Rural 2-Lane Intersections\"))","v":"Heritage County"},{"$f":"\"Control = \"&INDIRECT(ADDRESS($A51,5,,,\"Rural 2-Lane Intersections\"))","v":"Control = 4ST"},{"$f":"\"Major AADT: \"&TEXT(INDIRECT(ADDRESS($A51,6,,,\"Rural 2-Lane Intersections\")),\"#,##0\")&\" / Minor AADT: \"&TEXT(INDIRECT(ADDRESS($A51,7,,,\"Rural 2-Lane Intersections\")),\"#,##0\")","v":"Major AADT: 3,500 / Minor AADT: 3,300"},{"$f":"IF(ISERROR(A51),\"\",INDIRECT(ADDRESS($A51,23,,,\"Rural 2-Lane Intersections\")))","v":3.8939832407462966}]
[{"$f":"IF(MATCH(LARGE(INDIRECT(\"'Rural 2-Lane Intersections'!$W5:$W10004\"),ROW()-50),INDIRECT(\"'Rural 2-Lane Intersections'!$W5:$W10004\"),0)=MATCH(LARGE(INDIRECT(\"'Rural 2-Lane Intersections'!$W5:$W10004\"),ROW()-50-1),INDIRECT(\"'Rural 2-Lane Intersections'!$W5:$W10004\"),0),MATCH(LARGE(INDIRECT(\"'Rural 2-Lane Intersections'!$W5:$W10004\"),ROW()-50),INDIRECT(ADDRESS(A51+1,23,,,\"Rural 2-Lane Intersections\")&\":W10004\"),0)+A51,MATCH(LARGE(INDIRECT(\"'Rural 2-Lane Intersections'!$W5:$W10004\"),ROW()-50),INDIRECT(\"'Rural 2-Lane Intersections'!$W5:$W10004\"),0)+4)","v":9},{"$f":"\"(INT) \"&INDIRECT(ADDRESS($A52,2,,,\"Rural 2-Lane Intersections\"))&\" @ \"&INDIRECT(ADDRESS($A52,3,,,\"Rural 2-Lane Intersections\"))","v":"(INT) Orange @ Jaakko"},{"$f":"INDIRECT(ADDRESS($A52,4,,,\"Rural 2-Lane Intersections\"))","v":"Heritage County"},{"$f":"\"Control = \"&INDIRECT(ADDRESS($A52,5,,,\"Rural 2-Lane Intersections\"))","v":"Control = 4ST"},{"$f":"\"Major AADT: \"&TEXT(INDIRECT(ADDRESS($A52,6,,,\"Rural 2-Lane Intersections\")),\"#,##0\")&\" / Minor AADT: \"&TEXT(INDIRECT(ADDRESS($A52,7,,,\"Rural 2-Lane Intersections\")),\"#,##0\")","v":"Major AADT: 2,750 / Minor AADT: 2,500"},2.6308187636941125]
[{"$f":"IF(MATCH(LARGE(INDIRECT(\"'Rural 2-Lane Intersections'!$W5:$W10004\"),ROW()-50),INDIRECT(\"'Rural 2-Lane Intersections'!$W5:$W10004\"),0)=MATCH(LARGE(INDIRECT(\"'Rural 2-Lane Intersections'!$W5:$W10004\"),ROW()-50-1),INDIRECT(\"'Rural 2-Lane Intersections'!$W5:$W10004\"),0),MATCH(LARGE(INDIRECT(\"'Rural 2-Lane Intersections'!$W5:$W10004\"),ROW()-50),INDIRECT(ADDRESS(A52+1,23,,,\"Rural 2-Lane Intersections\")&\":W10004\"),0)+A52,MATCH(LARGE(INDIRECT(\"'Rural 2-Lane Intersections'!$W5:$W10004\"),ROW()-50),INDIRECT(\"'Rural 2-Lane Intersections'!$W5:$W10004\"),0)+4)","v":7},{"$f":"\"(INT) \"&INDIRECT(ADDRESS($A53,2,,,\"Rural 2-Lane Intersections\"))&\" @ \"&INDIRECT(ADDRESS($A53,3,,,\"Rural 2-Lane Intersections\"))","v":"(INT) Mango @ Aili"},{"$f":"INDIRECT(ADDRESS($A53,4,,,\"Rural 2-Lane Intersections\"))","v":"Heritage County"},{"$f":"\"Control = \"&INDIRECT(ADDRESS($A53,5,,,\"Rural 2-Lane Intersections\"))","v":"Control = 4ST"},{"$f":"\"Major AADT: \"&TEXT(INDIRECT(ADDRESS($A53,6,,,\"Rural 2-Lane Intersections\")),\"#,##0\")&\" / Minor AADT: \"&TEXT(INDIRECT(ADDRESS($A53,7,,,\"Rural 2-Lane Intersections\")),\"#,##0\")","v":"Major AADT: 3,200 / Minor AADT: 1,150"},2.208842157247588]
[6,"(INT) Banana @ Toivo","Heritage County","Control = 4ST","Major AADT: 2,100 / Minor AADT: 2,000",2.1775096684401922]
[13,"(INT) Lemon @ Tuula","Heritage County","Control = 4ST","Major AADT: 3,700 / Minor AADT: 2,100",2.0234598088798723]
[5,"(INT) Apple @ Heikki","Heritage County","Control = 4ST","Major AADT: 3,300 / Minor AADT: 2,400",1.9534434184923599]
[14,"(INT) Starfruit @ Alma","Heritage County","Control = 4ST","Major AADT: 1,900 / Minor AADT: 500",1.7373216853292739]
[10,"(INT) Blueberry @ Matti","Heritage County","Control = 3ST","Major AADT: 1,800 / Minor AADT: 700",1.2086653600271815]
[12,"(INT) Kiwi @ Hilma","Heritage County","Control = 3ST","Major AADT: 1,200 / Minor AADT: 1,150",0.63050035184227426]
[11,"(INT) Raspberry @ Arvo","Heritage County","Control = 3ST","Major AADT: 2,350 / Minor AADT: 900",0.42113571144026074]
[{"$error":"#NUM!"},{"$error":"#NUM!"},{"$error":"#NUM!"},{"$error":"#NUM!"},{"$error":"#NUM!"},""]
[{"$error":"#NUM!"},{"$error":"#NUM!"},{"$error":"#NUM!"},{"$error":"#NUM!"},{"$error":"#NUM!"},""]
[{"$error":"#NUM!"},{"$error":"#NUM!"},{"$error":"#NUM!"},{"$error":"#NUM!"},{"$error":"#NUM!"},""]
[{"$error":"#NUM!"},{"$error":"#NUM!"},{"$error":"#NUM!"},{"$error":"#NUM!"},{"$error":"#NUM!"},""]
[{"$error":"#NUM!"},{"$error":"#NUM!"},{"$error":"#NUM!"},{"$error":"#NUM!"},{"$error":"#NUM!"},""]
[{"$error":"#NUM!"},{"$error":"#NUM!"},{"$error":"#NUM!"},{"$error":"#NUM!"},{"$error":"#NUM!"},""]
[{"$error":"#NUM!"},{"$error":"#NUM!"},{"$error":"#NUM!"},{"$error":"#NUM!"},{"$error":"#NUM!"},""]
[{"$error":"#NUM!"},{"$error":"#NUM!"},{"$error":"#NUM!"},{"$error":"#NUM!"},{"$error":"#NUM!"},""]
[{"$error":"#NUM!"},{"$error":"#NUM!"},{"$error":"#NUM!"},{"$error":"#NUM!"},{"$error":"#NUM!"},""]
[{"$error":"#NUM!"},{"$error":"#NUM!"},{"$error":"#NUM!"},{"$error":"#NUM!"},{"$error":"#NUM!"},""]
[{"$error":"#NUM!"},{"$error":"#NUM!"},{"$error":"#NUM!"},{"$error":"#NUM!"},{"$error":"#NUM!"},""]
[{"$error":"#NUM!"},{"$error":"#NUM!"},{"$error":"#NUM!"},{"$error":"#NUM!"},{"$error":"#NUM!"},""]
[{"$error":"#NUM!"},{"$error":"#NUM!"},{"$error":"#NUM!"},{"$error":"#NUM!"},{"$error":"#NUM!"},""]
[{"$error":"#NUM!"},{"$error":"#NUM!"},{"$error":"#NUM!"},{"$error":"#NUM!"},{"$error":"#NUM!"},""]
[{"$error":"#NUM!"},{"$error":"#NUM!"},{"$error":"#NUM!"},{"$error":"#NUM!"},{"$error":"#NUM!"},""]
[{"$error":"#NUM!"},{"$error":"#NUM!"},{"$error":"#NUM!"},{"$error":"#NUM!"},{"$error":"#NUM!"},""]
[{"$error":"#NUM!"},{"$error":"#NUM!"},{"$error":"#NUM!"},{"$error":"#NUM!"},{"$error":"#NUM!"},""]
[{"$error":"#NUM!"},{"$error":"#NUM!"},{"$error":"#NUM!"},{"$error":"#NUM!"},{"$error":"#NUM!"},""]
[{"$error":"#NUM!"},{"$error":"#NUM!"},{"$error":"#NUM!"},{"$error":"#NUM!"},{"$error":"#NUM!"},""]
[{"$error":"#NUM!"},{"$error":"#NUM!"},{"$error":"#NUM!"},{"$error":"#NUM!"},{"$error":"#NUM!"},""]
[{"$error":"#NUM!"},{"$error":"#NUM!"},{"$error":"#NUM!"},{"$error":"#NUM!"},{"$error":"#NUM!"},""]
[{"$error":"#NUM!"},{"$error":"#NUM!"},{"$error":"#NUM!"},{"$error":"#NUM!"},{"$error":"#NUM!"},""]
[{"$error":"#NUM!"},{"$error":"#NUM!"},{"$error":"#NUM!"},{"$error":"#NUM!"},{"$error":"#NUM!"},{"$f":"IF(ISERROR(A83),\"\",INDIRECT(ADDRESS($A83,23,,,\"Rural 2-Lane Intersections\")))","v":""}]
[{"$error":"#NUM!"},{"$error":"#NUM!"},{"$error":"#NUM!"},{"$error":"#NUM!"},{"$error":"#NUM!"},""]
[{"$error":"#NUM!"},{"$error":"#NUM!"},{"$error":"#NUM!"},{"$error":"#NUM!"},{"$error":"#NUM!"},""]
[{"$error":"#NUM!"},{"$error":"#NUM!"},{"$error":"#NUM!"},{"$error":"#NUM!"},{"$error":"#NUM!"},""]
[{"$error":"#NUM!"},{"$error":"#NUM!"},{"$error":"#NUM!"},{"$error":"#NUM!"},{"$error":"#NUM!"},""]
[{"$error":"#NUM!"},{"$error":"#NUM!"},{"$error":"#NUM!"},{"$error":"#NUM!"},{"$error":"#NUM!"},""]
[{"$error":"#NUM!"},{"$error":"#NUM!"},{"$error":"#NUM!"},{"$error":"#NUM!"},{"$error":"#NUM!"},""]
[{"$error":"#NUM!"},{"$error":"#NUM!"},{"$error":"#NUM!"},{"$error":"#NUM!"},{"$error":"#NUM!"},""]
[{"$error":"#NUM!"},{"$error":"#NUM!"},{"$error":"#NUM!"},{"$error":"#NUM!"},{"$error":"#NUM!"},""]
[{"$error":"#NUM!"},{"$error":"#NUM!"},{"$error":"#NUM!"},{"$error":"#NUM!"},{"$error":"#NUM!"},""]
[{"$error":"#NUM!"},{"$error":"#NUM!"},{"$error":"#NUM!"},{"$error":"#NUM!"},{"$error":"#NUM!"},""]
[{"$error":"#NUM!"},{"$error":"#NUM!"},{"$error":"#NUM!"},{"$error":"#NUM!"},{"$error":"#NUM!"},""]
[{"$error":"#NUM!"},{"$error":"#NUM!"},{"$error":"#NUM!"},{"$error":"#NUM!"},{"$error":"#NUM!"},""]
[{"$error":"#NUM!"},{"$error":"#NUM!"},{"$error":"#NUM!"},{"$error":"#NUM!"},{"$error":"#NUM!"},""]
[{"$error":"#NUM!"},{"$error":"#NUM!"},{"$error":"#NUM!"},{"$error":"#NUM!"},{"$error":"#NUM!"},""]
[{"$error":"#NUM!"},{"$error":"#NUM!"},{"$error":"#NUM!"},{"$error":"#NUM!"},{"$error":"#NUM!"},""]
[{"$error":"#NUM!"},{"$error":"#NUM!"},{"$error":"#NUM!"},{"$error":"#NUM!"},{"$error":"#NUM!"},""]
[{"$error":"#NUM!"},{"$error":"#NUM!"},{"$error":"#NUM!"},{"$error":"#NUM!"},{"$error":"#NUM!"},""]
[{"$f":"MATCH(LARGE(INDIRECT(\"'Rural Divided Multilane Seg'!$V5:$V10004\"),ROW()-100),INDIRECT(\"'Rural Divided Multilane Seg'!$V5:$V10004\"),0)+4","v":{"$error":"#NUM!"}},{"$f":"\"(SEG) \"&INDIRECT(ADDRESS($A101,2,,,\"Rural Divided Multilane Seg\"))&\", \"&INDIRECT(ADDRESS($A101,3,,,\"Rural Divided Multilane Seg\"))","v":{"$error":"#NUM!"}},{"$f":"INDIRECT(ADDRESS($A101,4,,,\"Rural Divided Multilane Seg\"))","v":{"$error":"#NUM!"}},{"$f":"\"Length = \"&INDIRECT(ADDRESS($A101,5,,,\"Rural Divided Multilane Seg\"))&\" mi\"","v":{"$error":"#NUM!"}},{"$f":"\"AADT: \"&TEXT(INDIRECT(ADDRESS($A101,6,,,\"Rural Divided Multilane Seg\")),\"#,##0\")","v":{"$error":"#NUM!"}},{"$f":"IF(ISERROR(A101),\"\",INDIRECT(ADDRESS($A101,22,,,\"Rural Divided Multilane Seg\")))","v":""}]
[{"$f":"IF(MATCH(LARGE(INDIRECT(\"'Rural Divided Multilane Seg'!$V$5:$V$10005\"),ROW()-100),INDIRECT(\"'Rural Divided Multilane Seg'!$V$5:$V$10005\"),0)=MATCH(LARGE(INDIRECT(\"'Rural Divided Multilane Seg'!$V$5:$V$10005\"),ROW()-100-1),INDIRECT(\"'Rural Divided Multilane Seg'!$V$5:$V$10005\"),0),MATCH(LARGE(INDIRECT(\"'Rural Divided Multilane Seg'!$V$5:$V$10005\"),ROW()-100),INDIRECT(ADDRESS(A101+1,22,,,\"Rural Divided Multilane Seg\")&\":V10004\"),0)+A101,MATCH(LARGE(INDIRECT(\"'Rural Divided Multilane Seg'!$V$5:$V$10005\"),ROW()-100),INDIRECT(\"'Rural Divided Multilane Seg'!$V$5:$V$10005\"),0)+4)","v":{"$error":"#NUM!"}},{"$f":"\"(SEG) \"&INDIRECT(ADDRESS($A102,2,,,\"Rural Divided Multilane Seg\"))&\", \"&INDIRECT(ADDRESS($A102,3,,,\"Rural Divided Multilane Seg\"))","v":{"$error":"#NUM!"}},{"$f":"INDIRECT(ADDRESS($A102,4,,,\"Rural Divided Multilane Seg\"))","v":{"$error":"#NUM!"}},{"$f":"\"Length = \"&INDIRECT(ADDRESS($A102,5,,,\"Rural Divided Multilane Seg\"))&\" mi\"","v":{"$error":"#NUM!"}},{"$f":"\"AADT: \"&TEXT(INDIRECT(ADDRESS($A102,6,,,\"Rural Divided Multilane Seg\")),\"#,##0\")","v":{"$error":"#NUM!"}},""]
[{"$f":"IF(MATCH(LARGE(INDIRECT(\"'Rural Divided Multilane Seg'!$V$5:$V$10005\"),ROW()-100),INDIRECT(\"'Rural Divided Multilane Seg'!$V$5:$V$10005\"),0)=MATCH(LARGE(INDIRECT(\"'Rural Divided Multilane Seg'!$V$5:$V$10005\"),ROW()-100-1),INDIRECT(\"'Rural Divided Multilane Seg'!$V$5:$V$10005\"),0),MATCH(LARGE(INDIRECT(\"'Rural Divided Multilane Seg'!$V$5:$V$10005\"),ROW()-100),INDIRECT(ADDRESS(A102+1,22,,,\"Rural Divided Multilane Seg\")&\":V10004\"),0)+A102,MATCH(LARGE(INDIRECT(\"'Rural Divided Multilane Seg'!$V$5:$V$10005\"),ROW()-100),INDIRECT(\"'Rural Divided Multilane Seg'!$V$5:$V$10005\"),0)+4)","v":{"$error":"#NUM!"}},{"$f":"\"(SEG) \"&INDIRECT(ADDRESS($A103,2,,,\"Rural Divided Multilane Seg\"))&\", \"&INDIRECT(ADDRESS($A103,3,,,\"Rural Divided Multilane Seg\"))","v":{"$error":"#NUM!"}},{"$f":"INDIRECT(ADDRESS($A103,4,,,\"Rural Divided Multilane Seg\"))","v":{"$error":"#NUM!"}},{"$f":"\"Length = \"&INDIRECT(ADDRESS($A103,5,,,\"Rural Divided Multilane Seg\"))&\" mi\"","v":{"$error":"#NUM!"}},{"$f":"\"AADT: \"&TEXT(INDIRECT(ADDRESS($A103,6,,,\"Rural Divided Multilane Seg\")),\"#,##0\")","v":{"$error":"#NUM!"}},""]
[{"$error":"#NUM!"},{"$error":"#NUM!"},{"$error":"#NUM!"},{"$error":"#NUM!"},{"$error":"#NUM!"},""]
[{"$error":"#NUM!"},{"$error":"#NUM!"},{"$error":"#NUM!"},{"$error":"#NUM!"},{"$error":"#NUM!"},""]
[{"$error":"#NUM!"},{"$error":"#NUM!"},{"$error":"#NUM!"},{"$error":"#NUM!"},{"$error":"#NUM!"},""]
[{"$error":"#NUM!"},{"$error":"#NUM!"},{"$error":"#NUM!"},{"$error":"#NUM!"},{"$error":"#NUM!"},""]
[{"$error":"#NUM!"},{"$error":"#NUM!"},{"$error":"#NUM!"},{"$error":"#NUM!"},{"$error":"#NUM!"},""]
[{"$error":"#NUM!"},{"$error":"#NUM!"},{"$error":"#NUM!"},{"$error":"#NUM!"},{"$error":"#NUM!"},""]
[{"$error":"#NUM!"},{"$error":"#NUM!"},{"$error":"#NUM!"},{"$error":"#NUM!"},{"$error":"#NUM!"},""]
[{"$error":"#NUM!"},{"$error":"#NUM!"},{"$error":"#NUM!"},{"$error":"#NUM!"},{"$error":"#NUM!"},""]
[{"$error":"#NUM!"},{"$error":"#NUM!"},{"$error":"#NUM!"},{"$error":"#NUM!"},{"$error":"#NUM!"},""]
[{"$error":"#NUM!"},{"$error":"#NUM!"},{"$error":"#NUM!"},{"$error":"#NUM!"},{"$error":"#NUM!"},""]
[{"$error":"#NUM!"},{"$error":"#NUM!"},{"$error":"#NUM!"},{"$error":"#NUM!"},{"$error":"#NUM!"},""]
[{"$error":"#NUM!"},{"$error":"#NUM!"},{"$error":"#NUM!"},{"$error":"#NUM!"},{"$error":"#NUM!"},""]
[{"$error":"#NUM!"},{"$error":"#NUM!"},{"$error":"#NUM!"},{"$error":"#NUM!"},{"$error":"#NUM!"},""]
[{"$error":"#NUM!"},{"$error":"#NUM!"},{"$error":"#NUM!"},{"$error":"#NUM!"},{"$error":"#NUM!"},""]
[{"$error":"#NUM!"},{"$error":"#NUM!"},{"$error":"#NUM!"},{"$error":"#NUM!"},{"$error":"#NUM!"},""]
[{"$error":"#NUM!"},{"$error":"#NUM!"},{"$error":"#NUM!"},{"$error":"#NUM!"},{"$error":"#NUM!"},""]
[{"$error":"#NUM!"},{"$error":"#NUM!"},{"$error":"#NUM!"},{"$error":"#NUM!"},{"$error":"#NUM!"},""]
[{"$error":"#NUM!"},{"$error":"#NUM!"},{"$error":"#NUM!"},{"$error":"#NUM!"},{"$error":"#NUM!"},""]
[{"$error":"#NUM!"},{"$error":"#NUM!"},{"$error":"#NUM!"},{"$error":"#NUM!"},{"$error":"#NUM!"},""]
[{"$error":"#NUM!"},{"$error":"#NUM!"},{"$error":"#NUM!"},{"$error":"#NUM!"},{"$error":"#NUM!"},""]
[{"$error":"#NUM!"},{"$error":"#NUM!"},{"$error":"#NUM!"},{"$error":"#NUM!"},{"$error":"#NUM!"},""]
[{"$error":"#NUM!"},{"$error":"#NUM!"},{"$error":"#NUM!"},{"$error":"#NUM!"},{"$error":"#NUM!"},""]
[{"$error":"#NUM!"},{"$error":"#NUM!"},{"$error":"#NUM!"},{"$error":"#NUM!"},{"$error":"#NUM!"},""]
[{"$error":"#NUM!"},{"$error":"#NUM!"},{"$error":"#NUM!"},{"$error":"#NUM!"},{"$error":"#NUM!"},""]
[{"$error":"#NUM!"},{"$error":"#NUM!"},{"$error":"#NUM!"},{"$error":"#NUM!"},{"$error":"#NUM!"},""]
[{"$error":"#NUM!"},{"$error":"#NUM!"},{"$error":"#NUM!"},{"$error":"#NUM!"},{"$error":"#NUM!"},""]
[{"$error":"#NUM!"},{"$error":"#NUM!"},{"$error":"#NUM!"},{"$error":"#NUM!"},{"$error":"#NUM!"},""]
[{"$error":"#NUM!"},{"$error":"#NUM!"},{"$error":"#NUM!"},{"$error":"#NUM!"},{"$error":"#NUM!"},""]
[{"$error":"#NUM!"},{"$error":"#NUM!"},{"$error":"#NUM!"},{"$error":"#NUM!"},{"$error":"#NUM!"},""]
[{"$error":"#NUM!"},{"$error":"#NUM!"},{"$error":"#NUM!"},{"$error":"#NUM!"},{"$error":"#NUM!"},{"$f":"IF(ISERROR(A133),\"\",INDIRECT(ADDRESS($A133,22,,,\"Rural Divided Multilane Seg\")))","v":""}]
[{"$error":"#NUM!"},{"$error":"#NUM!"},{"$error":"#NUM!"},{"$error":"#NUM!"},{"$error":"#NUM!"},""]
[{"$error":"#NUM!"},{"$error":"#NUM!"},{"$error":"#NUM!"},{"$error":"#NUM!"},{"$error":"#NUM!"},""]
[{"$error":"#NUM!"},{"$error":"#NUM!"},{"$error":"#NUM!"},{"$error":"#NUM!"},{"$error":"#NUM!"},""]
[{"$error":"#NUM!"},{"$error":"#NUM!"},{"$error":"#NUM!"},{"$error":"#NUM!"},{"$error":"#NUM!"},""]
[{"$error":"#NUM!"},{"$error":"#NUM!"},{"$error":"#NUM!"},{"$error":"#NUM!"},{"$error":"#NUM!"},""]
[{"$error":"#NUM!"},{"$error":"#NUM!"},{"$error":"#NUM!"},{"$error":"#NUM!"},{"$error":"#NUM!"},""]
[{"$error":"#NUM!"},{"$error":"#NUM!"},{"$error":"#NUM!"},{"$error":"#NUM!"},{"$error":"#NUM!"},""]
[{"$error":"#NUM!"},{"$error":"#NUM!"},{"$error":"#NUM!"},{"$error":"#NUM!"},{"$error":"#NUM!"},""]
[{"$error":"#NUM!"},{"$error":"#NUM!"},{"$error":"#NUM!"},{"$error":"#NUM!"},{"$error":"#NUM!"},""]
[{"$error":"#NUM!"},{"$error":"#NUM!"},{"$error":"#NUM!"},{"$error":"#NUM!"},{"$error":"#NUM!"},""]
[{"$error":"#NUM!"},{"$error":"#NUM!"},{"$error":"#NUM!"},{"$error":"#NUM!"},{"$error":"#NUM!"},""]
[{"$error":"#NUM!"},{"$error":"#NUM!"},{"$error":"#NUM!"},{"$error":"#NUM!"},{"$error":"#NUM!"},""]
[{"$error":"#NUM!"},{"$error":"#NUM!"},{"$error":"#NUM!"},{"$error":"#NUM!"},{"$error":"#NUM!"},""]
[{"$error":"#NUM!"},{"$error":"#NUM!"},{"$error":"#NUM!"},{"$error":"#NUM!"},{"$error":"#NUM!"},""]
[{"$error":"#NUM!"},{"$error":"#NUM!"},{"$error":"#NUM!"},{"$error":"#NUM!"},{"$error":"#NUM!"},""]
[{"$error":"#NUM!"},{"$error":"#NUM!"},{"$error":"#NUM!"},{"$error":"#NUM!"},{"$error":"#NUM!"},""]
[{"$error":"#NUM!"},{"$error":"#NUM!"},{"$error":"#NUM!"},{"$error":"#NUM!"},{"$error":"#NUM!"},""]
[{"$f":"MATCH(LARGE(INDIRECT(\"'Rural Undivided Multilane Seg'!$V5:$V10004\"),ROW()-150),INDIRECT(\"'Rural Undivided Multilane Seg'!$V5:$V10004\"),0)+4","v":{"$error":"#NUM!"}},{"$f":"\"(SEG) \"&INDIRECT(ADDRESS($A151,2,,,\"Rural Undivided Multilane Seg\"))&\", \"&INDIRECT(ADDRESS($A151,3,,,\"Rural Undivided Multilane Seg\"))","v":{"$error":"#NUM!"}},{"$f":"INDIRECT(ADDRESS($A151,4,,,\"Rural Undivided Multilane Seg\"))","v":{"$error":"#NUM!"}},{"$f":"\"Length = \"&INDIRECT(ADDRESS($A151,5,,,\"Rural Undivided Multilane Seg\"))&\" mi\"","v":{"$error":"#NUM!"}},{"$f":"\"AADT: \"&TEXT(INDIRECT(ADDRESS($A151,6,,,\"Rural Undivided Multilane Seg\")),\"#,##0\")","v":{"$error":"#NUM!"}},{"$f":"IF(ISERROR(A151),\"\",INDIRECT(ADDRESS($A151,22,,,\"Rural Undivided Multilane Seg\")))","v":""}]
[{"$f":"IF(MATCH(LARGE(INDIRECT(\"'Rural Undivided Multilane Seg'!$V$5:$V$10005\"),ROW()-150),INDIRECT(\"'Rural Undivided Multilane Seg'!$V$5:$V$10005\"),0)=MATCH(LARGE(INDIRECT(\"'Rural Undivided Multilane Seg'!$V$5:$V$10005\"),ROW()-150-1),INDIRECT(\"'Rural Undivided Multilane Seg'!$V$5:$V$10005\"),0),MATCH(LARGE(INDIRECT(\"'Rural Undivided Multilane Seg'!$V$5:$V$10005\"),ROW()-150),INDIRECT(ADDRESS(A151+1,22,,,\"Rural Undivided Multilane Seg\")&\":V10004\"),0)+A151,MATCH(LARGE(INDIRECT(\"'Rural Undivided Multilane Seg'!$V$5:$V$10005\"),ROW()-150),INDIRECT(\"'Rural Undivided Multilane Seg'!$V$5:$V$10005\"),0)+4)","v":{"$error":"#NUM!"}},{"$f":"\"(SEG) \"&INDIRECT(ADDRESS($A152,2,,,\"Rural Undivided Multilane Seg\"))&\", \"&INDIRECT(ADDRESS($A152,3,,,\"Rural Undivided Multilane Seg\"))","v":{"$error":"#NUM!"}},{"$f":"INDIRECT(ADDRESS($A152,4,,,\"Rural Undivided Multilane Seg\"))","v":{"$error":"#NUM!"}},{"$f":"\"Length = \"&INDIRECT(ADDRESS($A152,5,,,\"Rural Undivided Multilane Seg\"))&\" mi\"","v":{"$error":"#NUM!"}},{"$f":"\"AADT: \"&TEXT(INDIRECT(ADDRESS($A152,6,,,\"Rural Undivided Multilane Seg\")),\"#,##0\")","v":{"$error":"#NUM!"}},""]
[{"$f":"IF(MATCH(LARGE(INDIRECT(\"'Rural Undivided Multilane Seg'!$V$5:$V$10005\"),ROW()-150),INDIRECT(\"'Rural Undivided Multilane Seg'!$V$5:$V$10005\"),0)=MATCH(LARGE(INDIRECT(\"'Rural Undivided Multilane Seg'!$V$5:$V$10005\"),ROW()-150-1),INDIRECT(\"'Rural Undivided Multilane Seg'!$V$5:$V$10005\"),0),MATCH(LARGE(INDIRECT(\"'Rural Undivided Multilane Seg'!$V$5:$V$10005\"),ROW()-150),INDIRECT(ADDRESS(A152+1,22,,,\"Rural Undivided Multilane Seg\")&\":V10004\"),0)+A152,MATCH(LARGE(INDIRECT(\"'Rural Undivided Multilane Seg'!$V$5:$V$10005\"),ROW()-150),INDIRECT(\"'Rural Undivided Multilane Seg'!$V$5:$V$10005\"),0)+4)","v":{"$error":"#NUM!"}},{"$f":"\"(SEG) \"&INDIRECT(ADDRESS($A153,2,,,\"Rural Undivided Multilane Seg\"))&\", \"&INDIRECT(ADDRESS($A153,3,,,\"Rural Undivided Multilane Seg\"))","v":{"$error":"#NUM!"}},{"$f":"INDIRECT(ADDRESS($A153,4,,,\"Rural Undivided Multilane Seg\"))","v":{"$error":"#NUM!"}},{"$f":"\"Length = \"&INDIRECT(ADDRESS($A153,5,,,\"Rural Undivided Multilane Seg\"))&\" mi\"","v":{"$error":"#NUM!"}},{"$f":"\"AADT: \"&TEXT(INDIRECT(ADDRESS($A153,6,,,\"Rural Undivided Multilane Seg\")),\"#,##0\")","v":{"$error":"#NUM!"}},""]
[{"$error":"#NUM!"},{"$error":"#NUM!"},{"$error":"#NUM!"},{"$error":"#NUM!"},{"$error":"#NUM!"},""]
[{"$error":"#NUM!"},{"$error":"#NUM!"},{"$error":"#NUM!"},{"$error":"#NUM!"},{"$error":"#NUM!"},""]
[{"$error":"#NUM!"},{"$error":"#NUM!"},{"$error":"#NUM!"},{"$error":"#NUM!"},{"$error":"#NUM!"},""]
[{"$error":"#NUM!"},{"$error":"#NUM!"},{"$error":"#NUM!"},{"$error":"#NUM!"},{"$error":"#NUM!"},""]
[{"$error":"#NUM!"},{"$error":"#NUM!"},{"$error":"#NUM!"},{"$error":"#NUM!"},{"$error":"#NUM!"},""]
[{"$error":"#NUM!"},{"$error":"#NUM!"},{"$error":"#NUM!"},{"$error":"#NUM!"},{"$error":"#NUM!"},""]
[{"$error":"#NUM!"},{"$error":"#NUM!"},{"$error":"#NUM!"},{"$error":"#NUM!"},{"$error":"#NUM!"},""]
[{"$error":"#NUM!"},{"$error":"#NUM!"},{"$error":"#NUM!"},{"$error":"#NUM!"},{"$error":"#NUM!"},""]
[{"$error":"#NUM!"},{"$error":"#NUM!"},{"$error":"#NUM!"},{"$error":"#NUM!"},{"$error":"#NUM!"},""]
[{"$error":"#NUM!"},{"$error":"#NUM!"},{"$error":"#NUM!"},{"$error":"#NUM!"},{"$error":"#NUM!"},""]
[{"$error":"#NUM!"},{"$error":"#NUM!"},{"$error":"#NUM!"},{"$error":"#NUM!"},{"$error":"#NUM!"},""]
[{"$error":"#NUM!"},{"$error":"#NUM!"},{"$error":"#NUM!"},{"$error":"#NUM!"},{"$error":"#NUM!"},""]
[{"$error":"#NUM!"},{"$error":"#NUM!"},{"$error":"#NUM!"},{"$error":"#NUM!"},{"$error":"#NUM!"},""]
[{"$error":"#NUM!"},{"$error":"#NUM!"},{"$error":"#NUM!"},{"$error":"#NUM!"},{"$error":"#NUM!"},""]
[{"$error":"#NUM!"},{"$error":"#NUM!"},{"$error":"#NUM!"},{"$error":"#NUM!"},{"$error":"#NUM!"},""]
[{"$error":"#NUM!"},{"$error":"#NUM!"},{"$error":"#NUM!"},{"$error":"#NUM!"},{"$error":"#NUM!"},""]
[{"$error":"#NUM!"},{"$error":"#NUM!"},{"$error":"#NUM!"},{"$error":"#NUM!"},{"$error":"#NUM!"},""]
[{"$error":"#NUM!"},{"$error":"#NUM!"},{"$error":"#NUM!"},{"$error":"#NUM!"},{"$error":"#NUM!"},""]
[{"$error":"#NUM!"},{"$error":"#NUM!"},{"$error":"#NUM!"},{"$error":"#NUM!"},{"$error":"#NUM!"},""]
[{"$error":"#NUM!"},{"$error":"#NUM!"},{"$error":"#NUM!"},{"$error":"#NUM!"},{"$error":"#NUM!"},""]
[{"$error":"#NUM!"},{"$error":"#NUM!"},{"$error":"#NUM!"},{"$error":"#NUM!"},{"$error":"#NUM!"},""]
[{"$error":"#NUM!"},{"$error":"#NUM!"},{"$error":"#NUM!"},{"$error":"#NUM!"},{"$error":"#NUM!"},""]
[{"$error":"#NUM!"},{"$error":"#NUM!"},{"$error":"#NUM!"},{"$error":"#NUM!"},{"$error":"#NUM!"},""]
[{"$error":"#NUM!"},{"$error":"#NUM!"},{"$error":"#NUM!"},{"$error":"#NUM!"},{"$error":"#NUM!"},""]
[{"$error":"#NUM!"},{"$error":"#NUM!"},{"$error":"#NUM!"},{"$error":"#NUM!"},{"$error":"#NUM!"},""]
[{"$error":"#NUM!"},{"$error":"#NUM!"},{"$error":"#NUM!"},{"$error":"#NUM!"},{"$error":"#NUM!"},""]
[{"$error":"#NUM!"},{"$error":"#NUM!"},{"$error":"#NUM!"},{"$error":"#NUM!"},{"$error":"#NUM!"},""]
[{"$error":"#NUM!"},{"$error":"#NUM!"},{"$error":"#NUM!"},{"$error":"#NUM!"},{"$error":"#NUM!"},""]
[{"$error":"#NUM!"},{"$error":"#NUM!"},{"$error":"#NUM!"},{"$error":"#NUM!"},{"$error":"#NUM!"},""]
[{"$error":"#NUM!"},{"$error":"#NUM!"},{"$error":"#NUM!"},{"$error":"#NUM!"},{"$error":"#NUM!"},{"$f":"IF(ISERROR(A183),\"\",INDIRECT(ADDRESS($A183,22,,,\"Rural Undivided Multilane Seg\")))","v":""}]
[{"$error":"#NUM!"},{"$error":"#NUM!"},{"$error":"#NUM!"},{"$error":"#NUM!"},{"$error":"#NUM!"},""]
[{"$error":"#NUM!"},{"$error":"#NUM!"},{"$error":"#NUM!"},{"$error":"#NUM!"},{"$error":"#NUM!"},""]
[{"$error":"#NUM!"},{"$error":"#NUM!"},{"$error":"#NUM!"},{"$error":"#NUM!"},{"$error":"#NUM!"},""]
[{"$error":"#NUM!"},{"$error":"#NUM!"},{"$error":"#NUM!"},{"$error":"#NUM!"},{"$error":"#NUM!"},""]
[{"$error":"#NUM!"},{"$error":"#NUM!"},{"$error":"#NUM!"},{"$error":"#NUM!"},{"$error":"#NUM!"},""]
[{"$error":"#NUM!"},{"$error":"#NUM!"},{"$error":"#NUM!"},{"$error":"#NUM!"},{"$error":"#NUM!"},""]
[{"$error":"#NUM!"},{"$error":"#NUM!"},{"$error":"#NUM!"},{"$error":"#NUM!"},{"$error":"#NUM!"},""]
[{"$error":"#NUM!"},{"$error":"#NUM!"},{"$error":"#NUM!"},{"$error":"#NUM!"},{"$error":"#NUM!"},""]
[{"$error":"#NUM!"},{"$error":"#NUM!"},{"$error":"#NUM!"},{"$error":"#NUM!"},{"$error":"#NUM!"},""]
[{"$error":"#NUM!"},{"$error":"#NUM!"},{"$error":"#NUM!"},{"$error":"#NUM!"},{"$error":"#NUM!"},""]
[{"$error":"#NUM!"},{"$error":"#NUM!"},{"$error":"#NUM!"},{"$error":"#NUM!"},{"$error":"#NUM!"},""]
[{"$error":"#NUM!"},{"$error":"#NUM!"},{"$error":"#NUM!"},{"$error":"#NUM!"},{"$error":"#NUM!"},""]
[{"$error":"#NUM!"},{"$error":"#NUM!"},{"$error":"#NUM!"},{"$error":"#NUM!"},{"$error":"#NUM!"},""]
[{"$error":"#NUM!"},{"$error":"#NUM!"},{"$error":"#NUM!"},{"$error":"#NUM!"},{"$error":"#NUM!"},""]
[{"$error":"#NUM!"},{"$error":"#NUM!"},{"$error":"#NUM!"},{"$error":"#NUM!"},{"$error":"#NUM!"},""]
[{"$error":"#NUM!"},{"$error":"#NUM!"},{"$error":"#NUM!"},{"$error":"#NUM!"},{"$error":"#NUM!"},""]
[{"$error":"#NUM!"},{"$error":"#NUM!"},{"$error":"#NUM!"},{"$error":"#NUM!"},{"$error":"#NUM!"},""]
[{"$f":"MATCH(LARGE(INDIRECT(\"'Rural Multilane Intersections'!$V5:$V10004\"),ROW()-200),INDIRECT(\"'Rural Multilane Intersections'!$V5:$V10004\"),0)+4","v":{"$error":"#NUM!"}},{"$f":"\"(INT) \"&INDIRECT(ADDRESS($A201,2,,,\"Rural Multilane Intersections\"))&\" @ \"&INDIRECT(ADDRESS($A201,3,,,\"Rural Multilane Intersections\"))","v":{"$error":"#NUM!"}},{"$f":"INDIRECT(ADDRESS($A201,4,,,\"Rural Multilane Intersections\"))","v":{"$error":"#NUM!"}},{"$f":"\"Control = \"&INDIRECT(ADDRESS($A201,5,,,\"Rural Multilane Intersections\"))","v":{"$error":"#NUM!"}},{"$f":"\"Major AADT: \"&TEXT(INDIRECT(ADDRESS($A201,6,,,\"Rural Multilane Intersections\")),\"#,##0\")&\" / Minor AADT: \"&TEXT(INDIRECT(ADDRESS($A201,7,,,\"Rural Multilane Intersections\")),\"#,##0\")","v":{"$error":"#NUM!"}},{"$f":"IF(ISERROR(A201),\"\",INDIRECT(ADDRESS($A201,22,,,\"Rural Multilane Intersections\")))","v":""}]
[{"$f":"IF(MATCH(LARGE(INDIRECT(\"'Rural Multilane Intersections'!$V5:$V10004\"),ROW()-200),INDIRECT(\"'Rural Multilane Intersections'!$V5:$V10004\"),0)=MATCH(LARGE(INDIRECT(\"'Rural Multilane Intersections'!$V5:$V10004\"),ROW()-200-1),INDIRECT(\"'Rural Multilane Intersections'!$V5:$V10004\"),0),MATCH(LARGE(INDIRECT(\"'Rural Multilane Intersections'!$V5:$V10004\"),ROW()-200),INDIRECT(ADDRESS(A201+1,21,,,\"Rural Multilane Intersections\")&\":V10004\"),0)+A201,MATCH(LARGE(INDIRECT(\"'Rural Multilane Intersections'!$V5:$V10004\"),ROW()-200),INDIRECT(\"'Rural Multilane Intersections'!$V5:$V10004\"),0)+4)","v":{"$error":"#NUM!"}},{"$f":"\"(INT) \"&INDIRECT(ADDRESS($A202,2,,,\"Rural Multilane Intersections\"))&\" @ \"&INDIRECT(ADDRESS($A202,3,,,\"Rural Multilane Intersections\"))","v":{"$error":"#NUM!"}},{"$f":"INDIRECT(ADDRESS($A202,4,,,\"Rural Multilane Intersections\"))","v":{"$error":"#NUM!"}},{"$f":"\"Control = \"&INDIRECT(ADDRESS($A202,5,,,\"Rural Multilane Intersections\"))","v":{"$error":"#NUM!"}},{"$f":"\"Major AADT: \"&TEXT(INDIRECT(ADDRESS($A202,6,,,\"Rural Multilane Intersections\")),\"#,##0\")&\" / Minor AADT: \"&TEXT(INDIRECT(ADDRESS($A202,7,,,\"Rural Multilane Intersections\")),\"#,##0\")","v":{"$error":"#NUM!"}},""]
[{"$error":"#NUM!"},{"$f":"\"(INT) \"&INDIRECT(ADDRESS($A203,2,,,\"Rural Multilane Intersections\"))&\" @ \"&INDIRECT(ADDRESS($A203,3,,,\"Rural Multilane Intersections\"))","v":{"$error":"#NUM!"}},{"$f":"INDIRECT(ADDRESS($A203,4,,,\"Rural Multilane Intersections\"))","v":{"$error":"#NUM!"}},{"$f":"\"Control = \"&INDIRECT(ADDRESS($A203,5,,,\"Rural Multilane Intersections\"))","v":{"$error":"#NUM!"}},{"$f":"\"Major AADT: \"&TEXT(INDIRECT(ADDRESS($A203,6,,,\"Rural Multilane Intersections\")),\"#,##0\")&\" / Minor AADT: \"&TEXT(INDIRECT(ADDRESS($A203,7,,,\"Rural Multilane Intersections\")),\"#,##0\")","v":{"$error":"#NUM!"}},""]
[{"$error":"#NUM!"},{"$error":"#NUM!"},{"$error":"#NUM!"},{"$error":"#NUM!"},{"$error":"#NUM!"},""]
[{"$error":"#NUM!"},{"$error":"#NUM!"},{"$error":"#NUM!"},{"$error":"#NUM!"},{"$error":"#NUM!"},""]
[{"$error":"#NUM!"},{"$error":"#NUM!"},{"$error":"#NUM!"},{"$error":"#NUM!"},{"$error":"#NUM!"},""]
[{"$error":"#NUM!"},{"$error":"#NUM!"},{"$error":"#NUM!"},{"$error":"#NUM!"},{"$error":"#NUM!"},""]
[{"$error":"#NUM!"},{"$error":"#NUM!"},{"$error":"#NUM!"},{"$error":"#NUM!"},{"$error":"#NUM!"},""]
[{"$error":"#NUM!"},{"$error":"#NUM!"},{"$error":"#NUM!"},{"$error":"#NUM!"},{"$error":"#NUM!"},""]
[{"$error":"#NUM!"},{"$error":"#NUM!"},{"$error":"#NUM!"},{"$error":"#NUM!"},{"$error":"#NUM!"},""]
[{"$error":"#NUM!"},{"$error":"#NUM!"},{"$error":"#NUM!"},{"$error":"#NUM!"},{"$error":"#NUM!"},""]
[{"$error":"#NUM!"},{"$error":"#NUM!"},{"$error":"#NUM!"},{"$error":"#NUM!"},{"$error":"#NUM!"},""]
[{"$error":"#NUM!"},{"$error":"#NUM!"},{"$error":"#NUM!"},{"$error":"#NUM!"},{"$error":"#NUM!"},""]
[{"$error":"#NUM!"},{"$error":"#NUM!"},{"$error":"#NUM!"},{"$error":"#NUM!"},{"$error":"#NUM!"},""]
[{"$error":"#NUM!"},{"$error":"#NUM!"},{"$error":"#NUM!"},{"$error":"#NUM!"},{"$error":"#NUM!"},""]
[{"$error":"#NUM!"},{"$error":"#NUM!"},{"$error":"#NUM!"},{"$error":"#NUM!"},{"$error":"#NUM!"},""]
[{"$error":"#NUM!"},{"$error":"#NUM!"},{"$error":"#NUM!"},{"$error":"#NUM!"},{"$error":"#NUM!"},""]
[{"$error":"#NUM!"},{"$error":"#NUM!"},{"$error":"#NUM!"},{"$error":"#NUM!"},{"$error":"#NUM!"},""]
[{"$error":"#NUM!"},{"$error":"#NUM!"},{"$error":"#NUM!"},{"$error":"#NUM!"},{"$error":"#NUM!"},""]
[{"$error":"#NUM!"},{"$error":"#NUM!"},{"$error":"#NUM!"},{"$error":"#NUM!"},{"$error":"#NUM!"},""]
[{"$error":"#NUM!"},{"$error":"#NUM!"},{"$error":"#NUM!"},{"$error":"#NUM!"},{"$error":"#NUM!"},""]
[{"$error":"#NUM!"},{"$error":"#NUM!"},{"$error":"#NUM!"},{"$error":"#NUM!"},{"$error":"#NUM!"},""]
[{"$error":"#NUM!"},{"$error":"#NUM!"},{"$error":"#NUM!"},{"$error":"#NUM!"},{"$error":"#NUM!"},""]
[{"$error":"#NUM!"},{"$error":"#NUM!"},{"$error":"#NUM!"},{"$error":"#NUM!"},{"$error":"#NUM!"},""]
[{"$error":"#NUM!"},{"$error":"#NUM!"},{"$error":"#NUM!"},{"$error":"#NUM!"},{"$error":"#NUM!"},""]
[{"$error":"#NUM!"},{"$error":"#NUM!"},{"$error":"#NUM!"},{"$error":"#NUM!"},{"$error":"#NUM!"},""]
[{"$error":"#NUM!"},{"$error":"#NUM!"},{"$error":"#NUM!"},{"$error":"#NUM!"},{"$error":"#NUM!"},""]
[{"$error":"#NUM!"},{"$error":"#NUM!"},{"$error":"#NUM!"},{"$error":"#NUM!"},{"$error":"#NUM!"},""]
[{"$error":"#NUM!"},{"$error":"#NUM!"},{"$error":"#NUM!"},{"$error":"#NUM!"},{"$error":"#NUM!"},""]
[{"$error":"#NUM!"},{"$error":"#NUM!"},{"$error":"#NUM!"},{"$error":"#NUM!"},{"$error":"#NUM!"},""]
[{"$error":"#NUM!"},{"$error":"#NUM!"},{"$error":"#NUM!"},{"$error":"#NUM!"},{"$error":"#NUM!"},""]
[{"$error":"#NUM!"},{"$error":"#NUM!"},{"$error":"#NUM!"},{"$error":"#NUM!"},{"$error":"#NUM!"},""]
[{"$error":"#NUM!"},{"$error":"#NUM!"},{"$error":"#NUM!"},{"$error":"#NUM!"},{"$error":"#NUM!"},{"$f":"IF(ISERROR(A233),\"\",INDIRECT(ADDRESS($A233,22,,,\"Rural Multilane Intersections\")))","v":""}]
[{"$f":"IF(MATCH(LARGE(INDIRECT(\"'Rural Multilane Intersections'!$V5:$V10004\"),ROW()-200),INDIRECT(\"'Rural Multilane Intersections'!$V5:$V10004\"),0)=MATCH(LARGE(INDIRECT(\"'Rural Multilane Intersections'!$V5:$V10004\"),ROW()-200-1),INDIRECT(\"'Rural Multilane Intersections'!$V5:$V10004\"),0),MATCH(LARGE(INDIRECT(\"'Rural Multilane Intersections'!$V5:$V10004\"),ROW()-200),INDIRECT(ADDRESS(A233+1,21,,,\"Rural Multilane Intersections\")&\":V10004\"),0)+A233,MATCH(LARGE(INDIRECT(\"'Rural Multilane Intersections'!$V5:$V10004\"),ROW()-200),INDIRECT(\"'Rural Multilane Intersections'!$V5:$V10004\"),0)+4)","v":{"$error":"#NUM!"}},{"$error":"#NUM!"},{"$error":"#NUM!"},{"$error":"#NUM!"},{"$error":"#NUM!"},""]
[{"$error":"#NUM!"},{"$error":"#NUM!"},{"$error":"#NUM!"},{"$error":"#NUM!"},{"$error":"#NUM!"},""]
[{"$error":"#NUM!"},{"$error":"#NUM!"},{"$error":"#NUM!"},{"$error":"#NUM!"},{"$error":"#NUM!"},""]
[{"$error":"#NUM!"},{"$error":"#NUM!"},{"$error":"#NUM!"},{"$error":"#NUM!"},{"$error":"#NUM!"},""]
[{"$error":"#NUM!"},{"$error":"#NUM!"},{"$error":"#NUM!"},{"$error":"#NUM!"},{"$error":"#NUM!"},""]
[{"$error":"#NUM!"},{"$error":"#NUM!"},{"$error":"#NUM!"},{"$error":"#NUM!"},{"$error":"#NUM!"},""]
[{"$error":"#NUM!"},{"$error":"#NUM!"},{"$error":"#NUM!"},{"$error":"#NUM!"},{"$error":"#NUM!"},""]
[{"$error":"#NUM!"},{"$error":"#NUM!"},{"$error":"#NUM!"},{"$error":"#NUM!"},{"$error":"#NUM!"},""]
[{"$error":"#NUM!"},{"$error":"#NUM!"},{"$error":"#NUM!"},{"$error":"#NUM!"},{"$error":"#NUM!"},""]
[{"$error":"#NUM!"},{"$error":"#NUM!"},{"$error":"#NUM!"},{"$error":"#NUM!"},{"$error":"#NUM!"},""]
[{"$error":"#NUM!"},{"$error":"#NUM!"},{"$error":"#NUM!"},{"$error":"#NUM!"},{"$error":"#NUM!"},""]
[{"$error":"#NUM!"},{"$error":"#NUM!"},{"$error":"#NUM!"},{"$error":"#NUM!"},{"$error":"#NUM!"},""]
[{"$error":"#NUM!"},{"$error":"#NUM!"},{"$error":"#NUM!"},{"$error":"#NUM!"},{"$error":"#NUM!"},""]
[{"$error":"#NUM!"},{"$error":"#NUM!"},{"$error":"#NUM!"},{"$error":"#NUM!"},{"$error":"#NUM!"},""]
[{"$error":"#NUM!"},{"$error":"#NUM!"},{"$error":"#NUM!"},{"$error":"#NUM!"},{"$error":"#NUM!"},""]
[{"$error":"#NUM!"},{"$error":"#NUM!"},{"$error":"#NUM!"},{"$error":"#NUM!"},{"$error":"#NUM!"},""]
[{"$error":"#NUM!"},{"$error":"#NUM!"},{"$error":"#NUM!"},{"$error":"#NUM!"},{"$error":"#NUM!"},""]
[{"$f":"MATCH(LARGE(INDIRECT(\"'Urban & Suburban Segments'!$AO5:$AO10004\"),ROW()-250),INDIRECT(\"'Urban & Suburban Segments'!$AO5:$AO10004\"),0)+4","v":{"$error":"#NUM!"}},{"$f":"\"(SEG) \"&INDIRECT(ADDRESS($A251,2,,,\"Urban & Suburban Segments\"))&\", \"&INDIRECT(ADDRESS($A251,3,,,\"Urban & Suburban Segments\"))","v":{"$error":"#NUM!"}},{"$f":"INDIRECT(ADDRESS($A251,4,,,\"Urban & Suburban Segments\"))","v":{"$error":"#NUM!"}},{"$f":"\"Type = \"&INDIRECT(ADDRESS($A251,5,,,\"Urban & Suburban Segments\"))&\", Length = \"&INDIRECT(ADDRESS($A251,6,,,\"Urban & Suburban Segments\"))&\" mi\"","v":{"$error":"#NUM!"}},{"$f":"\"AADT: \"&TEXT(INDIRECT(ADDRESS($A251,7,,,\"Urban & Suburban Segments\")),\"#,##0\")","v":{"$error":"#NUM!"}},{"$f":"IF(ISERROR(A251),\"\",INDIRECT(ADDRESS($A251,41,,,\"Urban & Suburban Segments\")))","v":""}]
[{"$f":"IF(MATCH(LARGE(INDIRECT(\"'Urban & Suburban Segments'!$AO5:$AO10004\"),ROW()-250),INDIRECT(\"'Urban & Suburban Segments'!$AO5:$AO10004\"),0)=MATCH(LARGE(INDIRECT(\"'Urban & Suburban Segments'!$AO5:$AO10004\"),ROW()-250-1),INDIRECT(\"'Urban & Suburban Segments'!$AO5:$AO10004\"),0),MATCH(LARGE(INDIRECT(\"'Urban & Suburban Segments'!$AO5:$AO10004\"),ROW()-250),INDIRECT(ADDRESS(A251+1,40,,,\"Urban & Suburban Segments\")&\":AO10004\"),0)+A251,MATCH(LARGE(INDIRECT(\"'Urban & Suburban Segments'!$AO5:$AO10004\"),ROW()-250),INDIRECT(\"'Urban & Suburban Segments'!$AO5:$AO10004\"),0)+4)","v":{"$error":"#NUM!"}},{"$f":"\"(SEG) \"&INDIRECT(ADDRESS($A252,2,,,\"Urban & Suburban Segments\"))&\", \"&INDIRECT(ADDRESS($A252,3,,,\"Urban & Suburban Segments\"))","v":{"$error":"#NUM!"}},{"$f":"INDIRECT(ADDRESS($A252,4,,,\"Urban & Suburban Segments\"))","v":{"$error":"#NUM!"}},{"$f":"\"Type = \"&INDIRECT(ADDRESS($A252,5,,,\"Urban & Suburban Segments\"))&\", Length = \"&INDIRECT(ADDRESS($A252,6,,,\"Urban & Suburban Segments\"))&\" mi\"","v":{"$error":"#NUM!"}},{"$f":"\"AADT: \"&TEXT(INDIRECT(ADDRESS($A252,7,,,\"Urban & Suburban Segments\")),\"#,##0\")","v":{"$error":"#NUM!"}},""]
[{"$error":"#NUM!"},{"$f":"\"(SEG) \"&INDIRECT(ADDRESS($A253,2,,,\"Urban & Suburban Segments\"))&\", \"&INDIRECT(ADDRESS($A253,3,,,\"Urban & Suburban Segments\"))","v":{"$error":"#NUM!"}},{"$f":"INDIRECT(ADDRESS($A253,4,,,\"Urban & Suburban Segments\"))","v":{"$error":"#NUM!"}},{"$f":"\"Type = \"&INDIRECT(ADDRESS($A253,5,,,\"Urban & Suburban Segments\"))&\", Length = \"&INDIRECT(ADDRESS($A253,6,,,\"Urban & Suburban Segments\"))&\" mi\"","v":{"$error":"#NUM!"}},{"$f":"\"AADT: \"&TEXT(INDIRECT(ADDRESS($A253,7,,,\"Urban & Suburban Segments\")),\"#,##0\")","v":{"$error":"#NUM!"}},""]
[{"$error":"#NUM!"},{"$error":"#NUM!"},{"$error":"#NUM!"},{"$error":"#NUM!"},{"$error":"#NUM!"},""]
[{"$error":"#NUM!"},{"$error":"#NUM!"},{"$error":"#NUM!"},{"$error":"#NUM!"},{"$error":"#NUM!"},""]
[{"$error":"#NUM!"},{"$error":"#NUM!"},{"$error":"#NUM!"},{"$error":"#NUM!"},{"$error":"#NUM!"},""]
[{"$error":"#NUM!"},{"$error":"#NUM!"},{"$error":"#NUM!"},{"$error":"#NUM!"},{"$error":"#NUM!"},""]
[{"$error":"#NUM!"},{"$error":"#NUM!"},{"$error":"#NUM!"},{"$error":"#NUM!"},{"$error":"#NUM!"},""]
[{"$error":"#NUM!"},{"$error":"#NUM!"},{"$error":"#NUM!"},{"$error":"#NUM!"},{"$error":"#NUM!"},""]
[{"$error":"#NUM!"},{"$error":"#NUM!"},{"$error":"#NUM!"},{"$error":"#NUM!"},{"$error":"#NUM!"},""]
[{"$error":"#NUM!"},{"$error":"#NUM!"},{"$error":"#NUM!"},{"$error":"#NUM!"},{"$error":"#NUM!"},""]
[{"$error":"#NUM!"},{"$error":"#NUM!"},{"$error":"#NUM!"},{"$error":"#NUM!"},{"$error":"#NUM!"},""]
[{"$error":"#NUM!"},{"$error":"#NUM!"},{"$error":"#NUM!"},{"$error":"#NUM!"},{"$error":"#NUM!"},""]
[{"$error":"#NUM!"},{"$error":"#NUM!"},{"$error":"#NUM!"},{"$error":"#NUM!"},{"$error":"#NUM!"},""]
[{"$error":"#NUM!"},{"$error":"#NUM!"},{"$error":"#NUM!"},{"$error":"#NUM!"},{"$error":"#NUM!"},""]
[{"$error":"#NUM!"},{"$error":"#NUM!"},{"$error":"#NUM!"},{"$error":"#NUM!"},{"$error":"#NUM!"},""]
[{"$error":"#NUM!"},{"$error":"#NUM!"},{"$error":"#NUM!"},{"$error":"#NUM!"},{"$error":"#NUM!"},""]
[{"$error":"#NUM!"},{"$error":"#NUM!"},{"$error":"#NUM!"},{"$error":"#NUM!"},{"$error":"#NUM!"},""]
[{"$error":"#NUM!"},{"$error":"#NUM!"},{"$error":"#NUM!"},{"$error":"#NUM!"},{"$error":"#NUM!"},""]
[{"$error":"#NUM!"},{"$error":"#NUM!"},{"$error":"#NUM!"},{"$error":"#NUM!"},{"$error":"#NUM!"},""]
[{"$error":"#NUM!"},{"$error":"#NUM!"},{"$error":"#NUM!"},{"$error":"#NUM!"},{"$error":"#NUM!"},""]
[{"$error":"#NUM!"},{"$error":"#NUM!"},{"$error":"#NUM!"},{"$error":"#NUM!"},{"$error":"#NUM!"},""]
[{"$error":"#NUM!"},{"$error":"#NUM!"},{"$error":"#NUM!"},{"$error":"#NUM!"},{"$error":"#NUM!"},""]
[{"$error":"#NUM!"},{"$error":"#NUM!"},{"$error":"#NUM!"},{"$error":"#NUM!"},{"$error":"#NUM!"},""]
[{"$error":"#NUM!"},{"$error":"#NUM!"},{"$error":"#NUM!"},{"$error":"#NUM!"},{"$error":"#NUM!"},""]
[{"$error":"#NUM!"},{"$error":"#NUM!"},{"$error":"#NUM!"},{"$error":"#NUM!"},{"$error":"#NUM!"},""]
[{"$error":"#NUM!"},{"$error":"#NUM!"},{"$error":"#NUM!"},{"$error":"#NUM!"},{"$error":"#NUM!"},""]
[{"$error":"#NUM!"},{"$error":"#NUM!"},{"$error":"#NUM!"},{"$error":"#NUM!"},{"$error":"#NUM!"},""]
[{"$error":"#NUM!"},{"$error":"#NUM!"},{"$error":"#NUM!"},{"$error":"#NUM!"},{"$error":"#NUM!"},""]
[{"$error":"#NUM!"},{"$error":"#NUM!"},{"$error":"#NUM!"},{"$error":"#NUM!"},{"$error":"#NUM!"},""]
[{"$error":"#NUM!"},{"$error":"#NUM!"},{"$error":"#NUM!"},{"$error":"#NUM!"},{"$error":"#NUM!"},""]
[{"$error":"#NUM!"},{"$error":"#NUM!"},{"$error":"#NUM!"},{"$error":"#NUM!"},{"$error":"#NUM!"},""]
[{"$error":"#NUM!"},{"$error":"#NUM!"},{"$error":"#NUM!"},{"$error":"#NUM!"},{"$error":"#NUM!"},{"$f":"IF(ISERROR(A283),\"\",INDIRECT(ADDRESS($A283,41,,,\"Urban & Suburban Segments\")))","v":""}]
[{"$error":"#NUM!"},{"$error":"#NUM!"},{"$error":"#NUM!"},{"$error":"#NUM!"},{"$error":"#NUM!"},""]
[{"$error":"#NUM!"},{"$error":"#NUM!"},{"$error":"#NUM!"},{"$error":"#NUM!"},{"$error":"#NUM!"},""]
[{"$error":"#NUM!"},{"$error":"#NUM!"},{"$error":"#NUM!"},{"$error":"#NUM!"},{"$error":"#NUM!"},""]
[{"$error":"#NUM!"},{"$error":"#NUM!"},{"$error":"#NUM!"},{"$error":"#NUM!"},{"$error":"#NUM!"},""]
[{"$error":"#NUM!"},{"$error":"#NUM!"},{"$error":"#NUM!"},{"$error":"#NUM!"},{"$error":"#NUM!"},""]
[{"$error":"#NUM!"},{"$error":"#NUM!"},{"$error":"#NUM!"},{"$error":"#NUM!"},{"$error":"#NUM!"},""]
[{"$error":"#NUM!"},{"$error":"#NUM!"},{"$error":"#NUM!"},{"$error":"#NUM!"},{"$error":"#NUM!"},""]
[{"$error":"#NUM!"},{"$error":"#NUM!"},{"$error":"#NUM!"},{"$error":"#NUM!"},{"$error":"#NUM!"},""]
[{"$error":"#NUM!"},{"$error":"#NUM!"},{"$error":"#NUM!"},{"$error":"#NUM!"},{"$error":"#NUM!"},""]
[{"$error":"#NUM!"},{"$error":"#NUM!"},{"$error":"#NUM!"},{"$error":"#NUM!"},{"$error":"#NUM!"},""]
[{"$error":"#NUM!"},{"$error":"#NUM!"},{"$error":"#NUM!"},{"$error":"#NUM!"},{"$error":"#NUM!"},""]
[{"$error":"#NUM!"},{"$error":"#NUM!"},{"$error":"#NUM!"},{"$error":"#NUM!"},{"$error":"#NUM!"},""]
[{"$error":"#NUM!"},{"$error":"#NUM!"},{"$error":"#NUM!"},{"$error":"#NUM!"},{"$error":"#NUM!"},""]
[{"$error":"#NUM!"},{"$error":"#NUM!"},{"$error":"#NUM!"},{"$error":"#NUM!"},{"$error":"#NUM!"},""]
[{"$error":"#NUM!"},{"$error":"#NUM!"},{"$error":"#NUM!"},{"$error":"#NUM!"},{"$error":"#NUM!"},""]
[{"$error":"#NUM!"},{"$error":"#NUM!"},{"$error":"#NUM!"},{"$error":"#NUM!"},{"$error":"#NUM!"},""]
[{"$error":"#NUM!"},{"$error":"#NUM!"},{"$error":"#NUM!"},{"$error":"#NUM!"},{"$error":"#NUM!"},""]
[{"$f":"MATCH(LARGE(INDIRECT(\"'Urban & Suburban Intersections'!$AM5:$AM10004\"),ROW()-300),INDIRECT(\"'Urban & Suburban Intersections'!$AM5:$AM10004\"),0)+4","v":{"$error":"#NUM!"}},{"$f":"\"(INT) \"&INDIRECT(ADDRESS($A301,2,,,\"Urban & Suburban Intersections\"))&\" @ \"&INDIRECT(ADDRESS($A301,3,,,\"Urban & Suburban Intersections\"))","v":{"$error":"#NUM!"}},{"$f":"INDIRECT(ADDRESS($A301,4,,,\"Urban & Suburban Intersections\"))","v":{"$error":"#NUM!"}},{"$f":"\"Control = \"&INDIRECT(ADDRESS($A301,5,,,\"Urban & Suburban Intersections\"))","v":{"$error":"#NUM!"}},{"$f":"\"Major AADT: \"&TEXT(INDIRECT(ADDRESS($A301,6,,,\"Urban & Suburban Intersections\")),\"#,##0\")&\" / Minor AADT: \"&TEXT(INDIRECT(ADDRESS($A301,7,,,\"Urban & Suburban Intersections\")),\"#,##0\")","v":{"$error":"#NUM!"}},{"$f":"IF(ISERROR(A301),\"\",INDIRECT(ADDRESS($A301,39,,,\"Urban & Suburban Intersections\")))","v":""}]
[{"$f":"IF(MATCH(LARGE(INDIRECT(\"'Urban & Suburban Intersections'!$AM5:$AM10004\"),ROW()-300),INDIRECT(\"'Urban & Suburban Intersections'!$AM5:$AM10004\"),0)=MATCH(LARGE(INDIRECT(\"'Urban & Suburban Intersections'!$AM5:$AM10004\"),ROW()-300-1),INDIRECT(\"'Urban & Suburban Intersections'!$AM5:$AM10004\"),0),MATCH(LARGE(INDIRECT(\"'Urban & Suburban Intersections'!$AM5:$AM10004\"),ROW()-300),INDIRECT(ADDRESS(A301+1,34,,,\"Urban & Suburban Intersections\")&\":AM10004\"),0)+A301,MATCH(LARGE(INDIRECT(\"'Urban & Suburban Intersections'!$AM5:$AM10004\"),ROW()-300),INDIRECT(\"'Urban & Suburban Intersections'!$AM5:$AM10004\"),0)+4)","v":{"$error":"#NUM!"}},{"$f":"\"(INT) \"&INDIRECT(ADDRESS($A302,2,,,\"Urban & Suburban Intersections\"))&\" @ \"&INDIRECT(ADDRESS($A302,3,,,\"Urban & Suburban Intersections\"))","v":{"$error":"#NUM!"}},{"$f":"INDIRECT(ADDRESS($A302,4,,,\"Urban & Suburban Intersections\"))","v":{"$error":"#NUM!"}},{"$f":"\"Control = \"&INDIRECT(ADDRESS($A302,5,,,\"Urban & Suburban Intersections\"))","v":{"$error":"#NUM!"}},{"$f":"\"Major AADT: \"&TEXT(INDIRECT(ADDRESS($A302,6,,,\"Urban & Suburban Intersections\")),\"#,##0\")&\" / Minor AADT: \"&TEXT(INDIRECT(ADDRESS($A302,7,,,\"Urban & Suburban Intersections\")),\"#,##0\")","v":{"$error":"#NUM!"}},""]
[{"$error":"#NUM!"},{"$f":"\"(INT) \"&INDIRECT(ADDRESS($A303,2,,,\"Urban & Suburban Intersections\"))&\" @ \"&INDIRECT(ADDRESS($A303,3,,,\"Urban & Suburban Intersections\"))","v":{"$error":"#NUM!"}},{"$f":"INDIRECT(ADDRESS($A303,4,,,\"Urban & Suburban Intersections\"))","v":{"$error":"#NUM!"}},{"$f":"\"Control = \"&INDIRECT(ADDRESS($A303,5,,,\"Urban & Suburban Intersections\"))","v":{"$error":"#NUM!"}},{"$f":"\"Major AADT: \"&TEXT(INDIRECT(ADDRESS($A303,6,,,\"Urban & Suburban Intersections\")),\"#,##0\")&\" / Minor AADT: \"&TEXT(INDIRECT(ADDRESS($A303,7,,,\"Urban & Suburban Intersections\")),\"#,##0\")","v":{"$error":"#NUM!"}},""]
[{"$error":"#NUM!"},{"$error":"#NUM!"},{"$error":"#NUM!"},{"$error":"#NUM!"},{"$error":"#NUM!"},""]
[{"$error":"#NUM!"},{"$error":"#NUM!"},{"$error":"#NUM!"},{"$error":"#NUM!"},{"$error":"#NUM!"},""]
[{"$error":"#NUM!"},{"$error":"#NUM!"},{"$error":"#NUM!"},{"$error":"#NUM!"},{"$error":"#NUM!"},""]
[{"$error":"#NUM!"},{"$error":"#NUM!"},{"$error":"#NUM!"},{"$error":"#NUM!"},{"$error":"#NUM!"},""]
[{"$error":"#NUM!"},{"$error":"#NUM!"},{"$error":"#NUM!"},{"$error":"#NUM!"},{"$error":"#NUM!"},""]
[{"$error":"#NUM!"},{"$error":"#NUM!"},{"$error":"#NUM!"},{"$error":"#NUM!"},{"$error":"#NUM!"},""]
[{"$error":"#NUM!"},{"$error":"#NUM!"},{"$error":"#NUM!"},{"$error":"#NUM!"},{"$error":"#NUM!"},""]
[{"$error":"#NUM!"},{"$error":"#NUM!"},{"$error":"#NUM!"},{"$error":"#NUM!"},{"$error":"#NUM!"},""]
[{"$error":"#NUM!"},{"$error":"#NUM!"},{"$error":"#NUM!"},{"$error":"#NUM!"},{"$error":"#NUM!"},""]
[{"$error":"#NUM!"},{"$error":"#NUM!"},{"$error":"#NUM!"},{"$error":"#NUM!"},{"$error":"#NUM!"},""]
[{"$error":"#NUM!"},{"$error":"#NUM!"},{"$error":"#NUM!"},{"$error":"#NUM!"},{"$error":"#NUM!"},""]
[{"$error":"#NUM!"},{"$error":"#NUM!"},{"$error":"#NUM!"},{"$error":"#NUM!"},{"$error":"#NUM!"},""]
[{"$error":"#NUM!"},{"$error":"#NUM!"},{"$error":"#NUM!"},{"$error":"#NUM!"},{"$error":"#NUM!"},""]
[{"$error":"#NUM!"},{"$error":"#NUM!"},{"$error":"#NUM!"},{"$error":"#NUM!"},{"$error":"#NUM!"},""]
[{"$error":"#NUM!"},{"$error":"#NUM!"},{"$error":"#NUM!"},{"$error":"#NUM!"},{"$error":"#NUM!"},""]
[{"$error":"#NUM!"},{"$error":"#NUM!"},{"$error":"#NUM!"},{"$error":"#NUM!"},{"$error":"#NUM!"},""]
[{"$error":"#NUM!"},{"$error":"#NUM!"},{"$error":"#NUM!"},{"$error":"#NUM!"},{"$error":"#NUM!"},""]
[{"$error":"#NUM!"},{"$error":"#NUM!"},{"$error":"#NUM!"},{"$error":"#NUM!"},{"$error":"#NUM!"},""]
[{"$error":"#NUM!"},{"$error":"#NUM!"},{"$error":"#NUM!"},{"$error":"#NUM!"},{"$error":"#NUM!"},""]
[{"$error":"#NUM!"},{"$error":"#NUM!"},{"$error":"#NUM!"},{"$error":"#NUM!"},{"$error":"#NUM!"},""]
[{"$error":"#NUM!"},{"$error":"#NUM!"},{"$error":"#NUM!"},{"$error":"#NUM!"},{"$error":"#NUM!"},""]
[{"$error":"#NUM!"},{"$error":"#NUM!"},{"$error":"#NUM!"},{"$error":"#NUM!"},{"$error":"#NUM!"},""]
[{"$error":"#NUM!"},{"$error":"#NUM!"},{"$error":"#NUM!"},{"$error":"#NUM!"},{"$error":"#NUM!"},""]
[{"$error":"#NUM!"},{"$error":"#NUM!"},{"$error":"#NUM!"},{"$error":"#NUM!"},{"$error":"#NUM!"},""]
[{"$error":"#NUM!"},{"$error":"#NUM!"},{"$error":"#NUM!"},{"$error":"#NUM!"},{"$error":"#NUM!"},""]
[{"$error":"#NUM!"},{"$error":"#NUM!"},{"$error":"#NUM!"},{"$error":"#NUM!"},{"$error":"#NUM!"},""]
[{"$error":"#NUM!"},{"$error":"#NUM!"},{"$error":"#NUM!"},{"$error":"#NUM!"},{"$error":"#NUM!"},""]
[{"$error":"#NUM!"},{"$error":"#NUM!"},{"$error":"#NUM!"},{"$error":"#NUM!"},{"$error":"#NUM!"},""]
[{"$error":"#NUM!"},{"$error":"#NUM!"},{"$error":"#NUM!"},{"$error":"#NUM!"},{"$error":"#NUM!"},""]
[{"$error":"#NUM!"},{"$error":"#NUM!"},{"$error":"#NUM!"},{"$error":"#NUM!"},{"$error":"#NUM!"},{"$f":"IF(ISERROR(A333),\"\",INDIRECT(ADDRESS($A333,39,,,\"Urban & Suburban Intersections\")))","v":""}]
[{"$f":"IF(MATCH(LARGE(INDIRECT(\"'Urban & Suburban Intersections'!$AM5:$AM10004\"),ROW()-300),INDIRECT(\"'Urban & Suburban Intersections'!$AM5:$AM10004\"),0)=MATCH(LARGE(INDIRECT(\"'Urban & Suburban Intersections'!$AM5:$AM10004\"),ROW()-300-1),INDIRECT(\"'Urban & Suburban Intersections'!$AM5:$AM10004\"),0),MATCH(LARGE(INDIRECT(\"'Urban & Suburban Intersections'!$AM5:$AM10004\"),ROW()-300),INDIRECT(ADDRESS(A333+1,34,,,\"Urban & Suburban Intersections\")&\":AM10004\"),0)+A333,MATCH(LARGE(INDIRECT(\"'Urban & Suburban Intersections'!$AM5:$AM10004\"),ROW()-300),INDIRECT(\"'Urban & Suburban Intersections'!$AM5:$AM10004\"),0)+4)","v":{"$error":"#NUM!"}},{"$error":"#NUM!"},{"$error":"#NUM!"},{"$error":"#NUM!"},{"$error":"#NUM!"},""]
[{"$error":"#NUM!"},{"$error":"#NUM!"},{"$error":"#NUM!"},{"$error":"#NUM!"},{"$error":"#NUM!"},""]
[{"$error":"#NUM!"},{"$error":"#NUM!"},{"$error":"#NUM!"},{"$error":"#NUM!"},{"$error":"#NUM!"},""]
[{"$error":"#NUM!"},{"$error":"#NUM!"},{"$error":"#NUM!"},{"$error":"#NUM!"},{"$error":"#NUM!"},""]
[{"$error":"#NUM!"},{"$error":"#NUM!"},{"$error":"#NUM!"},{"$error":"#NUM!"},{"$error":"#NUM!"},""]
[{"$error":"#NUM!"},{"$error":"#NUM!"},{"$error":"#NUM!"},{"$error":"#NUM!"},{"$error":"#NUM!"},""]
[{"$error":"#NUM!"},{"$error":"#NUM!"},{"$error":"#NUM!"},{"$error":"#NUM!"},{"$error":"#NUM!"},""]
[{"$error":"#NUM!"},{"$error":"#NUM!"},{"$error":"#NUM!"},{"$error":"#NUM!"},{"$error":"#NUM!"},""]
[{"$error":"#NUM!"},{"$error":"#NUM!"},{"$error":"#NUM!"},{"$error":"#NUM!"},{"$error":"#NUM!"},""]
[{"$error":"#NUM!"},{"$error":"#NUM!"},{"$error":"#NUM!"},{"$error":"#NUM!"},{"$error":"#NUM!"},""]
[{"$error":"#NUM!"},{"$error":"#NUM!"},{"$error":"#NUM!"},{"$error":"#NUM!"},{"$error":"#NUM!"},""]
[{"$error":"#NUM!"},{"$error":"#NUM!"},{"$error":"#NUM!"},{"$error":"#NUM!"},{"$error":"#NUM!"},""]
[{"$error":"#NUM!"},{"$error":"#NUM!"},{"$error":"#NUM!"},{"$error":"#NUM!"},{"$error":"#NUM!"},""]
[{"$error":"#NUM!"},{"$error":"#NUM!"},{"$error":"#NUM!"},{"$error":"#NUM!"},{"$error":"#NUM!"},""]
[{"$error":"#NUM!"},{"$error":"#NUM!"},{"$error":"#NUM!"},{"$error":"#NUM!"},{"$error":"#NUM!"},""]
[{"$error":"#NUM!"},{"$error":"#NUM!"},{"$error":"#NUM!"},{"$error":"#NUM!"},{"$error":"#NUM!"},""]
[{"$error":"#NUM!"},{"$error":"#NUM!"},{"$error":"#NUM!"},{"$error":"#NUM!"},{"$error":"#NUM!"},""]

{"sheet":"RankingExcess","index":16,"n_rows":350,"n_cols":11,"rows_kept":350,"cut":false,"hidden":true,"merged":[]}
[{"$f":"MATCH(LARGE(INDIRECT(\"'Rural 2-Lane Segments'!$AH$5:$AH$10005\"),ROW()),INDIRECT(\"'Rural 2-Lane Segments'!$AH$5:$AH$10005\"),0)+4","v":{"$error":"#NUM!"}},{"$f":"\"(SEG) \"&INDIRECT(ADDRESS($A1,2,,,\"Rural 2-Lane Segments\"))&\", \"&INDIRECT(ADDRESS($A1,3,,,\"Rural 2-Lane Segments\"))","v":{"$error":"#NUM!"}},{"$f":"INDIRECT(ADDRESS($A1,4,,,\"Rural 2-Lane Segments\"))","v":{"$error":"#NUM!"}},{"$f":"\"Length = \"&INDIRECT(ADDRESS($A1,5,,,\"Rural 2-Lane Segments\"))&\" mi\"","v":{"$error":"#NUM!"}},{"$f":"\"AADT: \"&TEXT(INDIRECT(ADDRESS($A1,6,,,\"Rural 2-Lane Segments\")),\"#,##0\")","v":{"$error":"#NUM!"}},{"$f":"IF(ISERROR(A1),\"\",INDIRECT(ADDRESS($A1,34,,,\"Rural 2-Lane Segments\")))","v":""},null,null,null,{"$f":"LARGE($F$1:$F$350,ROW())","v":1.2626783146707261},{"$f":"MATCH(LARGE($F$1:$F$350,ROW()),$F$1:$F$350,0)","v":51}]
[{"$f":"IF(MATCH(LARGE(INDIRECT(\"'Rural 2-Lane Segments'!$AH$5:$AH$10005\"),ROW()),INDIRECT(\"'Rural 2-Lane Segments'!$AH$5:$AH$10005\"),0)=MATCH(LARGE(INDIRECT(\"'Rural 2-Lane Segments'!$AH$5:$AH$10005\"),ROW()-1),INDIRECT(\"'Rural 2-Lane Segments'!$AH$5:$AH$10005\"),0),MATCH(LARGE(INDIRECT(\"'Rural 2-Lane Segments'!$AH$5:$AH$10005\"),ROW()),INDIRECT(ADDRESS(A1+1,33,,,\"Rural 2-Lane Segments\")&\":AH10004\"),0)+A1,MATCH(LARGE(INDIRECT(\"'Rural 2-Lane Segments'!$AH$5:$AH$10005\"),ROW()),INDIRECT(\"'Rural 2-Lane Segments'!$AH$5:$AH$10005\"),0)+4)","v":{"$error":"#NUM!"}},{"$f":"\"(SEG) \"&INDIRECT(ADDRESS($A2,2,,,\"Rural 2-Lane Segments\"))&\", \"&INDIRECT(ADDRESS($A2,3,,,\"Rural 2-Lane Segments\"))","v":{"$error":"#NUM!"}},{"$f":"INDIRECT(ADDRESS($A2,4,,,\"Rural 2-Lane Segments\"))","v":{"$error":"#NUM!"}},{"$f":"\"Length = \"&INDIRECT(ADDRESS($A2,5,,,\"Rural 2-Lane Segments\"))&\" mi\"","v":{"$error":"#NUM!"}},{"$error":"#NUM!"},{"$f":"IF(ISERROR(A2),\"\",INDIRECT(ADDRESS($A2,34,,,\"Rural 2-Lane Segments\")))","v":""},null,null,null,{"$f":"LARGE($F$1:$F$350,ROW())","v":1.1060167592537034},{"$f":"IF(MATCH(LARGE($F$1:$F$350,ROW()),$F$1:$F$350,0)=MATCH(LARGE($F$1:$F$350,ROW()-1),$F$1:$F$350,0),MATCH(LARGE($F$1:$F$350,ROW()),INDIRECT(ADDRESS(K1+1,6)&\":F350\"),0)+K1,MATCH(LARGE($F$1:$F$350,ROW()),$F$1:$F$350,0))","v":52}]
[{"$error":"#NUM!"},{"$error":"#NUM!"},{"$error":"#NUM!"},{"$error":"#NUM!"},{"$error":"#NUM!"},"",null,null,null,0.59133463997281854,{"$f":"IF(MATCH(LARGE($F$1:$F$350,ROW()),$F$1:$F$350,0)=MATCH(LARGE($F$1:$F$350,ROW()-1),$F$1:$F$350,0),MATCH(LARGE($F$1:$F$350,ROW()),INDIRECT(ADDRESS(K2+1,6)&\":F350\"),0)+K2,MATCH(LARGE($F$1:$F$350,ROW()),$F$1:$F$350,0))","v":53}]
[{"$error":"#NUM!"},{"$error":"#NUM!"},{"$error":"#NUM!"},{"$error":"#NUM!"},{"$error":"#NUM!"},"",null,null,null,0.17886428855973924,54]
[{"$error":"#NUM!"},{"$error":"#NUM!"},{"$error":"#NUM!"},{"$error":"#NUM!"},{"$error":"#NUM!"},"",null,null,null,-0.43050035184227425,55]
[{"$error":"#NUM!"},{"$error":"#NUM!"},{"$error":"#NUM!"},{"$error":"#NUM!"},{"$error":"#NUM!"},"",null,null,null,-0.55344341849236001,56]
[{"$error":"#NUM!"},{"$error":"#NUM!"},{"$error":"#NUM!"},{"$error":"#NUM!"},{"$error":"#NUM!"},"",null,null,null,-0.6234598088798724,57]
[{"$error":"#NUM!"},{"$error":"#NUM!"},{"$error":"#NUM!"},{"$error":"#NUM!"},{"$error":"#NUM!"},"",null,null,null,-1.208842157247588,58]
[{"$error":"#NUM!"},{"$error":"#NUM!"},{"$error":"#NUM!"},{"$error":"#NUM!"},{"$error":"#NUM!"},"",null,null,null,-1.3775096684401922,59]
[{"$error":"#NUM!"},{"$error":"#NUM!"},{"$error":"#NUM!"},{"$error":"#NUM!"},{"$error":"#NUM!"},"",null,null,null,-1.6308187636941125,60]
[{"$error":"#NUM!"},{"$error":"#NUM!"},{"$error":"#NUM!"},{"$error":"#NUM!"},{"$error":"#NUM!"},"",null,null,null,{"$error":"#NUM!"},{"$error":"#NUM!"}]
[{"$error":"#NUM!"},{"$error":"#NUM!"},{"$error":"#NUM!"},{"$error":"#NUM!"},{"$error":"#NUM!"},"",null,null,null,{"$error":"#NUM!"},{"$error":"#NUM!"}]
[{"$error":"#NUM!"},{"$error":"#NUM!"},{"$error":"#NUM!"},{"$error":"#NUM!"},{"$error":"#NUM!"},"",null,null,null,{"$error":"#NUM!"},{"$error":"#NUM!"}]
[{"$error":"#NUM!"},{"$error":"#NUM!"},{"$error":"#NUM!"},{"$error":"#NUM!"},{"$error":"#NUM!"},"",null,null,null,{"$error":"#NUM!"},{"$error":"#NUM!"}]
[{"$error":"#NUM!"},{"$error":"#NUM!"},{"$error":"#NUM!"},{"$error":"#NUM!"},{"$error":"#NUM!"},"",null,null,null,{"$error":"#NUM!"},{"$error":"#NUM!"}]
[{"$error":"#NUM!"},{"$error":"#NUM!"},{"$error":"#NUM!"},{"$error":"#NUM!"},{"$error":"#NUM!"},"",null,null,null,{"$error":"#NUM!"},{"$error":"#NUM!"}]
[{"$error":"#NUM!"},{"$error":"#NUM!"},{"$error":"#NUM!"},{"$error":"#NUM!"},{"$error":"#NUM!"},"",null,null,null,{"$error":"#NUM!"},{"$error":"#NUM!"}]
[{"$error":"#NUM!"},{"$error":"#NUM!"},{"$error":"#NUM!"},{"$error":"#NUM!"},{"$error":"#NUM!"},"",null,null,null,{"$error":"#NUM!"},{"$error":"#NUM!"}]
[{"$error":"#NUM!"},{"$error":"#NUM!"},{"$error":"#NUM!"},{"$error":"#NUM!"},{"$error":"#NUM!"},"",null,null,null,{"$error":"#NUM!"},{"$error":"#NUM!"}]
[{"$error":"#NUM!"},{"$error":"#NUM!"},{"$error":"#NUM!"},{"$error":"#NUM!"},{"$error":"#NUM!"},"",null,null,null,{"$error":"#NUM!"},{"$error":"#NUM!"}]
[{"$error":"#NUM!"},{"$error":"#NUM!"},{"$error":"#NUM!"},{"$error":"#NUM!"},{"$error":"#NUM!"},"",null,null,null,{"$error":"#NUM!"},{"$error":"#NUM!"}]
[{"$error":"#NUM!"},{"$error":"#NUM!"},{"$error":"#NUM!"},{"$error":"#NUM!"},{"$error":"#NUM!"},"",null,null,null,{"$error":"#NUM!"},{"$error":"#NUM!"}]
[{"$error":"#NUM!"},{"$error":"#NUM!"},{"$error":"#NUM!"},{"$error":"#NUM!"},{"$error":"#NUM!"},"",null,null,null,{"$error":"#NUM!"},{"$error":"#NUM!"}]
[{"$error":"#NUM!"},{"$error":"#NUM!"},{"$error":"#NUM!"},{"$error":"#NUM!"},{"$error":"#NUM!"},"",null,null,null,{"$error":"#NUM!"},{"$error":"#NUM!"}]
[{"$error":"#NUM!"},{"$error":"#NUM!"},{"$error":"#NUM!"},{"$error":"#NUM!"},{"$error":"#NUM!"},"",null,null,null,{"$error":"#NUM!"},{"$error":"#NUM!"}]
[{"$error":"#NUM!"},{"$error":"#NUM!"},{"$error":"#NUM!"},{"$error":"#NUM!"},{"$error":"#NUM!"},"",null,null,null,{"$error":"#NUM!"},{"$error":"#NUM!"}]
[{"$error":"#NUM!"},{"$error":"#NUM!"},{"$error":"#NUM!"},{"$error":"#NUM!"},{"$error":"#NUM!"},"",null,null,null,{"$error":"#NUM!"},{"$error":"#NUM!"}]
[{"$error":"#NUM!"},{"$error":"#NUM!"},{"$error":"#NUM!"},{"$error":"#NUM!"},{"$error":"#NUM!"},"",null,null,null,{"$error":"#NUM!"},{"$error":"#NUM!"}]
[{"$error":"#NUM!"},{"$error":"#NUM!"},{"$error":"#NUM!"},{"$error":"#NUM!"},{"$error":"#NUM!"},"",null,null,null,{"$error":"#NUM!"},{"$error":"#NUM!"}]
[{"$error":"#NUM!"},{"$error":"#NUM!"},{"$error":"#NUM!"},{"$error":"#NUM!"},{"$error":"#NUM!"},"",null,null,null,{"$error":"#NUM!"},{"$error":"#NUM!"}]
[{"$error":"#NUM!"},{"$error":"#NUM!"},{"$error":"#NUM!"},{"$error":"#NUM!"},{"$error":"#NUM!"},"",null,null,null,{"$error":"#NUM!"},{"$error":"#NUM!"}]
[{"$error":"#NUM!"},{"$error":"#NUM!"},{"$error":"#NUM!"},{"$error":"#NUM!"},{"$error":"#NUM!"},"",null,null,null,{"$error":"#NUM!"},{"$error":"#NUM!"}]
[{"$error":"#NUM!"},{"$error":"#NUM!"},{"$error":"#NUM!"},{"$error":"#NUM!"},{"$error":"#NUM!"},"",null,null,null,{"$error":"#NUM!"},{"$error":"#NUM!"}]
[{"$f":"IF(MATCH(LARGE(INDIRECT(\"'Rural 2-Lane Segments'!$AH$5:$AH$10005\"),ROW()),INDIRECT(\"'Rural 2-Lane Segments'!$AH$5:$AH$10005\"),0)=MATCH(LARGE(INDIRECT(\"'Rural 2-Lane Segments'!$AH$5:$AH$10005\"),ROW()-1),INDIRECT(\"'Rural 2-Lane Segments'!$AH$5:$AH$10005\"),0),MATCH(LARGE(INDIRECT(\"'Rural 2-Lane Segments'!$AH$5:$AH$10005\"),ROW()),INDIRECT(ADDRESS(A33+1,33,,,\"Rural 2-Lane Segments\")&\":AH10004\"),0)+A33,MATCH(LARGE(INDIRECT(\"'Rural 2-Lane Segments'!$AH$5:$AH$10005\"),ROW()),INDIRECT(\"'Rural 2-Lane Segments'!$AH$5:$AH$10005\"),0)+4)","v":{"$error":"#NUM!"}},{"$error":"#NUM!"},{"$error":"#NUM!"},{"$error":"#NUM!"},{"$error":"#NUM!"},"",null,null,null,{"$error":"#NUM!"},{"$error":"#NUM!"}]
[{"$error":"#NUM!"},{"$error":"#NUM!"},{"$error":"#NUM!"},{"$error":"#NUM!"},{"$error":"#NUM!"},"",null,null,null,{"$error":"#NUM!"},{"$error":"#NUM!"}]
[{"$error":"#NUM!"},{"$error":"#NUM!"},{"$error":"#NUM!"},{"$error":"#NUM!"},{"$error":"#NUM!"},"",null,null,null,{"$error":"#NUM!"},{"$error":"#NUM!"}]
[{"$error":"#NUM!"},{"$error":"#NUM!"},{"$error":"#NUM!"},{"$error":"#NUM!"},{"$error":"#NUM!"},"",null,null,null,{"$error":"#NUM!"},{"$error":"#NUM!"}]
[{"$error":"#NUM!"},{"$error":"#NUM!"},{"$error":"#NUM!"},{"$error":"#NUM!"},{"$error":"#NUM!"},"",null,null,null,{"$error":"#NUM!"},{"$error":"#NUM!"}]
[{"$error":"#NUM!"},{"$error":"#NUM!"},{"$error":"#NUM!"},{"$error":"#NUM!"},{"$error":"#NUM!"},"",null,null,null,{"$error":"#NUM!"},{"$error":"#NUM!"}]
[{"$error":"#NUM!"},{"$error":"#NUM!"},{"$error":"#NUM!"},{"$error":"#NUM!"},{"$error":"#NUM!"},"",null,null,null,{"$error":"#NUM!"},{"$error":"#NUM!"}]
[{"$error":"#NUM!"},{"$error":"#NUM!"},{"$error":"#NUM!"},{"$error":"#NUM!"},{"$error":"#NUM!"},"",null,null,null,{"$error":"#NUM!"},{"$error":"#NUM!"}]
[{"$error":"#NUM!"},{"$error":"#NUM!"},{"$error":"#NUM!"},{"$error":"#NUM!"},{"$error":"#NUM!"},"",null,null,null,{"$error":"#NUM!"},{"$error":"#NUM!"}]
[{"$error":"#NUM!"},{"$error":"#NUM!"},{"$error":"#NUM!"},{"$error":"#NUM!"},{"$error":"#NUM!"},"",null,null,null,{"$error":"#NUM!"},{"$error":"#NUM!"}]
[{"$error":"#NUM!"},{"$error":"#NUM!"},{"$error":"#NUM!"},{"$error":"#NUM!"},{"$error":"#NUM!"},"",null,null,null,{"$error":"#NUM!"},{"$error":"#NUM!"}]
[{"$error":"#NUM!"},{"$error":"#NUM!"},{"$error":"#NUM!"},{"$error":"#NUM!"},{"$error":"#NUM!"},"",null,null,null,{"$error":"#NUM!"},{"$error":"#NUM!"}]
[{"$error":"#NUM!"},{"$error":"#NUM!"},{"$error":"#NUM!"},{"$error":"#NUM!"},{"$error":"#NUM!"},"",null,null,null,{"$error":"#NUM!"},{"$error":"#NUM!"}]
[{"$error":"#NUM!"},{"$error":"#NUM!"},{"$error":"#NUM!"},{"$error":"#NUM!"},{"$error":"#NUM!"},"",null,null,null,{"$error":"#NUM!"},{"$error":"#NUM!"}]
[{"$error":"#NUM!"},{"$error":"#NUM!"},{"$error":"#NUM!"},{"$error":"#NUM!"},{"$error":"#NUM!"},"",null,null,null,{"$error":"#NUM!"},{"$error":"#NUM!"}]
[{"$error":"#NUM!"},{"$error":"#NUM!"},{"$error":"#NUM!"},{"$error":"#NUM!"},{"$error":"#NUM!"},"",null,null,null,{"$error":"#NUM!"},{"$error":"#NUM!"}]
[{"$error":"#NUM!"},{"$error":"#NUM!"},{"$error":"#NUM!"},{"$error":"#NUM!"},{"$error":"#NUM!"},"",null,null,null,{"$error":"#NUM!"},{"$error":"#NUM!"}]
[{"$f":"MATCH(LARGE(INDIRECT(\"'Rural 2-Lane Intersections'!$X5:$X10004\"),ROW()-50),INDIRECT(\"'Rural 2-Lane Intersections'!$X5:$X10004\"),0)+4","v":14},{"$f":"\"(INT) \"&INDIRECT(ADDRESS($A51,2,,,\"Rural 2-Lane Intersections\"))&\" @ \"&INDIRECT(ADDRESS($A51,3,,,\"Rural 2-Lane Intersections\"))","v":"(INT) Starfruit @ Alma"},{"$f":"INDIRECT(ADDRESS($A51,4,,,\"Rural 2-Lane Intersections\"))","v":"Heritage County"},{"$f":"\"Control = \"&INDIRECT(ADDRESS($A51,5,,,\"Rural 2-Lane Intersections\"))","v":"Control = 4ST"},{"$f":"\"Major AADT: \"&TEXT(INDIRECT(ADDRESS($A51,6,,,\"Rural 2-Lane Intersections\")),\"#,##0\")&\" / Minor AADT: \"&TEXT(INDIRECT(ADDRESS($A51,7,,,\"Rural 2-Lane Intersections\")),\"#,##0\")","v":"Major AADT: 1,900 / Minor AADT: 500"},{"$f":"IF(ISERROR(A51),\"\",INDIRECT(ADDRESS($A51,24,,,\"Rural 2-Lane Intersections\")))","v":1.2626783146707261}]
[{"$f":"IF(MATCH(LARGE(INDIRECT(\"'Rural 2-Lane Intersections'!$X5:$X10004\"),ROW()-50),INDIRECT(\"'Rural 2-Lane Intersections'!$X5:$X10004\"),0)=MATCH(LARGE(INDIRECT(\"'Rural 2-Lane Intersections'!$X5:$X10004\"),ROW()-50-1),INDIRECT(\"'Rural 2-Lane Intersections'!$X5:$X10004\"),0),MATCH(LARGE(INDIRECT(\"'Rural 2-Lane Intersections'!$X5:$X10004\"),ROW()-50),INDIRECT(ADDRESS(A51+1,23,,,\"Rural 2-Lane Intersections\")&\":X10004\"),0)+A51,MATCH(LARGE(INDIRECT(\"'Rural 2-Lane Intersections'!$X5:$X10004\"),ROW()-50),INDIRECT(\"'Rural 2-Lane Intersections'!$X5:$X10004\"),0)+4)","v":8},{"$f":"\"(INT) \"&INDIRECT(ADDRESS($A52,2,,,\"Rural 2-Lane Intersections\"))&\" @ \"&INDIRECT(ADDRESS($A52,3,,,\"Rural 2-Lane Intersections\"))","v":"(INT) Pineapple @ Emil"},{"$f":"INDIRECT(ADDRESS($A52,4,,,\"Rural 2-Lane Intersections\"))","v":"Heritage County"},{"$f":"\"Control = \"&INDIRECT(ADDRESS($A52,5,,,\"Rural 2-Lane Intersections\"))","v":"Control = 4ST"},{"$f":"\"Major AADT: \"&TEXT(INDIRECT(ADDRESS($A52,6,,,\"Rural 2-Lane Intersections\")),\"#,##0\")&\" / Minor AADT: \"&TEXT(INDIRECT(ADDRESS($A52,7,,,\"Rural 2-Lane Intersections\")),\"#,##0\")","v":"Major AADT: 3,500 / Minor AADT: 3,300"},1.1060167592537034]
[10,{"$f":"\"(INT) \"&INDIRECT(ADDRESS($A53,2,,,\"Rural 2-Lane Intersections\"))&\" @ \"&INDIRECT(ADDRESS($A53,3,,,\"Rural 2-Lane Intersections\"))","v":"(INT) Blueberry @ Matti"},{"$f":"INDIRECT(ADDRESS($A53,4,,,\"Rural 2-Lane Intersections\"))","v":"Heritage County"},{"$f":"\"Control = \"&INDIRECT(ADDRESS($A53,5,,,\"Rural 2-Lane Intersections\"))","v":"Control = 3ST"},{"$f":"\"Major AADT: \"&TEXT(INDIRECT(ADDRESS($A53,6,,,\"Rural 2-Lane Intersections\")),\"#,##0\")&\" / Minor AADT: \"&TEXT(INDIRECT(ADDRESS($A53,7,,,\"Rural 2-Lane Intersections\")),\"#,##0\")","v":"Major AADT: 1,800 / Minor AADT: 700"},0.59133463997281854]
[11,"(INT) Raspberry @ Arvo","Heritage County","Control = 3ST","Major AADT: 2,350 / Minor AADT: 900",0.17886428855973924]
[12,"(INT) Kiwi @ Hilma","Heritage County","Control = 3ST","Major AADT: 1,200 / Minor AADT: 1,150",-0.43050035184227425]
[5,"(INT) Apple @ Heikki","Heritage County","Control = 4ST","Major AADT: 3,300 / Minor AADT: 2,400",-0.55344341849236001]
[13,"(INT) Lemon @ Tuula","Heritage County","Control = 4ST","Major AADT: 3,700 / Minor AADT: 2,100",-0.6234598088798724]
[7,"(INT) Mango @ Aili","Heritage County","Control = 4ST","Major AADT: 3,200 / Minor AADT: 1,150",-1.208842157247588]
[6,"(INT) Banana @ Toivo","Heritage County","Control = 4ST","Major AADT: 2,100 / Minor AADT: 2,000",-1.3775096684401922]
[9,"(INT) Orange @ Jaakko","Heritage County","Control = 4ST","Major AADT: 2,750 / Minor AADT: 2,500",-1.6308187636941125]
[{"$error":"#NUM!"},{"$error":"#NUM!"},{"$error":"#NUM!"},{"$error":"#NUM!"},{"$error":"#NUM!"},""]
[{"$error":"#NUM!"},{"$error":"#NUM!"},{"$error":"#NUM!"},{"$error":"#NUM!"},{"$error":"#NUM!"},""]
[{"$error":"#NUM!"},{"$error":"#NUM!"},{"$error":"#NUM!"},{"$error":"#NUM!"},{"$error":"#NUM!"},""]
[{"$error":"#NUM!"},{"$error":"#NUM!"},{"$error":"#NUM!"},{"$error":"#NUM!"},{"$error":"#NUM!"},""]
[{"$error":"#NUM!"},{"$error":"#NUM!"},{"$error":"#NUM!"},{"$error":"#NUM!"},{"$error":"#NUM!"},""]
[{"$error":"#NUM!"},{"$error":"#NUM!"},{"$error":"#NUM!"},{"$error":"#NUM!"},{"$error":"#NUM!"},""]
[{"$error":"#NUM!"},{"$error":"#NUM!"},{"$error":"#NUM!"},{"$error":"#NUM!"},{"$error":"#NUM!"},""]
[{"$error":"#NUM!"},{"$error":"#NUM!"},{"$error":"#NUM!"},{"$error":"#NUM!"},{"$error":"#NUM!"},""]
[{"$error":"#NUM!"},{"$error":"#NUM!"},{"$error":"#NUM!"},{"$error":"#NUM!"},{"$error":"#NUM!"},""]
[{"$error":"#NUM!"},{"$error":"#NUM!"},{"$error":"#NUM!"},{"$error":"#NUM!"},{"$error":"#NUM!"},""]
[{"$error":"#NUM!"},{"$error":"#NUM!"},{"$error":"#NUM!"},{"$error":"#NUM!"},{"$error":"#NUM!"},""]
[{"$error":"#NUM!"},{"$error":"#NUM!"},{"$error":"#NUM!"},{"$error":"#NUM!"},{"$error":"#NUM!"},""]
[{"$error":"#NUM!"},{"$error":"#NUM!"},{"$error":"#NUM!"},{"$error":"#NUM!"},{"$error":"#NUM!"},""]
[{"$error":"#NUM!"},{"$error":"#NUM!"},{"$error":"#NUM!"},{"$error":"#NUM!"},{"$error":"#NUM!"},""]
[{"$error":"#NUM!"},{"$error":"#NUM!"},{"$error":"#NUM!"},{"$error":"#NUM!"},{"$error":"#NUM!"},""]
[{"$error":"#NUM!"},{"$error":"#NUM!"},{"$error":"#NUM!"},{"$error":"#NUM!"},{"$error":"#NUM!"},""]
[{"$error":"#NUM!"},{"$error":"#NUM!"},{"$error":"#NUM!"},{"$error":"#NUM!"},{"$error":"#NUM!"},""]
[{"$error":"#NUM!"},{"$error":"#NUM!"},{"$error":"#NUM!"},{"$error":"#NUM!"},{"$error":"#NUM!"},""]
[{"$error":"#NUM!"},{"$error":"#NUM!"},{"$error":"#NUM!"},{"$error":"#NUM!"},{"$error":"#NUM!"},""]
[{"$error":"#NUM!"},{"$error":"#NUM!"},{"$error":"#NUM!"},{"$error":"#NUM!"},{"$error":"#NUM!"},""]
[{"$error":"#NUM!"},{"$error":"#NUM!"},{"$error":"#NUM!"},{"$error":"#NUM!"},{"$error":"#NUM!"},""]
[{"$error":"#NUM!"},{"$error":"#NUM!"},{"$error":"#NUM!"},{"$error":"#NUM!"},{"$error":"#NUM!"},""]
[{"$error":"#NUM!"},{"$error":"#NUM!"},{"$error":"#NUM!"},{"$error":"#NUM!"},{"$error":"#NUM!"},{"$f":"IF(ISERROR(A83),\"\",INDIRECT(ADDRESS($A83,24,,,\"Rural 2-Lane Intersections\")))","v":""}]
[{"$f":"IF(MATCH(LARGE(INDIRECT(\"'Rural 2-Lane Intersections'!$X5:$X10004\"),ROW()-50),INDIRECT(\"'Rural 2-Lane Intersections'!$X5:$X10004\"),0)=MATCH(LARGE(INDIRECT(\"'Rural 2-Lane Intersections'!$X5:$X10004\"),ROW()-50-1),INDIRECT(\"'Rural 2-Lane Intersections'!$X5:$X10004\"),0),MATCH(LARGE(INDIRECT(\"'Rural 2-Lane Intersections'!$X5:$X10004\"),ROW()-50),INDIRECT(ADDRESS(A83+1,23,,,\"Rural 2-Lane Intersections\")&\":X10004\"),0)+A83,MATCH(LARGE(INDIRECT(\"'Rural 2-Lane Intersections'!$X5:$X10004\"),ROW()-50),INDIRECT(\"'Rural 2-Lane Intersections'!$X5:$X10004\"),0)+4)","v":{"$error":"#NUM!"}},{"$error":"#NUM!"},{"$error":"#NUM!"},{"$error":"#NUM!"},{"$error":"#NUM!"},""]
[{"$error":"#NUM!"},{"$error":"#NUM!"},{"$error":"#NUM!"},{"$error":"#NUM!"},{"$error":"#NUM!"},""]
[{"$error":"#NUM!"},{"$error":"#NUM!"},{"$error":"#NUM!"},{"$error":"#NUM!"},{"$error":"#NUM!"},""]
[{"$error":"#NUM!"},{"$error":"#NUM!"},{"$error":"#NUM!"},{"$error":"#NUM!"},{"$error":"#NUM!"},""]
[{"$error":"#NUM!"},{"$error":"#NUM!"},{"$error":"#NUM!"},{"$error":"#NUM!"},{"$error":"#NUM!"},""]
[{"$error":"#NUM!"},{"$error":"#NUM!"},{"$error":"#NUM!"},{"$error":"#NUM!"},{"$error":"#NUM!"},""]
[{"$error":"#NUM!"},{"$error":"#NUM!"},{"$error":"#NUM!"},{"$error":"#NUM!"},{"$error":"#NUM!"},""]
[{"$error":"#NUM!"},{"$error":"#NUM!"},{"$error":"#NUM!"},{"$error":"#NUM!"},{"$error":"#NUM!"},""]
[{"$error":"#NUM!"},{"$error":"#NUM!"},{"$error":"#NUM!"},{"$error":"#NUM!"},{"$error":"#NUM!"},""]
[{"$error":"#NUM!"},{"$error":"#NUM!"},{"$error":"#NUM!"},{"$error":"#NUM!"},{"$error":"#NUM!"},""]
[{"$error":"#NUM!"},{"$error":"#NUM!"},{"$error":"#NUM!"},{"$error":"#NUM!"},{"$error":"#NUM!"},""]
[{"$error":"#NUM!"},{"$error":"#NUM!"},{"$error":"#NUM!"},{"$error":"#NUM!"},{"$error":"#NUM!"},""]
[{"$error":"#NUM!"},{"$error":"#NUM!"},{"$error":"#NUM!"},{"$error":"#NUM!"},{"$error":"#NUM!"},""]
[{"$error":"#NUM!"},{"$error":"#NUM!"},{"$error":"#NUM!"},{"$error":"#NUM!"},{"$error":"#NUM!"},""]
[{"$error":"#NUM!"},{"$error":"#NUM!"},{"$error":"#NUM!"},{"$error":"#NUM!"},{"$error":"#NUM!"},""]
[{"$error":"#NUM!"},{"$error":"#NUM!"},{"$error":"#NUM!"},{"$error":"#NUM!"},{"$error":"#NUM!"},""]
[{"$error":"#NUM!"},{"$error":"#NUM!"},{"$error":"#NUM!"},{"$error":"#NUM!"},{"$error":"#NUM!"},""]
[{"$f":"MATCH(LARGE(INDIRECT(\"'Rural Divided Multilane Seg'!$W5:$W10004\"),ROW()-100),INDIRECT(\"'Rural Divided Multilane Seg'!$W5:$W10004\"),0)+4","v":{"$error":"#NUM!"}},{"$f":"\"(SEG) \"&INDIRECT(ADDRESS($A101,2,,,\"Rural Divided Multilane Seg\"))&\", \"&INDIRECT(ADDRESS($A101,3,,,\"Rural Divided Multilane Seg\"))","v":{"$error":"#NUM!"}},{"$f":"INDIRECT(ADDRESS($A101,4,,,\"Rural Divided Multilane Seg\"))","v":{"$error":"#NUM!"}},{"$f":"\"Length = \"&INDIRECT(ADDRESS($A101,5,,,\"Rural Divided Multilane Seg\"))&\" mi\"","v":{"$error":"#NUM!"}},{"$f":"\"AADT: \"&TEXT(INDIRECT(ADDRESS($A101,6,,,\"Rural Divided Multilane Seg\")),\"#,##0\")","v":{"$error":"#NUM!"}},{"$f":"IF(ISERROR(A101),\"\",INDIRECT(ADDRESS($A101,23,,,\"Rural Divided Multilane Seg\")))","v":""}]
[{"$f":"IF(MATCH(LARGE(INDIRECT(\"'Rural Divided Multilane Seg'!$W$5:$W$10005\"),ROW()-100),INDIRECT(\"'Rural Divided Multilane Seg'!$W$5:$W$10005\"),0)=MATCH(LARGE(INDIRECT(\"'Rural Divided Multilane Seg'!$W$5:$W$10005\"),ROW()-100-1),INDIRECT(\"'Rural Divided Multilane Seg'!$W$5:$W$10005\"),0),MATCH(LARGE(INDIRECT(\"'Rural Divided Multilane Seg'!$W$5:$W$10005\"),ROW()-100),INDIRECT(ADDRESS(A101+1,22,,,\"Rural Divided Multilane Seg\")&\":W10004\"),0)+A101,MATCH(LARGE(INDIRECT(\"'Rural Divided Multilane Seg'!$W$5:$W$10005\"),ROW()-100),INDIRECT(\"'Rural Divided Multilane Seg'!$W$5:$W$10005\"),0)+4)","v":{"$error":"#NUM!"}},{"$f":"\"(SEG) \"&INDIRECT(ADDRESS($A102,2,,,\"Rural Divided Multilane Seg\"))&\", \"&INDIRECT(ADDRESS($A102,3,,,\"Rural Divided Multilane Seg\"))","v":{"$error":"#NUM!"}},{"$f":"INDIRECT(ADDRESS($A102,4,,,\"Rural Divided Multilane Seg\"))","v":{"$error":"#NUM!"}},{"$f":"\"Length = \"&INDIRECT(ADDRESS($A102,5,,,\"Rural Divided Multilane Seg\"))&\" mi\"","v":{"$error":"#NUM!"}},{"$f":"\"AADT: \"&TEXT(INDIRECT(ADDRESS($A102,6,,,\"Rural Divided Multilane Seg\")),\"#,##0\")","v":{"$error":"#NUM!"}},""]
[{"$error":"#NUM!"},{"$f":"\"(SEG) \"&INDIRECT(ADDRESS($A103,2,,,\"Rural Divided Multilane Seg\"))&\", \"&INDIRECT(ADDRESS($A103,3,,,\"Rural Divided Multilane Seg\"))","v":{"$error":"#NUM!"}},{"$f":"INDIRECT(ADDRESS($A103,4,,,\"Rural Divided Multilane Seg\"))","v":{"$error":"#NUM!"}},{"$f":"\"Length = \"&INDIRECT(ADDRESS($A103,5,,,\"Rural Divided Multilane Seg\"))&\" mi\"","v":{"$error":"#NUM!"}},{"$f":"\"AADT: \"&TEXT(INDIRECT(ADDRESS($A103,6,,,\"Rural Divided Multilane Seg\")),\"#,##0\")","v":{"$error":"#NUM!"}},""]
[{"$error":"#NUM!"},{"$error":"#NUM!"},{"$error":"#NUM!"},{"$error":"#NUM!"},{"$error":"#NUM!"},""]
[{"$error":"#NUM!"},{"$error":"#NUM!"},{"$error":"#NUM!"},{"$error":"#NUM!"},{"$error":"#NUM!"},""]
[{"$error":"#NUM!"},{"$error":"#NUM!"},{"$error":"#NUM!"},{"$error":"#NUM!"},{"$error":"#NUM!"},""]
[{"$error":"#NUM!"},{"$error":"#NUM!"},{"$error":"#NUM!"},{"$error":"#NUM!"},{"$error":"#NUM!"},""]
[{"$error":"#NUM!"},{"$error":"#NUM!"},{"$error":"#NUM!"},{"$error":"#NUM!"},{"$error":"#NUM!"},""]
[{"$error":"#NUM!"},{"$error":"#NUM!"},{"$error":"#NUM!"},{"$error":"#NUM!"},{"$error":"#NUM!"},""]
[{"$error":"#NUM!"},{"$error":"#NUM!"},{"$error":"#NUM!"},{"$error":"#NUM!"},{"$error":"#NUM!"},""]
[{"$error":"#NUM!"},{"$error":"#NUM!"},{"$error":"#NUM!"},{"$error":"#NUM!"},{"$error":"#NUM!"},""]
[{"$error":"#NUM!"},{"$error":"#NUM!"},{"$error":"#NUM!"},{"$error":"#NUM!"},{"$error":"#NUM!"},""]
[{"$error":"#NUM!"},{"$error":"#NUM!"},{"$error":"#NUM!"},{"$error":"#NUM!"},{"$error":"#NUM!"},""]
[{"$error":"#NUM!"},{"$error":"#NUM!"},{"$error":"#NUM!"},{"$error":"#NUM!"},{"$error":"#NUM!"},""]
[{"$error":"#NUM!"},{"$error":"#NUM!"},{"$error":"#NUM!"},{"$error":"#NUM!"},{"$error":"#NUM!"},""]
[{"$error":"#NUM!"},{"$error":"#NUM!"},{"$error":"#NUM!"},{"$error":"#NUM!"},{"$error":"#NUM!"},""]
[{"$error":"#NUM!"},{"$error":"#NUM!"},{"$error":"#NUM!"},{"$error":"#NUM!"},{"$error":"#NUM!"},""]
[{"$error":"#NUM!"},{"$error":"#NUM!"},{"$error":"#NUM!"},{"$error":"#NUM!"},{"$error":"#NUM!"},""]
[{"$error":"#NUM!"},{"$error":"#NUM!"},{"$error":"#NUM!"},{"$error":"#NUM!"},{"$error":"#NUM!"},""]
[{"$error":"#NUM!"},{"$error":"#NUM!"},{"$error":"#NUM!"},{"$error":"#NUM!"},{"$error":"#NUM!"},""]
[{"$error":"#NUM!"},{"$error":"#NUM!"},{"$error":"#NUM!"},{"$error":"#NUM!"},{"$error":"#NUM!"},""]
[{"$error":"#NUM!"},{"$error":"#NUM!"},{"$error":"#NUM!"},{"$error":"#NUM!"},{"$error":"#NUM!"},""]
[{"$error":"#NUM!"},{"$error":"#NUM!"},{"$error":"#NUM!"},{"$error":"#NUM!"},{"$error":"#NUM!"},""]
[{"$error":"#NUM!"},{"$error":"#NUM!"},{"$error":"#NUM!"},{"$error":"#NUM!"},{"$error":"#NUM!"},""]
[{"$error":"#NUM!"},{"$error":"#NUM!"},{"$error":"#NUM!"},{"$error":"#NUM!"},{"$error":"#NUM!"},""]
[{"$error":"#NUM!"},{"$error":"#NUM!"},{"$error":"#NUM!"},{"$error":"#NUM!"},{"$error":"#NUM!"},""]
[{"$error":"#NUM!"},{"$error":"#NUM!"},{"$error":"#NUM!"},{"$error":"#NUM!"},{"$error":"#NUM!"},""]
[{"$error":"#NUM!"},{"$error":"#NUM!"},{"$error":"#NUM!"},{"$error":"#NUM!"},{"$error":"#NUM!"},""]
[{"$error":"#NUM!"},{"$error":"#NUM!"},{"$error":"#NUM!"},{"$error":"#NUM!"},{"$error":"#NUM!"},""]
[{"$error":"#NUM!"},{"$error":"#NUM!"},{"$error":"#NUM!"},{"$error":"#NUM!"},{"$error":"#NUM!"},""]
[{"$error":"#NUM!"},{"$error":"#NUM!"},{"$error":"#NUM!"},{"$error":"#NUM!"},{"$error":"#NUM!"},""]
[{"$error":"#NUM!"},{"$error":"#NUM!"},{"$error":"#NUM!"},{"$error":"#NUM!"},{"$error":"#NUM!"},""]
[{"$error":"#NUM!"},{"$error":"#NUM!"},{"$error":"#NUM!"},{"$error":"#NUM!"},{"$error":"#NUM!"},{"$f":"IF(ISERROR(A133),\"\",INDIRECT(ADDRESS($A133,23,,,\"Rural Divided Multilane Seg\")))","v":""}]
[{"$f":"IF(MATCH(LARGE(INDIRECT(\"'Rural Divided Multilane Seg'!$W$5:$W$10005\"),ROW()-100),INDIRECT(\"'Rural Divided Multilane Seg'!$W$5:$W$10005\"),0)=MATCH(LARGE(INDIRECT(\"'Rural Divided Multilane Seg'!$W$5:$W$10005\"),ROW()-100-1),INDIRECT(\"'Rural Divided Multilane Seg'!$W$5:$W$10005\"),0),MATCH(LARGE(INDIRECT(\"'Rural Divided Multilane Seg'!$W$5:$W$10005\"),ROW()-100),INDIRECT(ADDRESS(A133+1,22,,,\"Rural Divided Multilane Seg\")&\":W10004\"),0)+A133,MATCH(LARGE(INDIRECT(\"'Rural Divided Multilane Seg'!$W$5:$W$10005\"),ROW()-100),INDIRECT(\"'Rural Divided Multilane Seg'!$W$5:$W$10005\"),0)+4)","v":{"$error":"#NUM!"}},{"$error":"#NUM!"},{"$error":"#NUM!"},{"$error":"#NUM!"},{"$error":"#NUM!"},""]
[{"$error":"#NUM!"},{"$error":"#NUM!"},{"$error":"#NUM!"},{"$error":"#NUM!"},{"$error":"#NUM!"},""]
[{"$error":"#NUM!"},{"$error":"#NUM!"},{"$error":"#NUM!"},{"$error":"#NUM!"},{"$error":"#NUM!"},""]
[{"$error":"#NUM!"},{"$error":"#NUM!"},{"$error":"#NUM!"},{"$error":"#NUM!"},{"$error":"#NUM!"},""]
[{"$error":"#NUM!"},{"$error":"#NUM!"},{"$error":"#NUM!"},{"$error":"#NUM!"},{"$error":"#NUM!"},""]
[{"$error":"#NUM!"},{"$error":"#NUM!"},{"$error":"#NUM!"},{"$error":"#NUM!"},{"$error":"#NUM!"},""]
[{"$error":"#NUM!"},{"$error":"#NUM!"},{"$error":"#NUM!"},{"$error":"#NUM!"},{"$error":"#NUM!"},""]
[{"$error":"#NUM!"},{"$error":"#NUM!"},{"$error":"#NUM!"},{"$error":"#NUM!"},{"$error":"#NUM!"},""]
[{"$error":"#NUM!"},{"$error":"#NUM!"},{"$error":"#NUM!"},{"$error":"#NUM!"},{"$error":"#NUM!"},""]
[{"$error":"#NUM!"},{"$error":"#NUM!"},{"$error":"#NUM!"},{"$error":"#NUM!"},{"$error":"#NUM!"},""]
[{"$error":"#NUM!"},{"$error":"#NUM!"},{"$error":"#NUM!"},{"$error":"#NUM!"},{"$error":"#NUM!"},""]
[{"$error":"#NUM!"},{"$error":"#NUM!"},{"$error":"#NUM!"},{"$error":"#NUM!"},{"$error":"#NUM!"},""]
[{"$error":"#NUM!"},{"$error":"#NUM!"},{"$error":"#NUM!"},{"$error":"#NUM!"},{"$error":"#NUM!"},""]
[{"$error":"#NUM!"},{"$error":"#NUM!"},{"$error":"#NUM!"},{"$error":"#NUM!"},{"$error":"#NUM!"},""]
[{"$error":"#NUM!"},{"$error":"#NUM!"},{"$error":"#NUM!"},{"$error":"#NUM!"},{"$error":"#NUM!"},""]
[{"$error":"#NUM!"},{"$error":"#NUM!"},{"$error":"#NUM!"},{"$error":"#NUM!"},{"$error":"#NUM!"},""]
[{"$error":"#NUM!"},{"$error":"#NUM!"},{"$error":"#NUM!"},{"$error":"#NUM!"},{"$error":"#NUM!"},""]
[{"$f":"MATCH(LARGE(INDIRECT(\"'Rural Undivided Multilane Seg'!$W5:$W10004\"),ROW()-150),INDIRECT(\"'Rural Undivided Multilane Seg'!$W5:$W10004\"),0)+4","v":{"$error":"#NUM!"}},{"$f":"\"(SEG) \"&INDIRECT(ADDRESS($A151,2,,,\"Rural Undivided Multilane Seg\"))&\", \"&INDIRECT(ADDRESS($A151,3,,,\"Rural Undivided Multilane Seg\"))","v":{"$error":"#NUM!"}},{"$f":"INDIRECT(ADDRESS($A151,4,,,\"Rural Undivided Multilane Seg\"))","v":{"$error":"#NUM!"}},{"$f":"\"Length = \"&INDIRECT(ADDRESS($A151,5,,,\"Rural Undivided Multilane Seg\"))&\" mi\"","v":{"$error":"#NUM!"}},{"$f":"\"AADT: \"&TEXT(INDIRECT(ADDRESS($A151,6,,,\"Rural Undivided Multilane Seg\")),\"#,##0\")","v":{"$error":"#NUM!"}},{"$f":"IF(ISERROR(A151),\"\",INDIRECT(ADDRESS($A151,23,,,\"Rural Undivided Multilane Seg\")))","v":""}]
[{"$f":"IF(MATCH(LARGE(INDIRECT(\"'Rural Undivided Multilane Seg'!$W$5:$W$10005\"),ROW()-150),INDIRECT(\"'Rural Undivided Multilane Seg'!$W$5:$W$10005\"),0)=MATCH(LARGE(INDIRECT(\"'Rural Undivided Multilane Seg'!$W$5:$W$10005\"),ROW()-150-1),INDIRECT(\"'Rural Undivided Multilane Seg'!$W$5:$W$10005\"),0),MATCH(LARGE(INDIRECT(\"'Rural Undivided Multilane Seg'!$W$5:$W$10005\"),ROW()-150),INDIRECT(ADDRESS(A151+1,22,,,\"Rural Undivided Multilane Seg\")&\":W10004\"),0)+A151,MATCH(LARGE(INDIRECT(\"'Rural Undivided Multilane Seg'!$W$5:$W$10005\"),ROW()-150),INDIRECT(\"'Rural Undivided Multilane Seg'!$W$5:$W$10005\"),0)+4)","v":{"$error":"#NUM!"}},{"$f":"\"(SEG) \"&INDIRECT(ADDRESS($A152,2,,,\"Rural Undivided Multilane Seg\"))&\", \"&INDIRECT(ADDRESS($A152,3,,,\"Rural Undivided Multilane Seg\"))","v":{"$error":"#NUM!"}},{"$f":"INDIRECT(ADDRESS($A152,4,,,\"Rural Undivided Multilane Seg\"))","v":{"$error":"#NUM!"}},{"$f":"\"Length = \"&INDIRECT(ADDRESS($A152,5,,,\"Rural Undivided Multilane Seg\"))&\" mi\"","v":{"$error":"#NUM!"}},{"$f":"\"AADT: \"&TEXT(INDIRECT(ADDRESS($A152,6,,,\"Rural Undivided Multilane Seg\")),\"#,##0\")","v":{"$error":"#NUM!"}},""]
[{"$error":"#NUM!"},{"$f":"\"(SEG) \"&INDIRECT(ADDRESS($A153,2,,,\"Rural Undivided Multilane Seg\"))&\", \"&INDIRECT(ADDRESS($A153,3,,,\"Rural Undivided Multilane Seg\"))","v":{"$error":"#NUM!"}},{"$f":"INDIRECT(ADDRESS($A153,4,,,\"Rural Undivided Multilane Seg\"))","v":{"$error":"#NUM!"}},{"$f":"\"Length = \"&INDIRECT(ADDRESS($A153,5,,,\"Rural Undivided Multilane Seg\"))&\" mi\"","v":{"$error":"#NUM!"}},{"$f":"\"AADT: \"&TEXT(INDIRECT(ADDRESS($A153,6,,,\"Rural Undivided Multilane Seg\")),\"#,##0\")","v":{"$error":"#NUM!"}},""]
[{"$error":"#NUM!"},{"$error":"#NUM!"},{"$error":"#NUM!"},{"$error":"#NUM!"},{"$error":"#NUM!"},""]
[{"$error":"#NUM!"},{"$error":"#NUM!"},{"$error":"#NUM!"},{"$error":"#NUM!"},{"$error":"#NUM!"},""]
[{"$error":"#NUM!"},{"$error":"#NUM!"},{"$error":"#NUM!"},{"$error":"#NUM!"},{"$error":"#NUM!"},""]
[{"$error":"#NUM!"},{"$error":"#NUM!"},{"$error":"#NUM!"},{"$error":"#NUM!"},{"$error":"#NUM!"},""]
[{"$error":"#NUM!"},{"$error":"#NUM!"},{"$error":"#NUM!"},{"$error":"#NUM!"},{"$error":"#NUM!"},""]
[{"$error":"#NUM!"},{"$error":"#NUM!"},{"$error":"#NUM!"},{"$error":"#NUM!"},{"$error":"#NUM!"},""]
[{"$error":"#NUM!"},{"$error":"#NUM!"},{"$error":"#NUM!"},{"$error":"#NUM!"},{"$error":"#NUM!"},""]
[{"$error":"#NUM!"},{"$error":"#NUM!"},{"$error":"#NUM!"},{"$error":"#NUM!"},{"$error":"#NUM!"},""]
[{"$error":"#NUM!"},{"$error":"#NUM!"},{"$error":"#NUM!"},{"$error":"#NUM!"},{"$error":"#NUM!"},""]
[{"$error":"#NUM!"},{"$error":"#NUM!"},{"$error":"#NUM!"},{"$error":"#NUM!"},{"$error":"#NUM!"},""]
[{"$error":"#NUM!"},{"$error":"#NUM!"},{"$error":"#NUM!"},{"$error":"#NUM!"},{"$error":"#NUM!"},""]
[{"$error":"#NUM!"},{"$error":"#NUM!"},{"$error":"#NUM!"},{"$error":"#NUM!"},{"$error":"#NUM!"},""]
[{"$error":"#NUM!"},{"$error":"#NUM!"},{"$error":"#NUM!"},{"$error":"#NUM!"},{"$error":"#NUM!"},""]
[{"$error":"#NUM!"},{"$error":"#NUM!"},{"$error":"#NUM!"},{"$error":"#NUM!"},{"$error":"#NUM!"},""]
[{"$error":"#NUM!"},{"$error":"#NUM!"},{"$error":"#NUM!"},{"$error":"#NUM!"},{"$error":"#NUM!"},""]
[{"$error":"#NUM!"},{"$error":"#NUM!"},{"$error":"#NUM!"},{"$error":"#NUM!"},{"$error":"#NUM!"},""]
[{"$error":"#NUM!"},{"$error":"#NUM!"},{"$error":"#NUM!"},{"$error":"#NUM!"},{"$error":"#NUM!"},""]
[{"$error":"#NUM!"},{"$error":"#NUM!"},{"$error":"#NUM!"},{"$error":"#NUM!"},{"$error":"#NUM!"},""]
[{"$error":"#NUM!"},{"$error":"#NUM!"},{"$error":"#NUM!"},{"$error":"#NUM!"},{"$error":"#NUM!"},""]
[{"$error":"#NUM!"},{"$error":"#NUM!"},{"$error":"#NUM!"},{"$error":"#NUM!"},{"$error":"#NUM!"},""]
[{"$error":"#NUM!"},{"$error":"#NUM!"},{"$error":"#NUM!"},{"$error":"#NUM!"},{"$error":"#NUM!"},""]
[{"$error":"#NUM!"},{"$error":"#NUM!"},{"$error":"#NUM!"},{"$error":"#NUM!"},{"$error":"#NUM!"},""]
[{"$error":"#NUM!"},{"$error":"#NUM!"},{"$error":"#NUM!"},{"$error":"#NUM!"},{"$error":"#NUM!"},""]
[{"$error":"#NUM!"},{"$error":"#NUM!"},{"$error":"#NUM!"},{"$error":"#NUM!"},{"$error":"#NUM!"},""]
[{"$error":"#NUM!"},{"$error":"#NUM!"},{"$error":"#NUM!"},{"$error":"#NUM!"},{"$error":"#NUM!"},""]
[{"$error":"#NUM!"},{"$error":"#NUM!"},{"$error":"#NUM!"},{"$error":"#NUM!"},{"$error":"#NUM!"},""]
[{"$error":"#NUM!"},{"$error":"#NUM!"},{"$error":"#NUM!"},{"$error":"#NUM!"},{"$error":"#NUM!"},""]
[{"$error":"#NUM!"},{"$error":"#NUM!"},{"$error":"#NUM!"},{"$error":"#NUM!"},{"$error":"#NUM!"},""]
[{"$error":"#NUM!"},{"$error":"#NUM!"},{"$error":"#NUM!"},{"$error":"#NUM!"},{"$error":"#NUM!"},""]
[{"$error":"#NUM!"},{"$error":"#NUM!"},{"$error":"#NUM!"},{"$error":"#NUM!"},{"$error":"#NUM!"},{"$f":"IF(ISERROR(A183),\"\",INDIRECT(ADDRESS($A183,23,,,\"Rural Undivided Multilane Seg\")))","v":""}]
[{"$f":"IF(MATCH(LARGE(INDIRECT(\"'Rural Undivided Multilane Seg'!$W$5:$W$10005\"),ROW()-150),INDIRECT(\"'Rural Undivided Multilane Seg'!$W$5:$W$10005\"),0)=MATCH(LARGE(INDIRECT(\"'Rural Undivided Multilane Seg'!$W$5:$W$10005\"),ROW()-150-1),INDIRECT(\"'Rural Undivided Multilane Seg'!$W$5:$W$10005\"),0),MATCH(LARGE(INDIRECT(\"'Rural Undivided Multilane Seg'!$W$5:$W$10005\"),ROW()-150),INDIRECT(ADDRESS(A183+1,22,,,\"Rural Undivided Multilane Seg\")&\":W10004\"),0)+A183,MATCH(LARGE(INDIRECT(\"'Rural Undivided Multilane Seg'!$W$5:$W$10005\"),ROW()-150),INDIRECT(\"'Rural Undivided Multilane Seg'!$W$5:$W$10005\"),0)+4)","v":{"$error":"#NUM!"}},{"$error":"#NUM!"},{"$error":"#NUM!"},{"$error":"#NUM!"},{"$error":"#NUM!"},""]
[{"$error":"#NUM!"},{"$error":"#NUM!"},{"$error":"#NUM!"},{"$error":"#NUM!"},{"$error":"#NUM!"},""]
[{"$error":"#NUM!"},{"$error":"#NUM!"},{"$error":"#NUM!"},{"$error":"#NUM!"},{"$error":"#NUM!"},""]
[{"$error":"#NUM!"},{"$error":"#NUM!"},{"$error":"#NUM!"},{"$error":"#NUM!"},{"$error":"#NUM!"},""]
[{"$error":"#NUM!"},{"$error":"#NUM!"},{"$error":"#NUM!"},{"$error":"#NUM!"},{"$error":"#NUM!"},""]
[{"$error":"#NUM!"},{"$error":"#NUM!"},{"$error":"#NUM!"},{"$error":"#NUM!"},{"$error":"#NUM!"},""]
[{"$error":"#NUM!"},{"$error":"#NUM!"},{"$error":"#NUM!"},{"$error":"#NUM!"},{"$error":"#NUM!"},""]
[{"$error":"#NUM!"},{"$error":"#NUM!"},{"$error":"#NUM!"},{"$error":"#NUM!"},{"$error":"#NUM!"},""]
[{"$error":"#NUM!"},{"$error":"#NUM!"},{"$error":"#NUM!"},{"$error":"#NUM!"},{"$error":"#NUM!"},""]
[{"$error":"#NUM!"},{"$error":"#NUM!"},{"$error":"#NUM!"},{"$error":"#NUM!"},{"$error":"#NUM!"},""]
[{"$error":"#NUM!"},{"$error":"#NUM!"},{"$error":"#NUM!"},{"$error":"#NUM!"},{"$error":"#NUM!"},""]
[{"$error":"#NUM!"},{"$error":"#NUM!"},{"$error":"#NUM!"},{"$error":"#NUM!"},{"$error":"#NUM!"},""]
[{"$error":"#NUM!"},{"$error":"#NUM!"},{"$error":"#NUM!"},{"$error":"#NUM!"},{"$error":"#NUM!"},""]
[{"$error":"#NUM!"},{"$error":"#NUM!"},{"$error":"#NUM!"},{"$error":"#NUM!"},{"$error":"#NUM!"},""]
[{"$error":"#NUM!"},{"$error":"#NUM!"},{"$error":"#NUM!"},{"$error":"#NUM!"},{"$error":"#NUM!"},""]
[{"$error":"#NUM!"},{"$error":"#NUM!"},{"$error":"#NUM!"},{"$error":"#NUM!"},{"$error":"#NUM!"},""]
[{"$error":"#NUM!"},{"$error":"#NUM!"},{"$error":"#NUM!"},{"$error":"#NUM!"},{"$error":"#NUM!"},""]
[{"$f":"MATCH(LARGE(INDIRECT(\"'Rural Multilane Intersections'!$W5:$W10004\"),ROW()-200),INDIRECT(\"'Rural Multilane Intersections'!$W5:$W10004\"),0)+4","v":{"$error":"#NUM!"}},{"$f":"\"(INT) \"&INDIRECT(ADDRESS($A201,2,,,\"Rural Multilane Intersections\"))&\" @ \"&INDIRECT(ADDRESS($A201,3,,,\"Rural Multilane Intersections\"))","v":{"$error":"#NUM!"}},{"$f":"INDIRECT(ADDRESS($A201,4,,,\"Rural Multilane Intersections\"))","v":{"$error":"#NUM!"}},{"$f":"\"Control = \"&INDIRECT(ADDRESS($A201,5,,,\"Rural Multilane Intersections\"))","v":{"$error":"#NUM!"}},{"$f":"\"Major AADT: \"&TEXT(INDIRECT(ADDRESS($A201,6,,,\"Rural Multilane Intersections\")),\"#,##0\")&\" / Minor AADT: \"&TEXT(INDIRECT(ADDRESS($A201,7,,,\"Rural Multilane Intersections\")),\"#,##0\")","v":{"$error":"#NUM!"}},{"$f":"IF(ISERROR(A201),\"\",INDIRECT(ADDRESS($A201,23,,,\"Rural Multilane Intersections\")))","v":""}]
[{"$f":"IF(MATCH(LARGE(INDIRECT(\"'Rural Multilane Intersections'!$W5:$W10004\"),ROW()-200),INDIRECT(\"'Rural Multilane Intersections'!$W5:$W10004\"),0)=MATCH(LARGE(INDIRECT(\"'Rural Multilane Intersections'!$W5:$W10004\"),ROW()-200-1),INDIRECT(\"'Rural Multilane Intersections'!$W5:$W10004\"),0),MATCH(LARGE(INDIRECT(\"'Rural Multilane Intersections'!$W5:$W10004\"),ROW()-200),INDIRECT(ADDRESS(A201+1,21,,,\"Rural Multilane Intersections\")&\":W10004\"),0)+A201,MATCH(LARGE(INDIRECT(\"'Rural Multilane Intersections'!$W5:$W10004\"),ROW()-200),INDIRECT(\"'Rural Multilane Intersections'!$W5:$W10004\"),0)+4)","v":{"$error":"#NUM!"}},{"$f":"\"(INT) \"&INDIRECT(ADDRESS($A202,2,,,\"Rural Multilane Intersections\"))&\" @ \"&INDIRECT(ADDRESS($A202,3,,,\"Rural Multilane Intersections\"))","v":{"$error":"#NUM!"}},{"$f":"INDIRECT(ADDRESS($A202,4,,,\"Rural Multilane Intersections\"))","v":{"$error":"#NUM!"}},{"$f":"\"Control = \"&INDIRECT(ADDRESS($A202,5,,,\"Rural Multilane Intersections\"))","v":{"$error":"#NUM!"}},{"$f":"\"Major AADT: \"&TEXT(INDIRECT(ADDRESS($A202,6,,,\"Rural Multilane Intersections\")),\"#,##0\")&\" / Minor AADT: \"&TEXT(INDIRECT(ADDRESS($A202,7,,,\"Rural Multilane Intersections\")),\"#,##0\")","v":{"$error":"#NUM!"}},""]
[{"$error":"#NUM!"},{"$f":"\"(INT) \"&INDIRECT(ADDRESS($A203,2,,,\"Rural Multilane Intersections\"))&\" @ \"&INDIRECT(ADDRESS($A203,3,,,\"Rural Multilane Intersections\"))","v":{"$error":"#NUM!"}},{"$f":"INDIRECT(ADDRESS($A203,4,,,\"Rural Multilane Intersections\"))","v":{"$error":"#NUM!"}},{"$f":"\"Control = \"&INDIRECT(ADDRESS($A203,5,,,\"Rural Multilane Intersections\"))","v":{"$error":"#NUM!"}},{"$f":"\"Major AADT: \"&TEXT(INDIRECT(ADDRESS($A203,6,,,\"Rural Multilane Intersections\")),\"#,##0\")&\" / Minor AADT: \"&TEXT(INDIRECT(ADDRESS($A203,7,,,\"Rural Multilane Intersections\")),\"#,##0\")","v":{"$error":"#NUM!"}},""]
[{"$error":"#NUM!"},{"$error":"#NUM!"},{"$error":"#NUM!"},{"$error":"#NUM!"},{"$error":"#NUM!"},""]
[{"$error":"#NUM!"},{"$error":"#NUM!"},{"$error":"#NUM!"},{"$error":"#NUM!"},{"$error":"#NUM!"},""]
[{"$error":"#NUM!"},{"$error":"#NUM!"},{"$error":"#NUM!"},{"$error":"#NUM!"},{"$error":"#NUM!"},""]
[{"$error":"#NUM!"},{"$error":"#NUM!"},{"$error":"#NUM!"},{"$error":"#NUM!"},{"$error":"#NUM!"},""]
[{"$error":"#NUM!"},{"$error":"#NUM!"},{"$error":"#NUM!"},{"$error":"#NUM!"},{"$error":"#NUM!"},""]
[{"$error":"#NUM!"},{"$error":"#NUM!"},{"$error":"#NUM!"},{"$error":"#NUM!"},{"$error":"#NUM!"},""]
[{"$error":"#NUM!"},{"$error":"#NUM!"},{"$error":"#NUM!"},{"$error":"#NUM!"},{"$error":"#NUM!"},""]
[{"$error":"#NUM!"},{"$error":"#NUM!"},{"$error":"#NUM!"},{"$error":"#NUM!"},{"$error":"#NUM!"},""]
[{"$error":"#NUM!"},{"$error":"#NUM!"},{"$error":"#NUM!"},{"$error":"#NUM!"},{"$error":"#NUM!"},""]
[{"$error":"#NUM!"},{"$error":"#NUM!"},{"$error":"#NUM!"},{"$error":"#NUM!"},{"$error":"#NUM!"},""]
[{"$error":"#NUM!"},{"$error":"#NUM!"},{"$error":"#NUM!"},{"$error":"#NUM!"},{"$error":"#NUM!"},""]
[{"$error":"#NUM!"},{"$error":"#NUM!"},{"$error":"#NUM!"},{"$error":"#NUM!"},{"$error":"#NUM!"},""]
[{"$error":"#NUM!"},{"$error":"#NUM!"},{"$error":"#NUM!"},{"$error":"#NUM!"},{"$error":"#NUM!"},""]
[{"$error":"#NUM!"},{"$error":"#NUM!"},{"$error":"#NUM!"},{"$error":"#NUM!"},{"$error":"#NUM!"},""]
[{"$error":"#NUM!"},{"$error":"#NUM!"},{"$error":"#NUM!"},{"$error":"#NUM!"},{"$error":"#NUM!"},""]
[{"$error":"#NUM!"},{"$error":"#NUM!"},{"$error":"#NUM!"},{"$error":"#NUM!"},{"$error":"#NUM!"},""]
[{"$error":"#NUM!"},{"$error":"#NUM!"},{"$error":"#NUM!"},{"$error":"#NUM!"},{"$error":"#NUM!"},""]
[{"$error":"#NUM!"},{"$error":"#NUM!"},{"$error":"#NUM!"},{"$error":"#NUM!"},{"$error":"#NUM!"},""]
[{"$error":"#NUM!"},{"$error":"#NUM!"},{"$error":"#NUM!"},{"$error":"#NUM!"},{"$error":"#NUM!"},""]
[{"$error":"#NUM!"},{"$error":"#NUM!"},{"$error":"#NUM!"},{"$error":"#NUM!"},{"$error":"#NUM!"},""]
[{"$error":"#NUM!"},{"$error":"#NUM!"},{"$error":"#NUM!"},{"$error":"#NUM!"},{"$error":"#NUM!"},""]
[{"$error":"#NUM!"},{"$error":"#NUM!"},{"$error":"#NUM!"},{"$error":"#NUM!"},{"$error":"#NUM!"},""]
[{"$error":"#NUM!"},{"$error":"#NUM!"},{"$error":"#NUM!"},{"$error":"#NUM!"},{"$error":"#NUM!"},""]
[{"$error":"#NUM!"},{"$error":"#NUM!"},{"$error":"#NUM!"},{"$error":"#NUM!"},{"$error":"#NUM!"},""]
[{"$error":"#NUM!"},{"$error":"#NUM!"},{"$error":"#NUM!"},{"$error":"#NUM!"},{"$error":"#NUM!"},""]
[{"$error":"#NUM!"},{"$error":"#NUM!"},{"$error":"#NUM!"},{"$error":"#NUM!"},{"$error":"#NUM!"},""]
[{"$error":"#NUM!"},{"$error":"#NUM!"},{"$error":"#NUM!"},{"$error":"#NUM!"},{"$error":"#NUM!"},""]
[{"$error":"#NUM!"},{"$error":"#NUM!"},{"$error":"#NUM!"},{"$error":"#NUM!"},{"$error":"#NUM!"},""]
[{"$error":"#NUM!"},{"$error":"#NUM!"},{"$error":"#NUM!"},{"$error":"#NUM!"},{"$error":"#NUM!"},""]
[{"$error":"#NUM!"},{"$error":"#NUM!"},{"$error":"#NUM!"},{"$error":"#NUM!"},{"$error":"#NUM!"},{"$f":"IF(ISERROR(A233),\"\",INDIRECT(ADDRESS($A233,23,,,\"Rural Multilane Intersections\")))","v":""}]
[{"$f":"IF(MATCH(LARGE(INDIRECT(\"'Rural Multilane Intersections'!$W5:$W10004\"),ROW()-200),INDIRECT(\"'Rural Multilane Intersections'!$W5:$W10004\"),0)=MATCH(LARGE(INDIRECT(\"'Rural Multilane Intersections'!$W5:$W10004\"),ROW()-200-1),INDIRECT(\"'Rural Multilane Intersections'!$W5:$W10004\"),0),MATCH(LARGE(INDIRECT(\"'Rural Multilane Intersections'!$W5:$W10004\"),ROW()-200),INDIRECT(ADDRESS(A233+1,21,,,\"Rural Multilane Intersections\")&\":W10004\"),0)+A233,MATCH(LARGE(INDIRECT(\"'Rural Multilane Intersections'!$W5:$W10004\"),ROW()-200),INDIRECT(\"'Rural Multilane Intersections'!$W5:$W10004\"),0)+4)","v":{"$error":"#NUM!"}},{"$error":"#NUM!"},{"$error":"#NUM!"},{"$error":"#NUM!"},{"$error":"#NUM!"},""]
[{"$error":"#NUM!"},{"$error":"#NUM!"},{"$error":"#NUM!"},{"$error":"#NUM!"},{"$error":"#NUM!"},""]
[{"$error":"#NUM!"},{"$error":"#NUM!"},{"$error":"#NUM!"},{"$error":"#NUM!"},{"$error":"#NUM!"},""]
[{"$error":"#NUM!"},{"$error":"#NUM!"},{"$error":"#NUM!"},{"$error":"#NUM!"},{"$error":"#NUM!"},""]
[{"$error":"#NUM!"},{"$error":"#NUM!"},{"$error":"#NUM!"},{"$error":"#NUM!"},{"$error":"#NUM!"},""]
[{"$error":"#NUM!"},{"$error":"#NUM!"},{"$error":"#NUM!"},{"$error":"#NUM!"},{"$error":"#NUM!"},""]
[{"$error":"#NUM!"},{"$error":"#NUM!"},{"$error":"#NUM!"},{"$error":"#NUM!"},{"$error":"#NUM!"},""]
[{"$error":"#NUM!"},{"$error":"#NUM!"},{"$error":"#NUM!"},{"$error":"#NUM!"},{"$error":"#NUM!"},""]
[{"$error":"#NUM!"},{"$error":"#NUM!"},{"$error":"#NUM!"},{"$error":"#NUM!"},{"$error":"#NUM!"},""]
[{"$error":"#NUM!"},{"$error":"#NUM!"},{"$error":"#NUM!"},{"$error":"#NUM!"},{"$error":"#NUM!"},""]
[{"$error":"#NUM!"},{"$error":"#NUM!"},{"$error":"#NUM!"},{"$error":"#NUM!"},{"$error":"#NUM!"},""]
[{"$error":"#NUM!"},{"$error":"#NUM!"},{"$error":"#NUM!"},{"$error":"#NUM!"},{"$error":"#NUM!"},""]
[{"$error":"#NUM!"},{"$error":"#NUM!"},{"$error":"#NUM!"},{"$error":"#NUM!"},{"$error":"#NUM!"},""]
[{"$error":"#NUM!"},{"$error":"#NUM!"},{"$error":"#NUM!"},{"$error":"#NUM!"},{"$error":"#NUM!"},""]
[{"$error":"#NUM!"},{"$error":"#NUM!"},{"$error":"#NUM!"},{"$error":"#NUM!"},{"$error":"#NUM!"},""]
[{"$error":"#NUM!"},{"$error":"#NUM!"},{"$error":"#NUM!"},{"$error":"#NUM!"},{"$error":"#NUM!"},""]
[{"$error":"#NUM!"},{"$error":"#NUM!"},{"$error":"#NUM!"},{"$error":"#NUM!"},{"$error":"#NUM!"},""]
[{"$f":"MATCH(LARGE(INDIRECT(\"'Urban & Suburban Segments'!$AP5:$AP10004\"),ROW()-250),INDIRECT(\"'Urban & Suburban Segments'!$AP5:$AP10004\"),0)+4","v":{"$error":"#NUM!"}},{"$f":"\"(SEG) \"&INDIRECT(ADDRESS($A251,2,,,\"Urban & Suburban Segments\"))&\", \"&INDIRECT(ADDRESS($A251,3,,,\"Urban & Suburban Segments\"))","v":{"$error":"#NUM!"}},{"$f":"INDIRECT(ADDRESS($A251,4,,,\"Urban & Suburban Segments\"))","v":{"$error":"#NUM!"}},{"$f":"\"Type = \"&INDIRECT(ADDRESS($A251,5,,,\"Urban & Suburban Segments\"))&\", Length = \"&INDIRECT(ADDRESS($A251,6,,,\"Urban & Suburban Segments\"))&\" mi\"","v":{"$error":"#NUM!"}},{"$f":"\"AADT: \"&TEXT(INDIRECT(ADDRESS($A251,7,,,\"Urban & Suburban Segments\")),\"#,##0\")","v":{"$error":"#NUM!"}},{"$f":"IF(ISERROR(A251),\"\",INDIRECT(ADDRESS($A251,42,,,\"Urban & Suburban Segments\")))","v":""}]
[{"$f":"IF(MATCH(LARGE(INDIRECT(\"'Urban & Suburban Segments'!$AP5:$AP10004\"),ROW()-250),INDIRECT(\"'Urban & Suburban Segments'!$AP5:$AP10004\"),0)=MATCH(LARGE(INDIRECT(\"'Urban & Suburban Segments'!$AP5:$AP10004\"),ROW()-250-1),INDIRECT(\"'Urban & Suburban Segments'!$AP5:$AP10004\"),0),MATCH(LARGE(INDIRECT(\"'Urban & Suburban Segments'!$AP5:$AP10004\"),ROW()-250),INDIRECT(ADDRESS(A251+1,40,,,\"Urban & Suburban Segments\")&\":AP10004\"),0)+A251,MATCH(LARGE(INDIRECT(\"'Urban & Suburban Segments'!$AP5:$AP10004\"),ROW()-250),INDIRECT(\"'Urban & Suburban Segments'!$AP5:$AP10004\"),0)+4)","v":{"$error":"#NUM!"}},{"$f":"\"(SEG) \"&INDIRECT(ADDRESS($A252,2,,,\"Urban & Suburban Segments\"))&\", \"&INDIRECT(ADDRESS($A252,3,,,\"Urban & Suburban Segments\"))","v":{"$error":"#NUM!"}},{"$f":"INDIRECT(ADDRESS($A252,4,,,\"Urban & Suburban Segments\"))","v":{"$error":"#NUM!"}},{"$f":"\"Type = \"&INDIRECT(ADDRESS($A252,5,,,\"Urban & Suburban Segments\"))&\", Length = \"&INDIRECT(ADDRESS($A252,6,,,\"Urban & Suburban Segments\"))&\" mi\"","v":{"$error":"#NUM!"}},{"$f":"\"AADT: \"&TEXT(INDIRECT(ADDRESS($A252,7,,,\"Urban & Suburban Segments\")),\"#,##0\")","v":{"$error":"#NUM!"}},""]
[{"$error":"#NUM!"},{"$f":"\"(SEG) \"&INDIRECT(ADDRESS($A253,2,,,\"Urban & Suburban Segments\"))&\", \"&INDIRECT(ADDRESS($A253,3,,,\"Urban & Suburban Segments\"))","v":{"$error":"#NUM!"}},{"$f":"INDIRECT(ADDRESS($A253,4,,,\"Urban & Suburban Segments\"))","v":{"$error":"#NUM!"}},{"$f":"\"Type = \"&INDIRECT(ADDRESS($A253,5,,,\"Urban & Suburban Segments\"))&\", Length = \"&INDIRECT(ADDRESS($A253,6,,,\"Urban & Suburban Segments\"))&\" mi\"","v":{"$error":"#NUM!"}},{"$f":"\"AADT: \"&TEXT(INDIRECT(ADDRESS($A253,7,,,\"Urban & Suburban Segments\")),\"#,##0\")","v":{"$error":"#NUM!"}},""]
[{"$error":"#NUM!"},{"$error":"#NUM!"},{"$error":"#NUM!"},{"$error":"#NUM!"},{"$error":"#NUM!"},""]
[{"$error":"#NUM!"},{"$error":"#NUM!"},{"$error":"#NUM!"},{"$error":"#NUM!"},{"$error":"#NUM!"},""]
[{"$error":"#NUM!"},{"$error":"#NUM!"},{"$error":"#NUM!"},{"$error":"#NUM!"},{"$error":"#NUM!"},""]
[{"$error":"#NUM!"},{"$error":"#NUM!"},{"$error":"#NUM!"},{"$error":"#NUM!"},{"$error":"#NUM!"},""]
[{"$error":"#NUM!"},{"$error":"#NUM!"},{"$error":"#NUM!"},{"$error":"#NUM!"},{"$error":"#NUM!"},""]
[{"$error":"#NUM!"},{"$error":"#NUM!"},{"$error":"#NUM!"},{"$error":"#NUM!"},{"$error":"#NUM!"},""]
[{"$error":"#NUM!"},{"$error":"#NUM!"},{"$error":"#NUM!"},{"$error":"#NUM!"},{"$error":"#NUM!"},""]
[{"$error":"#NUM!"},{"$error":"#NUM!"},{"$error":"#NUM!"},{"$error":"#NUM!"},{"$error":"#NUM!"},""]
[{"$error":"#NUM!"},{"$error":"#NUM!"},{"$error":"#NUM!"},{"$error":"#NUM!"},{"$error":"#NUM!"},""]
[{"$error":"#NUM!"},{"$error":"#NUM!"},{"$error":"#NUM!"},{"$error":"#NUM!"},{"$error":"#NUM!"},""]
[{"$error":"#NUM!"},{"$error":"#NUM!"},{"$error":"#NUM!"},{"$error":"#NUM!"},{"$error":"#NUM!"},""]
[{"$error":"#NUM!"},{"$error":"#NUM!"},{"$error":"#NUM!"},{"$error":"#NUM!"},{"$error":"#NUM!"},""]
[{"$error":"#NUM!"},{"$error":"#NUM!"},{"$error":"#NUM!"},{"$error":"#NUM!"},{"$error":"#NUM!"},""]
[{"$error":"#NUM!"},{"$error":"#NUM!"},{"$error":"#NUM!"},{"$error":"#NUM!"},{"$error":"#NUM!"},""]
[{"$error":"#NUM!"},{"$error":"#NUM!"},{"$error":"#NUM!"},{"$error":"#NUM!"},{"$error":"#NUM!"},""]
[{"$error":"#NUM!"},{"$error":"#NUM!"},{"$error":"#NUM!"},{"$error":"#NUM!"},{"$error":"#NUM!"},""]
[{"$error":"#NUM!"},{"$error":"#NUM!"},{"$error":"#NUM!"},{"$error":"#NUM!"},{"$error":"#NUM!"},""]
[{"$error":"#NUM!"},{"$error":"#NUM!"},{"$error":"#NUM!"},{"$error":"#NUM!"},{"$error":"#NUM!"},""]
[{"$error":"#NUM!"},{"$error":"#NUM!"},{"$error":"#NUM!"},{"$error":"#NUM!"},{"$error":"#NUM!"},""]
[{"$error":"#NUM!"},{"$error":"#NUM!"},{"$error":"#NUM!"},{"$error":"#NUM!"},{"$error":"#NUM!"},""]
[{"$error":"#NUM!"},{"$error":"#NUM!"},{"$error":"#NUM!"},{"$error":"#NUM!"},{"$error":"#NUM!"},""]
[{"$error":"#NUM!"},{"$error":"#NUM!"},{"$error":"#NUM!"},{"$error":"#NUM!"},{"$error":"#NUM!"},""]
[{"$error":"#NUM!"},{"$error":"#NUM!"},{"$error":"#NUM!"},{"$error":"#NUM!"},{"$error":"#NUM!"},""]
[{"$error":"#NUM!"},{"$error":"#NUM!"},{"$error":"#NUM!"},{"$error":"#NUM!"},{"$error":"#NUM!"},""]
[{"$error":"#NUM!"},{"$error":"#NUM!"},{"$error":"#NUM!"},{"$error":"#NUM!"},{"$error":"#NUM!"},""]
[{"$error":"#NUM!"},{"$error":"#NUM!"},{"$error":"#NUM!"},{"$error":"#NUM!"},{"$error":"#NUM!"},""]
[{"$error":"#NUM!"},{"$error":"#NUM!"},{"$error":"#NUM!"},{"$error":"#NUM!"},{"$error":"#NUM!"},""]
[{"$error":"#NUM!"},{"$error":"#NUM!"},{"$error":"#NUM!"},{"$error":"#NUM!"},{"$error":"#NUM!"},""]
[{"$error":"#NUM!"},{"$error":"#NUM!"},{"$error":"#NUM!"},{"$error":"#NUM!"},{"$error":"#NUM!"},""]
[{"$error":"#NUM!"},{"$error":"#NUM!"},{"$error":"#NUM!"},{"$error":"#NUM!"},{"$error":"#NUM!"},{"$f":"IF(ISERROR(A283),\"\",INDIRECT(ADDRESS($A283,42,,,\"Urban & Suburban Segments\")))","v":""}]
[{"$f":"IF(MATCH(LARGE(INDIRECT(\"'Urban & Suburban Segments'!$AP5:$AP10004\"),ROW()-250),INDIRECT(\"'Urban & Suburban Segments'!$AP5:$AP10004\"),0)=MATCH(LARGE(INDIRECT(\"'Urban & Suburban Segments'!$AP5:$AP10004\"),ROW()-250-1),INDIRECT(\"'Urban & Suburban Segments'!$AP5:$AP10004\"),0),MATCH(LARGE(INDIRECT(\"'Urban & Suburban Segments'!$AP5:$AP10004\"),ROW()-250),INDIRECT(ADDRESS(A283+1,40,,,\"Urban & Suburban Segments\")&\":AP10004\"),0)+A283,MATCH(LARGE(INDIRECT(\"'Urban & Suburban Segments'!$AP5:$AP10004\"),ROW()-250),INDIRECT(\"'Urban & Suburban Segments'!$AP5:$AP10004\"),0)+4)","v":{"$error":"#NUM!"}},{"$error":"#NUM!"},{"$error":"#NUM!"},{"$error":"#NUM!"},{"$error":"#NUM!"},""]
[{"$error":"#NUM!"},{"$error":"#NUM!"},{"$error":"#NUM!"},{"$error":"#NUM!"},{"$error":"#NUM!"},""]
[{"$error":"#NUM!"},{"$error":"#NUM!"},{"$error":"#NUM!"},{"$error":"#NUM!"},{"$error":"#NUM!"},""]
[{"$error":"#NUM!"},{"$error":"#NUM!"},{"$error":"#NUM!"},{"$error":"#NUM!"},{"$error":"#NUM!"},""]
[{"$error":"#NUM!"},{"$error":"#NUM!"},{"$error":"#NUM!"},{"$error":"#NUM!"},{"$error":"#NUM!"},""]
[{"$error":"#NUM!"},{"$error":"#NUM!"},{"$error":"#NUM!"},{"$error":"#NUM!"},{"$error":"#NUM!"},""]
[{"$error":"#NUM!"},{"$error":"#NUM!"},{"$error":"#NUM!"},{"$error":"#NUM!"},{"$error":"#NUM!"},""]
[{"$error":"#NUM!"},{"$error":"#NUM!"},{"$error":"#NUM!"},{"$error":"#NUM!"},{"$error":"#NUM!"},""]
[{"$error":"#NUM!"},{"$error":"#NUM!"},{"$error":"#NUM!"},{"$error":"#NUM!"},{"$error":"#NUM!"},""]
[{"$error":"#NUM!"},{"$error":"#NUM!"},{"$error":"#NUM!"},{"$error":"#NUM!"},{"$error":"#NUM!"},""]
[{"$error":"#NUM!"},{"$error":"#NUM!"},{"$error":"#NUM!"},{"$error":"#NUM!"},{"$error":"#NUM!"},""]
[{"$error":"#NUM!"},{"$error":"#NUM!"},{"$error":"#NUM!"},{"$error":"#NUM!"},{"$error":"#NUM!"},""]
[{"$error":"#NUM!"},{"$error":"#NUM!"},{"$error":"#NUM!"},{"$error":"#NUM!"},{"$error":"#NUM!"},""]
[{"$error":"#NUM!"},{"$error":"#NUM!"},{"$error":"#NUM!"},{"$error":"#NUM!"},{"$error":"#NUM!"},""]
[{"$error":"#NUM!"},{"$error":"#NUM!"},{"$error":"#NUM!"},{"$error":"#NUM!"},{"$error":"#NUM!"},""]
[{"$error":"#NUM!"},{"$error":"#NUM!"},{"$error":"#NUM!"},{"$error":"#NUM!"},{"$error":"#NUM!"},""]
[{"$error":"#NUM!"},{"$error":"#NUM!"},{"$error":"#NUM!"},{"$error":"#NUM!"},{"$error":"#NUM!"},""]
[{"$f":"MATCH(LARGE(INDIRECT(\"'Urban & Suburban Intersections'!$AN5:$AN10004\"),ROW()-300),INDIRECT(\"'Urban & Suburban Intersections'!$AN5:$AN10004\"),0)+4","v":{"$error":"#NUM!"}},{"$f":"\"(INT) \"&INDIRECT(ADDRESS($A301,2,,,\"Urban & Suburban Intersections\"))&\" @ \"&INDIRECT(ADDRESS($A301,3,,,\"Urban & Suburban Intersections\"))","v":{"$error":"#NUM!"}},{"$f":"INDIRECT(ADDRESS($A301,4,,,\"Urban & Suburban Intersections\"))","v":{"$error":"#NUM!"}},{"$f":"\"Control = \"&INDIRECT(ADDRESS($A301,5,,,\"Urban & Suburban Intersections\"))","v":{"$error":"#NUM!"}},{"$f":"\"Major AADT: \"&TEXT(INDIRECT(ADDRESS($A301,6,,,\"Urban & Suburban Intersections\")),\"#,##0\")&\" / Minor AADT: \"&TEXT(INDIRECT(ADDRESS($A301,7,,,\"Urban & Suburban Intersections\")),\"#,##0\")","v":{"$error":"#NUM!"}},{"$f":"IF(ISERROR(A301),\"\",INDIRECT(ADDRESS($A301,40,,,\"Urban & Suburban Intersections\")))","v":""}]
[{"$f":"IF(MATCH(LARGE(INDIRECT(\"'Urban & Suburban Intersections'!$AN5:$AN10004\"),ROW()-300),INDIRECT(\"'Urban & Suburban Intersections'!$AN5:$AN10004\"),0)=MATCH(LARGE(INDIRECT(\"'Urban & Suburban Intersections'!$AN5:$AN10004\"),ROW()-300-1),INDIRECT(\"'Urban & Suburban Intersections'!$AN5:$AN10004\"),0),MATCH(LARGE(INDIRECT(\"'Urban & Suburban Intersections'!$AN5:$AN10004\"),ROW()-300),INDIRECT(ADDRESS(A301+1,34,,,\"Urban & Suburban Intersections\")&\":AN10004\"),0)+A301,MATCH(LARGE(INDIRECT(\"'Urban & Suburban Intersections'!$AN5:$AN10004\"),ROW()-300),INDIRECT(\"'Urban & Suburban Intersections'!$AN5:$AN10004\"),0)+4)","v":{"$error":"#NUM!"}},{"$f":"\"(INT) \"&INDIRECT(ADDRESS($A302,2,,,\"Urban & Suburban Intersections\"))&\" @ \"&INDIRECT(ADDRESS($A302,3,,,\"Urban & Suburban Intersections\"))","v":{"$error":"#NUM!"}},{"$f":"INDIRECT(ADDRESS($A302,4,,,\"Urban & Suburban Intersections\"))","v":{"$error":"#NUM!"}},{"$f":"\"Control = \"&INDIRECT(ADDRESS($A302,5,,,\"Urban & Suburban Intersections\"))","v":{"$error":"#NUM!"}},{"$f":"\"Major AADT: \"&TEXT(INDIRECT(ADDRESS($A302,6,,,\"Urban & Suburban Intersections\")),\"#,##0\")&\" / Minor AADT: \"&TEXT(INDIRECT(ADDRESS($A302,7,,,\"Urban & Suburban Intersections\")),\"#,##0\")","v":{"$error":"#NUM!"}},""]
[{"$error":"#NUM!"},{"$f":"\"(INT) \"&INDIRECT(ADDRESS($A303,2,,,\"Urban & Suburban Intersections\"))&\" @ \"&INDIRECT(ADDRESS($A303,3,,,\"Urban & Suburban Intersections\"))","v":{"$error":"#NUM!"}},{"$f":"INDIRECT(ADDRESS($A303,4,,,\"Urban & Suburban Intersections\"))","v":{"$error":"#NUM!"}},{"$f":"\"Control = \"&INDIRECT(ADDRESS($A303,5,,,\"Urban & Suburban Intersections\"))","v":{"$error":"#NUM!"}},{"$f":"\"Major AADT: \"&TEXT(INDIRECT(ADDRESS($A303,6,,,\"Urban & Suburban Intersections\")),\"#,##0\")&\" / Minor AADT: \"&TEXT(INDIRECT(ADDRESS($A303,7,,,\"Urban & Suburban Intersections\")),\"#,##0\")","v":{"$error":"#NUM!"}},""]
[{"$error":"#NUM!"},{"$error":"#NUM!"},{"$error":"#NUM!"},{"$error":"#NUM!"},{"$error":"#NUM!"},""]
[{"$error":"#NUM!"},{"$error":"#NUM!"},{"$error":"#NUM!"},{"$error":"#NUM!"},{"$error":"#NUM!"},""]
[{"$error":"#NUM!"},{"$error":"#NUM!"},{"$error":"#NUM!"},{"$error":"#NUM!"},{"$error":"#NUM!"},""]
[{"$error":"#NUM!"},{"$error":"#NUM!"},{"$error":"#NUM!"},{"$error":"#NUM!"},{"$error":"#NUM!"},""]
[{"$error":"#NUM!"},{"$error":"#NUM!"},{"$error":"#NUM!"},{"$error":"#NUM!"},{"$error":"#NUM!"},""]
[{"$error":"#NUM!"},{"$error":"#NUM!"},{"$error":"#NUM!"},{"$error":"#NUM!"},{"$error":"#NUM!"},""]
[{"$error":"#NUM!"},{"$error":"#NUM!"},{"$error":"#NUM!"},{"$error":"#NUM!"},{"$error":"#NUM!"},""]
[{"$error":"#NUM!"},{"$error":"#NUM!"},{"$error":"#NUM!"},{"$error":"#NUM!"},{"$error":"#NUM!"},""]
[{"$error":"#NUM!"},{"$error":"#NUM!"},{"$error":"#NUM!"},{"$error":"#NUM!"},{"$error":"#NUM!"},""]
[{"$error":"#NUM!"},{"$error":"#NUM!"},{"$error":"#NUM!"},{"$error":"#NUM!"},{"$error":"#NUM!"},""]
[{"$error":"#NUM!"},{"$error":"#NUM!"},{"$error":"#NUM!"},{"$error":"#NUM!"},{"$error":"#NUM!"},""]
[{"$error":"#NUM!"},{"$error":"#NUM!"},{"$error":"#NUM!"},{"$error":"#NUM!"},{"$error":"#NUM!"},""]
[{"$error":"#NUM!"},{"$error":"#NUM!"},{"$error":"#NUM!"},{"$error":"#NUM!"},{"$error":"#NUM!"},""]
[{"$error":"#NUM!"},{"$error":"#NUM!"},{"$error":"#NUM!"},{"$error":"#NUM!"},{"$error":"#NUM!"},""]
[{"$error":"#NUM!"},{"$error":"#NUM!"},{"$error":"#NUM!"},{"$error":"#NUM!"},{"$error":"#NUM!"},""]
[{"$error":"#NUM!"},{"$error":"#NUM!"},{"$error":"#NUM!"},{"$error":"#NUM!"},{"$error":"#NUM!"},""]
[{"$error":"#NUM!"},{"$error":"#NUM!"},{"$error":"#NUM!"},{"$error":"#NUM!"},{"$error":"#NUM!"},""]
[{"$error":"#NUM!"},{"$error":"#NUM!"},{"$error":"#NUM!"},{"$error":"#NUM!"},{"$error":"#NUM!"},""]
[{"$error":"#NUM!"},{"$error":"#NUM!"},{"$error":"#NUM!"},{"$error":"#NUM!"},{"$error":"#NUM!"},""]
[{"$error":"#NUM!"},{"$error":"#NUM!"},{"$error":"#NUM!"},{"$error":"#NUM!"},{"$error":"#NUM!"},""]
[{"$error":"#NUM!"},{"$error":"#NUM!"},{"$error":"#NUM!"},{"$error":"#NUM!"},{"$error":"#NUM!"},""]
[{"$error":"#NUM!"},{"$error":"#NUM!"},{"$error":"#NUM!"},{"$error":"#NUM!"},{"$error":"#NUM!"},""]
[{"$error":"#NUM!"},{"$error":"#NUM!"},{"$error":"#NUM!"},{"$error":"#NUM!"},{"$error":"#NUM!"},""]
[{"$error":"#NUM!"},{"$error":"#NUM!"},{"$error":"#NUM!"},{"$error":"#NUM!"},{"$error":"#NUM!"},""]
[{"$error":"#NUM!"},{"$error":"#NUM!"},{"$error":"#NUM!"},{"$error":"#NUM!"},{"$error":"#NUM!"},""]
[{"$error":"#NUM!"},{"$error":"#NUM!"},{"$error":"#NUM!"},{"$error":"#NUM!"},{"$error":"#NUM!"},""]
[{"$error":"#NUM!"},{"$error":"#NUM!"},{"$error":"#NUM!"},{"$error":"#NUM!"},{"$error":"#NUM!"},""]
[{"$error":"#NUM!"},{"$error":"#NUM!"},{"$error":"#NUM!"},{"$error":"#NUM!"},{"$error":"#NUM!"},""]
[{"$error":"#NUM!"},{"$error":"#NUM!"},{"$error":"#NUM!"},{"$error":"#NUM!"},{"$error":"#NUM!"},""]
[{"$error":"#NUM!"},{"$error":"#NUM!"},{"$error":"#NUM!"},{"$error":"#NUM!"},{"$error":"#NUM!"},{"$f":"IF(ISERROR(A333),\"\",INDIRECT(ADDRESS($A333,40,,,\"Urban & Suburban Intersections\")))","v":""}]
[{"$f":"IF(MATCH(LARGE(INDIRECT(\"'Urban & Suburban Intersections'!$AN5:$AN10004\"),ROW()-300),INDIRECT(\"'Urban & Suburban Intersections'!$AN5:$AN10004\"),0)=MATCH(LARGE(INDIRECT(\"'Urban & Suburban Intersections'!$AN5:$AN10004\"),ROW()-300-1),INDIRECT(\"'Urban & Suburban Intersections'!$AN5:$AN10004\"),0),MATCH(LARGE(INDIRECT(\"'Urban & Suburban Intersections'!$AN5:$AN10004\"),ROW()-300),INDIRECT(ADDRESS(A333+1,34,,,\"Urban & Suburban Intersections\")&\":AN10004\"),0)+A333,MATCH(LARGE(INDIRECT(\"'Urban & Suburban Intersections'!$AN5:$AN10004\"),ROW()-300),INDIRECT(\"'Urban & Suburban Intersections'!$AN5:$AN10004\"),0)+4)","v":{"$error":"#NUM!"}},{"$error":"#NUM!"},{"$error":"#NUM!"},{"$error":"#NUM!"},{"$error":"#NUM!"},""]
[{"$error":"#NUM!"},{"$error":"#NUM!"},{"$error":"#NUM!"},{"$error":"#NUM!"},{"$error":"#NUM!"},""]
[{"$error":"#NUM!"},{"$error":"#NUM!"},{"$error":"#NUM!"},{"$error":"#NUM!"},{"$error":"#NUM!"},""]
[{"$error":"#NUM!"},{"$error":"#NUM!"},{"$error":"#NUM!"},{"$error":"#NUM!"},{"$error":"#NUM!"},""]
[{"$error":"#NUM!"},{"$error":"#NUM!"},{"$error":"#NUM!"},{"$error":"#NUM!"},{"$error":"#NUM!"},""]
[{"$error":"#NUM!"},{"$error":"#NUM!"},{"$error":"#NUM!"},{"$error":"#NUM!"},{"$error":"#NUM!"},""]
[{"$error":"#NUM!"},{"$error":"#NUM!"},{"$error":"#NUM!"},{"$error":"#NUM!"},{"$error":"#NUM!"},""]
[{"$error":"#NUM!"},{"$error":"#NUM!"},{"$error":"#NUM!"},{"$error":"#NUM!"},{"$error":"#NUM!"},""]
[{"$error":"#NUM!"},{"$error":"#NUM!"},{"$error":"#NUM!"},{"$error":"#NUM!"},{"$error":"#NUM!"},""]
[{"$error":"#NUM!"},{"$error":"#NUM!"},{"$error":"#NUM!"},{"$error":"#NUM!"},{"$error":"#NUM!"},""]
[{"$error":"#NUM!"},{"$error":"#NUM!"},{"$error":"#NUM!"},{"$error":"#NUM!"},{"$error":"#NUM!"},""]
[{"$error":"#NUM!"},{"$error":"#NUM!"},{"$error":"#NUM!"},{"$error":"#NUM!"},{"$error":"#NUM!"},""]
[{"$error":"#NUM!"},{"$error":"#NUM!"},{"$error":"#NUM!"},{"$error":"#NUM!"},{"$error":"#NUM!"},""]
[{"$error":"#NUM!"},{"$error":"#NUM!"},{"$error":"#NUM!"},{"$error":"#NUM!"},{"$error":"#NUM!"},""]
[{"$error":"#NUM!"},{"$error":"#NUM!"},{"$error":"#NUM!"},{"$error":"#NUM!"},{"$error":"#NUM!"},""]
[{"$error":"#NUM!"},{"$error":"#NUM!"},{"$error":"#NUM!"},{"$error":"#NUM!"},{"$error":"#NUM!"},""]
[{"$error":"#NUM!"},{"$error":"#NUM!"},{"$error":"#NUM!"},{"$error":"#NUM!"},{"$error":"#NUM!"},""]

{"sheet":"RankingPredictedFI","index":17,"n_rows":350,"n_cols":11,"rows_kept":350,"cut":false,"hidden":true,"merged":[]}
[{"$f":"MATCH(LARGE(INDIRECT(\"'Rural 2-Lane Segments'!$FQ$5:$FQ$10004\"),ROW()),INDIRECT(\"'Rural 2-Lane Segments'!$FQ$5:$FQ$10004\"),0)+4","v":5},{"$f":"\"(SEG) \"&INDIRECT(ADDRESS($A1,2,,,\"Rural 2-Lane Segments\"))&\", \"&INDIRECT(ADDRESS($A1,3,,,\"Rural 2-Lane Segments\"))","v":"(SEG) SH 321, MP 0.0 to MP 1.5"},{"$f":"INDIRECT(ADDRESS($A1,4,,,\"Rural 2-Lane Segments\"))","v":"Anywhere, USA"},{"$f":"\"Length = \"&INDIRECT(ADDRESS($A1,5,,,\"Rural 2-Lane Segments\"))&\" mi\"","v":"Length = 1.5 mi"},{"$f":"\"AADT: \"&TEXT(INDIRECT(ADDRESS($A1,6,,,\"Rural 2-Lane Segments\")),\"#,##0\")","v":"AADT: 10,000"},{"$f":"IF(ISERROR(A1),\"\",INDIRECT(ADDRESS($A1,175,,,\"Rural 2-Lane Segments\")))","v":0.61078631369675629},null,null,null,{"$f":"LARGE($F$1:$F$350,ROW())","v":1.0158377544768562},{"$f":"MATCH(LARGE($F$1:$F$350,ROW()),$F$1:$F$350,0)","v":58}]
[{"$f":"IF(MATCH(LARGE(INDIRECT(\"'Rural 2-Lane Segments'!$FQ$5:$FQ$10004\"),ROW()),INDIRECT(\"'Rural 2-Lane Segments'!$FQ$5:$FQ$10004\"),0)=MATCH(LARGE(INDIRECT(\"'Rural 2-Lane Segments'!$FQ$5:$FQ$10004\"),ROW()-1),INDIRECT(\"'Rural 2-Lane Segments'!$FQ$5:$FQ$10004\"),0),MATCH(LARGE(INDIRECT(\"'Rural 2-Lane Segments'!$FQ$5:$FQ$10004\"),ROW()),INDIRECT(ADDRESS(A1+1,173,,,\"Rural 2-Lane Segments\")&\":FQ10004\"),0)+A1,MATCH(LARGE(INDIRECT(\"'Rural 2-Lane Segments'!$FQ$5:$FQ$10004\"),ROW()),INDIRECT(\"'Rural 2-Lane Segments'!$FQ$5:$FQ$10004\"),0)+4)","v":{"$error":"#NUM!"}},{"$f":"\"(SEG) \"&INDIRECT(ADDRESS($A2,2,,,\"Rural 2-Lane Segments\"))&\", \"&INDIRECT(ADDRESS($A2,3,,,\"Rural 2-Lane Segments\"))","v":{"$error":"#NUM!"}},{"$f":"INDIRECT(ADDRESS($A2,4,,,\"Rural 2-Lane Segments\"))","v":{"$error":"#NUM!"}},{"$f":"\"Length = \"&INDIRECT(ADDRESS($A2,5,,,\"Rural 2-Lane Segments\"))&\" mi\"","v":{"$error":"#NUM!"}},{"$error":"#NUM!"},"",null,null,null,{"$f":"LARGE($F$1:$F$350,ROW())","v":0.76444061235591121},{"$f":"IF(MATCH(LARGE($F$1:$F$350,ROW()),$F$1:$F$350,0)=MATCH(LARGE($F$1:$F$350,ROW()-1),$F$1:$F$350,0),MATCH(LARGE($F$1:$F$350,ROW()),INDIRECT(ADDRESS(K1+1,6)&\":F350\"),0)+K1,MATCH(LARGE($F$1:$F$350,ROW()),$F$1:$F$350,0))","v":55}]
[{"$f":"IF(MATCH(LARGE(INDIRECT(\"'Rural 2-Lane Segments'!$FQ$5:$FQ$10004\"),ROW()),INDIRECT(\"'Rural 2-Lane Segments'!$FQ$5:$FQ$10004\"),0)=MATCH(LARGE(INDIRECT(\"'Rural 2-Lane Segments'!$FQ$5:$FQ$10004\"),ROW()-1),INDIRECT(\"'Rural 2-Lane Segments'!$FQ$5:$FQ$10004\"),0),MATCH(LARGE(INDIRECT(\"'Rural 2-Lane Segments'!$FQ$5:$FQ$10004\"),ROW()),INDIRECT(ADDRESS(A2+1,173,,,\"Rural 2-Lane Segments\")&\":FQ10004\"),0)+A2,MATCH(LARGE(INDIRECT(\"'Rural 2-Lane Segments'!$FQ$5:$FQ$10004\"),ROW()),INDIRECT(\"'Rural 2-Lane Segments'!$FQ$5:$FQ$10004\"),0)+4)","v":{"$error":"#NUM!"}},{"$error":"#NUM!"},{"$error":"#NUM!"},{"$error":"#NUM!"},{"$error":"#NUM!"},"",null,null,null,0.73122141135063901,{"$f":"IF(MATCH(LARGE($F$1:$F$350,ROW()),$F$1:$F$350,0)=MATCH(LARGE($F$1:$F$350,ROW()-1),$F$1:$F$350,0),MATCH(LARGE($F$1:$F$350,ROW()),INDIRECT(ADDRESS(K2+1,6)&\":F350\"),0)+K2,MATCH(LARGE($F$1:$F$350,ROW()),$F$1:$F$350,0))","v":56}]
[{"$error":"#NUM!"},{"$error":"#NUM!"},{"$error":"#NUM!"},{"$error":"#NUM!"},{"$error":"#NUM!"},"",null,null,null,0.72313436667817099,57]
[{"$error":"#NUM!"},{"$error":"#NUM!"},{"$error":"#NUM!"},{"$error":"#NUM!"},{"$error":"#NUM!"},"",null,null,null,0.61078631369675629,1]
[{"$error":"#NUM!"},{"$error":"#NUM!"},{"$error":"#NUM!"},{"$error":"#NUM!"},{"$error":"#NUM!"},"",null,null,null,0.55918394711858965,59]
[{"$error":"#NUM!"},{"$error":"#NUM!"},{"$error":"#NUM!"},{"$error":"#NUM!"},{"$error":"#NUM!"},"",null,null,null,0.52937406554482269,54]
[{"$error":"#NUM!"},{"$error":"#NUM!"},{"$error":"#NUM!"},{"$error":"#NUM!"},{"$error":"#NUM!"},"",null,null,null,0.3133209419182178,60]
[{"$error":"#NUM!"},{"$error":"#NUM!"},{"$error":"#NUM!"},{"$error":"#NUM!"},{"$error":"#NUM!"},"",null,null,null,0.17039962763664587,51]
[{"$error":"#NUM!"},{"$error":"#NUM!"},{"$error":"#NUM!"},{"$error":"#NUM!"},{"$error":"#NUM!"},"",null,null,null,0.15279284780075553,53]
[{"$error":"#NUM!"},{"$error":"#NUM!"},{"$error":"#NUM!"},{"$error":"#NUM!"},{"$error":"#NUM!"},"",null,null,null,7.1431872370579449E-2,52]
[{"$error":"#NUM!"},{"$error":"#NUM!"},{"$error":"#NUM!"},{"$error":"#NUM!"},{"$error":"#NUM!"},"",null,null,null,{"$error":"#NUM!"},{"$error":"#NUM!"}]
[{"$error":"#NUM!"},{"$error":"#NUM!"},{"$error":"#NUM!"},{"$error":"#NUM!"},{"$error":"#NUM!"},"",null,null,null,{"$error":"#NUM!"},{"$error":"#NUM!"}]
[{"$error":"#NUM!"},{"$error":"#NUM!"},{"$error":"#NUM!"},{"$error":"#NUM!"},{"$error":"#NUM!"},"",null,null,null,{"$error":"#NUM!"},{"$error":"#NUM!"}]
[{"$error":"#NUM!"},{"$error":"#NUM!"},{"$error":"#NUM!"},{"$error":"#NUM!"},{"$error":"#NUM!"},"",null,null,null,{"$error":"#NUM!"},{"$error":"#NUM!"}]
[{"$error":"#NUM!"},{"$error":"#NUM!"},{"$error":"#NUM!"},{"$error":"#NUM!"},{"$error":"#NUM!"},"",null,null,null,{"$error":"#NUM!"},{"$error":"#NUM!"}]
[{"$error":"#NUM!"},{"$error":"#NUM!"},{"$error":"#NUM!"},{"$error":"#NUM!"},{"$error":"#NUM!"},"",null,null,null,{"$error":"#NUM!"},{"$error":"#NUM!"}]
[{"$error":"#NUM!"},{"$error":"#NUM!"},{"$error":"#NUM!"},{"$error":"#NUM!"},{"$error":"#NUM!"},"",null,null,null,{"$error":"#NUM!"},{"$error":"#NUM!"}]
[{"$error":"#NUM!"},{"$error":"#NUM!"},{"$error":"#NUM!"},{"$error":"#NUM!"},{"$error":"#NUM!"},"",null,null,null,{"$error":"#NUM!"},{"$error":"#NUM!"}]
[{"$error":"#NUM!"},{"$error":"#NUM!"},{"$error":"#NUM!"},{"$error":"#NUM!"},{"$error":"#NUM!"},"",null,null,null,{"$error":"#NUM!"},{"$error":"#NUM!"}]
[{"$error":"#NUM!"},{"$error":"#NUM!"},{"$error":"#NUM!"},{"$error":"#NUM!"},{"$error":"#NUM!"},"",null,null,null,{"$error":"#NUM!"},{"$error":"#NUM!"}]
[{"$error":"#NUM!"},{"$error":"#NUM!"},{"$error":"#NUM!"},{"$error":"#NUM!"},{"$error":"#NUM!"},"",null,null,null,{"$error":"#NUM!"},{"$error":"#NUM!"}]
[{"$error":"#NUM!"},{"$error":"#NUM!"},{"$error":"#NUM!"},{"$error":"#NUM!"},{"$error":"#NUM!"},"",null,null,null,{"$error":"#NUM!"},{"$error":"#NUM!"}]
[{"$error":"#NUM!"},{"$error":"#NUM!"},{"$error":"#NUM!"},{"$error":"#NUM!"},{"$error":"#NUM!"},"",null,null,null,{"$error":"#NUM!"},{"$error":"#NUM!"}]
[{"$error":"#NUM!"},{"$error":"#NUM!"},{"$error":"#NUM!"},{"$error":"#NUM!"},{"$error":"#NUM!"},"",null,null,null,{"$error":"#NUM!"},{"$error":"#NUM!"}]
[{"$error":"#NUM!"},{"$error":"#NUM!"},{"$error":"#NUM!"},{"$error":"#NUM!"},{"$error":"#NUM!"},"",null,null,null,{"$error":"#NUM!"},{"$error":"#NUM!"}]
[{"$error":"#NUM!"},{"$error":"#NUM!"},{"$error":"#NUM!"},{"$error":"#NUM!"},{"$error":"#NUM!"},"",null,null,null,{"$error":"#NUM!"},{"$error":"#NUM!"}]
[{"$error":"#NUM!"},{"$error":"#NUM!"},{"$error":"#NUM!"},{"$error":"#NUM!"},{"$error":"#NUM!"},"",null,null,null,{"$error":"#NUM!"},{"$error":"#NUM!"}]
[{"$error":"#NUM!"},{"$error":"#NUM!"},{"$error":"#NUM!"},{"$error":"#NUM!"},{"$error":"#NUM!"},"",null,null,null,{"$error":"#NUM!"},{"$error":"#NUM!"}]
[{"$error":"#NUM!"},{"$error":"#NUM!"},{"$error":"#NUM!"},{"$error":"#NUM!"},{"$error":"#NUM!"},"",null,null,null,{"$error":"#NUM!"},{"$error":"#NUM!"}]
[{"$error":"#NUM!"},{"$error":"#NUM!"},{"$error":"#NUM!"},{"$error":"#NUM!"},{"$error":"#NUM!"},"",null,null,null,{"$error":"#NUM!"},{"$error":"#NUM!"}]
[{"$error":"#NUM!"},{"$error":"#NUM!"},{"$error":"#NUM!"},{"$error":"#NUM!"},{"$error":"#NUM!"},"",null,null,null,{"$error":"#NUM!"},{"$error":"#NUM!"}]
[{"$error":"#NUM!"},{"$error":"#NUM!"},{"$error":"#NUM!"},{"$error":"#NUM!"},{"$error":"#NUM!"},{"$f":"IF(ISERROR(A33),\"\",INDIRECT(ADDRESS($A33,175,,,\"Rural 2-Lane Segments\")))","v":""},null,null,null,{"$error":"#NUM!"},{"$error":"#NUM!"}]
[{"$error":"#NUM!"},{"$error":"#NUM!"},{"$error":"#NUM!"},{"$error":"#NUM!"},{"$error":"#NUM!"},"",null,null,null,{"$error":"#NUM!"},{"$error":"#NUM!"}]
[{"$error":"#NUM!"},{"$error":"#NUM!"},{"$error":"#NUM!"},{"$error":"#NUM!"},{"$error":"#NUM!"},"",null,null,null,{"$error":"#NUM!"},{"$error":"#NUM!"}]
[{"$error":"#NUM!"},{"$error":"#NUM!"},{"$error":"#NUM!"},{"$error":"#NUM!"},{"$error":"#NUM!"},"",null,null,null,{"$error":"#NUM!"},{"$error":"#NUM!"}]
[{"$error":"#NUM!"},{"$error":"#NUM!"},{"$error":"#NUM!"},{"$error":"#NUM!"},{"$error":"#NUM!"},"",null,null,null,{"$error":"#NUM!"},{"$error":"#NUM!"}]
[{"$error":"#NUM!"},{"$error":"#NUM!"},{"$error":"#NUM!"},{"$error":"#NUM!"},{"$error":"#NUM!"},"",null,null,null,{"$error":"#NUM!"},{"$error":"#NUM!"}]
[{"$error":"#NUM!"},{"$error":"#NUM!"},{"$error":"#NUM!"},{"$error":"#NUM!"},{"$error":"#NUM!"},"",null,null,null,{"$error":"#NUM!"},{"$error":"#NUM!"}]
[{"$error":"#NUM!"},{"$error":"#NUM!"},{"$error":"#NUM!"},{"$error":"#NUM!"},{"$error":"#NUM!"},"",null,null,null,{"$error":"#NUM!"},{"$error":"#NUM!"}]
[{"$error":"#NUM!"},{"$error":"#NUM!"},{"$error":"#NUM!"},{"$error":"#NUM!"},{"$error":"#NUM!"},"",null,null,null,{"$error":"#NUM!"},{"$error":"#NUM!"}]
[{"$error":"#NUM!"},{"$error":"#NUM!"},{"$error":"#NUM!"},{"$error":"#NUM!"},{"$error":"#NUM!"},"",null,null,null,{"$error":"#NUM!"},{"$error":"#NUM!"}]
[{"$error":"#NUM!"},{"$error":"#NUM!"},{"$error":"#NUM!"},{"$error":"#NUM!"},{"$error":"#NUM!"},"",null,null,null,{"$error":"#NUM!"},{"$error":"#NUM!"}]
[{"$error":"#NUM!"},{"$error":"#NUM!"},{"$error":"#NUM!"},{"$error":"#NUM!"},{"$error":"#NUM!"},"",null,null,null,{"$error":"#NUM!"},{"$error":"#NUM!"}]
[{"$error":"#NUM!"},{"$error":"#NUM!"},{"$error":"#NUM!"},{"$error":"#NUM!"},{"$error":"#NUM!"},"",null,null,null,{"$error":"#NUM!"},{"$error":"#NUM!"}]
[{"$error":"#NUM!"},{"$error":"#NUM!"},{"$error":"#NUM!"},{"$error":"#NUM!"},{"$error":"#NUM!"},"",null,null,null,{"$error":"#NUM!"},{"$error":"#NUM!"}]
[{"$error":"#NUM!"},{"$error":"#NUM!"},{"$error":"#NUM!"},{"$error":"#NUM!"},{"$error":"#NUM!"},"",null,null,null,{"$error":"#NUM!"},{"$error":"#NUM!"}]
[{"$error":"#NUM!"},{"$error":"#NUM!"},{"$error":"#NUM!"},{"$error":"#NUM!"},{"$error":"#NUM!"},"",null,null,null,{"$error":"#NUM!"},{"$error":"#NUM!"}]
[{"$error":"#NUM!"},{"$error":"#NUM!"},{"$error":"#NUM!"},{"$error":"#NUM!"},{"$error":"#NUM!"},"",null,null,null,{"$error":"#NUM!"},{"$error":"#NUM!"}]
[{"$error":"#NUM!"},{"$error":"#NUM!"},{"$error":"#NUM!"},{"$error":"#NUM!"},{"$error":"#NUM!"},"",null,null,null,{"$error":"#NUM!"},{"$error":"#NUM!"}]
[{"$f":"MATCH(LARGE(INDIRECT(\"'Rural 2-Lane Intersections'!$EI5:$EI10004\"),ROW()-50),INDIRECT(\"'Rural 2-Lane Intersections'!$EI5:$EI10004\"),0)+4","v":10},{"$f":"\"(INT) \"&INDIRECT(ADDRESS($A51,2,,,\"Rural 2-Lane Intersections\"))&\" @ \"&INDIRECT(ADDRESS($A51,3,,,\"Rural 2-Lane Intersections\"))","v":"(INT) Blueberry @ Matti"},{"$f":"INDIRECT(ADDRESS($A51,4,,,\"Rural 2-Lane Intersections\"))","v":"Heritage County"},{"$f":"\"Control = \"&INDIRECT(ADDRESS($A51,5,,,\"Rural 2-Lane Intersections\"))","v":"Control = 3ST"},{"$f":"\"Major AADT: \"&TEXT(INDIRECT(ADDRESS($A51,6,,,\"Rural 2-Lane Intersections\")),\"#,##0\")&\" / Minor AADT: \"&TEXT(INDIRECT(ADDRESS($A51,7,,,\"Rural 2-Lane Intersections\")),\"#,##0\")","v":"Major AADT: 1,800 / Minor AADT: 700"},{"$f":"IF(ISERROR(A51),\"\",INDIRECT(ADDRESS($A51,141,,,\"Rural 2-Lane Intersections\")))","v":0.17039962763664587}]
[{"$f":"IF(MATCH(LARGE(INDIRECT(\"'Rural 2-Lane Intersections'!$EI5:$EI10004\"),ROW()-50),INDIRECT(\"'Rural 2-Lane Intersections'!$EI5:$EI10004\"),0)=MATCH(LARGE(INDIRECT(\"'Rural 2-Lane Intersections'!$EI5:$EI10004\"),ROW()-50-1),INDIRECT(\"'Rural 2-Lane Intersections'!$EI5:$EI10004\"),0),MATCH(LARGE(INDIRECT(\"'Rural 2-Lane Intersections'!$EI5:$EI10004\"),ROW()-50),INDIRECT(ADDRESS(A51+1,139,,,\"Rural 2-Lane Intersections\")&\":EI10004\"),0)+A51,MATCH(LARGE(INDIRECT(\"'Rural 2-Lane Intersections'!$EI5:$EI10004\"),ROW()-50),INDIRECT(\"'Rural 2-Lane Intersections'!$EI5:$EI10004\"),0)+4)","v":11},{"$f":"\"(INT) \"&INDIRECT(ADDRESS($A52,2,,,\"Rural 2-Lane Intersections\"))&\" @ \"&INDIRECT(ADDRESS($A52,3,,,\"Rural 2-Lane Intersections\"))","v":"(INT) Raspberry @ Arvo"},{"$f":"INDIRECT(ADDRESS($A52,4,,,\"Rural 2-Lane Intersections\"))","v":"Heritage County"},{"$f":"\"Control = \"&INDIRECT(ADDRESS($A52,5,,,\"Rural 2-Lane Intersections\"))","v":"Control = 3ST"},{"$f":"\"Major AADT: \"&TEXT(INDIRECT(ADDRESS($A52,6,,,\"Rural 2-Lane Intersections\")),\"#,##0\")&\" / Minor AADT: \"&TEXT(INDIRECT(ADDRESS($A52,7,,,\"Rural 2-Lane Intersections\")),\"#,##0\")","v":"Major AADT: 2,350 / Minor AADT: 900"},7.1431872370579449E-2]
[{"$f":"IF(MATCH(LARGE(INDIRECT(\"'Rural 2-Lane Intersections'!$EI5:$EI10004\"),ROW()-50),INDIRECT(\"'Rural 2-Lane Intersections'!$EI5:$EI10004\"),0)=MATCH(LARGE(INDIRECT(\"'Rural 2-Lane Intersections'!$EI5:$EI10004\"),ROW()-50-1),INDIRECT(\"'Rural 2-Lane Intersections'!$EI5:$EI10004\"),0),MATCH(LARGE(INDIRECT(\"'Rural 2-Lane Intersections'!$EI5:$EI10004\"),ROW()-50),INDIRECT(ADDRESS(A52+1,139,,,\"Rural 2-Lane Intersections\")&\":EI10004\"),0)+A52,MATCH(LARGE(INDIRECT(\"'Rural 2-Lane Intersections'!$EI5:$EI10004\"),ROW()-50),INDIRECT(\"'Rural 2-Lane Intersections'!$EI5:$EI10004\"),0)+4)","v":12},{"$f":"\"(INT) \"&INDIRECT(ADDRESS($A53,2,,,\"Rural 2-Lane Intersections\"))&\" @ \"&INDIRECT(ADDRESS($A53,3,,,\"Rural 2-Lane Intersections\"))","v":"(INT) Kiwi @ Hilma"},{"$f":"INDIRECT(ADDRESS($A53,4,,,\"Rural 2-Lane Intersections\"))","v":"Heritage County"},{"$f":"\"Control = \"&INDIRECT(ADDRESS($A53,5,,,\"Rural 2-Lane Intersections\"))","v":"Control = 3ST"},{"$f":"\"Major AADT: \"&TEXT(INDIRECT(ADDRESS($A53,6,,,\"Rural 2-Lane Intersections\")),\"#,##0\")&\" / Minor AADT: \"&TEXT(INDIRECT(ADDRESS($A53,7,,,\"Rural 2-Lane Intersections\")),\"#,##0\")","v":"Major AADT: 1,200 / Minor AADT: 1,150"},0.15279284780075553]
[5,"(INT) Apple @ Heikki","Heritage County","Control = 4ST","Major AADT: 3,300 / Minor AADT: 2,400",0.52937406554482269]
[6,"(INT) Banana @ Toivo","Heritage County","Control = 4ST","Major AADT: 2,100 / Minor AADT: 2,000",0.76444061235591121]
[7,"(INT) Mango @ Aili","Heritage County","Control = 4ST","Major AADT: 3,200 / Minor AADT: 1,150",0.73122141135063901]
[8,"(INT) Pineapple @ Emil","Heritage County","Control = 4ST","Major AADT: 3,500 / Minor AADT: 3,300",0.72313436667817099]
[9,"(INT) Orange @ Jaakko","Heritage County","Control = 4ST","Major AADT: 2,750 / Minor AADT: 2,500",1.0158377544768562]
[13,"(INT) Lemon @ Tuula","Heritage County","Control = 4ST","Major AADT: 3,700 / Minor AADT: 2,100",0.55918394711858965]
[14,"(INT) Starfruit @ Alma","Heritage County","Control = 4ST","Major AADT: 1,900 / Minor AADT: 500",0.3133209419182178]
[{"$error":"#NUM!"},{"$error":"#NUM!"},{"$error":"#NUM!"},{"$error":"#NUM!"},{"$error":"#NUM!"},""]
[{"$error":"#NUM!"},{"$error":"#NUM!"},{"$error":"#NUM!"},{"$error":"#NUM!"},{"$error":"#NUM!"},""]
[{"$error":"#NUM!"},{"$error":"#NUM!"},{"$error":"#NUM!"},{"$error":"#NUM!"},{"$error":"#NUM!"},""]
[{"$error":"#NUM!"},{"$error":"#NUM!"},{"$error":"#NUM!"},{"$error":"#NUM!"},{"$error":"#NUM!"},""]
[{"$error":"#NUM!"},{"$error":"#NUM!"},{"$error":"#NUM!"},{"$error":"#NUM!"},{"$error":"#NUM!"},""]
[{"$error":"#NUM!"},{"$error":"#NUM!"},{"$error":"#NUM!"},{"$error":"#NUM!"},{"$error":"#NUM!"},""]
[{"$error":"#NUM!"},{"$error":"#NUM!"},{"$error":"#NUM!"},{"$error":"#NUM!"},{"$error":"#NUM!"},""]
[{"$error":"#NUM!"},{"$error":"#NUM!"},{"$error":"#NUM!"},{"$error":"#NUM!"},{"$error":"#NUM!"},""]
[{"$error":"#NUM!"},{"$error":"#NUM!"},{"$error":"#NUM!"},{"$error":"#NUM!"},{"$error":"#NUM!"},""]
[{"$error":"#NUM!"},{"$error":"#NUM!"},{"$error":"#NUM!"},{"$error":"#NUM!"},{"$error":"#NUM!"},""]
[{"$error":"#NUM!"},{"$error":"#NUM!"},{"$error":"#NUM!"},{"$error":"#NUM!"},{"$error":"#NUM!"},""]
[{"$error":"#NUM!"},{"$error":"#NUM!"},{"$error":"#NUM!"},{"$error":"#NUM!"},{"$error":"#NUM!"},""]
[{"$error":"#NUM!"},{"$error":"#NUM!"},{"$error":"#NUM!"},{"$error":"#NUM!"},{"$error":"#NUM!"},""]
[{"$error":"#NUM!"},{"$error":"#NUM!"},{"$error":"#NUM!"},{"$error":"#NUM!"},{"$error":"#NUM!"},""]
[{"$error":"#NUM!"},{"$error":"#NUM!"},{"$error":"#NUM!"},{"$error":"#NUM!"},{"$error":"#NUM!"},""]
[{"$error":"#NUM!"},{"$error":"#NUM!"},{"$error":"#NUM!"},{"$error":"#NUM!"},{"$error":"#NUM!"},""]
[{"$error":"#NUM!"},{"$error":"#NUM!"},{"$error":"#NUM!"},{"$error":"#NUM!"},{"$error":"#NUM!"},""]
[{"$error":"#NUM!"},{"$error":"#NUM!"},{"$error":"#NUM!"},{"$error":"#NUM!"},{"$error":"#NUM!"},""]
[{"$error":"#NUM!"},{"$error":"#NUM!"},{"$error":"#NUM!"},{"$error":"#NUM!"},{"$error":"#NUM!"},""]
[{"$error":"#NUM!"},{"$error":"#NUM!"},{"$error":"#NUM!"},{"$error":"#NUM!"},{"$error":"#NUM!"},""]
[{"$error":"#NUM!"},{"$error":"#NUM!"},{"$error":"#NUM!"},{"$error":"#NUM!"},{"$error":"#NUM!"},""]
[{"$error":"#NUM!"},{"$error":"#NUM!"},{"$error":"#NUM!"},{"$error":"#NUM!"},{"$error":"#NUM!"},""]
[{"$error":"#NUM!"},{"$error":"#NUM!"},{"$error":"#NUM!"},{"$error":"#NUM!"},{"$error":"#NUM!"},{"$f":"IF(ISERROR(A83),\"\",INDIRECT(ADDRESS($A83,141,,,\"Rural 2-Lane Intersections\")))","v":""}]
[{"$error":"#NUM!"},{"$error":"#NUM!"},{"$error":"#NUM!"},{"$error":"#NUM!"},{"$error":"#NUM!"},""]
[{"$error":"#NUM!"},{"$error":"#NUM!"},{"$error":"#NUM!"},{"$error":"#NUM!"},{"$error":"#NUM!"},""]
[{"$error":"#NUM!"},{"$error":"#NUM!"},{"$error":"#NUM!"},{"$error":"#NUM!"},{"$error":"#NUM!"},""]
[{"$error":"#NUM!"},{"$error":"#NUM!"},{"$error":"#NUM!"},{"$error":"#NUM!"},{"$error":"#NUM!"},""]
[{"$error":"#NUM!"},{"$error":"#NUM!"},{"$error":"#NUM!"},{"$error":"#NUM!"},{"$error":"#NUM!"},""]
[{"$error":"#NUM!"},{"$error":"#NUM!"},{"$error":"#NUM!"},{"$error":"#NUM!"},{"$error":"#NUM!"},""]
[{"$error":"#NUM!"},{"$error":"#NUM!"},{"$error":"#NUM!"},{"$error":"#NUM!"},{"$error":"#NUM!"},""]
[{"$error":"#NUM!"},{"$error":"#NUM!"},{"$error":"#NUM!"},{"$error":"#NUM!"},{"$error":"#NUM!"},""]
[{"$error":"#NUM!"},{"$error":"#NUM!"},{"$error":"#NUM!"},{"$error":"#NUM!"},{"$error":"#NUM!"},""]
[{"$error":"#NUM!"},{"$error":"#NUM!"},{"$error":"#NUM!"},{"$error":"#NUM!"},{"$error":"#NUM!"},""]
[{"$error":"#NUM!"},{"$error":"#NUM!"},{"$error":"#NUM!"},{"$error":"#NUM!"},{"$error":"#NUM!"},""]
[{"$error":"#NUM!"},{"$error":"#NUM!"},{"$error":"#NUM!"},{"$error":"#NUM!"},{"$error":"#NUM!"},""]
[{"$error":"#NUM!"},{"$error":"#NUM!"},{"$error":"#NUM!"},{"$error":"#NUM!"},{"$error":"#NUM!"},""]
[{"$error":"#NUM!"},{"$error":"#NUM!"},{"$error":"#NUM!"},{"$error":"#NUM!"},{"$error":"#NUM!"},""]
[{"$error":"#NUM!"},{"$error":"#NUM!"},{"$error":"#NUM!"},{"$error":"#NUM!"},{"$error":"#NUM!"},""]
[{"$error":"#NUM!"},{"$error":"#NUM!"},{"$error":"#NUM!"},{"$error":"#NUM!"},{"$error":"#NUM!"},""]
[{"$error":"#NUM!"},{"$error":"#NUM!"},{"$error":"#NUM!"},{"$error":"#NUM!"},{"$error":"#NUM!"},""]
[{"$f":"MATCH(LARGE(INDIRECT(\"'Rural Divided Multilane Seg'!$ES5:$ES10004\"),ROW()-100),INDIRECT(\"'Rural Divided Multilane Seg'!$ES5:$ES10004\"),0)+4","v":{"$error":"#NUM!"}},{"$f":"\"(SEG) \"&INDIRECT(ADDRESS($A101,2,,,\"Rural Divided Multilane Seg\"))&\", \"&INDIRECT(ADDRESS($A101,3,,,\"Rural Divided Multilane Seg\"))","v":{"$error":"#NUM!"}},{"$f":"INDIRECT(ADDRESS($A101,4,,,\"Rural Divided Multilane Seg\"))","v":{"$error":"#NUM!"}},{"$f":"\"Length = \"&INDIRECT(ADDRESS($A101,5,,,\"Rural Divided Multilane Seg\"))&\" mi\"","v":{"$error":"#NUM!"}},{"$f":"\"AADT: \"&TEXT(INDIRECT(ADDRESS($A101,6,,,\"Rural Divided Multilane Seg\")),\"#,##0\")","v":{"$error":"#NUM!"}},{"$f":"IF(ISERROR(A101),\"\",INDIRECT(ADDRESS($A101,151,,,\"Rural Divided Multilane Seg\")))","v":""}]
[{"$f":"IF(MATCH(LARGE(INDIRECT(\"'Rural Divided Multilane Seg'!$ES$5:$ES$10005\"),ROW()-100),INDIRECT(\"'Rural Divided Multilane Seg'!$ES$5:$ES$10005\"),0)=MATCH(LARGE(INDIRECT(\"'Rural Divided Multilane Seg'!$ES$5:$ES$10005\"),ROW()-100-1),INDIRECT(\"'Rural Divided Multilane Seg'!$ES$5:$ES$10005\"),0),MATCH(LARGE(INDIRECT(\"'Rural Divided Multilane Seg'!$ES$5:$ES$10005\"),ROW()-100),INDIRECT(ADDRESS(A101+1,149,,,\"Rural Divided Multilane Seg\")&\":ES10004\"),0)+A101,MATCH(LARGE(INDIRECT(\"'Rural Divided Multilane Seg'!$ES$5:$ES$10005\"),ROW()-100),INDIRECT(\"'Rural Divided Multilane Seg'!$ES$5:$ES$10005\"),0)+4)","v":{"$error":"#NUM!"}},{"$f":"\"(SEG) \"&INDIRECT(ADDRESS($A102,2,,,\"Rural Divided Multilane Seg\"))&\", \"&INDIRECT(ADDRESS($A102,3,,,\"Rural Divided Multilane Seg\"))","v":{"$error":"#NUM!"}},{"$f":"INDIRECT(ADDRESS($A102,4,,,\"Rural Divided Multilane Seg\"))","v":{"$error":"#NUM!"}},{"$f":"\"Length = \"&INDIRECT(ADDRESS($A102,5,,,\"Rural Divided Multilane Seg\"))&\" mi\"","v":{"$error":"#NUM!"}},{"$f":"\"AADT: \"&TEXT(INDIRECT(ADDRESS($A102,6,,,\"Rural Divided Multilane Seg\")),\"#,##0\")","v":{"$error":"#NUM!"}},""]
[{"$f":"IF(MATCH(LARGE(INDIRECT(\"'Rural Divided Multilane Seg'!$ES$5:$ES$10005\"),ROW()-100),INDIRECT(\"'Rural Divided Multilane Seg'!$ES$5:$ES$10005\"),0)=MATCH(LARGE(INDIRECT(\"'Rural Divided Multilane Seg'!$ES$5:$ES$10005\"),ROW()-100-1),INDIRECT(\"'Rural Divided Multilane Seg'!$ES$5:$ES$10005\"),0),MATCH(LARGE(INDIRECT(\"'Rural Divided Multilane Seg'!$ES$5:$ES$10005\"),ROW()-100),INDIRECT(ADDRESS(A102+1,149,,,\"Rural Divided Multilane Seg\")&\":ES10004\"),0)+A102,MATCH(LARGE(INDIRECT(\"'Rural Divided Multilane Seg'!$ES$5:$ES$10005\"),ROW()-100),INDIRECT(\"'Rural Divided Multilane Seg'!$ES$5:$ES$10005\"),0)+4)","v":{"$error":"#NUM!"}},{"$f":"\"(SEG) \"&INDIRECT(ADDRESS($A103,2,,,\"Rural Divided Multilane Seg\"))&\", \"&INDIRECT(ADDRESS($A103,3,,,\"Rural Divided Multilane Seg\"))","v":{"$error":"#NUM!"}},{"$f":"INDIRECT(ADDRESS($A103,4,,,\"Rural Divided Multilane Seg\"))","v":{"$error":"#NUM!"}},{"$f":"\"Length = \"&INDIRECT(ADDRESS($A103,5,,,\"Rural Divided Multilane Seg\"))&\" mi\"","v":{"$error":"#NUM!"}},{"$f":"\"AADT: \"&TEXT(INDIRECT(ADDRESS($A103,6,,,\"Rural Divided Multilane Seg\")),\"#,##0\")","v":{"$error":"#NUM!"}},""]
[{"$error":"#NUM!"},{"$error":"#NUM!"},{"$error":"#NUM!"},{"$error":"#NUM!"},{"$error":"#NUM!"},""]
[{"$error":"#NUM!"},{"$error":"#NUM!"},{"$error":"#NUM!"},{"$error":"#NUM!"},{"$error":"#NUM!"},""]
[{"$error":"#NUM!"},{"$error":"#NUM!"},{"$error":"#NUM!"},{"$error":"#NUM!"},{"$error":"#NUM!"},""]
[{"$error":"#NUM!"},{"$error":"#NUM!"},{"$error":"#NUM!"},{"$error":"#NUM!"},{"$error":"#NUM!"},""]
[{"$error":"#NUM!"},{"$error":"#NUM!"},{"$error":"#NUM!"},{"$error":"#NUM!"},{"$error":"#NUM!"},""]
[{"$error":"#NUM!"},{"$error":"#NUM!"},{"$error":"#NUM!"},{"$error":"#NUM!"},{"$error":"#NUM!"},""]
[{"$error":"#NUM!"},{"$error":"#NUM!"},{"$error":"#NUM!"},{"$error":"#NUM!"},{"$error":"#NUM!"},""]
[{"$error":"#NUM!"},{"$error":"#NUM!"},{"$error":"#NUM!"},{"$error":"#NUM!"},{"$error":"#NUM!"},""]
[{"$error":"#NUM!"},{"$error":"#NUM!"},{"$error":"#NUM!"},{"$error":"#NUM!"},{"$error":"#NUM!"},""]
[{"$error":"#NUM!"},{"$error":"#NUM!"},{"$error":"#NUM!"},{"$error":"#NUM!"},{"$error":"#NUM!"},""]
[{"$error":"#NUM!"},{"$error":"#NUM!"},{"$error":"#NUM!"},{"$error":"#NUM!"},{"$error":"#NUM!"},""]
[{"$error":"#NUM!"},{"$error":"#NUM!"},{"$error":"#NUM!"},{"$error":"#NUM!"},{"$error":"#NUM!"},""]
[{"$error":"#NUM!"},{"$error":"#NUM!"},{"$error":"#NUM!"},{"$error":"#NUM!"},{"$error":"#NUM!"},""]
[{"$error":"#NUM!"},{"$error":"#NUM!"},{"$error":"#NUM!"},{"$error":"#NUM!"},{"$error":"#NUM!"},""]
[{"$error":"#NUM!"},{"$error":"#NUM!"},{"$error":"#NUM!"},{"$error":"#NUM!"},{"$error":"#NUM!"},""]
[{"$error":"#NUM!"},{"$error":"#NUM!"},{"$error":"#NUM!"},{"$error":"#NUM!"},{"$error":"#NUM!"},""]
[{"$error":"#NUM!"},{"$error":"#NUM!"},{"$error":"#NUM!"},{"$error":"#NUM!"},{"$error":"#NUM!"},""]
[{"$error":"#NUM!"},{"$error":"#NUM!"},{"$error":"#NUM!"},{"$error":"#NUM!"},{"$error":"#NUM!"},""]
[{"$error":"#NUM!"},{"$error":"#NUM!"},{"$error":"#NUM!"},{"$error":"#NUM!"},{"$error":"#NUM!"},""]
[{"$error":"#NUM!"},{"$error":"#NUM!"},{"$error":"#NUM!"},{"$error":"#NUM!"},{"$error":"#NUM!"},""]
[{"$error":"#NUM!"},{"$error":"#NUM!"},{"$error":"#NUM!"},{"$error":"#NUM!"},{"$error":"#NUM!"},""]
[{"$error":"#NUM!"},{"$error":"#NUM!"},{"$error":"#NUM!"},{"$error":"#NUM!"},{"$error":"#NUM!"},""]
[{"$error":"#NUM!"},{"$error":"#NUM!"},{"$error":"#NUM!"},{"$error":"#NUM!"},{"$error":"#NUM!"},""]
[{"$error":"#NUM!"},{"$error":"#NUM!"},{"$error":"#NUM!"},{"$error":"#NUM!"},{"$error":"#NUM!"},""]
[{"$error":"#NUM!"},{"$error":"#NUM!"},{"$error":"#NUM!"},{"$error":"#NUM!"},{"$error":"#NUM!"},""]
[{"$error":"#NUM!"},{"$error":"#NUM!"},{"$error":"#NUM!"},{"$error":"#NUM!"},{"$error":"#NUM!"},""]
[{"$error":"#NUM!"},{"$error":"#NUM!"},{"$error":"#NUM!"},{"$error":"#NUM!"},{"$error":"#NUM!"},""]
[{"$error":"#NUM!"},{"$error":"#NUM!"},{"$error":"#NUM!"},{"$error":"#NUM!"},{"$error":"#NUM!"},""]
[{"$error":"#NUM!"},{"$error":"#NUM!"},{"$error":"#NUM!"},{"$error":"#NUM!"},{"$error":"#NUM!"},""]
[{"$error":"#NUM!"},{"$error":"#NUM!"},{"$error":"#NUM!"},{"$error":"#NUM!"},{"$error":"#NUM!"},{"$f":"IF(ISERROR(A133),\"\",INDIRECT(ADDRESS($A133,151,,,\"Rural Divided Multilane Seg\")))","v":""}]
[{"$error":"#NUM!"},{"$error":"#NUM!"},{"$error":"#NUM!"},{"$error":"#NUM!"},{"$error":"#NUM!"},""]
[{"$error":"#NUM!"},{"$error":"#NUM!"},{"$error":"#NUM!"},{"$error":"#NUM!"},{"$error":"#NUM!"},""]
[{"$error":"#NUM!"},{"$error":"#NUM!"},{"$error":"#NUM!"},{"$error":"#NUM!"},{"$error":"#NUM!"},""]
[{"$error":"#NUM!"},{"$error":"#NUM!"},{"$error":"#NUM!"},{"$error":"#NUM!"},{"$error":"#NUM!"},""]
[{"$error":"#NUM!"},{"$error":"#NUM!"},{"$error":"#NUM!"},{"$error":"#NUM!"},{"$error":"#NUM!"},""]
[{"$error":"#NUM!"},{"$error":"#NUM!"},{"$error":"#NUM!"},{"$error":"#NUM!"},{"$error":"#NUM!"},""]
[{"$error":"#NUM!"},{"$error":"#NUM!"},{"$error":"#NUM!"},{"$error":"#NUM!"},{"$error":"#NUM!"},""]
[{"$error":"#NUM!"},{"$error":"#NUM!"},{"$error":"#NUM!"},{"$error":"#NUM!"},{"$error":"#NUM!"},""]
[{"$error":"#NUM!"},{"$error":"#NUM!"},{"$error":"#NUM!"},{"$error":"#NUM!"},{"$error":"#NUM!"},""]
[{"$error":"#NUM!"},{"$error":"#NUM!"},{"$error":"#NUM!"},{"$error":"#NUM!"},{"$error":"#NUM!"},""]
[{"$error":"#NUM!"},{"$error":"#NUM!"},{"$error":"#NUM!"},{"$error":"#NUM!"},{"$error":"#NUM!"},""]
[{"$error":"#NUM!"},{"$error":"#NUM!"},{"$error":"#NUM!"},{"$error":"#NUM!"},{"$error":"#NUM!"},""]
[{"$error":"#NUM!"},{"$error":"#NUM!"},{"$error":"#NUM!"},{"$error":"#NUM!"},{"$error":"#NUM!"},""]
[{"$error":"#NUM!"},{"$error":"#NUM!"},{"$error":"#NUM!"},{"$error":"#NUM!"},{"$error":"#NUM!"},""]
[{"$error":"#NUM!"},{"$error":"#NUM!"},{"$error":"#NUM!"},{"$error":"#NUM!"},{"$error":"#NUM!"},""]
[{"$error":"#NUM!"},{"$error":"#NUM!"},{"$error":"#NUM!"},{"$error":"#NUM!"},{"$error":"#NUM!"},""]
[{"$error":"#NUM!"},{"$error":"#NUM!"},{"$error":"#NUM!"},{"$error":"#NUM!"},{"$error":"#NUM!"},""]
[{"$f":"MATCH(LARGE(INDIRECT(\"'Rural Undivided Multilane Seg'!$FV5:$FV10004\"),ROW()-150),INDIRECT(\"'Rural Undivided Multilane Seg'!$FV5:$FV10004\"),0)+4","v":{"$error":"#NUM!"}},{"$f":"\"(SEG) \"&INDIRECT(ADDRESS($A151,2,,,\"Rural Undivided Multilane Seg\"))&\", \"&INDIRECT(ADDRESS($A151,3,,,\"Rural Undivided Multilane Seg\"))","v":{"$error":"#NUM!"}},{"$f":"INDIRECT(ADDRESS($A151,4,,,\"Rural Undivided Multilane Seg\"))","v":{"$error":"#NUM!"}},{"$f":"\"Length = \"&INDIRECT(ADDRESS($A151,5,,,\"Rural Undivided Multilane Seg\"))&\" mi\"","v":{"$error":"#NUM!"}},{"$f":"\"AADT: \"&TEXT(INDIRECT(ADDRESS($A151,6,,,\"Rural Undivided Multilane Seg\")),\"#,##0\")","v":{"$error":"#NUM!"}},{"$f":"IF(ISERROR(A151),\"\",INDIRECT(ADDRESS($A151,180,,,\"Rural Undivided Multilane Seg\")))","v":""}]
[{"$f":"IF(MATCH(LARGE(INDIRECT(\"'Rural Undivided Multilane Seg'!$FV$5:$FV$10005\"),ROW()-150),INDIRECT(\"'Rural Undivided Multilane Seg'!$FV$5:$FV$10005\"),0)=MATCH(LARGE(INDIRECT(\"'Rural Undivided Multilane Seg'!$FV$5:$FV$10005\"),ROW()-150-1),INDIRECT(\"'Rural Undivided Multilane Seg'!$FV$5:$FV$10005\"),0),MATCH(LARGE(INDIRECT(\"'Rural Undivided Multilane Seg'!$FV$5:$FV$10005\"),ROW()-150),INDIRECT(ADDRESS(A151+1,178,,,\"Rural Undivided Multilane Seg\")&\":FV10004\"),0)+A151,MATCH(LARGE(INDIRECT(\"'Rural Undivided Multilane Seg'!$FV$5:$FV$10005\"),ROW()-150),INDIRECT(\"'Rural Undivided Multilane Seg'!$FV$5:$FV$10005\"),0)+4)","v":{"$error":"#NUM!"}},{"$f":"\"(SEG) \"&INDIRECT(ADDRESS($A152,2,,,\"Rural Undivided Multilane Seg\"))&\", \"&INDIRECT(ADDRESS($A152,3,,,\"Rural Undivided Multilane Seg\"))","v":{"$error":"#NUM!"}},{"$f":"INDIRECT(ADDRESS($A152,4,,,\"Rural Undivided Multilane Seg\"))","v":{"$error":"#NUM!"}},{"$f":"\"Length = \"&INDIRECT(ADDRESS($A152,5,,,\"Rural Undivided Multilane Seg\"))&\" mi\"","v":{"$error":"#NUM!"}},{"$f":"\"AADT: \"&TEXT(INDIRECT(ADDRESS($A152,6,,,\"Rural Undivided Multilane Seg\")),\"#,##0\")","v":{"$error":"#NUM!"}},""]
[{"$f":"IF(MATCH(LARGE(INDIRECT(\"'Rural Undivided Multilane Seg'!$FV$5:$FV$10005\"),ROW()-150),INDIRECT(\"'Rural Undivided Multilane Seg'!$FV$5:$FV$10005\"),0)=MATCH(LARGE(INDIRECT(\"'Rural Undivided Multilane Seg'!$FV$5:$FV$10005\"),ROW()-150-1),INDIRECT(\"'Rural Undivided Multilane Seg'!$FV$5:$FV$10005\"),0),MATCH(LARGE(INDIRECT(\"'Rural Undivided Multilane Seg'!$FV$5:$FV$10005\"),ROW()-150),INDIRECT(ADDRESS(A152+1,178,,,\"Rural Undivided Multilane Seg\")&\":FV10004\"),0)+A152,MATCH(LARGE(INDIRECT(\"'Rural Undivided Multilane Seg'!$FV$5:$FV$10005\"),ROW()-150),INDIRECT(\"'Rural Undivided Multilane Seg'!$FV$5:$FV$10005\"),0)+4)","v":{"$error":"#NUM!"}},{"$f":"\"(SEG) \"&INDIRECT(ADDRESS($A153,2,,,\"Rural Undivided Multilane Seg\"))&\", \"&INDIRECT(ADDRESS($A153,3,,,\"Rural Undivided Multilane Seg\"))","v":{"$error":"#NUM!"}},{"$f":"INDIRECT(ADDRESS($A153,4,,,\"Rural Undivided Multilane Seg\"))","v":{"$error":"#NUM!"}},{"$f":"\"Length = \"&INDIRECT(ADDRESS($A153,5,,,\"Rural Undivided Multilane Seg\"))&\" mi\"","v":{"$error":"#NUM!"}},{"$f":"\"AADT: \"&TEXT(INDIRECT(ADDRESS($A153,6,,,\"Rural Undivided Multilane Seg\")),\"#,##0\")","v":{"$error":"#NUM!"}},""]
[{"$error":"#NUM!"},{"$error":"#NUM!"},{"$error":"#NUM!"},{"$error":"#NUM!"},{"$error":"#NUM!"},""]
[{"$error":"#NUM!"},{"$error":"#NUM!"},{"$error":"#NUM!"},{"$error":"#NUM!"},{"$error":"#NUM!"},""]
[{"$error":"#NUM!"},{"$error":"#NUM!"},{"$error":"#NUM!"},{"$error":"#NUM!"},{"$error":"#NUM!"},""]
[{"$error":"#NUM!"},{"$error":"#NUM!"},{"$error":"#NUM!"},{"$error":"#NUM!"},{"$error":"#NUM!"},""]
[{"$error":"#NUM!"},{"$error":"#NUM!"},{"$error":"#NUM!"},{"$error":"#NUM!"},{"$error":"#NUM!"},""]
[{"$error":"#NUM!"},{"$error":"#NUM!"},{"$error":"#NUM!"},{"$error":"#NUM!"},{"$error":"#NUM!"},""]
[{"$error":"#NUM!"},{"$error":"#NUM!"},{"$error":"#NUM!"},{"$error":"#NUM!"},{"$error":"#NUM!"},""]
[{"$error":"#NUM!"},{"$error":"#NUM!"},{"$error":"#NUM!"},{"$error":"#NUM!"},{"$error":"#NUM!"},""]
[{"$error":"#NUM!"},{"$error":"#NUM!"},{"$error":"#NUM!"},{"$error":"#NUM!"},{"$error":"#NUM!"},""]
[{"$error":"#NUM!"},{"$error":"#NUM!"},{"$error":"#NUM!"},{"$error":"#NUM!"},{"$error":"#NUM!"},""]
[{"$error":"#NUM!"},{"$error":"#NUM!"},{"$error":"#NUM!"},{"$error":"#NUM!"},{"$error":"#NUM!"},""]
[{"$error":"#NUM!"},{"$error":"#NUM!"},{"$error":"#NUM!"},{"$error":"#NUM!"},{"$error":"#NUM!"},""]
[{"$error":"#NUM!"},{"$error":"#NUM!"},{"$error":"#NUM!"},{"$error":"#NUM!"},{"$error":"#NUM!"},""]
[{"$error":"#NUM!"},{"$error":"#NUM!"},{"$error":"#NUM!"},{"$error":"#NUM!"},{"$error":"#NUM!"},""]
[{"$error":"#NUM!"},{"$error":"#NUM!"},{"$error":"#NUM!"},{"$error":"#NUM!"},{"$error":"#NUM!"},""]
[{"$error":"#NUM!"},{"$error":"#NUM!"},{"$error":"#NUM!"},{"$error":"#NUM!"},{"$error":"#NUM!"},""]
[{"$error":"#NUM!"},{"$error":"#NUM!"},{"$error":"#NUM!"},{"$error":"#NUM!"},{"$error":"#NUM!"},""]
[{"$error":"#NUM!"},{"$error":"#NUM!"},{"$error":"#NUM!"},{"$error":"#NUM!"},{"$error":"#NUM!"},""]
[{"$error":"#NUM!"},{"$error":"#NUM!"},{"$error":"#NUM!"},{"$error":"#NUM!"},{"$error":"#NUM!"},""]
[{"$error":"#NUM!"},{"$error":"#NUM!"},{"$error":"#NUM!"},{"$error":"#NUM!"},{"$error":"#NUM!"},""]
[{"$error":"#NUM!"},{"$error":"#NUM!"},{"$error":"#NUM!"},{"$error":"#NUM!"},{"$error":"#NUM!"},""]
[{"$error":"#NUM!"},{"$error":"#NUM!"},{"$error":"#NUM!"},{"$error":"#NUM!"},{"$error":"#NUM!"},""]
[{"$error":"#NUM!"},{"$error":"#NUM!"},{"$error":"#NUM!"},{"$error":"#NUM!"},{"$error":"#NUM!"},""]
[{"$error":"#NUM!"},{"$error":"#NUM!"},{"$error":"#NUM!"},{"$error":"#NUM!"},{"$error":"#NUM!"},""]
[{"$error":"#NUM!"},{"$error":"#NUM!"},{"$error":"#NUM!"},{"$error":"#NUM!"},{"$error":"#NUM!"},""]
[{"$error":"#NUM!"},{"$error":"#NUM!"},{"$error":"#NUM!"},{"$error":"#NUM!"},{"$error":"#NUM!"},""]
[{"$error":"#NUM!"},{"$error":"#NUM!"},{"$error":"#NUM!"},{"$error":"#NUM!"},{"$error":"#NUM!"},""]
[{"$error":"#NUM!"},{"$error":"#NUM!"},{"$error":"#NUM!"},{"$error":"#NUM!"},{"$error":"#NUM!"},""]
[{"$error":"#NUM!"},{"$error":"#NUM!"},{"$error":"#NUM!"},{"$error":"#NUM!"},{"$error":"#NUM!"},""]
[{"$error":"#NUM!"},{"$error":"#NUM!"},{"$error":"#NUM!"},{"$error":"#NUM!"},{"$error":"#NUM!"},{"$f":"IF(ISERROR(A183),\"\",INDIRECT(ADDRESS($A183,180,,,\"Rural Undivided Multilane Seg\")))","v":""}]
[{"$error":"#NUM!"},{"$error":"#NUM!"},{"$error":"#NUM!"},{"$error":"#NUM!"},{"$error":"#NUM!"},""]
[{"$error":"#NUM!"},{"$error":"#NUM!"},{"$error":"#NUM!"},{"$error":"#NUM!"},{"$error":"#NUM!"},""]
[{"$error":"#NUM!"},{"$error":"#NUM!"},{"$error":"#NUM!"},{"$error":"#NUM!"},{"$error":"#NUM!"},""]
[{"$error":"#NUM!"},{"$error":"#NUM!"},{"$error":"#NUM!"},{"$error":"#NUM!"},{"$error":"#NUM!"},""]
[{"$error":"#NUM!"},{"$error":"#NUM!"},{"$error":"#NUM!"},{"$error":"#NUM!"},{"$error":"#NUM!"},""]
[{"$error":"#NUM!"},{"$error":"#NUM!"},{"$error":"#NUM!"},{"$error":"#NUM!"},{"$error":"#NUM!"},""]
[{"$error":"#NUM!"},{"$error":"#NUM!"},{"$error":"#NUM!"},{"$error":"#NUM!"},{"$error":"#NUM!"},""]
[{"$error":"#NUM!"},{"$error":"#NUM!"},{"$error":"#NUM!"},{"$error":"#NUM!"},{"$error":"#NUM!"},""]
[{"$error":"#NUM!"},{"$error":"#NUM!"},{"$error":"#NUM!"},{"$error":"#NUM!"},{"$error":"#NUM!"},""]
[{"$error":"#NUM!"},{"$error":"#NUM!"},{"$error":"#NUM!"},{"$error":"#NUM!"},{"$error":"#NUM!"},""]
[{"$error":"#NUM!"},{"$error":"#NUM!"},{"$error":"#NUM!"},{"$error":"#NUM!"},{"$error":"#NUM!"},""]
[{"$error":"#NUM!"},{"$error":"#NUM!"},{"$error":"#NUM!"},{"$error":"#NUM!"},{"$error":"#NUM!"},""]
[{"$error":"#NUM!"},{"$error":"#NUM!"},{"$error":"#NUM!"},{"$error":"#NUM!"},{"$error":"#NUM!"},""]
[{"$error":"#NUM!"},{"$error":"#NUM!"},{"$error":"#NUM!"},{"$error":"#NUM!"},{"$error":"#NUM!"},""]
[{"$error":"#NUM!"},{"$error":"#NUM!"},{"$error":"#NUM!"},{"$error":"#NUM!"},{"$error":"#NUM!"},""]
[{"$error":"#NUM!"},{"$error":"#NUM!"},{"$error":"#NUM!"},{"$error":"#NUM!"},{"$error":"#NUM!"},""]
[{"$error":"#NUM!"},{"$error":"#NUM!"},{"$error":"#NUM!"},{"$error":"#NUM!"},{"$error":"#NUM!"},""]
[{"$f":"MATCH(LARGE(INDIRECT(\"'Rural Multilane Intersections'!$DZ5:$DZ10004\"),ROW()-200),INDIRECT(\"'Rural Multilane Intersections'!$DZ5:$DZ10004\"),0)+4","v":{"$error":"#NUM!"}},{"$f":"\"(INT) \"&INDIRECT(ADDRESS($A201,2,,,\"Rural Multilane Intersections\"))&\" @ \"&INDIRECT(ADDRESS($A201,3,,,\"Rural Multilane Intersections\"))","v":{"$error":"#NUM!"}},{"$f":"INDIRECT(ADDRESS($A201,4,,,\"Rural Multilane Intersections\"))","v":{"$error":"#NUM!"}},{"$f":"\"Control = \"&INDIRECT(ADDRESS($A201,5,,,\"Rural Multilane Intersections\"))","v":{"$error":"#NUM!"}},{"$f":"\"Major AADT: \"&TEXT(INDIRECT(ADDRESS($A201,6,,,\"Rural Multilane Intersections\")),\"#,##0\")&\" / Minor AADT: \"&TEXT(INDIRECT(ADDRESS($A201,7,,,\"Rural Multilane Intersections\")),\"#,##0\")","v":{"$error":"#NUM!"}},{"$f":"IF(ISERROR(A201),\"\",INDIRECT(ADDRESS($A201,134,,,\"Rural Multilane Intersections\")))","v":""}]
[{"$f":"IF(MATCH(LARGE(INDIRECT(\"'Rural Multilane Intersections'!$DZ5:$DZ10004\"),ROW()-200),INDIRECT(\"'Rural Multilane Intersections'!$DZ5:$DZ10004\"),0)=MATCH(LARGE(INDIRECT(\"'Rural Multilane Intersections'!$DZ5:$DZ10004\"),ROW()-200-1),INDIRECT(\"'Rural Multilane Intersections'!$DZ5:$DZ10004\"),0),MATCH(LARGE(INDIRECT(\"'Rural Multilane Intersections'!$DZ5:$DZ10004\"),ROW()-200),INDIRECT(ADDRESS(A201+1,130,,,\"Rural Multilane Intersections\")&\":DZ10004\"),0)+A201,MATCH(LARGE(INDIRECT(\"'Rural Multilane Intersections'!$DZ5:$DZ10004\"),ROW()-200),INDIRECT(\"'Rural Multilane Intersections'!$DZ5:$DZ10004\"),0)+4)","v":{"$error":"#NUM!"}},{"$f":"\"(INT) \"&INDIRECT(ADDRESS($A202,2,,,\"Rural Multilane Intersections\"))&\" @ \"&INDIRECT(ADDRESS($A202,3,,,\"Rural Multilane Intersections\"))","v":{"$error":"#NUM!"}},{"$f":"INDIRECT(ADDRESS($A202,4,,,\"Rural Multilane Intersections\"))","v":{"$error":"#NUM!"}},{"$f":"\"Control = \"&INDIRECT(ADDRESS($A202,5,,,\"Rural Multilane Intersections\"))","v":{"$error":"#NUM!"}},{"$f":"\"Major AADT: \"&TEXT(INDIRECT(ADDRESS($A202,6,,,\"Rural Multilane Intersections\")),\"#,##0\")&\" / Minor AADT: \"&TEXT(INDIRECT(ADDRESS($A202,7,,,\"Rural Multilane Intersections\")),\"#,##0\")","v":{"$error":"#NUM!"}},""]
[{"$f":"IF(MATCH(LARGE(INDIRECT(\"'Rural Multilane Intersections'!$DZ5:$DZ10004\"),ROW()-200),INDIRECT(\"'Rural Multilane Intersections'!$DZ5:$DZ10004\"),0)=MATCH(LARGE(INDIRECT(\"'Rural Multilane Intersections'!$DZ5:$DZ10004\"),ROW()-200-1),INDIRECT(\"'Rural Multilane Intersections'!$DZ5:$DZ10004\"),0),MATCH(LARGE(INDIRECT(\"'Rural Multilane Intersections'!$DZ5:$DZ10004\"),ROW()-200),INDIRECT(ADDRESS(A202+1,130,,,\"Rural Multilane Intersections\")&\":DZ10004\"),0)+A202,MATCH(LARGE(INDIRECT(\"'Rural Multilane Intersections'!$DZ5:$DZ10004\"),ROW()-200),INDIRECT(\"'Rural Multilane Intersections'!$DZ5:$DZ10004\"),0)+4)","v":{"$error":"#NUM!"}},{"$f":"\"(INT) \"&INDIRECT(ADDRESS($A203,2,,,\"Rural Multilane Intersections\"))&\" @ \"&INDIRECT(ADDRESS($A203,3,,,\"Rural Multilane Intersections\"))","v":{"$error":"#NUM!"}},{"$f":"INDIRECT(ADDRESS($A203,4,,,\"Rural Multilane Intersections\"))","v":{"$error":"#NUM!"}},{"$f":"\"Control = \"&INDIRECT(ADDRESS($A203,5,,,\"Rural Multilane Intersections\"))","v":{"$error":"#NUM!"}},{"$f":"\"Major AADT: \"&TEXT(INDIRECT(ADDRESS($A203,6,,,\"Rural Multilane Intersections\")),\"#,##0\")&\" / Minor AADT: \"&TEXT(INDIRECT(ADDRESS($A203,7,,,\"Rural Multilane Intersections\")),\"#,##0\")","v":{"$error":"#NUM!"}},""]
[{"$error":"#NUM!"},{"$error":"#NUM!"},{"$error":"#NUM!"},{"$error":"#NUM!"},{"$error":"#NUM!"},""]
[{"$error":"#NUM!"},{"$error":"#NUM!"},{"$error":"#NUM!"},{"$error":"#NUM!"},{"$error":"#NUM!"},""]
[{"$error":"#NUM!"},{"$error":"#NUM!"},{"$error":"#NUM!"},{"$error":"#NUM!"},{"$error":"#NUM!"},""]
[{"$error":"#NUM!"},{"$error":"#NUM!"},{"$error":"#NUM!"},{"$error":"#NUM!"},{"$error":"#NUM!"},""]
[{"$error":"#NUM!"},{"$error":"#NUM!"},{"$error":"#NUM!"},{"$error":"#NUM!"},{"$error":"#NUM!"},""]
[{"$error":"#NUM!"},{"$error":"#NUM!"},{"$error":"#NUM!"},{"$error":"#NUM!"},{"$error":"#NUM!"},""]
[{"$error":"#NUM!"},{"$error":"#NUM!"},{"$error":"#NUM!"},{"$error":"#NUM!"},{"$error":"#NUM!"},""]
[{"$error":"#NUM!"},{"$error":"#NUM!"},{"$error":"#NUM!"},{"$error":"#NUM!"},{"$error":"#NUM!"},""]
[{"$error":"#NUM!"},{"$error":"#NUM!"},{"$error":"#NUM!"},{"$error":"#NUM!"},{"$error":"#NUM!"},""]
[{"$error":"#NUM!"},{"$error":"#NUM!"},{"$error":"#NUM!"},{"$error":"#NUM!"},{"$error":"#NUM!"},""]
[{"$error":"#NUM!"},{"$error":"#NUM!"},{"$error":"#NUM!"},{"$error":"#NUM!"},{"$error":"#NUM!"},""]
[{"$error":"#NUM!"},{"$error":"#NUM!"},{"$error":"#NUM!"},{"$error":"#NUM!"},{"$error":"#NUM!"},""]
[{"$error":"#NUM!"},{"$error":"#NUM!"},{"$error":"#NUM!"},{"$error":"#NUM!"},{"$error":"#NUM!"},""]
[{"$error":"#NUM!"},{"$error":"#NUM!"},{"$error":"#NUM!"},{"$error":"#NUM!"},{"$error":"#NUM!"},""]
[{"$error":"#NUM!"},{"$error":"#NUM!"},{"$error":"#NUM!"},{"$error":"#NUM!"},{"$error":"#NUM!"},""]
[{"$error":"#NUM!"},{"$error":"#NUM!"},{"$error":"#NUM!"},{"$error":"#NUM!"},{"$error":"#NUM!"},""]
[{"$error":"#NUM!"},{"$error":"#NUM!"},{"$error":"#NUM!"},{"$error":"#NUM!"},{"$error":"#NUM!"},""]
[{"$error":"#NUM!"},{"$error":"#NUM!"},{"$error":"#NUM!"},{"$error":"#NUM!"},{"$error":"#NUM!"},""]
[{"$error":"#NUM!"},{"$error":"#NUM!"},{"$error":"#NUM!"},{"$error":"#NUM!"},{"$error":"#NUM!"},""]
[{"$error":"#NUM!"},{"$error":"#NUM!"},{"$error":"#NUM!"},{"$error":"#NUM!"},{"$error":"#NUM!"},""]
[{"$error":"#NUM!"},{"$error":"#NUM!"},{"$error":"#NUM!"},{"$error":"#NUM!"},{"$error":"#NUM!"},""]
[{"$error":"#NUM!"},{"$error":"#NUM!"},{"$error":"#NUM!"},{"$error":"#NUM!"},{"$error":"#NUM!"},""]
[{"$error":"#NUM!"},{"$error":"#NUM!"},{"$error":"#NUM!"},{"$error":"#NUM!"},{"$error":"#NUM!"},""]
[{"$error":"#NUM!"},{"$error":"#NUM!"},{"$error":"#NUM!"},{"$error":"#NUM!"},{"$error":"#NUM!"},""]
[{"$error":"#NUM!"},{"$error":"#NUM!"},{"$error":"#NUM!"},{"$error":"#NUM!"},{"$error":"#NUM!"},""]
[{"$error":"#NUM!"},{"$error":"#NUM!"},{"$error":"#NUM!"},{"$error":"#NUM!"},{"$error":"#NUM!"},""]
[{"$error":"#NUM!"},{"$error":"#NUM!"},{"$error":"#NUM!"},{"$error":"#NUM!"},{"$error":"#NUM!"},""]
[{"$error":"#NUM!"},{"$error":"#NUM!"},{"$error":"#NUM!"},{"$error":"#NUM!"},{"$error":"#NUM!"},""]
[{"$error":"#NUM!"},{"$error":"#NUM!"},{"$error":"#NUM!"},{"$error":"#NUM!"},{"$error":"#NUM!"},""]
[{"$error":"#NUM!"},{"$error":"#NUM!"},{"$error":"#NUM!"},{"$error":"#NUM!"},{"$error":"#NUM!"},{"$f":"IF(ISERROR(A233),\"\",INDIRECT(ADDRESS($A233,134,,,\"Rural Multilane Intersections\")))","v":""}]
[{"$error":"#NUM!"},{"$error":"#NUM!"},{"$error":"#NUM!"},{"$error":"#NUM!"},{"$error":"#NUM!"},""]
[{"$error":"#NUM!"},{"$error":"#NUM!"},{"$error":"#NUM!"},{"$error":"#NUM!"},{"$error":"#NUM!"},""]
[{"$error":"#NUM!"},{"$error":"#NUM!"},{"$error":"#NUM!"},{"$error":"#NUM!"},{"$error":"#NUM!"},""]
[{"$error":"#NUM!"},{"$error":"#NUM!"},{"$error":"#NUM!"},{"$error":"#NUM!"},{"$error":"#NUM!"},""]
[{"$error":"#NUM!"},{"$error":"#NUM!"},{"$error":"#NUM!"},{"$error":"#NUM!"},{"$error":"#NUM!"},""]
[{"$error":"#NUM!"},{"$error":"#NUM!"},{"$error":"#NUM!"},{"$error":"#NUM!"},{"$error":"#NUM!"},""]
[{"$error":"#NUM!"},{"$error":"#NUM!"},{"$error":"#NUM!"},{"$error":"#NUM!"},{"$error":"#NUM!"},""]
[{"$error":"#NUM!"},{"$error":"#NUM!"},{"$error":"#NUM!"},{"$error":"#NUM!"},{"$error":"#NUM!"},""]
[{"$error":"#NUM!"},{"$error":"#NUM!"},{"$error":"#NUM!"},{"$error":"#NUM!"},{"$error":"#NUM!"},""]
[{"$error":"#NUM!"},{"$error":"#NUM!"},{"$error":"#NUM!"},{"$error":"#NUM!"},{"$error":"#NUM!"},""]
[{"$error":"#NUM!"},{"$error":"#NUM!"},{"$error":"#NUM!"},{"$error":"#NUM!"},{"$error":"#NUM!"},""]
[{"$error":"#NUM!"},{"$error":"#NUM!"},{"$error":"#NUM!"},{"$error":"#NUM!"},{"$error":"#NUM!"},""]
[{"$error":"#NUM!"},{"$error":"#NUM!"},{"$error":"#NUM!"},{"$error":"#NUM!"},{"$error":"#NUM!"},""]
[{"$error":"#NUM!"},{"$error":"#NUM!"},{"$error":"#NUM!"},{"$error":"#NUM!"},{"$error":"#NUM!"},""]
[{"$error":"#NUM!"},{"$error":"#NUM!"},{"$error":"#NUM!"},{"$error":"#NUM!"},{"$error":"#NUM!"},""]
[{"$error":"#NUM!"},{"$error":"#NUM!"},{"$error":"#NUM!"},{"$error":"#NUM!"},{"$error":"#NUM!"},""]
[{"$error":"#NUM!"},{"$error":"#NUM!"},{"$error":"#NUM!"},{"$error":"#NUM!"},{"$error":"#NUM!"},""]
[{"$f":"MATCH(LARGE(INDIRECT(\"'Urban & Suburban Segments'!$KT5:$KT10004\"),ROW()-250),INDIRECT(\"'Urban & Suburban Segments'!$KT5:$KT10004\"),0)+4","v":{"$error":"#NUM!"}},{"$f":"\"(SEG) \"&INDIRECT(ADDRESS($A251,2,,,\"Urban & Suburban Segments\"))&\", \"&INDIRECT(ADDRESS($A251,3,,,\"Urban & Suburban Segments\"))","v":{"$error":"#NUM!"}},{"$f":"INDIRECT(ADDRESS($A251,4,,,\"Urban & Suburban Segments\"))","v":{"$error":"#NUM!"}},{"$f":"\"Type = \"&INDIRECT(ADDRESS($A251,5,,,\"Urban & Suburban Segments\"))&\", Length = \"&INDIRECT(ADDRESS($A251,6,,,\"Urban & Suburban Segments\"))&\" mi\"","v":{"$error":"#NUM!"}},{"$f":"\"AADT: \"&TEXT(INDIRECT(ADDRESS($A251,7,,,\"Urban & Suburban Segments\")),\"#,##0\")","v":{"$error":"#NUM!"}},{"$f":"IF(ISERROR(A251),\"\",INDIRECT(ADDRESS($A251,309,,,\"Urban & Suburban Segments\")))","v":""}]
[{"$f":"IF(MATCH(LARGE(INDIRECT(\"'Urban & Suburban Segments'!$KT5:$KT10004\"),ROW()-250),INDIRECT(\"'Urban & Suburban Segments'!$KT5:$KT10004\"),0)=MATCH(LARGE(INDIRECT(\"'Urban & Suburban Segments'!$KT5:$KT10004\"),ROW()-250-1),INDIRECT(\"'Urban & Suburban Segments'!$KT5:$KT10004\"),0),MATCH(LARGE(INDIRECT(\"'Urban & Suburban Segments'!$KT5:$KT10004\"),ROW()-250),INDIRECT(ADDRESS(A251+1,306,,,\"Urban & Suburban Segments\")&\":KT10004\"),0)+A251,MATCH(LARGE(INDIRECT(\"'Urban & Suburban Segments'!$KT5:$KT10004\"),ROW()-250),INDIRECT(\"'Urban & Suburban Segments'!$KT5:$KT10004\"),0)+4)","v":{"$error":"#NUM!"}},{"$f":"\"(SEG) \"&INDIRECT(ADDRESS($A252,2,,,\"Urban & Suburban Segments\"))&\", \"&INDIRECT(ADDRESS($A252,3,,,\"Urban & Suburban Segments\"))","v":{"$error":"#NUM!"}},{"$f":"INDIRECT(ADDRESS($A252,4,,,\"Urban & Suburban Segments\"))","v":{"$error":"#NUM!"}},{"$f":"\"Type = \"&INDIRECT(ADDRESS($A252,5,,,\"Urban & Suburban Segments\"))&\", Length = \"&INDIRECT(ADDRESS($A252,6,,,\"Urban & Suburban Segments\"))&\" mi\"","v":{"$error":"#NUM!"}},{"$f":"\"AADT: \"&TEXT(INDIRECT(ADDRESS($A252,7,,,\"Urban & Suburban Segments\")),\"#,##0\")","v":{"$error":"#NUM!"}},""]
[{"$f":"IF(MATCH(LARGE(INDIRECT(\"'Urban & Suburban Segments'!$KT5:$KT10004\"),ROW()-250),INDIRECT(\"'Urban & Suburban Segments'!$KT5:$KT10004\"),0)=MATCH(LARGE(INDIRECT(\"'Urban & Suburban Segments'!$KT5:$KT10004\"),ROW()-250-1),INDIRECT(\"'Urban & Suburban Segments'!$KT5:$KT10004\"),0),MATCH(LARGE(INDIRECT(\"'Urban & Suburban Segments'!$KT5:$KT10004\"),ROW()-250),INDIRECT(ADDRESS(A252+1,306,,,\"Urban & Suburban Segments\")&\":KT10004\"),0)+A252,MATCH(LARGE(INDIRECT(\"'Urban & Suburban Segments'!$KT5:$KT10004\"),ROW()-250),INDIRECT(\"'Urban & Suburban Segments'!$KT5:$KT10004\"),0)+4)","v":{"$error":"#NUM!"}},{"$f":"\"(SEG) \"&INDIRECT(ADDRESS($A253,2,,,\"Urban & Suburban Segments\"))&\", \"&INDIRECT(ADDRESS($A253,3,,,\"Urban & Suburban Segments\"))","v":{"$error":"#NUM!"}},{"$f":"INDIRECT(ADDRESS($A253,4,,,\"Urban & Suburban Segments\"))","v":{"$error":"#NUM!"}},{"$f":"\"Type = \"&INDIRECT(ADDRESS($A253,5,,,\"Urban & Suburban Segments\"))&\", Length = \"&INDIRECT(ADDRESS($A253,6,,,\"Urban & Suburban Segments\"))&\" mi\"","v":{"$error":"#NUM!"}},{"$f":"\"AADT: \"&TEXT(INDIRECT(ADDRESS($A253,7,,,\"Urban & Suburban Segments\")),\"#,##0\")","v":{"$error":"#NUM!"}},""]
[{"$error":"#NUM!"},{"$error":"#NUM!"},{"$error":"#NUM!"},{"$error":"#NUM!"},{"$error":"#NUM!"},""]
[{"$error":"#NUM!"},{"$error":"#NUM!"},{"$error":"#NUM!"},{"$error":"#NUM!"},{"$error":"#NUM!"},""]
[{"$error":"#NUM!"},{"$error":"#NUM!"},{"$error":"#NUM!"},{"$error":"#NUM!"},{"$error":"#NUM!"},""]
[{"$error":"#NUM!"},{"$error":"#NUM!"},{"$error":"#NUM!"},{"$error":"#NUM!"},{"$error":"#NUM!"},""]
[{"$error":"#NUM!"},{"$error":"#NUM!"},{"$error":"#NUM!"},{"$error":"#NUM!"},{"$error":"#NUM!"},""]
[{"$error":"#NUM!"},{"$error":"#NUM!"},{"$error":"#NUM!"},{"$error":"#NUM!"},{"$error":"#NUM!"},""]
[{"$error":"#NUM!"},{"$error":"#NUM!"},{"$error":"#NUM!"},{"$error":"#NUM!"},{"$error":"#NUM!"},""]
[{"$error":"#NUM!"},{"$error":"#NUM!"},{"$error":"#NUM!"},{"$error":"#NUM!"},{"$error":"#NUM!"},""]
[{"$error":"#NUM!"},{"$error":"#NUM!"},{"$error":"#NUM!"},{"$error":"#NUM!"},{"$error":"#NUM!"},""]
[{"$error":"#NUM!"},{"$error":"#NUM!"},{"$error":"#NUM!"},{"$error":"#NUM!"},{"$error":"#NUM!"},""]
[{"$error":"#NUM!"},{"$error":"#NUM!"},{"$error":"#NUM!"},{"$error":"#NUM!"},{"$error":"#NUM!"},""]
[{"$error":"#NUM!"},{"$error":"#NUM!"},{"$error":"#NUM!"},{"$error":"#NUM!"},{"$error":"#NUM!"},""]
[{"$error":"#NUM!"},{"$error":"#NUM!"},{"$error":"#NUM!"},{"$error":"#NUM!"},{"$error":"#NUM!"},""]
[{"$error":"#NUM!"},{"$error":"#NUM!"},{"$error":"#NUM!"},{"$error":"#NUM!"},{"$error":"#NUM!"},""]
[{"$error":"#NUM!"},{"$error":"#NUM!"},{"$error":"#NUM!"},{"$error":"#NUM!"},{"$error":"#NUM!"},""]
[{"$error":"#NUM!"},{"$error":"#NUM!"},{"$error":"#NUM!"},{"$error":"#NUM!"},{"$error":"#NUM!"},""]
[{"$error":"#NUM!"},{"$error":"#NUM!"},{"$error":"#NUM!"},{"$error":"#NUM!"},{"$error":"#NUM!"},""]
[{"$error":"#NUM!"},{"$error":"#NUM!"},{"$error":"#NUM!"},{"$error":"#NUM!"},{"$error":"#NUM!"},""]
[{"$error":"#NUM!"},{"$error":"#NUM!"},{"$error":"#NUM!"},{"$error":"#NUM!"},{"$error":"#NUM!"},""]
[{"$error":"#NUM!"},{"$error":"#NUM!"},{"$error":"#NUM!"},{"$error":"#NUM!"},{"$error":"#NUM!"},""]
[{"$error":"#NUM!"},{"$error":"#NUM!"},{"$error":"#NUM!"},{"$error":"#NUM!"},{"$error":"#NUM!"},""]
[{"$error":"#NUM!"},{"$error":"#NUM!"},{"$error":"#NUM!"},{"$error":"#NUM!"},{"$error":"#NUM!"},""]
[{"$error":"#NUM!"},{"$error":"#NUM!"},{"$error":"#NUM!"},{"$error":"#NUM!"},{"$error":"#NUM!"},""]
[{"$error":"#NUM!"},{"$error":"#NUM!"},{"$error":"#NUM!"},{"$error":"#NUM!"},{"$error":"#NUM!"},""]
[{"$error":"#NUM!"},{"$error":"#NUM!"},{"$error":"#NUM!"},{"$error":"#NUM!"},{"$error":"#NUM!"},""]
[{"$error":"#NUM!"},{"$error":"#NUM!"},{"$error":"#NUM!"},{"$error":"#NUM!"},{"$error":"#NUM!"},""]
[{"$error":"#NUM!"},{"$error":"#NUM!"},{"$error":"#NUM!"},{"$error":"#NUM!"},{"$error":"#NUM!"},""]
[{"$error":"#NUM!"},{"$error":"#NUM!"},{"$error":"#NUM!"},{"$error":"#NUM!"},{"$error":"#NUM!"},""]
[{"$error":"#NUM!"},{"$error":"#NUM!"},{"$error":"#NUM!"},{"$error":"#NUM!"},{"$error":"#NUM!"},""]
[{"$error":"#NUM!"},{"$error":"#NUM!"},{"$error":"#NUM!"},{"$error":"#NUM!"},{"$error":"#NUM!"},{"$f":"IF(ISERROR(A283),\"\",INDIRECT(ADDRESS($A283,309,,,\"Urban & Suburban Segments\")))","v":""}]
[{"$error":"#NUM!"},{"$error":"#NUM!"},{"$error":"#NUM!"},{"$error":"#NUM!"},{"$error":"#NUM!"},""]
[{"$error":"#NUM!"},{"$error":"#NUM!"},{"$error":"#NUM!"},{"$error":"#NUM!"},{"$error":"#NUM!"},""]
[{"$error":"#NUM!"},{"$error":"#NUM!"},{"$error":"#NUM!"},{"$error":"#NUM!"},{"$error":"#NUM!"},""]
[{"$error":"#NUM!"},{"$error":"#NUM!"},{"$error":"#NUM!"},{"$error":"#NUM!"},{"$error":"#NUM!"},""]
[{"$error":"#NUM!"},{"$error":"#NUM!"},{"$error":"#NUM!"},{"$error":"#NUM!"},{"$error":"#NUM!"},""]
[{"$error":"#NUM!"},{"$error":"#NUM!"},{"$error":"#NUM!"},{"$error":"#NUM!"},{"$error":"#NUM!"},""]
[{"$error":"#NUM!"},{"$error":"#NUM!"},{"$error":"#NUM!"},{"$error":"#NUM!"},{"$error":"#NUM!"},""]
[{"$error":"#NUM!"},{"$error":"#NUM!"},{"$error":"#NUM!"},{"$error":"#NUM!"},{"$error":"#NUM!"},""]
[{"$error":"#NUM!"},{"$error":"#NUM!"},{"$error":"#NUM!"},{"$error":"#NUM!"},{"$error":"#NUM!"},""]
[{"$error":"#NUM!"},{"$error":"#NUM!"},{"$error":"#NUM!"},{"$error":"#NUM!"},{"$error":"#NUM!"},""]
[{"$error":"#NUM!"},{"$error":"#NUM!"},{"$error":"#NUM!"},{"$error":"#NUM!"},{"$error":"#NUM!"},""]
[{"$error":"#NUM!"},{"$error":"#NUM!"},{"$error":"#NUM!"},{"$error":"#NUM!"},{"$error":"#NUM!"},""]
[{"$error":"#NUM!"},{"$error":"#NUM!"},{"$error":"#NUM!"},{"$error":"#NUM!"},{"$error":"#NUM!"},""]
[{"$error":"#NUM!"},{"$error":"#NUM!"},{"$error":"#NUM!"},{"$error":"#NUM!"},{"$error":"#NUM!"},""]
[{"$error":"#NUM!"},{"$error":"#NUM!"},{"$error":"#NUM!"},{"$error":"#NUM!"},{"$error":"#NUM!"},""]
[{"$error":"#NUM!"},{"$error":"#NUM!"},{"$error":"#NUM!"},{"$error":"#NUM!"},{"$error":"#NUM!"},""]
[{"$error":"#NUM!"},{"$error":"#NUM!"},{"$error":"#NUM!"},{"$error":"#NUM!"},{"$error":"#NUM!"},""]
[{"$f":"MATCH(LARGE(INDIRECT(\"'Urban & Suburban Intersections'!$KG5:$KG10004\"),ROW()-300),INDIRECT(\"'Urban & Suburban Intersections'!$KG5:$KG10004\"),0)+4","v":{"$error":"#NUM!"}},{"$f":"\"(INT) \"&INDIRECT(ADDRESS($A301,2,,,\"Urban & Suburban Intersections\"))&\" @ \"&INDIRECT(ADDRESS($A301,3,,,\"Urban & Suburban Intersections\"))","v":{"$error":"#NUM!"}},{"$f":"INDIRECT(ADDRESS($A301,4,,,\"Urban & Suburban Intersections\"))","v":{"$error":"#NUM!"}},{"$f":"\"Control = \"&INDIRECT(ADDRESS($A301,5,,,\"Urban & Suburban Intersections\"))","v":{"$error":"#NUM!"}},{"$f":"\"Major AADT: \"&TEXT(INDIRECT(ADDRESS($A301,6,,,\"Urban & Suburban Intersections\")),\"#,##0\")&\" / Minor AADT: \"&TEXT(INDIRECT(ADDRESS($A301,7,,,\"Urban & Suburban Intersections\")),\"#,##0\")","v":{"$error":"#NUM!"}},{"$f":"IF(ISERROR(A301),\"\",INDIRECT(ADDRESS($A301,296,,,\"Urban & Suburban Intersections\")))","v":""}]
[{"$f":"IF(MATCH(LARGE(INDIRECT(\"'Urban & Suburban Intersections'!$KG5:$KG10004\"),ROW()-300),INDIRECT(\"'Urban & Suburban Intersections'!$KG5:$KG10004\"),0)=MATCH(LARGE(INDIRECT(\"'Urban & Suburban Intersections'!$KG5:$KG10004\"),ROW()-300-1),INDIRECT(\"'Urban & Suburban Intersections'!$KG5:$KG10004\"),0),MATCH(LARGE(INDIRECT(\"'Urban & Suburban Intersections'!$KG5:$KG10004\"),ROW()-300),INDIRECT(ADDRESS(A301+1,293,,,\"Urban & Suburban Intersections\")&\":KG10004\"),0)+A301,MATCH(LARGE(INDIRECT(\"'Urban & Suburban Intersections'!$KG5:$KG10004\"),ROW()-300),INDIRECT(\"'Urban & Suburban Intersections'!$KG5:$KG10004\"),0)+4)","v":{"$error":"#NUM!"}},{"$f":"\"(INT) \"&INDIRECT(ADDRESS($A302,2,,,\"Urban & Suburban Intersections\"))&\" @ \"&INDIRECT(ADDRESS($A302,3,,,\"Urban & Suburban Intersections\"))","v":{"$error":"#NUM!"}},{"$f":"INDIRECT(ADDRESS($A302,4,,,\"Urban & Suburban Intersections\"))","v":{"$error":"#NUM!"}},{"$f":"\"Control = \"&INDIRECT(ADDRESS($A302,5,,,\"Urban & Suburban Intersections\"))","v":{"$error":"#NUM!"}},{"$f":"\"Major AADT: \"&TEXT(INDIRECT(ADDRESS($A302,6,,,\"Urban & Suburban Intersections\")),\"#,##0\")&\" / Minor AADT: \"&TEXT(INDIRECT(ADDRESS($A302,7,,,\"Urban & Suburban Intersections\")),\"#,##0\")","v":{"$error":"#NUM!"}},""]
[{"$f":"IF(MATCH(LARGE(INDIRECT(\"'Urban & Suburban Intersections'!$KG5:$KG10004\"),ROW()-300),INDIRECT(\"'Urban & Suburban Intersections'!$KG5:$KG10004\"),0)=MATCH(LARGE(INDIRECT(\"'Urban & Suburban Intersections'!$KG5:$KG10004\"),ROW()-300-1),INDIRECT(\"'Urban & Suburban Intersections'!$KG5:$KG10004\"),0),MATCH(LARGE(INDIRECT(\"'Urban & Suburban Intersections'!$KG5:$KG10004\"),ROW()-300),INDIRECT(ADDRESS(A302+1,293,,,\"Urban & Suburban Intersections\")&\":KG10004\"),0)+A302,MATCH(LARGE(INDIRECT(\"'Urban & Suburban Intersections'!$KG5:$KG10004\"),ROW()-300),INDIRECT(\"'Urban & Suburban Intersections'!$KG5:$KG10004\"),0)+4)","v":{"$error":"#NUM!"}},{"$f":"\"(INT) \"&INDIRECT(ADDRESS($A303,2,,,\"Urban & Suburban Intersections\"))&\" @ \"&INDIRECT(ADDRESS($A303,3,,,\"Urban & Suburban Intersections\"))","v":{"$error":"#NUM!"}},{"$f":"INDIRECT(ADDRESS($A303,4,,,\"Urban & Suburban Intersections\"))","v":{"$error":"#NUM!"}},{"$f":"\"Control = \"&INDIRECT(ADDRESS($A303,5,,,\"Urban & Suburban Intersections\"))","v":{"$error":"#NUM!"}},{"$f":"\"Major AADT: \"&TEXT(INDIRECT(ADDRESS($A303,6,,,\"Urban & Suburban Intersections\")),\"#,##0\")&\" / Minor AADT: \"&TEXT(INDIRECT(ADDRESS($A303,7,,,\"Urban & Suburban Intersections\")),\"#,##0\")","v":{"$error":"#NUM!"}},""]
[{"$error":"#NUM!"},{"$error":"#NUM!"},{"$error":"#NUM!"},{"$error":"#NUM!"},{"$error":"#NUM!"},""]
[{"$error":"#NUM!"},{"$error":"#NUM!"},{"$error":"#NUM!"},{"$error":"#NUM!"},{"$error":"#NUM!"},""]
[{"$error":"#NUM!"},{"$error":"#NUM!"},{"$error":"#NUM!"},{"$error":"#NUM!"},{"$error":"#NUM!"},""]
[{"$error":"#NUM!"},{"$error":"#NUM!"},{"$error":"#NUM!"},{"$error":"#NUM!"},{"$error":"#NUM!"},""]
[{"$error":"#NUM!"},{"$error":"#NUM!"},{"$error":"#NUM!"},{"$error":"#NUM!"},{"$error":"#NUM!"},""]
[{"$error":"#NUM!"},{"$error":"#NUM!"},{"$error":"#NUM!"},{"$error":"#NUM!"},{"$error":"#NUM!"},""]
[{"$error":"#NUM!"},{"$error":"#NUM!"},{"$error":"#NUM!"},{"$error":"#NUM!"},{"$error":"#NUM!"},""]
[{"$error":"#NUM!"},{"$error":"#NUM!"},{"$error":"#NUM!"},{"$error":"#NUM!"},{"$error":"#NUM!"},""]
[{"$error":"#NUM!"},{"$error":"#NUM!"},{"$error":"#NUM!"},{"$error":"#NUM!"},{"$error":"#NUM!"},""]
[{"$error":"#NUM!"},{"$error":"#NUM!"},{"$error":"#NUM!"},{"$error":"#NUM!"},{"$error":"#NUM!"},""]
[{"$error":"#NUM!"},{"$error":"#NUM!"},{"$error":"#NUM!"},{"$error":"#NUM!"},{"$error":"#NUM!"},""]
[{"$error":"#NUM!"},{"$error":"#NUM!"},{"$error":"#NUM!"},{"$error":"#NUM!"},{"$error":"#NUM!"},""]
[{"$error":"#NUM!"},{"$error":"#NUM!"},{"$error":"#NUM!"},{"$error":"#NUM!"},{"$error":"#NUM!"},""]
[{"$error":"#NUM!"},{"$error":"#NUM!"},{"$error":"#NUM!"},{"$error":"#NUM!"},{"$error":"#NUM!"},""]
[{"$error":"#NUM!"},{"$error":"#NUM!"},{"$error":"#NUM!"},{"$error":"#NUM!"},{"$error":"#NUM!"},""]
[{"$error":"#NUM!"},{"$error":"#NUM!"},{"$error":"#NUM!"},{"$error":"#NUM!"},{"$error":"#NUM!"},""]
[{"$error":"#NUM!"},{"$error":"#NUM!"},{"$error":"#NUM!"},{"$error":"#NUM!"},{"$error":"#NUM!"},""]
[{"$error":"#NUM!"},{"$error":"#NUM!"},{"$error":"#NUM!"},{"$error":"#NUM!"},{"$error":"#NUM!"},""]
[{"$error":"#NUM!"},{"$error":"#NUM!"},{"$error":"#NUM!"},{"$error":"#NUM!"},{"$error":"#NUM!"},""]
[{"$error":"#NUM!"},{"$error":"#NUM!"},{"$error":"#NUM!"},{"$error":"#NUM!"},{"$error":"#NUM!"},""]
[{"$error":"#NUM!"},{"$error":"#NUM!"},{"$error":"#NUM!"},{"$error":"#NUM!"},{"$error":"#NUM!"},""]
[{"$error":"#NUM!"},{"$error":"#NUM!"},{"$error":"#NUM!"},{"$error":"#NUM!"},{"$error":"#NUM!"},""]
[{"$error":"#NUM!"},{"$error":"#NUM!"},{"$error":"#NUM!"},{"$error":"#NUM!"},{"$error":"#NUM!"},""]
[{"$error":"#NUM!"},{"$error":"#NUM!"},{"$error":"#NUM!"},{"$error":"#NUM!"},{"$error":"#NUM!"},""]
[{"$error":"#NUM!"},{"$error":"#NUM!"},{"$error":"#NUM!"},{"$error":"#NUM!"},{"$error":"#NUM!"},""]
[{"$error":"#NUM!"},{"$error":"#NUM!"},{"$error":"#NUM!"},{"$error":"#NUM!"},{"$error":"#NUM!"},""]
[{"$error":"#NUM!"},{"$error":"#NUM!"},{"$error":"#NUM!"},{"$error":"#NUM!"},{"$error":"#NUM!"},""]
[{"$error":"#NUM!"},{"$error":"#NUM!"},{"$error":"#NUM!"},{"$error":"#NUM!"},{"$error":"#NUM!"},""]
[{"$error":"#NUM!"},{"$error":"#NUM!"},{"$error":"#NUM!"},{"$error":"#NUM!"},{"$error":"#NUM!"},""]
[{"$error":"#NUM!"},{"$error":"#NUM!"},{"$error":"#NUM!"},{"$error":"#NUM!"},{"$error":"#NUM!"},{"$f":"IF(ISERROR(A333),\"\",INDIRECT(ADDRESS($A333,296,,,\"Urban & Suburban Intersections\")))","v":""}]
[{"$error":"#NUM!"},{"$error":"#NUM!"},{"$error":"#NUM!"},{"$error":"#NUM!"},{"$error":"#NUM!"},""]
[{"$error":"#NUM!"},{"$error":"#NUM!"},{"$error":"#NUM!"},{"$error":"#NUM!"},{"$error":"#NUM!"},""]
[{"$error":"#NUM!"},{"$error":"#NUM!"},{"$error":"#NUM!"},{"$error":"#NUM!"},{"$error":"#NUM!"},""]
[{"$error":"#NUM!"},{"$error":"#NUM!"},{"$error":"#NUM!"},{"$error":"#NUM!"},{"$error":"#NUM!"},""]
[{"$error":"#NUM!"},{"$error":"#NUM!"},{"$error":"#NUM!"},{"$error":"#NUM!"},{"$error":"#NUM!"},""]
[{"$error":"#NUM!"},{"$error":"#NUM!"},{"$error":"#NUM!"},{"$error":"#NUM!"},{"$error":"#NUM!"},""]
[{"$error":"#NUM!"},{"$error":"#NUM!"},{"$error":"#NUM!"},{"$error":"#NUM!"},{"$error":"#NUM!"},""]
[{"$error":"#NUM!"},{"$error":"#NUM!"},{"$error":"#NUM!"},{"$error":"#NUM!"},{"$error":"#NUM!"},""]
[{"$error":"#NUM!"},{"$error":"#NUM!"},{"$error":"#NUM!"},{"$error":"#NUM!"},{"$error":"#NUM!"},""]
[{"$error":"#NUM!"},{"$error":"#NUM!"},{"$error":"#NUM!"},{"$error":"#NUM!"},{"$error":"#NUM!"},""]
[{"$error":"#NUM!"},{"$error":"#NUM!"},{"$error":"#NUM!"},{"$error":"#NUM!"},{"$error":"#NUM!"},""]
[{"$error":"#NUM!"},{"$error":"#NUM!"},{"$error":"#NUM!"},{"$error":"#NUM!"},{"$error":"#NUM!"},""]
[{"$error":"#NUM!"},{"$error":"#NUM!"},{"$error":"#NUM!"},{"$error":"#NUM!"},{"$error":"#NUM!"},""]
[{"$error":"#NUM!"},{"$error":"#NUM!"},{"$error":"#NUM!"},{"$error":"#NUM!"},{"$error":"#NUM!"},""]
[{"$error":"#NUM!"},{"$error":"#NUM!"},{"$error":"#NUM!"},{"$error":"#NUM!"},{"$error":"#NUM!"},""]
[{"$error":"#NUM!"},{"$error":"#NUM!"},{"$error":"#NUM!"},{"$error":"#NUM!"},{"$error":"#NUM!"},""]
[{"$error":"#NUM!"},{"$error":"#NUM!"},{"$error":"#NUM!"},{"$error":"#NUM!"},{"$error":"#NUM!"},""]

{"sheet":"RankingPredictedTotal","index":18,"n_rows":350,"n_cols":11,"rows_kept":350,"cut":false,"hidden":true,"merged":[]}
[{"$f":"MATCH(LARGE(INDIRECT(\"'Rural 2-Lane Segments'!$FU$5:$FU$10004\"),ROW()),INDIRECT(\"'Rural 2-Lane Segments'!$FU$5:$FU$10004\"),0)+4","v":5},{"$f":"\"(SEG) \"&INDIRECT(ADDRESS($A1,2,,,\"Rural 2-Lane Segments\"))&\", \"&INDIRECT(ADDRESS($A1,3,,,\"Rural 2-Lane Segments\"))","v":"(SEG) SH 321, MP 0.0 to MP 1.5"},{"$f":"INDIRECT(ADDRESS($A1,4,,,\"Rural 2-Lane Segments\"))","v":"Anywhere, USA"},{"$f":"\"Length = \"&INDIRECT(ADDRESS($A1,5,,,\"Rural 2-Lane Segments\"))&\" mi\"","v":"Length = 1.5 mi"},{"$f":"\"AADT: \"&TEXT(INDIRECT(ADDRESS($A1,6,,,\"Rural 2-Lane Segments\")),\"#,##0\")","v":"AADT: 10,000"},{"$f":"IF(ISERROR(A1),\"\",INDIRECT(ADDRESS($A1,179,,,\"Rural 2-Lane Segments\")))","v":5.6035441623555631},null,null,null,{"$f":"LARGE($F$1:$F$350,ROW())","v":5.6035441623555631},{"$f":"MATCH(LARGE($F$1:$F$350,ROW()),$F$1:$F$350,0)","v":1}]
[{"$f":"IF(MATCH(LARGE(INDIRECT(\"'Rural 2-Lane Segments'!$FU$5:$FU$10004\"),ROW()),INDIRECT(\"'Rural 2-Lane Segments'!$FU$5:$FU$10004\"),0)=MATCH(LARGE(INDIRECT(\"'Rural 2-Lane Segments'!$FU$5:$FU$10004\"),ROW()-1),INDIRECT(\"'Rural 2-Lane Segments'!$FU$5:$FU$10004\"),0),MATCH(LARGE(INDIRECT(\"'Rural 2-Lane Segments'!$FU$5:$FU$10004\"),ROW()),INDIRECT(ADDRESS(A1+1,177,,,\"Rural 2-Lane Segments\")&\":FU10004\"),0)+A1,MATCH(LARGE(INDIRECT(\"'Rural 2-Lane Segments'!$FU$5:$FU$10004\"),ROW()),INDIRECT(\"'Rural 2-Lane Segments'!$FU$5:$FU$10004\"),0)+4)","v":{"$error":"#NUM!"}},{"$f":"\"(SEG) \"&INDIRECT(ADDRESS($A2,2,,,\"Rural 2-Lane Segments\"))&\", \"&INDIRECT(ADDRESS($A2,3,,,\"Rural 2-Lane Segments\"))","v":{"$error":"#NUM!"}},{"$f":"INDIRECT(ADDRESS($A2,4,,,\"Rural 2-Lane Segments\"))","v":{"$error":"#NUM!"}},{"$f":"\"Length = \"&INDIRECT(ADDRESS($A2,5,,,\"Rural 2-Lane Segments\"))&\" mi\"","v":{"$error":"#NUM!"}},{"$error":"#NUM!"},"",null,null,null,{"$f":"LARGE($F$1:$F$350,ROW())","v":4.3227138488376866},{"$f":"IF(MATCH(LARGE($F$1:$F$350,ROW()),$F$1:$F$350,0)=MATCH(LARGE($F$1:$F$350,ROW()-1),$F$1:$F$350,0),MATCH(LARGE($F$1:$F$350,ROW()),INDIRECT(ADDRESS(K1+1,6)&\":F350\"),0)+K1,MATCH(LARGE($F$1:$F$350,ROW()),$F$1:$F$350,0))","v":51}]
[{"$f":"IF(MATCH(LARGE(INDIRECT(\"'Rural 2-Lane Segments'!$FU$5:$FU$10004\"),ROW()),INDIRECT(\"'Rural 2-Lane Segments'!$FU$5:$FU$10004\"),0)=MATCH(LARGE(INDIRECT(\"'Rural 2-Lane Segments'!$FU$5:$FU$10004\"),ROW()-1),INDIRECT(\"'Rural 2-Lane Segments'!$FU$5:$FU$10004\"),0),MATCH(LARGE(INDIRECT(\"'Rural 2-Lane Segments'!$FU$5:$FU$10004\"),ROW()),INDIRECT(ADDRESS(A2+1,177,,,\"Rural 2-Lane Segments\")&\":FU10004\"),0)+A2,MATCH(LARGE(INDIRECT(\"'Rural 2-Lane Segments'!$FU$5:$FU$10004\"),ROW()),INDIRECT(\"'Rural 2-Lane Segments'!$FU$5:$FU$10004\"),0)+4)","v":{"$error":"#NUM!"}},{"$error":"#NUM!"},{"$error":"#NUM!"},{"$error":"#NUM!"},{"$error":"#NUM!"},"",null,null,null,{"$f":"LARGE($F$1:$F$350,ROW())","v":3.2529387759826012},{"$f":"IF(MATCH(LARGE($F$1:$F$350,ROW()),$F$1:$F$350,0)=MATCH(LARGE($F$1:$F$350,ROW()-1),$F$1:$F$350,0),MATCH(LARGE($F$1:$F$350,ROW()),INDIRECT(ADDRESS(K2+1,6)&\":F350\"),0)+K2,MATCH(LARGE($F$1:$F$350,ROW()),$F$1:$F$350,0))","v":52}]
[{"$error":"#NUM!"},{"$error":"#NUM!"},{"$error":"#NUM!"},{"$error":"#NUM!"},{"$error":"#NUM!"},"",null,null,null,3.1115804738325066,53]
[{"$error":"#NUM!"},{"$error":"#NUM!"},{"$error":"#NUM!"},{"$error":"#NUM!"},{"$error":"#NUM!"},"",null,null,null,3.0771675177794511,54]
[{"$error":"#NUM!"},{"$error":"#NUM!"},{"$error":"#NUM!"},{"$error":"#NUM!"},{"$error":"#NUM!"},"",null,null,null,2.3795061579514449,55]
[{"$error":"#NUM!"},{"$error":"#NUM!"},{"$error":"#NUM!"},{"$error":"#NUM!"},{"$error":"#NUM!"},"",null,null,null,2.2526555980630749,56]
[{"$error":"#NUM!"},{"$error":"#NUM!"},{"$error":"#NUM!"},{"$error":"#NUM!"},{"$error":"#NUM!"},"",null,null,null,1.3332806039073097,57]
[{"$error":"#NUM!"},{"$error":"#NUM!"},{"$error":"#NUM!"},{"$error":"#NUM!"},{"$error":"#NUM!"},"",null,null,null,0.91612703030454767,58]
[{"$error":"#NUM!"},{"$error":"#NUM!"},{"$error":"#NUM!"},{"$error":"#NUM!"},{"$error":"#NUM!"},"",null,null,null,0.82146692365997587,59]
[{"$error":"#NUM!"},{"$error":"#NUM!"},{"$error":"#NUM!"},{"$error":"#NUM!"},{"$error":"#NUM!"},"",null,null,null,0.3840423245730078,60]
[{"$error":"#NUM!"},{"$error":"#NUM!"},{"$error":"#NUM!"},{"$error":"#NUM!"},{"$error":"#NUM!"},"",null,null,null,{"$error":"#NUM!"},{"$error":"#NUM!"}]
[{"$error":"#NUM!"},{"$error":"#NUM!"},{"$error":"#NUM!"},{"$error":"#NUM!"},{"$error":"#NUM!"},"",null,null,null,{"$error":"#NUM!"},{"$error":"#NUM!"}]
[{"$error":"#NUM!"},{"$error":"#NUM!"},{"$error":"#NUM!"},{"$error":"#NUM!"},{"$error":"#NUM!"},"",null,null,null,{"$error":"#NUM!"},{"$error":"#NUM!"}]
[{"$error":"#NUM!"},{"$error":"#NUM!"},{"$error":"#NUM!"},{"$error":"#NUM!"},{"$error":"#NUM!"},"",null,null,null,{"$error":"#NUM!"},{"$error":"#NUM!"}]
[{"$error":"#NUM!"},{"$error":"#NUM!"},{"$error":"#NUM!"},{"$error":"#NUM!"},{"$error":"#NUM!"},"",null,null,null,{"$error":"#NUM!"},{"$error":"#NUM!"}]
[{"$error":"#NUM!"},{"$error":"#NUM!"},{"$error":"#NUM!"},{"$error":"#NUM!"},{"$error":"#NUM!"},"",null,null,null,{"$error":"#NUM!"},{"$error":"#NUM!"}]
[{"$error":"#NUM!"},{"$error":"#NUM!"},{"$error":"#NUM!"},{"$error":"#NUM!"},{"$error":"#NUM!"},"",null,null,null,{"$error":"#NUM!"},{"$error":"#NUM!"}]
[{"$error":"#NUM!"},{"$error":"#NUM!"},{"$error":"#NUM!"},{"$error":"#NUM!"},{"$error":"#NUM!"},"",null,null,null,{"$error":"#NUM!"},{"$error":"#NUM!"}]
[{"$error":"#NUM!"},{"$error":"#NUM!"},{"$error":"#NUM!"},{"$error":"#NUM!"},{"$error":"#NUM!"},"",null,null,null,{"$error":"#NUM!"},{"$error":"#NUM!"}]
[{"$error":"#NUM!"},{"$error":"#NUM!"},{"$error":"#NUM!"},{"$error":"#NUM!"},{"$error":"#NUM!"},"",null,null,null,{"$error":"#NUM!"},{"$error":"#NUM!"}]
[{"$error":"#NUM!"},{"$error":"#NUM!"},{"$error":"#NUM!"},{"$error":"#NUM!"},{"$error":"#NUM!"},"",null,null,null,{"$error":"#NUM!"},{"$error":"#NUM!"}]
[{"$error":"#NUM!"},{"$error":"#NUM!"},{"$error":"#NUM!"},{"$error":"#NUM!"},{"$error":"#NUM!"},"",null,null,null,{"$error":"#NUM!"},{"$error":"#NUM!"}]
[{"$error":"#NUM!"},{"$error":"#NUM!"},{"$error":"#NUM!"},{"$error":"#NUM!"},{"$error":"#NUM!"},"",null,null,null,{"$error":"#NUM!"},{"$error":"#NUM!"}]
[{"$error":"#NUM!"},{"$error":"#NUM!"},{"$error":"#NUM!"},{"$error":"#NUM!"},{"$error":"#NUM!"},"",null,null,null,{"$error":"#NUM!"},{"$error":"#NUM!"}]
[{"$error":"#NUM!"},{"$error":"#NUM!"},{"$error":"#NUM!"},{"$error":"#NUM!"},{"$error":"#NUM!"},"",null,null,null,{"$error":"#NUM!"},{"$error":"#NUM!"}]
[{"$error":"#NUM!"},{"$error":"#NUM!"},{"$error":"#NUM!"},{"$error":"#NUM!"},{"$error":"#NUM!"},"",null,null,null,{"$error":"#NUM!"},{"$error":"#NUM!"}]
[{"$error":"#NUM!"},{"$error":"#NUM!"},{"$error":"#NUM!"},{"$error":"#NUM!"},{"$error":"#NUM!"},"",null,null,null,{"$error":"#NUM!"},{"$error":"#NUM!"}]
[{"$error":"#NUM!"},{"$error":"#NUM!"},{"$error":"#NUM!"},{"$error":"#NUM!"},{"$error":"#NUM!"},"",null,null,null,{"$error":"#NUM!"},{"$error":"#NUM!"}]
[{"$error":"#NUM!"},{"$error":"#NUM!"},{"$error":"#NUM!"},{"$error":"#NUM!"},{"$error":"#NUM!"},"",null,null,null,{"$error":"#NUM!"},{"$error":"#NUM!"}]
[{"$error":"#NUM!"},{"$error":"#NUM!"},{"$error":"#NUM!"},{"$error":"#NUM!"},{"$error":"#NUM!"},"",null,null,null,{"$error":"#NUM!"},{"$error":"#NUM!"}]
[{"$error":"#NUM!"},{"$error":"#NUM!"},{"$error":"#NUM!"},{"$error":"#NUM!"},{"$error":"#NUM!"},"",null,null,null,{"$error":"#NUM!"},{"$error":"#NUM!"}]
[{"$error":"#NUM!"},{"$error":"#NUM!"},{"$error":"#NUM!"},{"$error":"#NUM!"},{"$error":"#NUM!"},{"$f":"IF(ISERROR(A33),\"\",INDIRECT(ADDRESS($A33,179,,,\"Rural 2-Lane Segments\")))","v":""},null,null,null,{"$error":"#NUM!"},{"$error":"#NUM!"}]
[{"$error":"#NUM!"},{"$error":"#NUM!"},{"$error":"#NUM!"},{"$error":"#NUM!"},{"$error":"#NUM!"},"",null,null,null,{"$error":"#NUM!"},{"$error":"#NUM!"}]
[{"$error":"#NUM!"},{"$error":"#NUM!"},{"$error":"#NUM!"},{"$error":"#NUM!"},{"$error":"#NUM!"},"",null,null,null,{"$error":"#NUM!"},{"$error":"#NUM!"}]
[{"$error":"#NUM!"},{"$error":"#NUM!"},{"$error":"#NUM!"},{"$error":"#NUM!"},{"$error":"#NUM!"},"",null,null,null,{"$error":"#NUM!"},{"$error":"#NUM!"}]
[{"$error":"#NUM!"},{"$error":"#NUM!"},{"$error":"#NUM!"},{"$error":"#NUM!"},{"$error":"#NUM!"},"",null,null,null,{"$error":"#NUM!"},{"$error":"#NUM!"}]
[{"$error":"#NUM!"},{"$error":"#NUM!"},{"$error":"#NUM!"},{"$error":"#NUM!"},{"$error":"#NUM!"},"",null,null,null,{"$error":"#NUM!"},{"$error":"#NUM!"}]
[{"$error":"#NUM!"},{"$error":"#NUM!"},{"$error":"#NUM!"},{"$error":"#NUM!"},{"$error":"#NUM!"},"",null,null,null,{"$error":"#NUM!"},{"$error":"#NUM!"}]
[{"$error":"#NUM!"},{"$error":"#NUM!"},{"$error":"#NUM!"},{"$error":"#NUM!"},{"$error":"#NUM!"},"",null,null,null,{"$error":"#NUM!"},{"$error":"#NUM!"}]
[{"$error":"#NUM!"},{"$error":"#NUM!"},{"$error":"#NUM!"},{"$error":"#NUM!"},{"$error":"#NUM!"},"",null,null,null,{"$error":"#NUM!"},{"$error":"#NUM!"}]
[{"$error":"#NUM!"},{"$error":"#NUM!"},{"$error":"#NUM!"},{"$error":"#NUM!"},{"$error":"#NUM!"},"",null,null,null,{"$error":"#NUM!"},{"$error":"#NUM!"}]
[{"$error":"#NUM!"},{"$error":"#NUM!"},{"$error":"#NUM!"},{"$error":"#NUM!"},{"$error":"#NUM!"},"",null,null,null,{"$error":"#NUM!"},{"$error":"#NUM!"}]
[{"$error":"#NUM!"},{"$error":"#NUM!"},{"$error":"#NUM!"},{"$error":"#NUM!"},{"$error":"#NUM!"},"",null,null,null,{"$error":"#NUM!"},{"$error":"#NUM!"}]
[{"$error":"#NUM!"},{"$error":"#NUM!"},{"$error":"#NUM!"},{"$error":"#NUM!"},{"$error":"#NUM!"},"",null,null,null,{"$error":"#NUM!"},{"$error":"#NUM!"}]
[{"$error":"#NUM!"},{"$error":"#NUM!"},{"$error":"#NUM!"},{"$error":"#NUM!"},{"$error":"#NUM!"},"",null,null,null,{"$error":"#NUM!"},{"$error":"#NUM!"}]
[{"$error":"#NUM!"},{"$error":"#NUM!"},{"$error":"#NUM!"},{"$error":"#NUM!"},{"$error":"#NUM!"},"",null,null,null,{"$error":"#NUM!"},{"$error":"#NUM!"}]
[{"$error":"#NUM!"},{"$error":"#NUM!"},{"$error":"#NUM!"},{"$error":"#NUM!"},{"$error":"#NUM!"},"",null,null,null,{"$error":"#NUM!"},{"$error":"#NUM!"}]
[{"$error":"#NUM!"},{"$error":"#NUM!"},{"$error":"#NUM!"},{"$error":"#NUM!"},{"$error":"#NUM!"},"",null,null,null,{"$error":"#NUM!"},{"$error":"#NUM!"}]
[{"$error":"#NUM!"},{"$error":"#NUM!"},{"$error":"#NUM!"},{"$error":"#NUM!"},{"$error":"#NUM!"},"",null,null,null,{"$error":"#NUM!"},{"$error":"#NUM!"}]
[{"$f":"MATCH(LARGE(INDIRECT(\"'Rural 2-Lane Intersections'!$EJ5:$EJ10004\"),ROW()-50),INDIRECT(\"'Rural 2-Lane Intersections'!$EJ5:$EJ10004\"),0)+4","v":9},{"$f":"\"(INT) \"&INDIRECT(ADDRESS($A51,2,,,\"Rural 2-Lane Intersections\"))&\" @ \"&INDIRECT(ADDRESS($A51,3,,,\"Rural 2-Lane Intersections\"))","v":"(INT) Orange @ Jaakko"},{"$f":"INDIRECT(ADDRESS($A51,4,,,\"Rural 2-Lane Intersections\"))","v":"Heritage County"},{"$f":"\"Control = \"&INDIRECT(ADDRESS($A51,5,,,\"Rural 2-Lane Intersections\"))","v":"Control = 4ST"},{"$f":"\"Major AADT: \"&TEXT(INDIRECT(ADDRESS($A51,6,,,\"Rural 2-Lane Intersections\")),\"#,##0\")&\" / Minor AADT: \"&TEXT(INDIRECT(ADDRESS($A51,7,,,\"Rural 2-Lane Intersections\")),\"#,##0\")","v":"Major AADT: 2,750 / Minor AADT: 2,500"},{"$f":"IF(ISERROR(A51),\"\",INDIRECT(ADDRESS($A51,142,,,\"Rural 2-Lane Intersections\")))","v":4.3227138488376866}]
[{"$f":"IF(MATCH(LARGE(INDIRECT(\"'Rural 2-Lane Intersections'!$EJ5:$EJ10004\"),ROW()-50),INDIRECT(\"'Rural 2-Lane Intersections'!$EJ5:$EJ10004\"),0)=MATCH(LARGE(INDIRECT(\"'Rural 2-Lane Intersections'!$EJ5:$EJ10004\"),ROW()-50-1),INDIRECT(\"'Rural 2-Lane Intersections'!$EJ5:$EJ10004\"),0),MATCH(LARGE(INDIRECT(\"'Rural 2-Lane Intersections'!$EJ5:$EJ10004\"),ROW()-50),INDIRECT(ADDRESS(A51+1,140,,,\"Rural 2-Lane Intersections\")&\":EJ10004\"),0)+A51,MATCH(LARGE(INDIRECT(\"'Rural 2-Lane Intersections'!$EJ5:$EJ10004\"),ROW()-50),INDIRECT(\"'Rural 2-Lane Intersections'!$EJ5:$EJ10004\"),0)+4)","v":6},{"$f":"\"(INT) \"&INDIRECT(ADDRESS($A52,2,,,\"Rural 2-Lane Intersections\"))&\" @ \"&INDIRECT(ADDRESS($A52,3,,,\"Rural 2-Lane Intersections\"))","v":"(INT) Banana @ Toivo"},{"$f":"INDIRECT(ADDRESS($A52,4,,,\"Rural 2-Lane Intersections\"))","v":"Heritage County"},{"$f":"\"Control = \"&INDIRECT(ADDRESS($A52,5,,,\"Rural 2-Lane Intersections\"))","v":"Control = 4ST"},{"$f":"\"Major AADT: \"&TEXT(INDIRECT(ADDRESS($A52,6,,,\"Rural 2-Lane Intersections\")),\"#,##0\")&\" / Minor AADT: \"&TEXT(INDIRECT(ADDRESS($A52,7,,,\"Rural 2-Lane Intersections\")),\"#,##0\")","v":"Major AADT: 2,100 / Minor AADT: 2,000"},3.2529387759826012]
[{"$f":"IF(MATCH(LARGE(INDIRECT(\"'Rural 2-Lane Intersections'!$EJ5:$EJ10004\"),ROW()-50),INDIRECT(\"'Rural 2-Lane Intersections'!$EJ5:$EJ10004\"),0)=MATCH(LARGE(INDIRECT(\"'Rural 2-Lane Intersections'!$EJ5:$EJ10004\"),ROW()-50-1),INDIRECT(\"'Rural 2-Lane Intersections'!$EJ5:$EJ10004\"),0),MATCH(LARGE(INDIRECT(\"'Rural 2-Lane Intersections'!$EJ5:$EJ10004\"),ROW()-50),INDIRECT(ADDRESS(A52+1,140,,,\"Rural 2-Lane Intersections\")&\":EJ10004\"),0)+A52,MATCH(LARGE(INDIRECT(\"'Rural 2-Lane Intersections'!$EJ5:$EJ10004\"),ROW()-50),INDIRECT(\"'Rural 2-Lane Intersections'!$EJ5:$EJ10004\"),0)+4)","v":7},{"$f":"\"(INT) \"&INDIRECT(ADDRESS($A53,2,,,\"Rural 2-Lane Intersections\"))&\" @ \"&INDIRECT(ADDRESS($A53,3,,,\"Rural 2-Lane Intersections\"))","v":"(INT) Mango @ Aili"},{"$f":"INDIRECT(ADDRESS($A53,4,,,\"Rural 2-Lane Intersections\"))","v":"Heritage County"},{"$f":"\"Control = \"&INDIRECT(ADDRESS($A53,5,,,\"Rural 2-Lane Intersections\"))","v":"Control = 4ST"},{"$f":"\"Major AADT: \"&TEXT(INDIRECT(ADDRESS($A53,6,,,\"Rural 2-Lane Intersections\")),\"#,##0\")&\" / Minor AADT: \"&TEXT(INDIRECT(ADDRESS($A53,7,,,\"Rural 2-Lane Intersections\")),\"#,##0\")","v":"Major AADT: 3,200 / Minor AADT: 1,150"},3.1115804738325066]
[8,"(INT) Pineapple @ Emil","Heritage County","Control = 4ST","Major AADT: 3,500 / Minor AADT: 3,300",3.0771675177794511]
[13,"(INT) Lemon @ Tuula","Heritage County","Control = 4ST","Major AADT: 3,700 / Minor AADT: 2,100",2.3795061579514449]
[5,"(INT) Apple @ Heikki","Heritage County","Control = 4ST","Major AADT: 3,300 / Minor AADT: 2,400",2.2526555980630749]
[14,"(INT) Starfruit @ Alma","Heritage County","Control = 4ST","Major AADT: 1,900 / Minor AADT: 500",1.3332806039073097]
[10,"(INT) Blueberry @ Matti","Heritage County","Control = 3ST","Major AADT: 1,800 / Minor AADT: 700",0.91612703030454767]
[12,"(INT) Kiwi @ Hilma","Heritage County","Control = 3ST","Major AADT: 1,200 / Minor AADT: 1,150",0.82146692365997587]
[11,"(INT) Raspberry @ Arvo","Heritage County","Control = 3ST","Major AADT: 2,350 / Minor AADT: 900",0.3840423245730078]
[{"$error":"#NUM!"},{"$error":"#NUM!"},{"$error":"#NUM!"},{"$error":"#NUM!"},{"$error":"#NUM!"},""]
[{"$error":"#NUM!"},{"$error":"#NUM!"},{"$error":"#NUM!"},{"$error":"#NUM!"},{"$error":"#NUM!"},""]
[{"$error":"#NUM!"},{"$error":"#NUM!"},{"$error":"#NUM!"},{"$error":"#NUM!"},{"$error":"#NUM!"},""]
[{"$error":"#NUM!"},{"$error":"#NUM!"},{"$error":"#NUM!"},{"$error":"#NUM!"},{"$error":"#NUM!"},""]
[{"$error":"#NUM!"},{"$error":"#NUM!"},{"$error":"#NUM!"},{"$error":"#NUM!"},{"$error":"#NUM!"},""]
[{"$error":"#NUM!"},{"$error":"#NUM!"},{"$error":"#NUM!"},{"$error":"#NUM!"},{"$error":"#NUM!"},""]
[{"$error":"#NUM!"},{"$error":"#NUM!"},{"$error":"#NUM!"},{"$error":"#NUM!"},{"$error":"#NUM!"},""]
[{"$error":"#NUM!"},{"$error":"#NUM!"},{"$error":"#NUM!"},{"$error":"#NUM!"},{"$error":"#NUM!"},""]
[{"$error":"#NUM!"},{"$error":"#NUM!"},{"$error":"#NUM!"},{"$error":"#NUM!"},{"$error":"#NUM!"},""]
[{"$error":"#NUM!"},{"$error":"#NUM!"},{"$error":"#NUM!"},{"$error":"#NUM!"},{"$error":"#NUM!"},""]
[{"$error":"#NUM!"},{"$error":"#NUM!"},{"$error":"#NUM!"},{"$error":"#NUM!"},{"$error":"#NUM!"},""]
[{"$error":"#NUM!"},{"$error":"#NUM!"},{"$error":"#NUM!"},{"$error":"#NUM!"},{"$error":"#NUM!"},""]
[{"$error":"#NUM!"},{"$error":"#NUM!"},{"$error":"#NUM!"},{"$error":"#NUM!"},{"$error":"#NUM!"},""]
[{"$error":"#NUM!"},{"$error":"#NUM!"},{"$error":"#NUM!"},{"$error":"#NUM!"},{"$error":"#NUM!"},""]
[{"$error":"#NUM!"},{"$error":"#NUM!"},{"$error":"#NUM!"},{"$error":"#NUM!"},{"$error":"#NUM!"},""]
[{"$error":"#NUM!"},{"$error":"#NUM!"},{"$error":"#NUM!"},{"$error":"#NUM!"},{"$error":"#NUM!"},""]
[{"$error":"#NUM!"},{"$error":"#NUM!"},{"$error":"#NUM!"},{"$error":"#NUM!"},{"$error":"#NUM!"},""]
[{"$error":"#NUM!"},{"$error":"#NUM!"},{"$error":"#NUM!"},{"$error":"#NUM!"},{"$error":"#NUM!"},""]
[{"$error":"#NUM!"},{"$error":"#NUM!"},{"$error":"#NUM!"},{"$error":"#NUM!"},{"$error":"#NUM!"},""]
[{"$error":"#NUM!"},{"$error":"#NUM!"},{"$error":"#NUM!"},{"$error":"#NUM!"},{"$error":"#NUM!"},""]
[{"$error":"#NUM!"},{"$error":"#NUM!"},{"$error":"#NUM!"},{"$error":"#NUM!"},{"$error":"#NUM!"},""]
[{"$error":"#NUM!"},{"$error":"#NUM!"},{"$error":"#NUM!"},{"$error":"#NUM!"},{"$error":"#NUM!"},""]
[{"$error":"#NUM!"},{"$error":"#NUM!"},{"$error":"#NUM!"},{"$error":"#NUM!"},{"$error":"#NUM!"},{"$f":"IF(ISERROR(A83),\"\",INDIRECT(ADDRESS($A83,142,,,\"Rural 2-Lane Intersections\")))","v":""}]
[{"$error":"#NUM!"},{"$error":"#NUM!"},{"$error":"#NUM!"},{"$error":"#NUM!"},{"$error":"#NUM!"},""]
[{"$error":"#NUM!"},{"$error":"#NUM!"},{"$error":"#NUM!"},{"$error":"#NUM!"},{"$error":"#NUM!"},""]
[{"$error":"#NUM!"},{"$error":"#NUM!"},{"$error":"#NUM!"},{"$error":"#NUM!"},{"$error":"#NUM!"},""]
[{"$error":"#NUM!"},{"$error":"#NUM!"},{"$error":"#NUM!"},{"$error":"#NUM!"},{"$error":"#NUM!"},""]
[{"$error":"#NUM!"},{"$error":"#NUM!"},{"$error":"#NUM!"},{"$error":"#NUM!"},{"$error":"#NUM!"},""]
[{"$error":"#NUM!"},{"$error":"#NUM!"},{"$error":"#NUM!"},{"$error":"#NUM!"},{"$error":"#NUM!"},""]
[{"$error":"#NUM!"},{"$error":"#NUM!"},{"$error":"#NUM!"},{"$error":"#NUM!"},{"$error":"#NUM!"},""]
[{"$error":"#NUM!"},{"$error":"#NUM!"},{"$error":"#NUM!"},{"$error":"#NUM!"},{"$error":"#NUM!"},""]
[{"$error":"#NUM!"},{"$error":"#NUM!"},{"$error":"#NUM!"},{"$error":"#NUM!"},{"$error":"#NUM!"},""]
[{"$error":"#NUM!"},{"$error":"#NUM!"},{"$error":"#NUM!"},{"$error":"#NUM!"},{"$error":"#NUM!"},""]
[{"$error":"#NUM!"},{"$error":"#NUM!"},{"$error":"#NUM!"},{"$error":"#NUM!"},{"$error":"#NUM!"},""]
[{"$error":"#NUM!"},{"$error":"#NUM!"},{"$error":"#NUM!"},{"$error":"#NUM!"},{"$error":"#NUM!"},""]
[{"$error":"#NUM!"},{"$error":"#NUM!"},{"$error":"#NUM!"},{"$error":"#NUM!"},{"$error":"#NUM!"},""]
[{"$error":"#NUM!"},{"$error":"#NUM!"},{"$error":"#NUM!"},{"$error":"#NUM!"},{"$error":"#NUM!"},""]
[{"$error":"#NUM!"},{"$error":"#NUM!"},{"$error":"#NUM!"},{"$error":"#NUM!"},{"$error":"#NUM!"},""]
[{"$error":"#NUM!"},{"$error":"#NUM!"},{"$error":"#NUM!"},{"$error":"#NUM!"},{"$error":"#NUM!"},""]
[{"$error":"#NUM!"},{"$error":"#NUM!"},{"$error":"#NUM!"},{"$error":"#NUM!"},{"$error":"#NUM!"},""]
[{"$f":"MATCH(LARGE(INDIRECT(\"'Rural Divided Multilane Seg'!$EV5:$EV10004\"),ROW()-100),INDIRECT(\"'Rural Divided Multilane Seg'!$EV5:$EV10004\"),0)+4","v":{"$error":"#NUM!"}},{"$f":"\"(SEG) \"&INDIRECT(ADDRESS($A101,2,,,\"Rural Divided Multilane Seg\"))&\", \"&INDIRECT(ADDRESS($A101,3,,,\"Rural Divided Multilane Seg\"))","v":{"$error":"#NUM!"}},{"$f":"INDIRECT(ADDRESS($A101,4,,,\"Rural Divided Multilane Seg\"))","v":{"$error":"#NUM!"}},{"$f":"\"Length = \"&INDIRECT(ADDRESS($A101,5,,,\"Rural Divided Multilane Seg\"))&\" mi\"","v":{"$error":"#NUM!"}},{"$f":"\"AADT: \"&TEXT(INDIRECT(ADDRESS($A101,6,,,\"Rural Divided Multilane Seg\")),\"#,##0\")","v":{"$error":"#NUM!"}},{"$f":"IF(ISERROR(A101),\"\",INDIRECT(ADDRESS($A101,154,,,\"Rural Divided Multilane Seg\")))","v":""}]
[{"$f":"IF(MATCH(LARGE(INDIRECT(\"'Rural Divided Multilane Seg'!$EV$5:$EV$10005\"),ROW()-100),INDIRECT(\"'Rural Divided Multilane Seg'!$EV$5:$EV$10005\"),0)=MATCH(LARGE(INDIRECT(\"'Rural Divided Multilane Seg'!$EV$5:$EV$10005\"),ROW()-100-1),INDIRECT(\"'Rural Divided Multilane Seg'!$EV$5:$EV$10005\"),0),MATCH(LARGE(INDIRECT(\"'Rural Divided Multilane Seg'!$EV$5:$EV$10005\"),ROW()-100),INDIRECT(ADDRESS(A101+1,152,,,\"Rural Divided Multilane Seg\")&\":EV10004\"),0)+A101,MATCH(LARGE(INDIRECT(\"'Rural Divided Multilane Seg'!$EV$5:$EV$10005\"),ROW()-100),INDIRECT(\"'Rural Divided Multilane Seg'!$EV$5:$EV$10005\"),0)+4)","v":{"$error":"#NUM!"}},{"$f":"\"(SEG) \"&INDIRECT(ADDRESS($A102,2,,,\"Rural Divided Multilane Seg\"))&\", \"&INDIRECT(ADDRESS($A102,3,,,\"Rural Divided Multilane Seg\"))","v":{"$error":"#NUM!"}},{"$f":"INDIRECT(ADDRESS($A102,4,,,\"Rural Divided Multilane Seg\"))","v":{"$error":"#NUM!"}},{"$f":"\"Length = \"&INDIRECT(ADDRESS($A102,5,,,\"Rural Divided Multilane Seg\"))&\" mi\"","v":{"$error":"#NUM!"}},{"$f":"\"AADT: \"&TEXT(INDIRECT(ADDRESS($A102,6,,,\"Rural Divided Multilane Seg\")),\"#,##0\")","v":{"$error":"#NUM!"}},""]
[{"$f":"IF(MATCH(LARGE(INDIRECT(\"'Rural Divided Multilane Seg'!$EV$5:$EV$10005\"),ROW()-100),INDIRECT(\"'Rural Divided Multilane Seg'!$EV$5:$EV$10005\"),0)=MATCH(LARGE(INDIRECT(\"'Rural Divided Multilane Seg'!$EV$5:$EV$10005\"),ROW()-100-1),INDIRECT(\"'Rural Divided Multilane Seg'!$EV$5:$EV$10005\"),0),MATCH(LARGE(INDIRECT(\"'Rural Divided Multilane Seg'!$EV$5:$EV$10005\"),ROW()-100),INDIRECT(ADDRESS(A102+1,152,,,\"Rural Divided Multilane Seg\")&\":EV10004\"),0)+A102,MATCH(LARGE(INDIRECT(\"'Rural Divided Multilane Seg'!$EV$5:$EV$10005\"),ROW()-100),INDIRECT(\"'Rural Divided Multilane Seg'!$EV$5:$EV$10005\"),0)+4)","v":{"$error":"#NUM!"}},{"$f":"\"(SEG) \"&INDIRECT(ADDRESS($A103,2,,,\"Rural Divided Multilane Seg\"))&\", \"&INDIRECT(ADDRESS($A103,3,,,\"Rural Divided Multilane Seg\"))","v":{"$error":"#NUM!"}},{"$f":"INDIRECT(ADDRESS($A103,4,,,\"Rural Divided Multilane Seg\"))","v":{"$error":"#NUM!"}},{"$f":"\"Length = \"&INDIRECT(ADDRESS($A103,5,,,\"Rural Divided Multilane Seg\"))&\" mi\"","v":{"$error":"#NUM!"}},{"$f":"\"AADT: \"&TEXT(INDIRECT(ADDRESS($A103,6,,,\"Rural Divided Multilane Seg\")),\"#,##0\")","v":{"$error":"#NUM!"}},""]
[{"$error":"#NUM!"},{"$error":"#NUM!"},{"$error":"#NUM!"},{"$error":"#NUM!"},{"$error":"#NUM!"},""]
[{"$error":"#NUM!"},{"$error":"#NUM!"},{"$error":"#NUM!"},{"$error":"#NUM!"},{"$error":"#NUM!"},""]
[{"$error":"#NUM!"},{"$error":"#NUM!"},{"$error":"#NUM!"},{"$error":"#NUM!"},{"$error":"#NUM!"},""]
[{"$error":"#NUM!"},{"$error":"#NUM!"},{"$error":"#NUM!"},{"$error":"#NUM!"},{"$error":"#NUM!"},""]
[{"$error":"#NUM!"},{"$error":"#NUM!"},{"$error":"#NUM!"},{"$error":"#NUM!"},{"$error":"#NUM!"},""]
[{"$error":"#NUM!"},{"$error":"#NUM!"},{"$error":"#NUM!"},{"$error":"#NUM!"},{"$error":"#NUM!"},""]
[{"$error":"#NUM!"},{"$error":"#NUM!"},{"$error":"#NUM!"},{"$error":"#NUM!"},{"$error":"#NUM!"},""]
[{"$error":"#NUM!"},{"$error":"#NUM!"},{"$error":"#NUM!"},{"$error":"#NUM!"},{"$error":"#NUM!"},""]
[{"$error":"#NUM!"},{"$error":"#NUM!"},{"$error":"#NUM!"},{"$error":"#NUM!"},{"$error":"#NUM!"},""]
[{"$error":"#NUM!"},{"$error":"#NUM!"},{"$error":"#NUM!"},{"$error":"#NUM!"},{"$error":"#NUM!"},""]
[{"$error":"#NUM!"},{"$error":"#NUM!"},{"$error":"#NUM!"},{"$error":"#NUM!"},{"$error":"#NUM!"},""]
[{"$error":"#NUM!"},{"$error":"#NUM!"},{"$error":"#NUM!"},{"$error":"#NUM!"},{"$error":"#NUM!"},""]
[{"$error":"#NUM!"},{"$error":"#NUM!"},{"$error":"#NUM!"},{"$error":"#NUM!"},{"$error":"#NUM!"},""]
[{"$error":"#NUM!"},{"$error":"#NUM!"},{"$error":"#NUM!"},{"$error":"#NUM!"},{"$error":"#NUM!"},""]
[{"$error":"#NUM!"},{"$error":"#NUM!"},{"$error":"#NUM!"},{"$error":"#NUM!"},{"$error":"#NUM!"},""]
[{"$error":"#NUM!"},{"$error":"#NUM!"},{"$error":"#NUM!"},{"$error":"#NUM!"},{"$error":"#NUM!"},""]
[{"$error":"#NUM!"},{"$error":"#NUM!"},{"$error":"#NUM!"},{"$error":"#NUM!"},{"$error":"#NUM!"},""]
[{"$error":"#NUM!"},{"$error":"#NUM!"},{"$error":"#NUM!"},{"$error":"#NUM!"},{"$error":"#NUM!"},""]
[{"$error":"#NUM!"},{"$error":"#NUM!"},{"$error":"#NUM!"},{"$error":"#NUM!"},{"$error":"#NUM!"},""]
[{"$error":"#NUM!"},{"$error":"#NUM!"},{"$error":"#NUM!"},{"$error":"#NUM!"},{"$error":"#NUM!"},""]
[{"$error":"#NUM!"},{"$error":"#NUM!"},{"$error":"#NUM!"},{"$error":"#NUM!"},{"$error":"#NUM!"},""]
[{"$error":"#NUM!"},{"$error":"#NUM!"},{"$error":"#NUM!"},{"$error":"#NUM!"},{"$error":"#NUM!"},""]
[{"$error":"#NUM!"},{"$error":"#NUM!"},{"$error":"#NUM!"},{"$error":"#NUM!"},{"$error":"#NUM!"},""]
[{"$error":"#NUM!"},{"$error":"#NUM!"},{"$error":"#NUM!"},{"$error":"#NUM!"},{"$error":"#NUM!"},""]
[{"$error":"#NUM!"},{"$error":"#NUM!"},{"$error":"#NUM!"},{"$error":"#NUM!"},{"$error":"#NUM!"},""]
[{"$error":"#NUM!"},{"$error":"#NUM!"},{"$error":"#NUM!"},{"$error":"#NUM!"},{"$error":"#NUM!"},""]
[{"$error":"#NUM!"},{"$error":"#NUM!"},{"$error":"#NUM!"},{"$error":"#NUM!"},{"$error":"#NUM!"},""]
[{"$error":"#NUM!"},{"$error":"#NUM!"},{"$error":"#NUM!"},{"$error":"#NUM!"},{"$error":"#NUM!"},""]
[{"$error":"#NUM!"},{"$error":"#NUM!"},{"$error":"#NUM!"},{"$error":"#NUM!"},{"$error":"#NUM!"},""]
[{"$error":"#NUM!"},{"$error":"#NUM!"},{"$error":"#NUM!"},{"$error":"#NUM!"},{"$error":"#NUM!"},{"$f":"IF(ISERROR(A133),\"\",INDIRECT(ADDRESS($A133,154,,,\"Rural Divided Multilane Seg\")))","v":""}]
[{"$error":"#NUM!"},{"$error":"#NUM!"},{"$error":"#NUM!"},{"$error":"#NUM!"},{"$error":"#NUM!"},""]
[{"$error":"#NUM!"},{"$error":"#NUM!"},{"$error":"#NUM!"},{"$error":"#NUM!"},{"$error":"#NUM!"},""]
[{"$error":"#NUM!"},{"$error":"#NUM!"},{"$error":"#NUM!"},{"$error":"#NUM!"},{"$error":"#NUM!"},""]
[{"$error":"#NUM!"},{"$error":"#NUM!"},{"$error":"#NUM!"},{"$error":"#NUM!"},{"$error":"#NUM!"},""]
[{"$error":"#NUM!"},{"$error":"#NUM!"},{"$error":"#NUM!"},{"$error":"#NUM!"},{"$error":"#NUM!"},""]
[{"$error":"#NUM!"},{"$error":"#NUM!"},{"$error":"#NUM!"},{"$error":"#NUM!"},{"$error":"#NUM!"},""]
[{"$error":"#NUM!"},{"$error":"#NUM!"},{"$error":"#NUM!"},{"$error":"#NUM!"},{"$error":"#NUM!"},""]
[{"$error":"#NUM!"},{"$error":"#NUM!"},{"$error":"#NUM!"},{"$error":"#NUM!"},{"$error":"#NUM!"},""]
[{"$error":"#NUM!"},{"$error":"#NUM!"},{"$error":"#NUM!"},{"$error":"#NUM!"},{"$error":"#NUM!"},""]
[{"$error":"#NUM!"},{"$error":"#NUM!"},{"$error":"#NUM!"},{"$error":"#NUM!"},{"$error":"#NUM!"},""]
[{"$error":"#NUM!"},{"$error":"#NUM!"},{"$error":"#NUM!"},{"$error":"#NUM!"},{"$error":"#NUM!"},""]
[{"$error":"#NUM!"},{"$error":"#NUM!"},{"$error":"#NUM!"},{"$error":"#NUM!"},{"$error":"#NUM!"},""]
[{"$error":"#NUM!"},{"$error":"#NUM!"},{"$error":"#NUM!"},{"$error":"#NUM!"},{"$error":"#NUM!"},""]
[{"$error":"#NUM!"},{"$error":"#NUM!"},{"$error":"#NUM!"},{"$error":"#NUM!"},{"$error":"#NUM!"},""]
[{"$error":"#NUM!"},{"$error":"#NUM!"},{"$error":"#NUM!"},{"$error":"#NUM!"},{"$error":"#NUM!"},""]
[{"$error":"#NUM!"},{"$error":"#NUM!"},{"$error":"#NUM!"},{"$error":"#NUM!"},{"$error":"#NUM!"},""]
[{"$error":"#NUM!"},{"$error":"#NUM!"},{"$error":"#NUM!"},{"$error":"#NUM!"},{"$error":"#NUM!"},""]
[{"$f":"MATCH(LARGE(INDIRECT(\"'Rural Undivided Multilane Seg'!$FY5:$FY10004\"),ROW()-150),INDIRECT(\"'Rural Undivided Multilane Seg'!$FY5:$FY10004\"),0)+4","v":{"$error":"#NUM!"}},{"$f":"\"(SEG) \"&INDIRECT(ADDRESS($A151,2,,,\"Rural Undivided Multilane Seg\"))&\", \"&INDIRECT(ADDRESS($A151,3,,,\"Rural Undivided Multilane Seg\"))","v":{"$error":"#NUM!"}},{"$f":"INDIRECT(ADDRESS($A151,4,,,\"Rural Undivided Multilane Seg\"))","v":{"$error":"#NUM!"}},{"$f":"\"Length = \"&INDIRECT(ADDRESS($A151,5,,,\"Rural Undivided Multilane Seg\"))&\" mi\"","v":{"$error":"#NUM!"}},{"$f":"\"AADT: \"&TEXT(INDIRECT(ADDRESS($A151,6,,,\"Rural Undivided Multilane Seg\")),\"#,##0\")","v":{"$error":"#NUM!"}},{"$f":"IF(ISERROR(A151),\"\",INDIRECT(ADDRESS($A151,183,,,\"Rural Undivided Multilane Seg\")))","v":""}]
[{"$f":"IF(MATCH(LARGE(INDIRECT(\"'Rural Undivided Multilane Seg'!$FY$5:$FY$10005\"),ROW()-150),INDIRECT(\"'Rural Undivided Multilane Seg'!$FY$5:$FY$10005\"),0)=MATCH(LARGE(INDIRECT(\"'Rural Undivided Multilane Seg'!$FY$5:$FY$10005\"),ROW()-150-1),INDIRECT(\"'Rural Undivided Multilane Seg'!$FY$5:$FY$10005\"),0),MATCH(LARGE(INDIRECT(\"'Rural Undivided Multilane Seg'!$FY$5:$FY$10005\"),ROW()-150),INDIRECT(ADDRESS(A151+1,181,,,\"Rural Undivided Multilane Seg\")&\":FY10004\"),0)+A151,MATCH(LARGE(INDIRECT(\"'Rural Undivided Multilane Seg'!$FY$5:$FY$10005\"),ROW()-150),INDIRECT(\"'Rural Undivided Multilane Seg'!$FY$5:$FY$10005\"),0)+4)","v":{"$error":"#NUM!"}},{"$f":"\"(SEG) \"&INDIRECT(ADDRESS($A152,2,,,\"Rural Undivided Multilane Seg\"))&\", \"&INDIRECT(ADDRESS($A152,3,,,\"Rural Undivided Multilane Seg\"))","v":{"$error":"#NUM!"}},{"$f":"INDIRECT(ADDRESS($A152,4,,,\"Rural Undivided Multilane Seg\"))","v":{"$error":"#NUM!"}},{"$f":"\"Length = \"&INDIRECT(ADDRESS($A152,5,,,\"Rural Undivided Multilane Seg\"))&\" mi\"","v":{"$error":"#NUM!"}},{"$f":"\"AADT: \"&TEXT(INDIRECT(ADDRESS($A152,6,,,\"Rural Undivided Multilane Seg\")),\"#,##0\")","v":{"$error":"#NUM!"}},""]
[{"$f":"IF(MATCH(LARGE(INDIRECT(\"'Rural Undivided Multilane Seg'!$FY$5:$FY$10005\"),ROW()-150),INDIRECT(\"'Rural Undivided Multilane Seg'!$FY$5:$FY$10005\"),0)=MATCH(LARGE(INDIRECT(\"'Rural Undivided Multilane Seg'!$FY$5:$FY$10005\"),ROW()-150-1),INDIRECT(\"'Rural Undivided Multilane Seg'!$FY$5:$FY$10005\"),0),MATCH(LARGE(INDIRECT(\"'Rural Undivided Multilane Seg'!$FY$5:$FY$10005\"),ROW()-150),INDIRECT(ADDRESS(A152+1,181,,,\"Rural Undivided Multilane Seg\")&\":FY10004\"),0)+A152,MATCH(LARGE(INDIRECT(\"'Rural Undivided Multilane Seg'!$FY$5:$FY$10005\"),ROW()-150),INDIRECT(\"'Rural Undivided Multilane Seg'!$FY$5:$FY$10005\"),0)+4)","v":{"$error":"#NUM!"}},{"$f":"\"(SEG) \"&INDIRECT(ADDRESS($A153,2,,,\"Rural Undivided Multilane Seg\"))&\", \"&INDIRECT(ADDRESS($A153,3,,,\"Rural Undivided Multilane Seg\"))","v":{"$error":"#NUM!"}},{"$f":"INDIRECT(ADDRESS($A153,4,,,\"Rural Undivided Multilane Seg\"))","v":{"$error":"#NUM!"}},{"$f":"\"Length = \"&INDIRECT(ADDRESS($A153,5,,,\"Rural Undivided Multilane Seg\"))&\" mi\"","v":{"$error":"#NUM!"}},{"$f":"\"AADT: \"&TEXT(INDIRECT(ADDRESS($A153,6,,,\"Rural Undivided Multilane Seg\")),\"#,##0\")","v":{"$error":"#NUM!"}},""]
[{"$error":"#NUM!"},{"$error":"#NUM!"},{"$error":"#NUM!"},{"$error":"#NUM!"},{"$error":"#NUM!"},""]
[{"$error":"#NUM!"},{"$error":"#NUM!"},{"$error":"#NUM!"},{"$error":"#NUM!"},{"$error":"#NUM!"},""]
[{"$error":"#NUM!"},{"$error":"#NUM!"},{"$error":"#NUM!"},{"$error":"#NUM!"},{"$error":"#NUM!"},""]
[{"$error":"#NUM!"},{"$error":"#NUM!"},{"$error":"#NUM!"},{"$error":"#NUM!"},{"$error":"#NUM!"},""]
[{"$error":"#NUM!"},{"$error":"#NUM!"},{"$error":"#NUM!"},{"$error":"#NUM!"},{"$error":"#NUM!"},""]
[{"$error":"#NUM!"},{"$error":"#NUM!"},{"$error":"#NUM!"},{"$error":"#NUM!"},{"$error":"#NUM!"},""]
[{"$error":"#NUM!"},{"$error":"#NUM!"},{"$error":"#NUM!"},{"$error":"#NUM!"},{"$error":"#NUM!"},""]
[{"$error":"#NUM!"},{"$error":"#NUM!"},{"$error":"#NUM!"},{"$error":"#NUM!"},{"$error":"#NUM!"},""]
[{"$error":"#NUM!"},{"$error":"#NUM!"},{"$error":"#NUM!"},{"$error":"#NUM!"},{"$error":"#NUM!"},""]
[{"$error":"#NUM!"},{"$error":"#NUM!"},{"$error":"#NUM!"},{"$error":"#NUM!"},{"$error":"#NUM!"},""]
[{"$error":"#NUM!"},{"$error":"#NUM!"},{"$error":"#NUM!"},{"$error":"#NUM!"},{"$error":"#NUM!"},""]
[{"$error":"#NUM!"},{"$error":"#NUM!"},{"$error":"#NUM!"},{"$error":"#NUM!"},{"$error":"#NUM!"},""]
[{"$error":"#NUM!"},{"$error":"#NUM!"},{"$error":"#NUM!"},{"$error":"#NUM!"},{"$error":"#NUM!"},""]
[{"$error":"#NUM!"},{"$error":"#NUM!"},{"$error":"#NUM!"},{"$error":"#NUM!"},{"$error":"#NUM!"},""]
[{"$error":"#NUM!"},{"$error":"#NUM!"},{"$error":"#NUM!"},{"$error":"#NUM!"},{"$error":"#NUM!"},""]
[{"$error":"#NUM!"},{"$error":"#NUM!"},{"$error":"#NUM!"},{"$error":"#NUM!"},{"$error":"#NUM!"},""]
[{"$error":"#NUM!"},{"$error":"#NUM!"},{"$error":"#NUM!"},{"$error":"#NUM!"},{"$error":"#NUM!"},""]
[{"$error":"#NUM!"},{"$error":"#NUM!"},{"$error":"#NUM!"},{"$error":"#NUM!"},{"$error":"#NUM!"},""]
[{"$error":"#NUM!"},{"$error":"#NUM!"},{"$error":"#NUM!"},{"$error":"#NUM!"},{"$error":"#NUM!"},""]
[{"$error":"#NUM!"},{"$error":"#NUM!"},{"$error":"#NUM!"},{"$error":"#NUM!"},{"$error":"#NUM!"},""]
[{"$error":"#NUM!"},{"$error":"#NUM!"},{"$error":"#NUM!"},{"$error":"#NUM!"},{"$error":"#NUM!"},""]
[{"$error":"#NUM!"},{"$error":"#NUM!"},{"$error":"#NUM!"},{"$error":"#NUM!"},{"$error":"#NUM!"},""]
[{"$error":"#NUM!"},{"$error":"#NUM!"},{"$error":"#NUM!"},{"$error":"#NUM!"},{"$error":"#NUM!"},""]
[{"$error":"#NUM!"},{"$error":"#NUM!"},{"$error":"#NUM!"},{"$error":"#NUM!"},{"$error":"#NUM!"},""]
[{"$error":"#NUM!"},{"$error":"#NUM!"},{"$error":"#NUM!"},{"$error":"#NUM!"},{"$error":"#NUM!"},""]
[{"$error":"#NUM!"},{"$error":"#NUM!"},{"$error":"#NUM!"},{"$error":"#NUM!"},{"$error":"#NUM!"},""]
[{"$error":"#NUM!"},{"$error":"#NUM!"},{"$error":"#NUM!"},{"$error":"#NUM!"},{"$error":"#NUM!"},""]
[{"$error":"#NUM!"},{"$error":"#NUM!"},{"$error":"#NUM!"},{"$error":"#NUM!"},{"$error":"#NUM!"},""]
[{"$error":"#NUM!"},{"$error":"#NUM!"},{"$error":"#NUM!"},{"$error":"#NUM!"},{"$error":"#NUM!"},""]
[{"$error":"#NUM!"},{"$error":"#NUM!"},{"$error":"#NUM!"},{"$error":"#NUM!"},{"$error":"#NUM!"},{"$f":"IF(ISERROR(A183),\"\",INDIRECT(ADDRESS($A183,183,,,\"Rural Undivided Multilane Seg\")))","v":""}]
[{"$error":"#NUM!"},{"$error":"#NUM!"},{"$error":"#NUM!"},{"$error":"#NUM!"},{"$error":"#NUM!"},""]
[{"$error":"#NUM!"},{"$error":"#NUM!"},{"$error":"#NUM!"},{"$error":"#NUM!"},{"$error":"#NUM!"},""]
[{"$error":"#NUM!"},{"$error":"#NUM!"},{"$error":"#NUM!"},{"$error":"#NUM!"},{"$error":"#NUM!"},""]
[{"$error":"#NUM!"},{"$error":"#NUM!"},{"$error":"#NUM!"},{"$error":"#NUM!"},{"$error":"#NUM!"},""]
[{"$error":"#NUM!"},{"$error":"#NUM!"},{"$error":"#NUM!"},{"$error":"#NUM!"},{"$error":"#NUM!"},""]
[{"$error":"#NUM!"},{"$error":"#NUM!"},{"$error":"#NUM!"},{"$error":"#NUM!"},{"$error":"#NUM!"},""]
[{"$error":"#NUM!"},{"$error":"#NUM!"},{"$error":"#NUM!"},{"$error":"#NUM!"},{"$error":"#NUM!"},""]
[{"$error":"#NUM!"},{"$error":"#NUM!"},{"$error":"#NUM!"},{"$error":"#NUM!"},{"$error":"#NUM!"},""]
[{"$error":"#NUM!"},{"$error":"#NUM!"},{"$error":"#NUM!"},{"$error":"#NUM!"},{"$error":"#NUM!"},""]
[{"$error":"#NUM!"},{"$error":"#NUM!"},{"$error":"#NUM!"},{"$error":"#NUM!"},{"$error":"#NUM!"},""]
[{"$error":"#NUM!"},{"$error":"#NUM!"},{"$error":"#NUM!"},{"$error":"#NUM!"},{"$error":"#NUM!"},""]
[{"$error":"#NUM!"},{"$error":"#NUM!"},{"$error":"#NUM!"},{"$error":"#NUM!"},{"$error":"#NUM!"},""]
[{"$error":"#NUM!"},{"$error":"#NUM!"},{"$error":"#NUM!"},{"$error":"#NUM!"},{"$error":"#NUM!"},""]
[{"$error":"#NUM!"},{"$error":"#NUM!"},{"$error":"#NUM!"},{"$error":"#NUM!"},{"$error":"#NUM!"},""]
[{"$error":"#NUM!"},{"$error":"#NUM!"},{"$error":"#NUM!"},{"$error":"#NUM!"},{"$error":"#NUM!"},""]
[{"$error":"#NUM!"},{"$error":"#NUM!"},{"$error":"#NUM!"},{"$error":"#NUM!"},{"$error":"#NUM!"},""]
[{"$error":"#NUM!"},{"$error":"#NUM!"},{"$error":"#NUM!"},{"$error":"#NUM!"},{"$error":"#NUM!"},""]
[{"$f":"MATCH(LARGE(INDIRECT(\"'Rural Multilane Intersections'!$EA5:$EA10004\"),ROW()-200),INDIRECT(\"'Rural Multilane Intersections'!$EA5:$EA10004\"),0)+4","v":{"$error":"#NUM!"}},{"$f":"\"(INT) \"&INDIRECT(ADDRESS($A201,2,,,\"Rural Multilane Intersections\"))&\" @ \"&INDIRECT(ADDRESS($A201,3,,,\"Rural Multilane Intersections\"))","v":{"$error":"#NUM!"}},{"$f":"INDIRECT(ADDRESS($A201,4,,,\"Rural Multilane Intersections\"))","v":{"$error":"#NUM!"}},{"$f":"\"Control = \"&INDIRECT(ADDRESS($A201,5,,,\"Rural Multilane Intersections\"))","v":{"$error":"#NUM!"}},{"$f":"\"Major AADT: \"&TEXT(INDIRECT(ADDRESS($A201,6,,,\"Rural Multilane Intersections\")),\"#,##0\")&\" / Minor AADT: \"&TEXT(INDIRECT(ADDRESS($A201,7,,,\"Rural Multilane Intersections\")),\"#,##0\")","v":{"$error":"#NUM!"}},{"$f":"IF(ISERROR(A201),\"\",INDIRECT(ADDRESS($A201,135,,,\"Rural Multilane Intersections\")))","v":""}]
[{"$f":"IF(MATCH(LARGE(INDIRECT(\"'Rural Multilane Intersections'!$EA5:$EA10004\"),ROW()-200),INDIRECT(\"'Rural Multilane Intersections'!$EA5:$EA10004\"),0)=MATCH(LARGE(INDIRECT(\"'Rural Multilane Intersections'!$EA5:$EA10004\"),ROW()-200-1),INDIRECT(\"'Rural Multilane Intersections'!$EA5:$EA10004\"),0),MATCH(LARGE(INDIRECT(\"'Rural Multilane Intersections'!$EA5:$EA10004\"),ROW()-200),INDIRECT(ADDRESS(A201+1,131,,,\"Rural Multilane Intersections\")&\":EA10004\"),0)+A201,MATCH(LARGE(INDIRECT(\"'Rural Multilane Intersections'!$EA5:$EA10004\"),ROW()-200),INDIRECT(\"'Rural Multilane Intersections'!$EA5:$EA10004\"),0)+4)","v":{"$error":"#NUM!"}},{"$f":"\"(INT) \"&INDIRECT(ADDRESS($A202,2,,,\"Rural Multilane Intersections\"))&\" @ \"&INDIRECT(ADDRESS($A202,3,,,\"Rural Multilane Intersections\"))","v":{"$error":"#NUM!"}},{"$f":"INDIRECT(ADDRESS($A202,4,,,\"Rural Multilane Intersections\"))","v":{"$error":"#NUM!"}},{"$f":"\"Control = \"&INDIRECT(ADDRESS($A202,5,,,\"Rural Multilane Intersections\"))","v":{"$error":"#NUM!"}},{"$f":"\"Major AADT: \"&TEXT(INDIRECT(ADDRESS($A202,6,,,\"Rural Multilane Intersections\")),\"#,##0\")&\" / Minor AADT: \"&TEXT(INDIRECT(ADDRESS($A202,7,,,\"Rural Multilane Intersections\")),\"#,##0\")","v":{"$error":"#NUM!"}},""]
[{"$f":"IF(MATCH(LARGE(INDIRECT(\"'Rural Multilane Intersections'!$EA5:$EA10004\"),ROW()-200),INDIRECT(\"'Rural Multilane Intersections'!$EA5:$EA10004\"),0)=MATCH(LARGE(INDIRECT(\"'Rural Multilane Intersections'!$EA5:$EA10004\"),ROW()-200-1),INDIRECT(\"'Rural Multilane Intersections'!$EA5:$EA10004\"),0),MATCH(LARGE(INDIRECT(\"'Rural Multilane Intersections'!$EA5:$EA10004\"),ROW()-200),INDIRECT(ADDRESS(A202+1,131,,,\"Rural Multilane Intersections\")&\":EA10004\"),0)+A202,MATCH(LARGE(INDIRECT(\"'Rural Multilane Intersections'!$EA5:$EA10004\"),ROW()-200),INDIRECT(\"'Rural Multilane Intersections'!$EA5:$EA10004\"),0)+4)","v":{"$error":"#NUM!"}},{"$f":"\"(INT) \"&INDIRECT(ADDRESS($A203,2,,,\"Rural Multilane Intersections\"))&\" @ \"&INDIRECT(ADDRESS($A203,3,,,\"Rural Multilane Intersections\"))","v":{"$error":"#NUM!"}},{"$f":"INDIRECT(ADDRESS($A203,4,,,\"Rural Multilane Intersections\"))","v":{"$error":"#NUM!"}},{"$f":"\"Control = \"&INDIRECT(ADDRESS($A203,5,,,\"Rural Multilane Intersections\"))","v":{"$error":"#NUM!"}},{"$f":"\"Major AADT: \"&TEXT(INDIRECT(ADDRESS($A203,6,,,\"Rural Multilane Intersections\")),\"#,##0\")&\" / Minor AADT: \"&TEXT(INDIRECT(ADDRESS($A203,7,,,\"Rural Multilane Intersections\")),\"#,##0\")","v":{"$error":"#NUM!"}},""]
[{"$error":"#NUM!"},{"$error":"#NUM!"},{"$error":"#NUM!"},{"$error":"#NUM!"},{"$error":"#NUM!"},""]
[{"$error":"#NUM!"},{"$error":"#NUM!"},{"$error":"#NUM!"},{"$error":"#NUM!"},{"$error":"#NUM!"},""]
[{"$error":"#NUM!"},{"$error":"#NUM!"},{"$error":"#NUM!"},{"$error":"#NUM!"},{"$error":"#NUM!"},""]
[{"$error":"#NUM!"},{"$error":"#NUM!"},{"$error":"#NUM!"},{"$error":"#NUM!"},{"$error":"#NUM!"},""]
[{"$error":"#NUM!"},{"$error":"#NUM!"},{"$error":"#NUM!"},{"$error":"#NUM!"},{"$error":"#NUM!"},""]
[{"$error":"#NUM!"},{"$error":"#NUM!"},{"$error":"#NUM!"},{"$error":"#NUM!"},{"$error":"#NUM!"},""]
[{"$error":"#NUM!"},{"$error":"#NUM!"},{"$error":"#NUM!"},{"$error":"#NUM!"},{"$error":"#NUM!"},""]
[{"$error":"#NUM!"},{"$error":"#NUM!"},{"$error":"#NUM!"},{"$error":"#NUM!"},{"$error":"#NUM!"},""]
[{"$error":"#NUM!"},{"$error":"#NUM!"},{"$error":"#NUM!"},{"$error":"#NUM!"},{"$error":"#NUM!"},""]
[{"$error":"#NUM!"},{"$error":"#NUM!"},{"$error":"#NUM!"},{"$error":"#NUM!"},{"$error":"#NUM!"},""]
[{"$error":"#NUM!"},{"$error":"#NUM!"},{"$error":"#NUM!"},{"$error":"#NUM!"},{"$error":"#NUM!"},""]
[{"$error":"#NUM!"},{"$error":"#NUM!"},{"$error":"#NUM!"},{"$error":"#NUM!"},{"$error":"#NUM!"},""]
[{"$error":"#NUM!"},{"$error":"#NUM!"},{"$error":"#NUM!"},{"$error":"#NUM!"},{"$error":"#NUM!"},""]
[{"$error":"#NUM!"},{"$error":"#NUM!"},{"$error":"#NUM!"},{"$error":"#NUM!"},{"$error":"#NUM!"},""]
[{"$error":"#NUM!"},{"$error":"#NUM!"},{"$error":"#NUM!"},{"$error":"#NUM!"},{"$error":"#NUM!"},""]
[{"$error":"#NUM!"},{"$error":"#NUM!"},{"$error":"#NUM!"},{"$error":"#NUM!"},{"$error":"#NUM!"},""]
[{"$error":"#NUM!"},{"$error":"#NUM!"},{"$error":"#NUM!"},{"$error":"#NUM!"},{"$error":"#NUM!"},""]
[{"$error":"#NUM!"},{"$error":"#NUM!"},{"$error":"#NUM!"},{"$error":"#NUM!"},{"$error":"#NUM!"},""]
[{"$error":"#NUM!"},{"$error":"#NUM!"},{"$error":"#NUM!"},{"$error":"#NUM!"},{"$error":"#NUM!"},""]
[{"$error":"#NUM!"},{"$error":"#NUM!"},{"$error":"#NUM!"},{"$error":"#NUM!"},{"$error":"#NUM!"},""]
[{"$error":"#NUM!"},{"$error":"#NUM!"},{"$error":"#NUM!"},{"$error":"#NUM!"},{"$error":"#NUM!"},""]
[{"$error":"#NUM!"},{"$error":"#NUM!"},{"$error":"#NUM!"},{"$error":"#NUM!"},{"$error":"#NUM!"},""]
[{"$error":"#NUM!"},{"$error":"#NUM!"},{"$error":"#NUM!"},{"$error":"#NUM!"},{"$error":"#NUM!"},""]
[{"$error":"#NUM!"},{"$error":"#NUM!"},{"$error":"#NUM!"},{"$error":"#NUM!"},{"$error":"#NUM!"},""]
[{"$error":"#NUM!"},{"$error":"#NUM!"},{"$error":"#NUM!"},{"$error":"#NUM!"},{"$error":"#NUM!"},""]
[{"$error":"#NUM!"},{"$error":"#NUM!"},{"$error":"#NUM!"},{"$error":"#NUM!"},{"$error":"#NUM!"},""]
[{"$error":"#NUM!"},{"$error":"#NUM!"},{"$error":"#NUM!"},{"$error":"#NUM!"},{"$error":"#NUM!"},""]
[{"$error":"#NUM!"},{"$error":"#NUM!"},{"$error":"#NUM!"},{"$error":"#NUM!"},{"$error":"#NUM!"},""]
[{"$error":"#NUM!"},{"$error":"#NUM!"},{"$error":"#NUM!"},{"$error":"#NUM!"},{"$error":"#NUM!"},""]
[{"$error":"#NUM!"},{"$error":"#NUM!"},{"$error":"#NUM!"},{"$error":"#NUM!"},{"$error":"#NUM!"},{"$f":"IF(ISERROR(A233),\"\",INDIRECT(ADDRESS($A233,135,,,\"Rural Multilane Intersections\")))","v":""}]
[{"$error":"#NUM!"},{"$error":"#NUM!"},{"$error":"#NUM!"},{"$error":"#NUM!"},{"$error":"#NUM!"},""]
[{"$error":"#NUM!"},{"$error":"#NUM!"},{"$error":"#NUM!"},{"$error":"#NUM!"},{"$error":"#NUM!"},""]
[{"$error":"#NUM!"},{"$error":"#NUM!"},{"$error":"#NUM!"},{"$error":"#NUM!"},{"$error":"#NUM!"},""]
[{"$error":"#NUM!"},{"$error":"#NUM!"},{"$error":"#NUM!"},{"$error":"#NUM!"},{"$error":"#NUM!"},""]
[{"$error":"#NUM!"},{"$error":"#NUM!"},{"$error":"#NUM!"},{"$error":"#NUM!"},{"$error":"#NUM!"},""]
[{"$error":"#NUM!"},{"$error":"#NUM!"},{"$error":"#NUM!"},{"$error":"#NUM!"},{"$error":"#NUM!"},""]
[{"$error":"#NUM!"},{"$error":"#NUM!"},{"$error":"#NUM!"},{"$error":"#NUM!"},{"$error":"#NUM!"},""]
[{"$error":"#NUM!"},{"$error":"#NUM!"},{"$error":"#NUM!"},{"$error":"#NUM!"},{"$error":"#NUM!"},""]
[{"$error":"#NUM!"},{"$error":"#NUM!"},{"$error":"#NUM!"},{"$error":"#NUM!"},{"$error":"#NUM!"},""]
[{"$error":"#NUM!"},{"$error":"#NUM!"},{"$error":"#NUM!"},{"$error":"#NUM!"},{"$error":"#NUM!"},""]
[{"$error":"#NUM!"},{"$error":"#NUM!"},{"$error":"#NUM!"},{"$error":"#NUM!"},{"$error":"#NUM!"},""]
[{"$error":"#NUM!"},{"$error":"#NUM!"},{"$error":"#NUM!"},{"$error":"#NUM!"},{"$error":"#NUM!"},""]
[{"$error":"#NUM!"},{"$error":"#NUM!"},{"$error":"#NUM!"},{"$error":"#NUM!"},{"$error":"#NUM!"},""]
[{"$error":"#NUM!"},{"$error":"#NUM!"},{"$error":"#NUM!"},{"$error":"#NUM!"},{"$error":"#NUM!"},""]
[{"$error":"#NUM!"},{"$error":"#NUM!"},{"$error":"#NUM!"},{"$error":"#NUM!"},{"$error":"#NUM!"},""]
[{"$error":"#NUM!"},{"$error":"#NUM!"},{"$error":"#NUM!"},{"$error":"#NUM!"},{"$error":"#NUM!"},""]
[{"$error":"#NUM!"},{"$error":"#NUM!"},{"$error":"#NUM!"},{"$error":"#NUM!"},{"$error":"#NUM!"},""]
[{"$f":"MATCH(LARGE(INDIRECT(\"'Urban & Suburban Segments'!$KW5:$KW10004\"),ROW()-250),INDIRECT(\"'Urban & Suburban Segments'!$KW5:$KW10004\"),0)+4","v":{"$error":"#NUM!"}},{"$f":"\"(SEG) \"&INDIRECT(ADDRESS($A251,2,,,\"Urban & Suburban Segments\"))&\", \"&INDIRECT(ADDRESS($A251,3,,,\"Urban & Suburban Segments\"))","v":{"$error":"#NUM!"}},{"$f":"INDIRECT(ADDRESS($A251,4,,,\"Urban & Suburban Segments\"))","v":{"$error":"#NUM!"}},{"$f":"\"Type = \"&INDIRECT(ADDRESS($A251,5,,,\"Urban & Suburban Segments\"))&\", Length = \"&INDIRECT(ADDRESS($A251,6,,,\"Urban & Suburban Segments\"))&\" mi\"","v":{"$error":"#NUM!"}},{"$f":"\"AADT: \"&TEXT(INDIRECT(ADDRESS($A251,7,,,\"Urban & Suburban Segments\")),\"#,##0\")","v":{"$error":"#NUM!"}},{"$f":"IF(ISERROR(A251),\"\",INDIRECT(ADDRESS($A251,312,,,\"Urban & Suburban Segments\")))","v":""}]
[{"$f":"IF(MATCH(LARGE(INDIRECT(\"'Urban & Suburban Segments'!$KW5:$KW10004\"),ROW()-250),INDIRECT(\"'Urban & Suburban Segments'!$KW5:$KW10004\"),0)=MATCH(LARGE(INDIRECT(\"'Urban & Suburban Segments'!$KW5:$KW10004\"),ROW()-250-1),INDIRECT(\"'Urban & Suburban Segments'!$KW5:$KW10004\"),0),MATCH(LARGE(INDIRECT(\"'Urban & Suburban Segments'!$KW5:$KW10004\"),ROW()-250),INDIRECT(ADDRESS(A251+1,309,,,\"Urban & Suburban Segments\")&\":KW10004\"),0)+A251,MATCH(LARGE(INDIRECT(\"'Urban & Suburban Segments'!$KW5:$KW10004\"),ROW()-250),INDIRECT(\"'Urban & Suburban Segments'!$KW5:$KW10004\"),0)+4)","v":{"$error":"#NUM!"}},{"$f":"\"(SEG) \"&INDIRECT(ADDRESS($A252,2,,,\"Urban & Suburban Segments\"))&\", \"&INDIRECT(ADDRESS($A252,3,,,\"Urban & Suburban Segments\"))","v":{"$error":"#NUM!"}},{"$f":"INDIRECT(ADDRESS($A252,4,,,\"Urban & Suburban Segments\"))","v":{"$error":"#NUM!"}},{"$f":"\"Type = \"&INDIRECT(ADDRESS($A252,5,,,\"Urban & Suburban Segments\"))&\", Length = \"&INDIRECT(ADDRESS($A252,6,,,\"Urban & Suburban Segments\"))&\" mi\"","v":{"$error":"#NUM!"}},{"$f":"\"AADT: \"&TEXT(INDIRECT(ADDRESS($A252,7,,,\"Urban & Suburban Segments\")),\"#,##0\")","v":{"$error":"#NUM!"}},""]
[{"$f":"IF(MATCH(LARGE(INDIRECT(\"'Urban & Suburban Segments'!$KW5:$KW10004\"),ROW()-250),INDIRECT(\"'Urban & Suburban Segments'!$KW5:$KW10004\"),0)=MATCH(LARGE(INDIRECT(\"'Urban & Suburban Segments'!$KW5:$KW10004\"),ROW()-250-1),INDIRECT(\"'Urban & Suburban Segments'!$KW5:$KW10004\"),0),MATCH(LARGE(INDIRECT(\"'Urban & Suburban Segments'!$KW5:$KW10004\"),ROW()-250),INDIRECT(ADDRESS(A252+1,309,,,\"Urban & Suburban Segments\")&\":KW10004\"),0)+A252,MATCH(LARGE(INDIRECT(\"'Urban & Suburban Segments'!$KW5:$KW10004\"),ROW()-250),INDIRECT(\"'Urban & Suburban Segments'!$KW5:$KW10004\"),0)+4)","v":{"$error":"#NUM!"}},{"$f":"\"(SEG) \"&INDIRECT(ADDRESS($A253,2,,,\"Urban & Suburban Segments\"))&\", \"&INDIRECT(ADDRESS($A253,3,,,\"Urban & Suburban Segments\"))","v":{"$error":"#NUM!"}},{"$f":"INDIRECT(ADDRESS($A253,4,,,\"Urban & Suburban Segments\"))","v":{"$error":"#NUM!"}},{"$f":"\"Type = \"&INDIRECT(ADDRESS($A253,5,,,\"Urban & Suburban Segments\"))&\", Length = \"&INDIRECT(ADDRESS($A253,6,,,\"Urban & Suburban Segments\"))&\" mi\"","v":{"$error":"#NUM!"}},{"$f":"\"AADT: \"&TEXT(INDIRECT(ADDRESS($A253,7,,,\"Urban & Suburban Segments\")),\"#,##0\")","v":{"$error":"#NUM!"}},""]
[{"$error":"#NUM!"},{"$error":"#NUM!"},{"$error":"#NUM!"},{"$error":"#NUM!"},{"$error":"#NUM!"},""]
[{"$error":"#NUM!"},{"$error":"#NUM!"},{"$error":"#NUM!"},{"$error":"#NUM!"},{"$error":"#NUM!"},""]
[{"$error":"#NUM!"},{"$error":"#NUM!"},{"$error":"#NUM!"},{"$error":"#NUM!"},{"$error":"#NUM!"},""]
[{"$error":"#NUM!"},{"$error":"#NUM!"},{"$error":"#NUM!"},{"$error":"#NUM!"},{"$error":"#NUM!"},""]
[{"$error":"#NUM!"},{"$error":"#NUM!"},{"$error":"#NUM!"},{"$error":"#NUM!"},{"$error":"#NUM!"},""]
[{"$error":"#NUM!"},{"$error":"#NUM!"},{"$error":"#NUM!"},{"$error":"#NUM!"},{"$error":"#NUM!"},""]
[{"$error":"#NUM!"},{"$error":"#NUM!"},{"$error":"#NUM!"},{"$error":"#NUM!"},{"$error":"#NUM!"},""]
[{"$error":"#NUM!"},{"$error":"#NUM!"},{"$error":"#NUM!"},{"$error":"#NUM!"},{"$error":"#NUM!"},""]
[{"$error":"#NUM!"},{"$error":"#NUM!"},{"$error":"#NUM!"},{"$error":"#NUM!"},{"$error":"#NUM!"},""]
[{"$error":"#NUM!"},{"$error":"#NUM!"},{"$error":"#NUM!"},{"$error":"#NUM!"},{"$error":"#NUM!"},""]
[{"$error":"#NUM!"},{"$error":"#NUM!"},{"$error":"#NUM!"},{"$error":"#NUM!"},{"$error":"#NUM!"},""]
[{"$error":"#NUM!"},{"$error":"#NUM!"},{"$error":"#NUM!"},{"$error":"#NUM!"},{"$error":"#NUM!"},""]
[{"$error":"#NUM!"},{"$error":"#NUM!"},{"$error":"#NUM!"},{"$error":"#NUM!"},{"$error":"#NUM!"},""]
[{"$error":"#NUM!"},{"$error":"#NUM!"},{"$error":"#NUM!"},{"$error":"#NUM!"},{"$error":"#NUM!"},""]
[{"$error":"#NUM!"},{"$error":"#NUM!"},{"$error":"#NUM!"},{"$error":"#NUM!"},{"$error":"#NUM!"},""]
[{"$error":"#NUM!"},{"$error":"#NUM!"},{"$error":"#NUM!"},{"$error":"#NUM!"},{"$error":"#NUM!"},""]
[{"$error":"#NUM!"},{"$error":"#NUM!"},{"$error":"#NUM!"},{"$error":"#NUM!"},{"$error":"#NUM!"},""]
[{"$error":"#NUM!"},{"$error":"#NUM!"},{"$error":"#NUM!"},{"$error":"#NUM!"},{"$error":"#NUM!"},""]
[{"$error":"#NUM!"},{"$error":"#NUM!"},{"$error":"#NUM!"},{"$error":"#NUM!"},{"$error":"#NUM!"},""]
[{"$error":"#NUM!"},{"$error":"#NUM!"},{"$error":"#NUM!"},{"$error":"#NUM!"},{"$error":"#NUM!"},""]
[{"$error":"#NUM!"},{"$error":"#NUM!"},{"$error":"#NUM!"},{"$error":"#NUM!"},{"$error":"#NUM!"},""]
[{"$error":"#NUM!"},{"$error":"#NUM!"},{"$error":"#NUM!"},{"$error":"#NUM!"},{"$error":"#NUM!"},""]
[{"$error":"#NUM!"},{"$error":"#NUM!"},{"$error":"#NUM!"},{"$error":"#NUM!"},{"$error":"#NUM!"},""]
[{"$error":"#NUM!"},{"$error":"#NUM!"},{"$error":"#NUM!"},{"$error":"#NUM!"},{"$error":"#NUM!"},""]
[{"$error":"#NUM!"},{"$error":"#NUM!"},{"$error":"#NUM!"},{"$error":"#NUM!"},{"$error":"#NUM!"},""]
[{"$error":"#NUM!"},{"$error":"#NUM!"},{"$error":"#NUM!"},{"$error":"#NUM!"},{"$error":"#NUM!"},""]
[{"$error":"#NUM!"},{"$error":"#NUM!"},{"$error":"#NUM!"},{"$error":"#NUM!"},{"$error":"#NUM!"},""]
[{"$error":"#NUM!"},{"$error":"#NUM!"},{"$error":"#NUM!"},{"$error":"#NUM!"},{"$error":"#NUM!"},""]
[{"$error":"#NUM!"},{"$error":"#NUM!"},{"$error":"#NUM!"},{"$error":"#NUM!"},{"$error":"#NUM!"},""]
[{"$error":"#NUM!"},{"$error":"#NUM!"},{"$error":"#NUM!"},{"$error":"#NUM!"},{"$error":"#NUM!"},{"$f":"IF(ISERROR(A283),\"\",INDIRECT(ADDRESS($A283,312,,,\"Urban & Suburban Segments\")))","v":""}]
[{"$error":"#NUM!"},{"$error":"#NUM!"},{"$error":"#NUM!"},{"$error":"#NUM!"},{"$error":"#NUM!"},""]
[{"$error":"#NUM!"},{"$error":"#NUM!"},{"$error":"#NUM!"},{"$error":"#NUM!"},{"$error":"#NUM!"},""]
[{"$error":"#NUM!"},{"$error":"#NUM!"},{"$error":"#NUM!"},{"$error":"#NUM!"},{"$error":"#NUM!"},""]
[{"$error":"#NUM!"},{"$error":"#NUM!"},{"$error":"#NUM!"},{"$error":"#NUM!"},{"$error":"#NUM!"},""]
[{"$error":"#NUM!"},{"$error":"#NUM!"},{"$error":"#NUM!"},{"$error":"#NUM!"},{"$error":"#NUM!"},""]
[{"$error":"#NUM!"},{"$error":"#NUM!"},{"$error":"#NUM!"},{"$error":"#NUM!"},{"$error":"#NUM!"},""]
[{"$error":"#NUM!"},{"$error":"#NUM!"},{"$error":"#NUM!"},{"$error":"#NUM!"},{"$error":"#NUM!"},""]
[{"$error":"#NUM!"},{"$error":"#NUM!"},{"$error":"#NUM!"},{"$error":"#NUM!"},{"$error":"#NUM!"},""]
[{"$error":"#NUM!"},{"$error":"#NUM!"},{"$error":"#NUM!"},{"$error":"#NUM!"},{"$error":"#NUM!"},""]
[{"$error":"#NUM!"},{"$error":"#NUM!"},{"$error":"#NUM!"},{"$error":"#NUM!"},{"$error":"#NUM!"},""]
[{"$error":"#NUM!"},{"$error":"#NUM!"},{"$error":"#NUM!"},{"$error":"#NUM!"},{"$error":"#NUM!"},""]
[{"$error":"#NUM!"},{"$error":"#NUM!"},{"$error":"#NUM!"},{"$error":"#NUM!"},{"$error":"#NUM!"},""]
[{"$error":"#NUM!"},{"$error":"#NUM!"},{"$error":"#NUM!"},{"$error":"#NUM!"},{"$error":"#NUM!"},""]
[{"$error":"#NUM!"},{"$error":"#NUM!"},{"$error":"#NUM!"},{"$error":"#NUM!"},{"$error":"#NUM!"},""]
[{"$error":"#NUM!"},{"$error":"#NUM!"},{"$error":"#NUM!"},{"$error":"#NUM!"},{"$error":"#NUM!"},""]
[{"$error":"#NUM!"},{"$error":"#NUM!"},{"$error":"#NUM!"},{"$error":"#NUM!"},{"$error":"#NUM!"},""]
[{"$error":"#NUM!"},{"$error":"#NUM!"},{"$error":"#NUM!"},{"$error":"#NUM!"},{"$error":"#NUM!"},""]
[{"$f":"MATCH(LARGE(INDIRECT(\"'Urban & Suburban Intersections'!$KH5:$KH10004\"),ROW()-300),INDIRECT(\"'Urban & Suburban Intersections'!$KH5:$KH10004\"),0)+4","v":{"$error":"#NUM!"}},{"$f":"\"(INT) \"&INDIRECT(ADDRESS($A301,2,,,\"Urban & Suburban Intersections\"))&\" @ \"&INDIRECT(ADDRESS($A301,3,,,\"Urban & Suburban Intersections\"))","v":{"$error":"#NUM!"}},{"$f":"INDIRECT(ADDRESS($A301,4,,,\"Urban & Suburban Intersections\"))","v":{"$error":"#NUM!"}},{"$f":"\"Control = \"&INDIRECT(ADDRESS($A301,5,,,\"Urban & Suburban Intersections\"))","v":{"$error":"#NUM!"}},{"$f":"\"Major AADT: \"&TEXT(INDIRECT(ADDRESS($A301,6,,,\"Urban & Suburban Intersections\")),\"#,##0\")&\" / Minor AADT: \"&TEXT(INDIRECT(ADDRESS($A301,7,,,\"Urban & Suburban Intersections\")),\"#,##0\")","v":{"$error":"#NUM!"}},{"$f":"IF(ISERROR(A301),\"\",INDIRECT(ADDRESS($A301,294,,,\"Urban & Suburban Intersections\")))","v":""}]
[{"$f":"IF(MATCH(LARGE(INDIRECT(\"'Urban & Suburban Intersections'!$KH5:$KH10004\"),ROW()-300),INDIRECT(\"'Urban & Suburban Intersections'!$KH5:$KH10004\"),0)=MATCH(LARGE(INDIRECT(\"'Urban & Suburban Intersections'!$KH5:$KH10004\"),ROW()-300-1),INDIRECT(\"'Urban & Suburban Intersections'!$KH5:$KH10004\"),0),MATCH(LARGE(INDIRECT(\"'Urban & Suburban Intersections'!$KH5:$KH10004\"),ROW()-300),INDIRECT(ADDRESS(A301+1,294,,,\"Urban & Suburban Intersections\")&\":KH10004\"),0)+A301,MATCH(LARGE(INDIRECT(\"'Urban & Suburban Intersections'!$KH5:$KH10004\"),ROW()-300),INDIRECT(\"'Urban & Suburban Intersections'!$KH5:$KH10004\"),0)+4)","v":{"$error":"#NUM!"}},{"$f":"\"(INT) \"&INDIRECT(ADDRESS($A302,2,,,\"Urban & Suburban Intersections\"))&\" @ \"&INDIRECT(ADDRESS($A302,3,,,\"Urban & Suburban Intersections\"))","v":{"$error":"#NUM!"}},{"$f":"INDIRECT(ADDRESS($A302,4,,,\"Urban & Suburban Intersections\"))","v":{"$error":"#NUM!"}},{"$f":"\"Control = \"&INDIRECT(ADDRESS($A302,5,,,\"Urban & Suburban Intersections\"))","v":{"$error":"#NUM!"}},{"$f":"\"Major AADT: \"&TEXT(INDIRECT(ADDRESS($A302,6,,,\"Urban & Suburban Intersections\")),\"#,##0\")&\" / Minor AADT: \"&TEXT(INDIRECT(ADDRESS($A302,7,,,\"Urban & Suburban Intersections\")),\"#,##0\")","v":{"$error":"#NUM!"}},{"$f":"IF(ISERROR(A302),\"\",INDIRECT(ADDRESS($A302,294,,,\"Urban & Suburban Intersections\")))","v":""}]
[{"$f":"IF(MATCH(LARGE(INDIRECT(\"'Urban & Suburban Intersections'!$KH5:$KH10004\"),ROW()-300),INDIRECT(\"'Urban & Suburban Intersections'!$KH5:$KH10004\"),0)=MATCH(LARGE(INDIRECT(\"'Urban & Suburban Intersections'!$KH5:$KH10004\"),ROW()-300-1),INDIRECT(\"'Urban & Suburban Intersections'!$KH5:$KH10004\"),0),MATCH(LARGE(INDIRECT(\"'Urban & Suburban Intersections'!$KH5:$KH10004\"),ROW()-300),INDIRECT(ADDRESS(A302+1,294,,,\"Urban & Suburban Intersections\")&\":KH10004\"),0)+A302,MATCH(LARGE(INDIRECT(\"'Urban & Suburban Intersections'!$KH5:$KH10004\"),ROW()-300),INDIRECT(\"'Urban & Suburban Intersections'!$KH5:$KH10004\"),0)+4)","v":{"$error":"#NUM!"}},{"$f":"\"(INT) \"&INDIRECT(ADDRESS($A303,2,,,\"Urban & Suburban Intersections\"))&\" @ \"&INDIRECT(ADDRESS($A303,3,,,\"Urban & Suburban Intersections\"))","v":{"$error":"#NUM!"}},{"$f":"INDIRECT(ADDRESS($A303,4,,,\"Urban & Suburban Intersections\"))","v":{"$error":"#NUM!"}},{"$f":"\"Control = \"&INDIRECT(ADDRESS($A303,5,,,\"Urban & Suburban Intersections\"))","v":{"$error":"#NUM!"}},{"$f":"\"Major AADT: \"&TEXT(INDIRECT(ADDRESS($A303,6,,,\"Urban & Suburban Intersections\")),\"#,##0\")&\" / Minor AADT: \"&TEXT(INDIRECT(ADDRESS($A303,7,,,\"Urban & Suburban Intersections\")),\"#,##0\")","v":{"$error":"#NUM!"}},{"$f":"IF(ISERROR(A303),\"\",INDIRECT(ADDRESS($A303,294,,,\"Urban & Suburban Intersections\")))","v":""}]
[{"$error":"#NUM!"},{"$error":"#NUM!"},{"$error":"#NUM!"},{"$error":"#NUM!"},{"$error":"#NUM!"},""]
[{"$error":"#NUM!"},{"$error":"#NUM!"},{"$error":"#NUM!"},{"$error":"#NUM!"},{"$error":"#NUM!"},""]
[{"$error":"#NUM!"},{"$error":"#NUM!"},{"$error":"#NUM!"},{"$error":"#NUM!"},{"$error":"#NUM!"},""]
[{"$error":"#NUM!"},{"$error":"#NUM!"},{"$error":"#NUM!"},{"$error":"#NUM!"},{"$error":"#NUM!"},""]
[{"$error":"#NUM!"},{"$error":"#NUM!"},{"$error":"#NUM!"},{"$error":"#NUM!"},{"$error":"#NUM!"},""]
[{"$error":"#NUM!"},{"$error":"#NUM!"},{"$error":"#NUM!"},{"$error":"#NUM!"},{"$error":"#NUM!"},""]
[{"$error":"#NUM!"},{"$error":"#NUM!"},{"$error":"#NUM!"},{"$error":"#NUM!"},{"$error":"#NUM!"},""]
[{"$error":"#NUM!"},{"$error":"#NUM!"},{"$error":"#NUM!"},{"$error":"#NUM!"},{"$error":"#NUM!"},""]
[{"$error":"#NUM!"},{"$error":"#NUM!"},{"$error":"#NUM!"},{"$error":"#NUM!"},{"$error":"#NUM!"},""]
[{"$error":"#NUM!"},{"$error":"#NUM!"},{"$error":"#NUM!"},{"$error":"#NUM!"},{"$error":"#NUM!"},""]
[{"$error":"#NUM!"},{"$error":"#NUM!"},{"$error":"#NUM!"},{"$error":"#NUM!"},{"$error":"#NUM!"},""]
[{"$error":"#NUM!"},{"$error":"#NUM!"},{"$error":"#NUM!"},{"$error":"#NUM!"},{"$error":"#NUM!"},""]
[{"$error":"#NUM!"},{"$error":"#NUM!"},{"$error":"#NUM!"},{"$error":"#NUM!"},{"$error":"#NUM!"},""]
[{"$error":"#NUM!"},{"$error":"#NUM!"},{"$error":"#NUM!"},{"$error":"#NUM!"},{"$error":"#NUM!"},""]
[{"$error":"#NUM!"},{"$error":"#NUM!"},{"$error":"#NUM!"},{"$error":"#NUM!"},{"$error":"#NUM!"},""]
[{"$error":"#NUM!"},{"$error":"#NUM!"},{"$error":"#NUM!"},{"$error":"#NUM!"},{"$error":"#NUM!"},""]
[{"$error":"#NUM!"},{"$error":"#NUM!"},{"$error":"#NUM!"},{"$error":"#NUM!"},{"$error":"#NUM!"},""]
[{"$error":"#NUM!"},{"$error":"#NUM!"},{"$error":"#NUM!"},{"$error":"#NUM!"},{"$error":"#NUM!"},""]
[{"$error":"#NUM!"},{"$error":"#NUM!"},{"$error":"#NUM!"},{"$error":"#NUM!"},{"$error":"#NUM!"},""]
[{"$error":"#NUM!"},{"$error":"#NUM!"},{"$error":"#NUM!"},{"$error":"#NUM!"},{"$error":"#NUM!"},""]
[{"$error":"#NUM!"},{"$error":"#NUM!"},{"$error":"#NUM!"},{"$error":"#NUM!"},{"$error":"#NUM!"},""]
[{"$error":"#NUM!"},{"$error":"#NUM!"},{"$error":"#NUM!"},{"$error":"#NUM!"},{"$error":"#NUM!"},""]
[{"$error":"#NUM!"},{"$error":"#NUM!"},{"$error":"#NUM!"},{"$error":"#NUM!"},{"$error":"#NUM!"},""]
[{"$error":"#NUM!"},{"$error":"#NUM!"},{"$error":"#NUM!"},{"$error":"#NUM!"},{"$error":"#NUM!"},""]
[{"$error":"#NUM!"},{"$error":"#NUM!"},{"$error":"#NUM!"},{"$error":"#NUM!"},{"$error":"#NUM!"},""]
[{"$error":"#NUM!"},{"$error":"#NUM!"},{"$error":"#NUM!"},{"$error":"#NUM!"},{"$error":"#NUM!"},""]
[{"$error":"#NUM!"},{"$error":"#NUM!"},{"$error":"#NUM!"},{"$error":"#NUM!"},{"$error":"#NUM!"},""]
[{"$error":"#NUM!"},{"$error":"#NUM!"},{"$error":"#NUM!"},{"$error":"#NUM!"},{"$error":"#NUM!"},""]
[{"$error":"#NUM!"},{"$error":"#NUM!"},{"$error":"#NUM!"},{"$error":"#NUM!"},{"$error":"#NUM!"},""]
[{"$error":"#NUM!"},{"$error":"#NUM!"},{"$error":"#NUM!"},{"$error":"#NUM!"},{"$error":"#NUM!"},""]
[{"$error":"#NUM!"},{"$error":"#NUM!"},{"$error":"#NUM!"},{"$error":"#NUM!"},{"$error":"#NUM!"},""]
[{"$error":"#NUM!"},{"$error":"#NUM!"},{"$error":"#NUM!"},{"$error":"#NUM!"},{"$error":"#NUM!"},""]
[{"$error":"#NUM!"},{"$error":"#NUM!"},{"$error":"#NUM!"},{"$error":"#NUM!"},{"$error":"#NUM!"},""]
[{"$error":"#NUM!"},{"$error":"#NUM!"},{"$error":"#NUM!"},{"$error":"#NUM!"},{"$error":"#NUM!"},""]
[{"$error":"#NUM!"},{"$error":"#NUM!"},{"$error":"#NUM!"},{"$error":"#NUM!"},{"$error":"#NUM!"},""]
[{"$error":"#NUM!"},{"$error":"#NUM!"},{"$error":"#NUM!"},{"$error":"#NUM!"},{"$error":"#NUM!"},""]
[{"$error":"#NUM!"},{"$error":"#NUM!"},{"$error":"#NUM!"},{"$error":"#NUM!"},{"$error":"#NUM!"},""]
[{"$error":"#NUM!"},{"$error":"#NUM!"},{"$error":"#NUM!"},{"$error":"#NUM!"},{"$error":"#NUM!"},""]
[{"$error":"#NUM!"},{"$error":"#NUM!"},{"$error":"#NUM!"},{"$error":"#NUM!"},{"$error":"#NUM!"},""]
[{"$error":"#NUM!"},{"$error":"#NUM!"},{"$error":"#NUM!"},{"$error":"#NUM!"},{"$error":"#NUM!"},""]
[{"$error":"#NUM!"},{"$error":"#NUM!"},{"$error":"#NUM!"},{"$error":"#NUM!"},{"$error":"#NUM!"},""]
[{"$error":"#NUM!"},{"$error":"#NUM!"},{"$error":"#NUM!"},{"$error":"#NUM!"},{"$error":"#NUM!"},""]
[{"$error":"#NUM!"},{"$error":"#NUM!"},{"$error":"#NUM!"},{"$error":"#NUM!"},{"$error":"#NUM!"},""]
[{"$error":"#NUM!"},{"$error":"#NUM!"},{"$error":"#NUM!"},{"$error":"#NUM!"},{"$error":"#NUM!"},""]
[{"$error":"#NUM!"},{"$error":"#NUM!"},{"$error":"#NUM!"},{"$error":"#NUM!"},{"$error":"#NUM!"},""]
[{"$error":"#NUM!"},{"$error":"#NUM!"},{"$error":"#NUM!"},{"$error":"#NUM!"},{"$error":"#NUM!"},""]
[{"$error":"#NUM!"},{"$error":"#NUM!"},{"$error":"#NUM!"},{"$error":"#NUM!"},{"$error":"#NUM!"},""]

{"sheet":"Summaries (Top 10)","index":19,"n_rows":88,"n_cols":27,"rows_kept":88,"cut":false,"hidden":false,"merged":[[0,0,0,26],[29,1,29,4],[41,1,41,4],[53,1,53,4],[65,1,65,4],[65,22,65,25],[29,8,29,11],[41,8,41,11],[53,8,53,11],[65,8,65,11],[77,1,77,4],[17,22,17,25],[17,15,17,18],[17,8,17,11],[3,7,3,12],[5,8,5,11],[3,14,3,19],[5,15,5,18],[3,21,3,26],[5,22,5,25],[3,0,3,5],[5,1,5,4],[17,1,17,4],[29,22,29,25],[41,22,41,25],[53,22,53,25],[77,8,77,11],[77,22,77,25],[29,15,29,18],[41,15,41,18],[53,15,53,18],[65,15,65,18],[77,15,77,18]]}
[{"$f":"Inputs!B18&\" - Summaries\"","v":"ads - Summaries"}]
[{"$f":"\"Control Section(s): \"&Inputs!B22","v":"Control Section(s): Description"},null,null,null,null,null,null,{"$f":"\"Control Section(s): \"&Inputs!B19","v":"Control Section(s): 12345"},null,null,null,null,null,null,{"$f":"\"PR Number(s): \"&Inputs!B20","v":"PR Number(s): 1234567"},null,null,null,null,null,null,{"$f":"\"Job Number(s): \"&Inputs!B21","v":"Job Number(s): 12345A"}]
[]
["Highest Expected Average Crashes",null,null,null,null,null,null,"Highest Excess Expected Crashes",null,null,null,null,null,null,"Highest Predicted Total Crashes",null,null,null,null,null,null,"Highest Predicted Fatal and Injury Crashes"]
[]
["Rank","Rural 2-Lane Segments",null,null,null,"Average",null,"Rank","Rural 2-Lane Segments",null,null,null,"Excess",null,"Rank","Rural 2-Lane Segments",null,null,null,"Number",null,"Rank","Rural 2-Lane Segments",null,null,null,"Number"]
[1,{"$f":"IF(ISERROR(RankingExpectedAverage!$A1),\"--\",RankingExpectedAverage!B1)","v":"(SEG) SH 321, MP 0.0 to MP 1.5"},{"$f":"IF(ISERROR(RankingExpectedAverage!$A1),\"--\",RankingExpectedAverage!C1)","v":"Anywhere, USA"},{"$f":"IF(ISERROR(RankingExpectedAverage!$A1),\"--\",RankingExpectedAverage!D1)","v":"Length = 1.5 mi"},{"$f":"IF(ISERROR(RankingExpectedAverage!$A1),\"--\",RankingExpectedAverage!E1)","v":"AADT: 10,000"},{"$f":"IF(ISERROR(RankingExpectedAverage!$A1),\"--\",RankingExpectedAverage!F1)","v":0},null,1,{"$f":"IF(ISERROR(RankingExcess!$A1),\"--\",RankingExcess!B1)","v":"--"},{"$f":"IF(ISERROR(RankingExcess!$A1),\"--\",RankingExcess!C1)","v":"--"},{"$f":"IF(ISERROR(RankingExcess!$A1),\"--\",RankingExcess!D1)","v":"--"},{"$f":"IF(ISERROR(RankingExcess!$A1),\"--\",RankingExcess!E1)","v":"--"},{"$f":"IF(ISERROR(RankingExcess!$A1),\"--\",RankingExcess!F1)","v":"--"},null,1,{"$f":"IF(ISERROR(RankingPredictedTotal!$A1),\"--\",RankingPredictedTotal!B1)","v":"(SEG) SH 321, MP 0.0 to MP 1.5"},{"$f":"IF(ISERROR(RankingPredictedTotal!$A1),\"--\",RankingPredictedTotal!C1)","v":"Anywhere, USA"},{"$f":"IF(ISERROR(RankingPredictedTotal!$A1),\"--\",RankingPredictedTotal!D1)","v":"Length = 1.5 mi"},{"$f":"IF(ISERROR(RankingPredictedTotal!$A1),\"--\",RankingPredictedTotal!E1)","v":"AADT: 10,000"},{"$f":"IF(ISERROR(RankingPredictedTotal!$A1),\"--\",RankingPredictedTotal!F1)","v":5.6035441623555631},null,1,{"$f":"IF(ISERROR(RankingPredictedFI!$A1),\"--\",RankingPredictedFI!B1)","v":"(SEG) SH 321, MP 0.0 to MP 1.5"},{"$f":"IF(ISERROR(RankingPredictedFI!$A1),\"--\",RankingPredictedFI!C1)","v":"Anywhere, USA"},{"$f":"IF(ISERROR(RankingPredictedFI!$A1),\"--\",RankingPredictedFI!D1)","v":"Length = 1.5 mi"},{"$f":"IF(ISERROR(RankingPredictedFI!$A1),\"--\",RankingPredictedFI!E1)","v":"AADT: 10,000"},{"$f":"IF(ISERROR(RankingPredictedFI!$A1),\"--\",RankingPredictedFI!F1)","v":0.61078631369675629}]
[2,{"$f":"IF(ISERROR(RankingExpectedAverage!$A2),\"--\",RankingExpectedAverage!B2)","v":"--"},{"$f":"IF(ISERROR(RankingExpectedAverage!$A2),\"--\",RankingExpectedAverage!C2)","v":"--"},{"$f":"IF(ISERROR(RankingExpectedAverage!$A2),\"--\",RankingExpectedAverage!D2)","v":"--"},{"$f":"IF(ISERROR(RankingExpectedAverage!$A2),\"--\",RankingExpectedAverage!E2)","v":"--"},{"$f":"IF(ISERROR(RankingExpectedAverage!$A2),\"--\",RankingExpectedAverage!F2)","v":"--"},null,2,{"$f":"IF(ISERROR(RankingExcess!$A2),\"--\",RankingExcess!B2)","v":"--"},{"$f":"IF(ISERROR(RankingExcess!$A2),\"--\",RankingExcess!C2)","v":"--"},{"$f":"IF(ISERROR(RankingExcess!$A2),\"--\",RankingExcess!D2)","v":"--"},{"$f":"IF(ISERROR(RankingExcess!$A2),\"--\",RankingExcess!E2)","v":"--"},{"$f":"IF(ISERROR(RankingExcess!$A2),\"--\",RankingExcess!F2)","v":"--"},null,2,{"$f":"IF(ISERROR(RankingPredictedTotal!$A2),\"--\",RankingPredictedTotal!B2)","v":"--"},{"$f":"IF(ISERROR(RankingPredictedTotal!$A2),\"--\",RankingPredictedTotal!C2)","v":"--"},{"$f":"IF(ISERROR(RankingPredictedTotal!$A2),\"--\",RankingPredictedTotal!D2)","v":"--"},{"$f":"IF(ISERROR(RankingPredictedTotal!$A2),\"--\",RankingPredictedTotal!E2)","v":"--"},{"$f":"IF(ISERROR(RankingPredictedTotal!$A2),\"--\",RankingPredictedTotal!F2)","v":"--"},null,2,{"$f":"IF(ISERROR(RankingPredictedFI!$A2),\"--\",RankingPredictedFI!B2)","v":"--"},{"$f":"IF(ISERROR(RankingPredictedFI!$A2),\"--\",RankingPredictedFI!C2)","v":"--"},{"$f":"IF(ISERROR(RankingPredictedFI!$A2),\"--\",RankingPredictedFI!D2)","v":"--"},{"$f":"IF(ISERROR(RankingPredictedFI!$A2),\"--\",RankingPredictedFI!E2)","v":"--"},{"$f":"IF(ISERROR(RankingPredictedFI!$A2),\"--\",RankingPredictedFI!F2)","v":"--"}]
[3,{"$f":"IF(ISERROR(RankingExpectedAverage!$A3),\"--\",RankingExpectedAverage!B3)","v":"--"},{"$f":"IF(ISERROR(RankingExpectedAverage!$A3),\"--\",RankingExpectedAverage!C3)","v":"--"},{"$f":"IF(ISERROR(RankingExpectedAverage!$A3),\"--\",RankingExpectedAverage!D3)","v":"--"},{"$f":"IF(ISERROR(RankingExpectedAverage!$A3),\"--\",RankingExpectedAverage!E3)","v":"--"},{"$f":"IF(ISERROR(RankingExpectedAverage!$A3),\"--\",RankingExpectedAverage!F3)","v":"--"},null,3,{"$f":"IF(ISERROR(RankingExcess!$A3),\"--\",RankingExcess!B3)","v":"--"},{"$f":"IF(ISERROR(RankingExcess!$A3),\"--\",RankingExcess!C3)","v":"--"},{"$f":"IF(ISERROR(RankingExcess!$A3),\"--\",RankingExcess!D3)","v":"--"},{"$f":"IF(ISERROR(RankingExcess!$A3),\"--\",RankingExcess!E3)","v":"--"},{"$f":"IF(ISERROR(RankingExcess!$A3),\"--\",RankingExcess!F3)","v":"--"},null,3,{"$f":"IF(ISERROR(RankingPredictedTotal!$A3),\"--\",RankingPredictedTotal!B3)","v":"--"},{"$f":"IF(ISERROR(RankingPredictedTotal!$A3),\"--\",RankingPredictedTotal!C3)","v":"--"},{"$f":"IF(ISERROR(RankingPredictedTotal!$A3),\"--\",RankingPredictedTotal!D3)","v":"--"},{"$f":"IF(ISERROR(RankingPredictedTotal!$A3),\"--\",RankingPredictedTotal!E3)","v":"--"},{"$f":"IF(ISERROR(RankingPredictedTotal!$A3),\"--\",RankingPredictedTotal!F3)","v":"--"},null,3,{"$f":"IF(ISERROR(RankingPredictedFI!$A3),\"--\",RankingPredictedFI!B3)","v":"--"},{"$f":"IF(ISERROR(RankingPredictedFI!$A3),\"--\",RankingPredictedFI!C3)","v":"--"},{"$f":"IF(ISERROR(RankingPredictedFI!$A3),\"--\",RankingPredictedFI!D3)","v":"--"},{"$f":"IF(ISERROR(RankingPredictedFI!$A3),\"--\",RankingPredictedFI!E3)","v":"--"},{"$f":"IF(ISERROR(RankingPredictedFI!$A3),\"--\",RankingPredictedFI!F3)","v":"--"}]
[4,{"$f":"IF(ISERROR(RankingExpectedAverage!$A4),\"--\",RankingExpectedAverage!B4)","v":"--"},{"$f":"IF(ISERROR(RankingExpectedAverage!$A4),\"--\",RankingExpectedAverage!C4)","v":"--"},{"$f":"IF(ISERROR(RankingExpectedAverage!$A4),\"--\",RankingExpectedAverage!D4)","v":"--"},{"$f":"IF(ISERROR(RankingExpectedAverage!$A4),\"--\",RankingExpectedAverage!E4)","v":"--"},{"$f":"IF(ISERROR(RankingExpectedAverage!$A4),\"--\",RankingExpectedAverage!F4)","v":"--"},null,4,{"$f":"IF(ISERROR(RankingExcess!$A4),\"--\",RankingExcess!B4)","v":"--"},{"$f":"IF(ISERROR(RankingExcess!$A4),\"--\",RankingExcess!C4)","v":"--"},{"$f":"IF(ISERROR(RankingExcess!$A4),\"--\",RankingExcess!D4)","v":"--"},{"$f":"IF(ISERROR(RankingExcess!$A4),\"--\",RankingExcess!E4)","v":"--"},{"$f":"IF(ISERROR(RankingExcess!$A4),\"--\",RankingExcess!F4)","v":"--"},null,4,{"$f":"IF(ISERROR(RankingPredictedTotal!$A4),\"--\",RankingPredictedTotal!B4)","v":"--"},{"$f":"IF(ISERROR(RankingPredictedTotal!$A4),\"--\",RankingPredictedTotal!C4)","v":"--"},{"$f":"IF(ISERROR(RankingPredictedTotal!$A4),\"--\",RankingPredictedTotal!D4)","v":"--"},{"$f":"IF(ISERROR(RankingPredictedTotal!$A4),\"--\",RankingPredictedTotal!E4)","v":"--"},{"$f":"IF(ISERROR(RankingPredictedTotal!$A4),\"--\",RankingPredictedTotal!F4)","v":"--"},null,4,{"$f":"IF(ISERROR(RankingPredictedFI!$A4),\"--\",RankingPredictedFI!B4)","v":"--"},{"$f":"IF(ISERROR(RankingPredictedFI!$A4),\"--\",RankingPredictedFI!C4)","v":"--"},{"$f":"IF(ISERROR(RankingPredictedFI!$A4),\"--\",RankingPredictedFI!D4)","v":"--"},{"$f":"IF(ISERROR(RankingPredictedFI!$A4),\"--\",RankingPredictedFI!E4)","v":"--"},{"$f":"IF(ISERROR(RankingPredictedFI!$A4),\"--\",RankingPredictedFI!F4)","v":"--"}]
[5,{"$f":"IF(ISERROR(RankingExpectedAverage!$A5),\"--\",RankingExpectedAverage!B5)","v":"--"},{"$f":"IF(ISERROR(RankingExpectedAverage!$A5),\"--\",RankingExpectedAverage!C5)","v":"--"},{"$f":"IF(ISERROR(RankingExpectedAverage!$A5),\"--\",RankingExpectedAverage!D5)","v":"--"},{"$f":"IF(ISERROR(RankingExpectedAverage!$A5),\"--\",RankingExpectedAverage!E5)","v":"--"},{"$f":"IF(ISERROR(RankingExpectedAverage!$A5),\"--\",RankingExpectedAverage!F5)","v":"--"},null,5,{"$f":"IF(ISERROR(RankingExcess!$A5),\"--\",RankingExcess!B5)","v":"--"},{"$f":"IF(ISERROR(RankingExcess!$A5),\"--\",RankingExcess!C5)","v":"--"},{"$f":"IF(ISERROR(RankingExcess!$A5),\"--\",RankingExcess!D5)","v":"--"},{"$f":"IF(ISERROR(RankingExcess!$A5),\"--\",RankingExcess!E5)","v":"--"},{"$f":"IF(ISERROR(RankingExcess!$A5),\"--\",RankingExcess!F5)","v":"--"},null,5,{"$f":"IF(ISERROR(RankingPredictedTotal!$A5),\"--\",RankingPredictedTotal!B5)","v":"--"},{"$f":"IF(ISERROR(RankingPredictedTotal!$A5),\"--\",RankingPredictedTotal!C5)","v":"--"},{"$f":"IF(ISERROR(RankingPredictedTotal!$A5),\"--\",RankingPredictedTotal!D5)","v":"--"},{"$f":"IF(ISERROR(RankingPredictedTotal!$A5),\"--\",RankingPredictedTotal!E5)","v":"--"},{"$f":"IF(ISERROR(RankingPredictedTotal!$A5),\"--\",RankingPredictedTotal!F5)","v":"--"},null,5,{"$f":"IF(ISERROR(RankingPredictedFI!$A5),\"--\",RankingPredictedFI!B5)","v":"--"},{"$f":"IF(ISERROR(RankingPredictedFI!$A5),\"--\",RankingPredictedFI!C5)","v":"--"},{"$f":"IF(ISERROR(RankingPredictedFI!$A5),\"--\",RankingPredictedFI!D5)","v":"--"},{"$f":"IF(ISERROR(RankingPredictedFI!$A5),\"--\",RankingPredictedFI!E5)","v":"--"},{"$f":"IF(ISERROR(RankingPredictedFI!$A5),\"--\",RankingPredictedFI!F5)","v":"--"}]
[6,{"$f":"IF(ISERROR(RankingExpectedAverage!$A6),\"--\",RankingExpectedAverage!B6)","v":"--"},{"$f":"IF(ISERROR(RankingExpectedAverage!$A6),\"--\",RankingExpectedAverage!C6)","v":"--"},{"$f":"IF(ISERROR(RankingExpectedAverage!$A6),\"--\",RankingExpectedAverage!D6)","v":"--"},{"$f":"IF(ISERROR(RankingExpectedAverage!$A6),\"--\",RankingExpectedAverage!E6)","v":"--"},{"$f":"IF(ISERROR(RankingExpectedAverage!$A6),\"--\",RankingExpectedAverage!F6)","v":"--"},null,6,{"$f":"IF(ISERROR(RankingExcess!$A6),\"--\",RankingExcess!B6)","v":"--"},{"$f":"IF(ISERROR(RankingExcess!$A6),\"--\",RankingExcess!C6)","v":"--"},{"$f":"IF(ISERROR(RankingExcess!$A6),\"--\",RankingExcess!D6)","v":"--"},{"$f":"IF(ISERROR(RankingExcess!$A6),\"--\",RankingExcess!E6)","v":"--"},{"$f":"IF(ISERROR(RankingExcess!$A6),\"--\",RankingExcess!F6)","v":"--"},null,6,{"$f":"IF(ISERROR(RankingPredictedTotal!$A6),\"--\",RankingPredictedTotal!B6)","v":"--"},{"$f":"IF(ISERROR(RankingPredictedTotal!$A6),\"--\",RankingPredictedTotal!C6)","v":"--"},{"$f":"IF(ISERROR(RankingPredictedTotal!$A6),\"--\",RankingPredictedTotal!D6)","v":"--"},{"$f":"IF(ISERROR(RankingPredictedTotal!$A6),\"--\",RankingPredictedTotal!E6)","v":"--"},{"$f":"IF(ISERROR(RankingPredictedTotal!$A6),\"--\",RankingPredictedTotal!F6)","v":"--"},null,6,{"$f":"IF(ISERROR(RankingPredictedFI!$A6),\"--\",RankingPredictedFI!B6)","v":"--"},{"$f":"IF(ISERROR(RankingPredictedFI!$A6),\"--\",RankingPredictedFI!C6)","v":"--"},{"$f":"IF(ISERROR(RankingPredictedFI!$A6),\"--\",RankingPredictedFI!D6)","v":"--"},{"$f":"IF(ISERROR(RankingPredictedFI!$A6),\"--\",RankingPredictedFI!E6)","v":"--"},{"$f":"IF(ISERROR(RankingPredictedFI!$A6),\"--\",RankingPredictedFI!F6)","v":"--"}]
[7,{"$f":"IF(ISERROR(RankingExpectedAverage!$A7),\"--\",RankingExpectedAverage!B7)","v":"--"},{"$f":"IF(ISERROR(RankingExpectedAverage!$A7),\"--\",RankingExpectedAverage!C7)","v":"--"},{"$f":"IF(ISERROR(RankingExpectedAverage!$A7),\"--\",RankingExpectedAverage!D7)","v":"--"},{"$f":"IF(ISERROR(RankingExpectedAverage!$A7),\"--\",RankingExpectedAverage!E7)","v":"--"},{"$f":"IF(ISERROR(RankingExpectedAverage!$A7),\"--\",RankingExpectedAverage!F7)","v":"--"},null,7,{"$f":"IF(ISERROR(RankingExcess!$A7),\"--\",RankingExcess!B7)","v":"--"},{"$f":"IF(ISERROR(RankingExcess!$A7),\"--\",RankingExcess!C7)","v":"--"},{"$f":"IF(ISERROR(RankingExcess!$A7),\"--\",RankingExcess!D7)","v":"--"},{"$f":"IF(ISERROR(RankingExcess!$A7),\"--\",RankingExcess!E7)","v":"--"},{"$f":"IF(ISERROR(RankingExcess!$A7),\"--\",RankingExcess!F7)","v":"--"},null,7,{"$f":"IF(ISERROR(RankingPredictedTotal!$A7),\"--\",RankingPredictedTotal!B7)","v":"--"},{"$f":"IF(ISERROR(RankingPredictedTotal!$A7),\"--\",RankingPredictedTotal!C7)","v":"--"},{"$f":"IF(ISERROR(RankingPredictedTotal!$A7),\"--\",RankingPredictedTotal!D7)","v":"--"},{"$f":"IF(ISERROR(RankingPredictedTotal!$A7),\"--\",RankingPredictedTotal!E7)","v":"--"},{"$f":"IF(ISERROR(RankingPredictedTotal!$A7),\"--\",RankingPredictedTotal!F7)","v":"--"},null,7,{"$f":"IF(ISERROR(RankingPredictedFI!$A7),\"--\",RankingPredictedFI!B7)","v":"--"},{"$f":"IF(ISERROR(RankingPredictedFI!$A7),\"--\",RankingPredictedFI!C7)","v":"--"},{"$f":"IF(ISERROR(RankingPredictedFI!$A7),\"--\",RankingPredictedFI!D7)","v":"--"},{"$f":"IF(ISERROR(RankingPredictedFI!$A7),\"--\",RankingPredictedFI!E7)","v":"--"},{"$f":"IF(ISERROR(RankingPredictedFI!$A7),\"--\",RankingPredictedFI!F7)","v":"--"}]
[8,{"$f":"IF(ISERROR(RankingExpectedAverage!$A8),\"--\",RankingExpectedAverage!B8)","v":"--"},{"$f":"IF(ISERROR(RankingExpectedAverage!$A8),\"--\",RankingExpectedAverage!C8)","v":"--"},{"$f":"IF(ISERROR(RankingExpectedAverage!$A8),\"--\",RankingExpectedAverage!D8)","v":"--"},{"$f":"IF(ISERROR(RankingExpectedAverage!$A8),\"--\",RankingExpectedAverage!E8)","v":"--"},{"$f":"IF(ISERROR(RankingExpectedAverage!$A8),\"--\",RankingExpectedAverage!F8)","v":"--"},null,8,{"$f":"IF(ISERROR(RankingExcess!$A8),\"--\",RankingExcess!B8)","v":"--"},{"$f":"IF(ISERROR(RankingExcess!$A8),\"--\",RankingExcess!C8)","v":"--"},{"$f":"IF(ISERROR(RankingExcess!$A8),\"--\",RankingExcess!D8)","v":"--"},{"$f":"IF(ISERROR(RankingExcess!$A8),\"--\",RankingExcess!E8)","v":"--"},{"$f":"IF(ISERROR(RankingExcess!$A8),\"--\",RankingExcess!F8)","v":"--"},null,8,{"$f":"IF(ISERROR(RankingPredictedTotal!$A8),\"--\",RankingPredictedTotal!B8)","v":"--"},{"$f":"IF(ISERROR(RankingPredictedTotal!$A8),\"--\",RankingPredictedTotal!C8)","v":"--"},{"$f":"IF(ISERROR(RankingPredictedTotal!$A8),\"--\",RankingPredictedTotal!D8)","v":"--"},{"$f":"IF(ISERROR(RankingPredictedTotal!$A8),\"--\",RankingPredictedTotal!E8)","v":"--"},{"$f":"IF(ISERROR(RankingPredictedTotal!$A8),\"--\",RankingPredictedTotal!F8)","v":"--"},null,8,{"$f":"IF(ISERROR(RankingPredictedFI!$A8),\"--\",RankingPredictedFI!B8)","v":"--"},{"$f":"IF(ISERROR(RankingPredictedFI!$A8),\"--\",RankingPredictedFI!C8)","v":"--"},{"$f":"IF(ISERROR(RankingPredictedFI!$A8),\"--\",RankingPredictedFI!D8)","v":"--"},{"$f":"IF(ISERROR(RankingPredictedFI!$A8),\"--\",RankingPredictedFI!E8)","v":"--"},{"$f":"IF(ISERROR(RankingPredictedFI!$A8),\"--\",RankingPredictedFI!F8)","v":"--"}]
[9,{"$f":"IF(ISERROR(RankingExpectedAverage!$A9),\"--\",RankingExpectedAverage!B9)","v":"--"},{"$f":"IF(ISERROR(RankingExpectedAverage!$A9),\"--\",RankingExpectedAverage!C9)","v":"--"},{"$f":"IF(ISERROR(RankingExpectedAverage!$A9),\"--\",RankingExpectedAverage!D9)","v":"--"},{"$f":"IF(ISERROR(RankingExpectedAverage!$A9),\"--\",RankingExpectedAverage!E9)","v":"--"},{"$f":"IF(ISERROR(RankingExpectedAverage!$A9),\"--\",RankingExpectedAverage!F9)","v":"--"},null,9,{"$f":"IF(ISERROR(RankingExcess!$A9),\"--\",RankingExcess!B9)","v":"--"},{"$f":"IF(ISERROR(RankingExcess!$A9),\"--\",RankingExcess!C9)","v":"--"},{"$f":"IF(ISERROR(RankingExcess!$A9),\"--\",RankingExcess!D9)","v":"--"},{"$f":"IF(ISERROR(RankingExcess!$A9),\"--\",RankingExcess!E9)","v":"--"},{"$f":"IF(ISERROR(RankingExcess!$A9),\"--\",RankingExcess!F9)","v":"--"},null,9,{"$f":"IF(ISERROR(RankingPredictedTotal!$A9),\"--\",RankingPredictedTotal!B9)","v":"--"},{"$f":"IF(ISERROR(RankingPredictedTotal!$A9),\"--\",RankingPredictedTotal!C9)","v":"--"},{"$f":"IF(ISERROR(RankingPredictedTotal!$A9),\"--\",RankingPredictedTotal!D9)","v":"--"},{"$f":"IF(ISERROR(RankingPredictedTotal!$A9),\"--\",RankingPredictedTotal!E9)","v":"--"},{"$f":"IF(ISERROR(RankingPredictedTotal!$A9),\"--\",RankingPredictedTotal!F9)","v":"--"},null,9,{"$f":"IF(ISERROR(RankingPredictedFI!$A9),\"--\",RankingPredictedFI!B9)","v":"--"},{"$f":"IF(ISERROR(RankingPredictedFI!$A9),\"--\",RankingPredictedFI!C9)","v":"--"},{"$f":"IF(ISERROR(RankingPredictedFI!$A9),\"--\",RankingPredictedFI!D9)","v":"--"},{"$f":"IF(ISERROR(RankingPredictedFI!$A9),\"--\",RankingPredictedFI!E9)","v":"--"},{"$f":"IF(ISERROR(RankingPredictedFI!$A9),\"--\",RankingPredictedFI!F9)","v":"--"}]
[10,{"$f":"IF(ISERROR(RankingExpectedAverage!$A10),\"--\",RankingExpectedAverage!B10)","v":"--"},{"$f":"IF(ISERROR(RankingExpectedAverage!$A10),\"--\",RankingExpectedAverage!C10)","v":"--"},{"$f":"IF(ISERROR(RankingExpectedAverage!$A10),\"--\",RankingExpectedAverage!D10)","v":"--"},{"$f":"IF(ISERROR(RankingExpectedAverage!$A10),\"--\",RankingExpectedAverage!E10)","v":"--"},{"$f":"IF(ISERROR(RankingExpectedAverage!$A10),\"--\",RankingExpectedAverage!F10)","v":"--"},null,10,{"$f":"IF(ISERROR(RankingExcess!$A10),\"--\",RankingExcess!B10)","v":"--"},{"$f":"IF(ISERROR(RankingExcess!$A10),\"--\",RankingExcess!C10)","v":"--"},{"$f":"IF(ISERROR(RankingExcess!$A10),\"--\",RankingExcess!D10)","v":"--"},{"$f":"IF(ISERROR(RankingExcess!$A10),\"--\",RankingExcess!E10)","v":"--"},{"$f":"IF(ISERROR(RankingExcess!$A10),\"--\",RankingExcess!F10)","v":"--"},null,10,{"$f":"IF(ISERROR(RankingPredictedTotal!$A10),\"--\",RankingPredictedTotal!B10)","v":"--"},{"$f":"IF(ISERROR(RankingPredictedTotal!$A10),\"--\",RankingPredictedTotal!C10)","v":"--"},{"$f":"IF(ISERROR(RankingPredictedTotal!$A10),\"--\",RankingPredictedTotal!D10)","v":"--"},{"$f":"IF(ISERROR(RankingPredictedTotal!$A10),\"--\",RankingPredictedTotal!E10)","v":"--"},{"$f":"IF(ISERROR(RankingPredictedTotal!$A10),\"--\",RankingPredictedTotal!F10)","v":"--"},null,10,{"$f":"IF(ISERROR(RankingPredictedFI!$A10),\"--\",RankingPredictedFI!B10)","v":"--"},{"$f":"IF(ISERROR(RankingPredictedFI!$A10),\"--\",RankingPredictedFI!C10)","v":"--"},{"$f":"IF(ISERROR(RankingPredictedFI!$A10),\"--\",RankingPredictedFI!D10)","v":"--"},{"$f":"IF(ISERROR(RankingPredictedFI!$A10),\"--\",RankingPredictedFI!E10)","v":"--"},{"$f":"IF(ISERROR(RankingPredictedFI!$A10),\"--\",RankingPredictedFI!F10)","v":"--"}]
[]
["Rank","Rural 2-Lane Intersections",null,null,null,"Average",null,"Rank","Rural 2-Lane Intersections",null,null,null,"Excess",null,"Rank","Rural 2-Lane Intersections",null,null,null,"Number",null,"Rank","Rural 2-Lane Intersections",null,null,null,"Number"]
[1,{"$f":"IF(ISERROR(RankingExpectedAverage!$A51),\"--\",RankingExpectedAverage!B51)","v":"(INT) Pineapple @ Emil"},{"$f":"IF(ISERROR(RankingExpectedAverage!$A51),\"--\",RankingExpectedAverage!C51)","v":"Heritage County"},{"$f":"IF(ISERROR(RankingExpectedAverage!$A51),\"--\",RankingExpectedAverage!D51)","v":"Control = 4ST"},{"$f":"IF(ISERROR(RankingExpectedAverage!$A51),\"--\",RankingExpectedAverage!E51)","v":"Major AADT: 3,500 / Minor AADT: 3,300"},{"$f":"IF(ISERROR(RankingExpectedAverage!$A51),\"--\",RankingExpectedAverage!F51)","v":3.8939832407462966},null,1,{"$f":"IF(ISERROR(RankingExcess!$A51),\"--\",RankingExcess!B51)","v":"(INT) Starfruit @ Alma"},{"$f":"IF(ISERROR(RankingExcess!$A51),\"--\",RankingExcess!C51)","v":"Heritage County"},{"$f":"IF(ISERROR(RankingExcess!$A51),\"--\",RankingExcess!D51)","v":"Control = 4ST"},{"$f":"IF(ISERROR(RankingExcess!$A51),\"--\",RankingExcess!E51)","v":"Major AADT: 1,900 / Minor AADT: 500"},{"$f":"IF(ISERROR(RankingExcess!$A51),\"--\",RankingExcess!F51)","v":1.2626783146707261},null,1,{"$f":"IF(ISERROR(RankingPredictedTotal!$A51),\"--\",RankingPredictedTotal!B51)","v":"(INT) Orange @ Jaakko"},{"$f":"IF(ISERROR(RankingPredictedTotal!$A51),\"--\",RankingPredictedTotal!C51)","v":"Heritage County"},{"$f":"IF(ISERROR(RankingPredictedTotal!$A51),\"--\",RankingPredictedTotal!D51)","v":"Control = 4ST"},{"$f":"IF(ISERROR(RankingPredictedTotal!$A51),\"--\",RankingPredictedTotal!E51)","v":"Major AADT: 2,750 / Minor AADT: 2,500"},{"$f":"IF(ISERROR(RankingPredictedTotal!$A51),\"--\",RankingPredictedTotal!F51)","v":4.3227138488376866},null,1,{"$f":"IF(ISERROR(RankingPredictedFI!$A51),\"--\",RankingPredictedFI!B51)","v":"(INT) Blueberry @ Matti"},{"$f":"IF(ISERROR(RankingPredictedFI!$A51),\"--\",RankingPredictedFI!C51)","v":"Heritage County"},{"$f":"IF(ISERROR(RankingPredictedFI!$A51),\"--\",RankingPredictedFI!D51)","v":"Control = 3ST"},{"$f":"IF(ISERROR(RankingPredictedFI!$A51),\"--\",RankingPredictedFI!E51)","v":"Major AADT: 1,800 / Minor AADT: 700"},{"$f":"IF(ISERROR(RankingPredictedFI!$A51),\"--\",RankingPredictedFI!F51)","v":0.17039962763664587}]
[2,{"$f":"IF(ISERROR(RankingExpectedAverage!$A52),\"--\",RankingExpectedAverage!B52)","v":"(INT) Orange @ Jaakko"},{"$f":"IF(ISERROR(RankingExpectedAverage!$A52),\"--\",RankingExpectedAverage!C52)","v":"Heritage County"},{"$f":"IF(ISERROR(RankingExpectedAverage!$A52),\"--\",RankingExpectedAverage!D52)","v":"Control = 4ST"},{"$f":"IF(ISERROR(RankingExpectedAverage!$A52),\"--\",RankingExpectedAverage!E52)","v":"Major AADT: 2,750 / Minor AADT: 2,500"},{"$f":"IF(ISERROR(RankingExpectedAverage!$A52),\"--\",RankingExpectedAverage!F52)","v":2.6308187636941125},null,2,{"$f":"IF(ISERROR(RankingExcess!$A52),\"--\",RankingExcess!B52)","v":"(INT) Pineapple @ Emil"},{"$f":"IF(ISERROR(RankingExcess!$A52),\"--\",RankingExcess!C52)","v":"Heritage County"},{"$f":"IF(ISERROR(RankingExcess!$A52),\"--\",RankingExcess!D52)","v":"Control = 4ST"},{"$f":"IF(ISERROR(RankingExcess!$A52),\"--\",RankingExcess!E52)","v":"Major AADT: 3,500 / Minor AADT: 3,300"},{"$f":"IF(ISERROR(RankingExcess!$A52),\"--\",RankingExcess!F52)","v":1.1060167592537034},null,2,{"$f":"IF(ISERROR(RankingPredictedTotal!$A52),\"--\",RankingPredictedTotal!B52)","v":"(INT) Banana @ Toivo"},{"$f":"IF(ISERROR(RankingPredictedTotal!$A52),\"--\",RankingPredictedTotal!C52)","v":"Heritage County"},{"$f":"IF(ISERROR(RankingPredictedTotal!$A52),\"--\",RankingPredictedTotal!D52)","v":"Control = 4ST"},{"$f":"IF(ISERROR(RankingPredictedTotal!$A52),\"--\",RankingPredictedTotal!E52)","v":"Major AADT: 2,100 / Minor AADT: 2,000"},{"$f":"IF(ISERROR(RankingPredictedTotal!$A52),\"--\",RankingPredictedTotal!F52)","v":3.2529387759826012},null,2,{"$f":"IF(ISERROR(RankingPredictedFI!$A52),\"--\",RankingPredictedFI!B52)","v":"(INT) Raspberry @ Arvo"},{"$f":"IF(ISERROR(RankingPredictedFI!$A52),\"--\",RankingPredictedFI!C52)","v":"Heritage County"},{"$f":"IF(ISERROR(RankingPredictedFI!$A52),\"--\",RankingPredictedFI!D52)","v":"Control = 3ST"},{"$f":"IF(ISERROR(RankingPredictedFI!$A52),\"--\",RankingPredictedFI!E52)","v":"Major AADT: 2,350 / Minor AADT: 900"},{"$f":"IF(ISERROR(RankingPredictedFI!$A52),\"--\",RankingPredictedFI!F52)","v":7.1431872370579449E-2}]
[3,{"$f":"IF(ISERROR(RankingExpectedAverage!$A53),\"--\",RankingExpectedAverage!B53)","v":"(INT) Mango @ Aili"},{"$f":"IF(ISERROR(RankingExpectedAverage!$A53),\"--\",RankingExpectedAverage!C53)","v":"Heritage County"},{"$f":"IF(ISERROR(RankingExpectedAverage!$A53),\"--\",RankingExpectedAverage!D53)","v":"Control = 4ST"},{"$f":"IF(ISERROR(RankingExpectedAverage!$A53),\"--\",RankingExpectedAverage!E53)","v":"Major AADT: 3,200 / Minor AADT: 1,150"},{"$f":"IF(ISERROR(RankingExpectedAverage!$A53),\"--\",RankingExpectedAverage!F53)","v":2.208842157247588},null,3,{"$f":"IF(ISERROR(RankingExcess!$A53),\"--\",RankingExcess!B53)","v":"(INT) Blueberry @ Matti"},{"$f":"IF(ISERROR(RankingExcess!$A53),\"--\",RankingExcess!C53)","v":"Heritage County"},{"$f":"IF(ISERROR(RankingExcess!$A53),\"--\",RankingExcess!D53)","v":"Control = 3ST"},{"$f":"IF(ISERROR(RankingExcess!$A53),\"--\",RankingExcess!E53)","v":"Major AADT: 1,800 / Minor AADT: 700"},{"$f":"IF(ISERROR(RankingExcess!$A53),\"--\",RankingExcess!F53)","v":0.59133463997281854},null,3,{"$f":"IF(ISERROR(RankingPredictedTotal!$A53),\"--\",RankingPredictedTotal!B53)","v":"(INT) Mango @ Aili"},{"$f":"IF(ISERROR(RankingPredictedTotal!$A53),\"--\",RankingPredictedTotal!C53)","v":"Heritage County"},{"$f":"IF(ISERROR(RankingPredictedTotal!$A53),\"--\",RankingPredictedTotal!D53)","v":"Control = 4ST"},{"$f":"IF(ISERROR(RankingPredictedTotal!$A53),\"--\",RankingPredictedTotal!E53)","v":"Major AADT: 3,200 / Minor AADT: 1,150"},{"$f":"IF(ISERROR(RankingPredictedTotal!$A53),\"--\",RankingPredictedTotal!F53)","v":3.1115804738325066},null,3,{"$f":"IF(ISERROR(RankingPredictedFI!$A53),\"--\",RankingPredictedFI!B53)","v":"(INT) Kiwi @ Hilma"},{"$f":"IF(ISERROR(RankingPredictedFI!$A53),\"--\",RankingPredictedFI!C53)","v":"Heritage County"},{"$f":"IF(ISERROR(RankingPredictedFI!$A53),\"--\",RankingPredictedFI!D53)","v":"Control = 3ST"},{"$f":"IF(ISERROR(RankingPredictedFI!$A53),\"--\",RankingPredictedFI!E53)","v":"Major AADT: 1,200 / Minor AADT: 1,150"},{"$f":"IF(ISERROR(RankingPredictedFI!$A53),\"--\",RankingPredictedFI!F53)","v":0.15279284780075553}]
[4,{"$f":"IF(ISERROR(RankingExpectedAverage!$A54),\"--\",RankingExpectedAverage!B54)","v":"(INT) Banana @ Toivo"},{"$f":"IF(ISERROR(RankingExpectedAverage!$A54),\"--\",RankingExpectedAverage!C54)","v":"Heritage County"},{"$f":"IF(ISERROR(RankingExpectedAverage!$A54),\"--\",RankingExpectedAverage!D54)","v":"Control = 4ST"},{"$f":"IF(ISERROR(RankingExpectedAverage!$A54),\"--\",RankingExpectedAverage!E54)","v":"Major AADT: 2,100 / Minor AADT: 2,000"},{"$f":"IF(ISERROR(RankingExpectedAverage!$A54),\"--\",RankingExpectedAverage!F54)","v":2.1775096684401922},null,4,{"$f":"IF(ISERROR(RankingExcess!$A54),\"--\",RankingExcess!B54)","v":"(INT) Raspberry @ Arvo"},{"$f":"IF(ISERROR(RankingExcess!$A54),\"--\",RankingExcess!C54)","v":"Heritage County"},{"$f":"IF(ISERROR(RankingExcess!$A54),\"--\",RankingExcess!D54)","v":"Control = 3ST"},{"$f":"IF(ISERROR(RankingExcess!$A54),\"--\",RankingExcess!E54)","v":"Major AADT: 2,350 / Minor AADT: 900"},{"$f":"IF(ISERROR(RankingExcess!$A54),\"--\",RankingExcess!F54)","v":0.17886428855973924},null,4,{"$f":"IF(ISERROR(RankingPredictedTotal!$A54),\"--\",RankingPredictedTotal!B54)","v":"(INT) Pineapple @ Emil"},{"$f":"IF(ISERROR(RankingPredictedTotal!$A54),\"--\",RankingPredictedTotal!C54)","v":"Heritage County"},{"$f":"IF(ISERROR(RankingPredictedTotal!$A54),\"--\",RankingPredictedTotal!D54)","v":"Control = 4ST"},{"$f":"IF(ISERROR(RankingPredictedTotal!$A54),\"--\",RankingPredictedTotal!E54)","v":"Major AADT: 3,500 / Minor AADT: 3,300"},{"$f":"IF(ISERROR(RankingPredictedTotal!$A54),\"--\",RankingPredictedTotal!F54)","v":3.0771675177794511},null,4,{"$f":"IF(ISERROR(RankingPredictedFI!$A54),\"--\",RankingPredictedFI!B54)","v":"(INT) Apple @ Heikki"},{"$f":"IF(ISERROR(RankingPredictedFI!$A54),\"--\",RankingPredictedFI!C54)","v":"Heritage County"},{"$f":"IF(ISERROR(RankingPredictedFI!$A54),\"--\",RankingPredictedFI!D54)","v":"Control = 4ST"},{"$f":"IF(ISERROR(RankingPredictedFI!$A54),\"--\",RankingPredictedFI!E54)","v":"Major AADT: 3,300 / Minor AADT: 2,400"},{"$f":"IF(ISERROR(RankingPredictedFI!$A54),\"--\",RankingPredictedFI!F54)","v":0.52937406554482269}]
[5,{"$f":"IF(ISERROR(RankingExpectedAverage!$A55),\"--\",RankingExpectedAverage!B55)","v":"(INT) Lemon @ Tuula"},{"$f":"IF(ISERROR(RankingExpectedAverage!$A55),\"--\",RankingExpectedAverage!C55)","v":"Heritage County"},{"$f":"IF(ISERROR(RankingExpectedAverage!$A55),\"--\",RankingExpectedAverage!D55)","v":"Control = 4ST"},{"$f":"IF(ISERROR(RankingExpectedAverage!$A55),\"--\",RankingExpectedAverage!E55)","v":"Major AADT: 3,700 / Minor AADT: 2,100"},{"$f":"IF(ISERROR(RankingExpectedAverage!$A55),\"--\",RankingExpectedAverage!F55)","v":2.0234598088798723},null,5,{"$f":"IF(ISERROR(RankingExcess!$A55),\"--\",RankingExcess!B55)","v":"(INT) Kiwi @ Hilma"},{"$f":"IF(ISERROR(RankingExcess!$A55),\"--\",RankingExcess!C55)","v":"Heritage County"},{"$f":"IF(ISERROR(RankingExcess!$A55),\"--\",RankingExcess!D55)","v":"Control = 3ST"},{"$f":"IF(ISERROR(RankingExcess!$A55),\"--\",RankingExcess!E55)","v":"Major AADT: 1,200 / Minor AADT: 1,150"},{"$f":"IF(ISERROR(RankingExcess!$A55),\"--\",RankingExcess!F55)","v":-0.43050035184227425},null,5,{"$f":"IF(ISERROR(RankingPredictedTotal!$A55),\"--\",RankingPredictedTotal!B55)","v":"(INT) Lemon @ Tuula"},{"$f":"IF(ISERROR(RankingPredictedTotal!$A55),\"--\",RankingPredictedTotal!C55)","v":"Heritage County"},{"$f":"IF(ISERROR(RankingPredictedTotal!$A55),\"--\",RankingPredictedTotal!D55)","v":"Control = 4ST"},{"$f":"IF(ISERROR(RankingPredictedTotal!$A55),\"--\",RankingPredictedTotal!E55)","v":"Major AADT: 3,700 / Minor AADT: 2,100"},{"$f":"IF(ISERROR(RankingPredictedTotal!$A55),\"--\",RankingPredictedTotal!F55)","v":2.3795061579514449},null,5,{"$f":"IF(ISERROR(RankingPredictedFI!$A55),\"--\",RankingPredictedFI!B55)","v":"(INT) Banana @ Toivo"},{"$f":"IF(ISERROR(RankingPredictedFI!$A55),\"--\",RankingPredictedFI!C55)","v":"Heritage County"},{"$f":"IF(ISERROR(RankingPredictedFI!$A55),\"--\",RankingPredictedFI!D55)","v":"Control = 4ST"},{"$f":"IF(ISERROR(RankingPredictedFI!$A55),\"--\",RankingPredictedFI!E55)","v":"Major AADT: 2,100 / Minor AADT: 2,000"},{"$f":"IF(ISERROR(RankingPredictedFI!$A55),\"--\",RankingPredictedFI!F55)","v":0.76444061235591121}]
[6,{"$f":"IF(ISERROR(RankingExpectedAverage!$A56),\"--\",RankingExpectedAverage!B56)","v":"(INT) Apple @ Heikki"},{"$f":"IF(ISERROR(RankingExpectedAverage!$A56),\"--\",RankingExpectedAverage!C56)","v":"Heritage County"},{"$f":"IF(ISERROR(RankingExpectedAverage!$A56),\"--\",RankingExpectedAverage!D56)","v":"Control = 4ST"},{"$f":"IF(ISERROR(RankingExpectedAverage!$A56),\"--\",RankingExpectedAverage!E56)","v":"Major AADT: 3,300 / Minor AADT: 2,400"},{"$f":"IF(ISERROR(RankingExpectedAverage!$A56),\"--\",RankingExpectedAverage!F56)","v":1.9534434184923599},null,6,{"$f":"IF(ISERROR(RankingExcess!$A56),\"--\",RankingExcess!B56)","v":"(INT) Apple @ Heikki"},{"$f":"IF(ISERROR(RankingExcess!$A56),\"--\",RankingExcess!C56)","v":"Heritage County"},{"$f":"IF(ISERROR(RankingExcess!$A56),\"--\",RankingExcess!D56)","v":"Control = 4ST"},{"$f":"IF(ISERROR(RankingExcess!$A56),\"--\",RankingExcess!E56)","v":"Major AADT: 3,300 / Minor AADT: 2,400"},{"$f":"IF(ISERROR(RankingExcess!$A56),\"--\",RankingExcess!F56)","v":-0.55344341849236001},null,6,{"$f":"IF(ISERROR(RankingPredictedTotal!$A56),\"--\",RankingPredictedTotal!B56)","v":"(INT) Apple @ Heikki"},{"$f":"IF(ISERROR(RankingPredictedTotal!$A56),\"--\",RankingPredictedTotal!C56)","v":"Heritage County"},{"$f":"IF(ISERROR(RankingPredictedTotal!$A56),\"--\",RankingPredictedTotal!D56)","v":"Control = 4ST"},{"$f":"IF(ISERROR(RankingPredictedTotal!$A56),\"--\",RankingPredictedTotal!E56)","v":"Major AADT: 3,300 / Minor AADT: 2,400"},{"$f":"IF(ISERROR(RankingPredictedTotal!$A56),\"--\",RankingPredictedTotal!F56)","v":2.2526555980630749},null,6,{"$f":"IF(ISERROR(RankingPredictedFI!$A56),\"--\",RankingPredictedFI!B56)","v":"(INT) Mango @ Aili"},{"$f":"IF(ISERROR(RankingPredictedFI!$A56),\"--\",RankingPredictedFI!C56)","v":"Heritage County"},{"$f":"IF(ISERROR(RankingPredictedFI!$A56),\"--\",RankingPredictedFI!D56)","v":"Control = 4ST"},{"$f":"IF(ISERROR(RankingPredictedFI!$A56),\"--\",RankingPredictedFI!E56)","v":"Major AADT: 3,200 / Minor AADT: 1,150"},{"$f":"IF(ISERROR(RankingPredictedFI!$A56),\"--\",RankingPredictedFI!F56)","v":0.73122141135063901}]
[7,{"$f":"IF(ISERROR(RankingExpectedAverage!$A57),\"--\",RankingExpectedAverage!B57)","v":"(INT) Starfruit @ Alma"},{"$f":"IF(ISERROR(RankingExpectedAverage!$A57),\"--\",RankingExpectedAverage!C57)","v":"Heritage County"},{"$f":"IF(ISERROR(RankingExpectedAverage!$A57),\"--\",RankingExpectedAverage!D57)","v":"Control = 4ST"},{"$f":"IF(ISERROR(RankingExpectedAverage!$A57),\"--\",RankingExpectedAverage!E57)","v":"Major AADT: 1,900 / Minor AADT: 500"},{"$f":"IF(ISERROR(RankingExpectedAverage!$A57),\"--\",RankingExpectedAverage!F57)","v":1.7373216853292739},null,7,{"$f":"IF(ISERROR(RankingExcess!$A57),\"--\",RankingExcess!B57)","v":"(INT) Lemon @ Tuula"},{"$f":"IF(ISERROR(RankingExcess!$A57),\"--\",RankingExcess!C57)","v":"Heritage County"},{"$f":"IF(ISERROR(RankingExcess!$A57),\"--\",RankingExcess!D57)","v":"Control = 4ST"},{"$f":"IF(ISERROR(RankingExcess!$A57),\"--\",RankingExcess!E57)","v":"Major AADT: 3,700 / Minor AADT: 2,100"},{"$f":"IF(ISERROR(RankingExcess!$A57),\"--\",RankingExcess!F57)","v":-0.6234598088798724},null,7,{"$f":"IF(ISERROR(RankingPredictedTotal!$A57),\"--\",RankingPredictedTotal!B57)","v":"(INT) Starfruit @ Alma"},{"$f":"IF(ISERROR(RankingPredictedTotal!$A57),\"--\",RankingPredictedTotal!C57)","v":"Heritage County"},{"$f":"IF(ISERROR(RankingPredictedTotal!$A57),\"--\",RankingPredictedTotal!D57)","v":"Control = 4ST"},{"$f":"IF(ISERROR(RankingPredictedTotal!$A57),\"--\",RankingPredictedTotal!E57)","v":"Major AADT: 1,900 / Minor AADT: 500"},{"$f":"IF(ISERROR(RankingPredictedTotal!$A57),\"--\",RankingPredictedTotal!F57)","v":1.3332806039073097},null,7,{"$f":"IF(ISERROR(RankingPredictedFI!$A57),\"--\",RankingPredictedFI!B57)","v":"(INT) Pineapple @ Emil"},{"$f":"IF(ISERROR(RankingPredictedFI!$A57),\"--\",RankingPredictedFI!C57)","v":"Heritage County"},{"$f":"IF(ISERROR(RankingPredictedFI!$A57),\"--\",RankingPredictedFI!D57)","v":"Control = 4ST"},{"$f":"IF(ISERROR(RankingPredictedFI!$A57),\"--\",RankingPredictedFI!E57)","v":"Major AADT: 3,500 / Minor AADT: 3,300"},{"$f":"IF(ISERROR(RankingPredictedFI!$A57),\"--\",RankingPredictedFI!F57)","v":0.72313436667817099}]
[8,{"$f":"IF(ISERROR(RankingExpectedAverage!$A58),\"--\",RankingExpectedAverage!B58)","v":"(INT) Blueberry @ Matti"},{"$f":"IF(ISERROR(RankingExpectedAverage!$A58),\"--\",RankingExpectedAverage!C58)","v":"Heritage County"},{"$f":"IF(ISERROR(RankingExpectedAverage!$A58),\"--\",RankingExpectedAverage!D58)","v":"Control = 3ST"},{"$f":"IF(ISERROR(RankingExpectedAverage!$A58),\"--\",RankingExpectedAverage!E58)","v":"Major AADT: 1,800 / Minor AADT: 700"},{"$f":"IF(ISERROR(RankingExpectedAverage!$A58),\"--\",RankingExpectedAverage!F58)","v":1.2086653600271815},null,8,{"$f":"IF(ISERROR(RankingExcess!$A58),\"--\",RankingExcess!B58)","v":"(INT) Mango @ Aili"},{"$f":"IF(ISERROR(RankingExcess!$A58),\"--\",RankingExcess!C58)","v":"Heritage County"},{"$f":"IF(ISERROR(RankingExcess!$A58),\"--\",RankingExcess!D58)","v":"Control = 4ST"},{"$f":"IF(ISERROR(RankingExcess!$A58),\"--\",RankingExcess!E58)","v":"Major AADT: 3,200 / Minor AADT: 1,150"},{"$f":"IF(ISERROR(RankingExcess!$A58),\"--\",RankingExcess!F58)","v":-1.208842157247588},null,8,{"$f":"IF(ISERROR(RankingPredictedTotal!$A58),\"--\",RankingPredictedTotal!B58)","v":"(INT) Blueberry @ Matti"},{"$f":"IF(ISERROR(RankingPredictedTotal!$A58),\"--\",RankingPredictedTotal!C58)","v":"Heritage County"},{"$f":"IF(ISERROR(RankingPredictedTotal!$A58),\"--\",RankingPredictedTotal!D58)","v":"Control = 3ST"},{"$f":"IF(ISERROR(RankingPredictedTotal!$A58),\"--\",RankingPredictedTotal!E58)","v":"Major AADT: 1,800 / Minor AADT: 700"},{"$f":"IF(ISERROR(RankingPredictedTotal!$A58),\"--\",RankingPredictedTotal!F58)","v":0.91612703030454767},null,8,{"$f":"IF(ISERROR(RankingPredictedFI!$A58),\"--\",RankingPredictedFI!B58)","v":"(INT) Orange @ Jaakko"},{"$f":"IF(ISERROR(RankingPredictedFI!$A58),\"--\",RankingPredictedFI!C58)","v":"Heritage County"},{"$f":"IF(ISERROR(RankingPredictedFI!$A58),\"--\",RankingPredictedFI!D58)","v":"Control = 4ST"},{"$f":"IF(ISERROR(RankingPredictedFI!$A58),\"--\",RankingPredictedFI!E58)","v":"Major AADT: 2,750 / Minor AADT: 2,500"},{"$f":"IF(ISERROR(RankingPredictedFI!$A58),\"--\",RankingPredictedFI!F58)","v":1.0158377544768562}]
[9,{"$f":"IF(ISERROR(RankingExpectedAverage!$A59),\"--\",RankingExpectedAverage!B59)","v":"(INT) Kiwi @ Hilma"},{"$f":"IF(ISERROR(RankingExpectedAverage!$A59),\"--\",RankingExpectedAverage!C59)","v":"Heritage County"},{"$f":"IF(ISERROR(RankingExpectedAverage!$A59),\"--\",RankingExpectedAverage!D59)","v":"Control = 3ST"},{"$f":"IF(ISERROR(RankingExpectedAverage!$A59),\"--\",RankingExpectedAverage!E59)","v":"Major AADT: 1,200 / Minor AADT: 1,150"},{"$f":"IF(ISERROR(RankingExpectedAverage!$A59),\"--\",RankingExpectedAverage!F59)","v":0.63050035184227426},null,9,{"$f":"IF(ISERROR(RankingExcess!$A59),\"--\",RankingExcess!B59)","v":"(INT) Banana @ Toivo"},{"$f":"IF(ISERROR(RankingExcess!$A59),\"--\",RankingExcess!C59)","v":"Heritage County"},{"$f":"IF(ISERROR(RankingExcess!$A59),\"--\",RankingExcess!D59)","v":"Control = 4ST"},{"$f":"IF(ISERROR(RankingExcess!$A59),\"--\",RankingExcess!E59)","v":"Major AADT: 2,100 / Minor AADT: 2,000"},{"$f":"IF(ISERROR(RankingExcess!$A59),\"--\",RankingExcess!F59)","v":-1.3775096684401922},null,9,{"$f":"IF(ISERROR(RankingPredictedTotal!$A59),\"--\",RankingPredictedTotal!B59)","v":"(INT) Kiwi @ Hilma"},{"$f":"IF(ISERROR(RankingPredictedTotal!$A59),\"--\",RankingPredictedTotal!C59)","v":"Heritage County"},{"$f":"IF(ISERROR(RankingPredictedTotal!$A59),\"--\",RankingPredictedTotal!D59)","v":"Control = 3ST"},{"$f":"IF(ISERROR(RankingPredictedTotal!$A59),\"--\",RankingPredictedTotal!E59)","v":"Major AADT: 1,200 / Minor AADT: 1,150"},{"$f":"IF(ISERROR(RankingPredictedTotal!$A59),\"--\",RankingPredictedTotal!F59)","v":0.82146692365997587},null,9,{"$f":"IF(ISERROR(RankingPredictedFI!$A59),\"--\",RankingPredictedFI!B59)","v":"(INT) Lemon @ Tuula"},{"$f":"IF(ISERROR(RankingPredictedFI!$A59),\"--\",RankingPredictedFI!C59)","v":"Heritage County"},{"$f":"IF(ISERROR(RankingPredictedFI!$A59),\"--\",RankingPredictedFI!D59)","v":"Control = 4ST"},{"$f":"IF(ISERROR(RankingPredictedFI!$A59),\"--\",RankingPredictedFI!E59)","v":"Major AADT: 3,700 / Minor AADT: 2,100"},{"$f":"IF(ISERROR(RankingPredictedFI!$A59),\"--\",RankingPredictedFI!F59)","v":0.55918394711858965}]
[10,{"$f":"IF(ISERROR(RankingExpectedAverage!$A60),\"--\",RankingExpectedAverage!B60)","v":"(INT) Raspberry @ Arvo"},{"$f":"IF(ISERROR(RankingExpectedAverage!$A60),\"--\",RankingExpectedAverage!C60)","v":"Heritage County"},{"$f":"IF(ISERROR(RankingExpectedAverage!$A60),\"--\",RankingExpectedAverage!D60)","v":"Control = 3ST"},{"$f":"IF(ISERROR(RankingExpectedAverage!$A60),\"--\",RankingExpectedAverage!E60)","v":"Major AADT: 2,350 / Minor AADT: 900"},{"$f":"IF(ISERROR(RankingExpectedAverage!$A60),\"--\",RankingExpectedAverage!F60)","v":0.42113571144026074},null,10,{"$f":"IF(ISERROR(RankingExcess!$A60),\"--\",RankingExcess!B60)","v":"(INT) Orange @ Jaakko"},{"$f":"IF(ISERROR(RankingExcess!$A60),\"--\",RankingExcess!C60)","v":"Heritage County"},{"$f":"IF(ISERROR(RankingExcess!$A60),\"--\",RankingExcess!D60)","v":"Control = 4ST"},{"$f":"IF(ISERROR(RankingExcess!$A60),\"--\",RankingExcess!E60)","v":"Major AADT: 2,750 / Minor AADT: 2,500"},{"$f":"IF(ISERROR(RankingExcess!$A60),\"--\",RankingExcess!F60)","v":-1.6308187636941125},null,10,{"$f":"IF(ISERROR(RankingPredictedTotal!$A60),\"--\",RankingPredictedTotal!B60)","v":"(INT) Raspberry @ Arvo"},{"$f":"IF(ISERROR(RankingPredictedTotal!$A60),\"--\",RankingPredictedTotal!C60)","v":"Heritage County"},{"$f":"IF(ISERROR(RankingPredictedTotal!$A60),\"--\",RankingPredictedTotal!D60)","v":"Control = 3ST"},{"$f":"IF(ISERROR(RankingPredictedTotal!$A60),\"--\",RankingPredictedTotal!E60)","v":"Major AADT: 2,350 / Minor AADT: 900"},{"$f":"IF(ISERROR(RankingPredictedTotal!$A60),\"--\",RankingPredictedTotal!F60)","v":0.3840423245730078},null,10,{"$f":"IF(ISERROR(RankingPredictedFI!$A60),\"--\",RankingPredictedFI!B60)","v":"(INT) Starfruit @ Alma"},{"$f":"IF(ISERROR(RankingPredictedFI!$A60),\"--\",RankingPredictedFI!C60)","v":"Heritage County"},{"$f":"IF(ISERROR(RankingPredictedFI!$A60),\"--\",RankingPredictedFI!D60)","v":"Control = 4ST"},{"$f":"IF(ISERROR(RankingPredictedFI!$A60),\"--\",RankingPredictedFI!E60)","v":"Major AADT: 1,900 / Minor AADT: 500"},{"$f":"IF(ISERROR(RankingPredictedFI!$A60),\"--\",RankingPredictedFI!F60)","v":0.3133209419182178}]
[]
["Rank","Rural Divided Multilane Segments",null,null,null,"Average",null,"Rank","Rural Divided Multilane Segments",null,null,null,"Excess",null,"Rank","Rural Divided Multilane Segments",null,null,null,"Number",null,"Rank","Rural Divided Multilane Segments",null,null,null,"Number"]
[1,{"$f":"IF(ISERROR(RankingExpectedAverage!$A101),\"--\",RankingExpectedAverage!B101)","v":"--"},{"$f":"IF(ISERROR(RankingExpectedAverage!$A101),\"--\",RankingExpectedAverage!C101)","v":"--"},{"$f":"IF(ISERROR(RankingExpectedAverage!$A101),\"--\",RankingExpectedAverage!D101)","v":"--"},{"$f":"IF(ISERROR(RankingExpectedAverage!$A101),\"--\",RankingExpectedAverage!E101)","v":"--"},{"$f":"IF(ISERROR(RankingExpectedAverage!$A101),\"--\",RankingExpectedAverage!F101)","v":"--"},null,1,{"$f":"IF(ISERROR(RankingExcess!$A101),\"--\",RankingExcess!B101)","v":"--"},{"$f":"IF(ISERROR(RankingExcess!$A101),\"--\",RankingExcess!C101)","v":"--"},{"$f":"IF(ISERROR(RankingExcess!$A101),\"--\",RankingExcess!D101)","v":"--"},{"$f":"IF(ISERROR(RankingExcess!$A101),\"--\",RankingExcess!E101)","v":"--"},{"$f":"IF(ISERROR(RankingExcess!$A101),\"--\",RankingExcess!F101)","v":"--"},null,1,{"$f":"IF(ISERROR(RankingPredictedTotal!$A101),\"--\",RankingPredictedTotal!B101)","v":"--"},{"$f":"IF(ISERROR(RankingPredictedTotal!$A101),\"--\",RankingPredictedTotal!C101)","v":"--"},{"$f":"IF(ISERROR(RankingPredictedTotal!$A101),\"--\",RankingPredictedTotal!D101)","v":"--"},{"$f":"IF(ISERROR(RankingPredictedTotal!$A101),\"--\",RankingPredictedTotal!E101)","v":"--"},{"$f":"IF(ISERROR(RankingPredictedTotal!$A101),\"--\",RankingPredictedTotal!F101)","v":"--"},null,1,{"$f":"IF(ISERROR(RankingPredictedFI!$A101),\"--\",RankingPredictedFI!B101)","v":"--"},{"$f":"IF(ISERROR(RankingPredictedFI!$A101),\"--\",RankingPredictedFI!C101)","v":"--"},{"$f":"IF(ISERROR(RankingPredictedFI!$A101),\"--\",RankingPredictedFI!D101)","v":"--"},{"$f":"IF(ISERROR(RankingPredictedFI!$A101),\"--\",RankingPredictedFI!E101)","v":"--"},{"$f":"IF(ISERROR(RankingPredictedFI!$A101),\"--\",RankingPredictedFI!F101)","v":"--"}]
[2,{"$f":"IF(ISERROR(RankingExpectedAverage!$A102),\"--\",RankingExpectedAverage!B102)","v":"--"},{"$f":"IF(ISERROR(RankingExpectedAverage!$A102),\"--\",RankingExpectedAverage!C102)","v":"--"},{"$f":"IF(ISERROR(RankingExpectedAverage!$A102),\"--\",RankingExpectedAverage!D102)","v":"--"},{"$f":"IF(ISERROR(RankingExpectedAverage!$A102),\"--\",RankingExpectedAverage!E102)","v":"--"},{"$f":"IF(ISERROR(RankingExpectedAverage!$A102),\"--\",RankingExpectedAverage!F102)","v":"--"},null,2,{"$f":"IF(ISERROR(RankingExcess!$A102),\"--\",RankingExcess!B102)","v":"--"},{"$f":"IF(ISERROR(RankingExcess!$A102),\"--\",RankingExcess!C102)","v":"--"},{"$f":"IF(ISERROR(RankingExcess!$A102),\"--\",RankingExcess!D102)","v":"--"},{"$f":"IF(ISERROR(RankingExcess!$A102),\"--\",RankingExcess!E102)","v":"--"},{"$f":"IF(ISERROR(RankingExcess!$A102),\"--\",RankingExcess!F102)","v":"--"},null,2,{"$f":"IF(ISERROR(RankingPredictedTotal!$A102),\"--\",RankingPredictedTotal!B102)","v":"--"},{"$f":"IF(ISERROR(RankingPredictedTotal!$A102),\"--\",RankingPredictedTotal!C102)","v":"--"},{"$f":"IF(ISERROR(RankingPredictedTotal!$A102),\"--\",RankingPredictedTotal!D102)","v":"--"},{"$f":"IF(ISERROR(RankingPredictedTotal!$A102),\"--\",RankingPredictedTotal!E102)","v":"--"},{"$f":"IF(ISERROR(RankingPredictedTotal!$A102),\"--\",RankingPredictedTotal!F102)","v":"--"},null,2,{"$f":"IF(ISERROR(RankingPredictedFI!$A102),\"--\",RankingPredictedFI!B102)","v":"--"},{"$f":"IF(ISERROR(RankingPredictedFI!$A102),\"--\",RankingPredictedFI!C102)","v":"--"},{"$f":"IF(ISERROR(RankingPredictedFI!$A102),\"--\",RankingPredictedFI!D102)","v":"--"},{"$f":"IF(ISERROR(RankingPredictedFI!$A102),\"--\",RankingPredictedFI!E102)","v":"--"},{"$f":"IF(ISERROR(RankingPredictedFI!$A102),\"--\",RankingPredictedFI!F102)","v":"--"}]
[3,{"$f":"IF(ISERROR(RankingExpectedAverage!$A103),\"--\",RankingExpectedAverage!B103)","v":"--"},{"$f":"IF(ISERROR(RankingExpectedAverage!$A103),\"--\",RankingExpectedAverage!C103)","v":"--"},{"$f":"IF(ISERROR(RankingExpectedAverage!$A103),\"--\",RankingExpectedAverage!D103)","v":"--"},{"$f":"IF(ISERROR(RankingExpectedAverage!$A103),\"--\",RankingExpectedAverage!E103)","v":"--"},{"$f":"IF(ISERROR(RankingExpectedAverage!$A103),\"--\",RankingExpectedAverage!F103)","v":"--"},null,3,{"$f":"IF(ISERROR(RankingExcess!$A103),\"--\",RankingExcess!B103)","v":"--"},{"$f":"IF(ISERROR(RankingExcess!$A103),\"--\",RankingExcess!C103)","v":"--"},{"$f":"IF(ISERROR(RankingExcess!$A103),\"--\",RankingExcess!D103)","v":"--"},{"$f":"IF(ISERROR(RankingExcess!$A103),\"--\",RankingExcess!E103)","v":"--"},{"$f":"IF(ISERROR(RankingExcess!$A103),\"--\",RankingExcess!F103)","v":"--"},null,3,{"$f":"IF(ISERROR(RankingPredictedTotal!$A103),\"--\",RankingPredictedTotal!B103)","v":"--"},{"$f":"IF(ISERROR(RankingPredictedTotal!$A103),\"--\",RankingPredictedTotal!C103)","v":"--"},{"$f":"IF(ISERROR(RankingPredictedTotal!$A103),\"--\",RankingPredictedTotal!D103)","v":"--"},{"$f":"IF(ISERROR(RankingPredictedTotal!$A103),\"--\",RankingPredictedTotal!E103)","v":"--"},{"$f":"IF(ISERROR(RankingPredictedTotal!$A103),\"--\",RankingPredictedTotal!F103)","v":"--"},null,3,{"$f":"IF(ISERROR(RankingPredictedFI!$A103),\"--\",RankingPredictedFI!B103)","v":"--"},{"$f":"IF(ISERROR(RankingPredictedFI!$A103),\"--\",RankingPredictedFI!C103)","v":"--"},{"$f":"IF(ISERROR(RankingPredictedFI!$A103),\"--\",RankingPredictedFI!D103)","v":"--"},{"$f":"IF(ISERROR(RankingPredictedFI!$A103),\"--\",RankingPredictedFI!E103)","v":"--"},{"$f":"IF(ISERROR(RankingPredictedFI!$A103),\"--\",RankingPredictedFI!F103)","v":"--"}]
[4,{"$f":"IF(ISERROR(RankingExpectedAverage!$A104),\"--\",RankingExpectedAverage!B104)","v":"--"},{"$f":"IF(ISERROR(RankingExpectedAverage!$A104),\"--\",RankingExpectedAverage!C104)","v":"--"},{"$f":"IF(ISERROR(RankingExpectedAverage!$A104),\"--\",RankingExpectedAverage!D104)","v":"--"},{"$f":"IF(ISERROR(RankingExpectedAverage!$A104),\"--\",RankingExpectedAverage!E104)","v":"--"},{"$f":"IF(ISERROR(RankingExpectedAverage!$A104),\"--\",RankingExpectedAverage!F104)","v":"--"},null,4,{"$f":"IF(ISERROR(RankingExcess!$A104),\"--\",RankingExcess!B104)","v":"--"},{"$f":"IF(ISERROR(RankingExcess!$A104),\"--\",RankingExcess!C104)","v":"--"},{"$f":"IF(ISERROR(RankingExcess!$A104),\"--\",RankingExcess!D104)","v":"--"},{"$f":"IF(ISERROR(RankingExcess!$A104),\"--\",RankingExcess!E104)","v":"--"},{"$f":"IF(ISERROR(RankingExcess!$A104),\"--\",RankingExcess!F104)","v":"--"},null,4,{"$f":"IF(ISERROR(RankingPredictedTotal!$A104),\"--\",RankingPredictedTotal!B104)","v":"--"},{"$f":"IF(ISERROR(RankingPredictedTotal!$A104),\"--\",RankingPredictedTotal!C104)","v":"--"},{"$f":"IF(ISERROR(RankingPredictedTotal!$A104),\"--\",RankingPredictedTotal!D104)","v":"--"},{"$f":"IF(ISERROR(RankingPredictedTotal!$A104),\"--\",RankingPredictedTotal!E104)","v":"--"},{"$f":"IF(ISERROR(RankingPredictedTotal!$A104),\"--\",RankingPredictedTotal!F104)","v":"--"},null,4,{"$f":"IF(ISERROR(RankingPredictedFI!$A104),\"--\",RankingPredictedFI!B104)","v":"--"},{"$f":"IF(ISERROR(RankingPredictedFI!$A104),\"--\",RankingPredictedFI!C104)","v":"--"},{"$f":"IF(ISERROR(RankingPredictedFI!$A104),\"--\",RankingPredictedFI!D104)","v":"--"},{"$f":"IF(ISERROR(RankingPredictedFI!$A104),\"--\",RankingPredictedFI!E104)","v":"--"},{"$f":"IF(ISERROR(RankingPredictedFI!$A104),\"--\",RankingPredictedFI!F104)","v":"--"}]
[5,{"$f":"IF(ISERROR(RankingExpectedAverage!$A105),\"--\",RankingExpectedAverage!B105)","v":"--"},{"$f":"IF(ISERROR(RankingExpectedAverage!$A105),\"--\",RankingExpectedAverage!C105)","v":"--"},{"$f":"IF(ISERROR(RankingExpectedAverage!$A105),\"--\",RankingExpectedAverage!D105)","v":"--"},{"$f":"IF(ISERROR(RankingExpectedAverage!$A105),\"--\",RankingExpectedAverage!E105)","v":"--"},{"$f":"IF(ISERROR(RankingExpectedAverage!$A105),\"--\",RankingExpectedAverage!F105)","v":"--"},null,5,{"$f":"IF(ISERROR(RankingExcess!$A105),\"--\",RankingExcess!B105)","v":"--"},{"$f":"IF(ISERROR(RankingExcess!$A105),\"--\",RankingExcess!C105)","v":"--"},{"$f":"IF(ISERROR(RankingExcess!$A105),\"--\",RankingExcess!D105)","v":"--"},{"$f":"IF(ISERROR(RankingExcess!$A105),\"--\",RankingExcess!E105)","v":"--"},{"$f":"IF(ISERROR(RankingExcess!$A105),\"--\",RankingExcess!F105)","v":"--"},null,5,{"$f":"IF(ISERROR(RankingPredictedTotal!$A105),\"--\",RankingPredictedTotal!B105)","v":"--"},{"$f":"IF(ISERROR(RankingPredictedTotal!$A105),\"--\",RankingPredictedTotal!C105)","v":"--"},{"$f":"IF(ISERROR(RankingPredictedTotal!$A105),\"--\",RankingPredictedTotal!D105)","v":"--"},{"$f":"IF(ISERROR(RankingPredictedTotal!$A105),\"--\",RankingPredictedTotal!E105)","v":"--"},{"$f":"IF(ISERROR(RankingPredictedTotal!$A105),\"--\",RankingPredictedTotal!F105)","v":"--"},null,5,{"$f":"IF(ISERROR(RankingPredictedFI!$A105),\"--\",RankingPredictedFI!B105)","v":"--"},{"$f":"IF(ISERROR(RankingPredictedFI!$A105),\"--\",RankingPredictedFI!C105)","v":"--"},{"$f":"IF(ISERROR(RankingPredictedFI!$A105),\"--\",RankingPredictedFI!D105)","v":"--"},{"$f":"IF(ISERROR(RankingPredictedFI!$A105),\"--\",RankingPredictedFI!E105)","v":"--"},{"$f":"IF(ISERROR(RankingPredictedFI!$A105),\"--\",RankingPredictedFI!F105)","v":"--"}]
[6,{"$f":"IF(ISERROR(RankingExpectedAverage!$A106),\"--\",RankingExpectedAverage!B106)","v":"--"},{"$f":"IF(ISERROR(RankingExpectedAverage!$A106),\"--\",RankingExpectedAverage!C106)","v":"--"},{"$f":"IF(ISERROR(RankingExpectedAverage!$A106),\"--\",RankingExpectedAverage!D106)","v":"--"},{"$f":"IF(ISERROR(RankingExpectedAverage!$A106),\"--\",RankingExpectedAverage!E106)","v":"--"},{"$f":"IF(ISERROR(RankingExpectedAverage!$A106),\"--\",RankingExpectedAverage!F106)","v":"--"},null,6,{"$f":"IF(ISERROR(RankingExcess!$A106),\"--\",RankingExcess!B106)","v":"--"},{"$f":"IF(ISERROR(RankingExcess!$A106),\"--\",RankingExcess!C106)","v":"--"},{"$f":"IF(ISERROR(RankingExcess!$A106),\"--\",RankingExcess!D106)","v":"--"},{"$f":"IF(ISERROR(RankingExcess!$A106),\"--\",RankingExcess!E106)","v":"--"},{"$f":"IF(ISERROR(RankingExcess!$A106),\"--\",RankingExcess!F106)","v":"--"},null,6,{"$f":"IF(ISERROR(RankingPredictedTotal!$A106),\"--\",RankingPredictedTotal!B106)","v":"--"},{"$f":"IF(ISERROR(RankingPredictedTotal!$A106),\"--\",RankingPredictedTotal!C106)","v":"--"},{"$f":"IF(ISERROR(RankingPredictedTotal!$A106),\"--\",RankingPredictedTotal!D106)","v":"--"},{"$f":"IF(ISERROR(RankingPredictedTotal!$A106),\"--\",RankingPredictedTotal!E106)","v":"--"},{"$f":"IF(ISERROR(RankingPredictedTotal!$A106),\"--\",RankingPredictedTotal!F106)","v":"--"},null,6,{"$f":"IF(ISERROR(RankingPredictedFI!$A106),\"--\",RankingPredictedFI!B106)","v":"--"},{"$f":"IF(ISERROR(RankingPredictedFI!$A106),\"--\",RankingPredictedFI!C106)","v":"--"},{"$f":"IF(ISERROR(RankingPredictedFI!$A106),\"--\",RankingPredictedFI!D106)","v":"--"},{"$f":"IF(ISERROR(RankingPredictedFI!$A106),\"--\",RankingPredictedFI!E106)","v":"--"},{"$f":"IF(ISERROR(RankingPredictedFI!$A106),\"--\",RankingPredictedFI!F106)","v":"--"}]
[7,{"$f":"IF(ISERROR(RankingExpectedAverage!$A107),\"--\",RankingExpectedAverage!B107)","v":"--"},{"$f":"IF(ISERROR(RankingExpectedAverage!$A107),\"--\",RankingExpectedAverage!C107)","v":"--"},{"$f":"IF(ISERROR(RankingExpectedAverage!$A107),\"--\",RankingExpectedAverage!D107)","v":"--"},{"$f":"IF(ISERROR(RankingExpectedAverage!$A107),\"--\",RankingExpectedAverage!E107)","v":"--"},{"$f":"IF(ISERROR(RankingExpectedAverage!$A107),\"--\",RankingExpectedAverage!F107)","v":"--"},null,7,{"$f":"IF(ISERROR(RankingExcess!$A107),\"--\",RankingExcess!B107)","v":"--"},{"$f":"IF(ISERROR(RankingExcess!$A107),\"--\",RankingExcess!C107)","v":"--"},{"$f":"IF(ISERROR(RankingExcess!$A107),\"--\",RankingExcess!D107)","v":"--"},{"$f":"IF(ISERROR(RankingExcess!$A107),\"--\",RankingExcess!E107)","v":"--"},{"$f":"IF(ISERROR(RankingExcess!$A107),\"--\",RankingExcess!F107)","v":"--"},null,7,{"$f":"IF(ISERROR(RankingPredictedTotal!$A107),\"--\",RankingPredictedTotal!B107)","v":"--"},{"$f":"IF(ISERROR(RankingPredictedTotal!$A107),\"--\",RankingPredictedTotal!C107)","v":"--"},{"$f":"IF(ISERROR(RankingPredictedTotal!$A107),\"--\",RankingPredictedTotal!D107)","v":"--"},{"$f":"IF(ISERROR(RankingPredictedTotal!$A107),\"--\",RankingPredictedTotal!E107)","v":"--"},{"$f":"IF(ISERROR(RankingPredictedTotal!$A107),\"--\",RankingPredictedTotal!F107)","v":"--"},null,7,{"$f":"IF(ISERROR(RankingPredictedFI!$A107),\"--\",RankingPredictedFI!B107)","v":"--"},{"$f":"IF(ISERROR(RankingPredictedFI!$A107),\"--\",RankingPredictedFI!C107)","v":"--"},{"$f":"IF(ISERROR(RankingPredictedFI!$A107),\"--\",RankingPredictedFI!D107)","v":"--"},{"$f":"IF(ISERROR(RankingPredictedFI!$A107),\"--\",RankingPredictedFI!E107)","v":"--"},{"$f":"IF(ISERROR(RankingPredictedFI!$A107),\"--\",RankingPredictedFI!F107)","v":"--"}]
[8,{"$f":"IF(ISERROR(RankingExpectedAverage!$A108),\"--\",RankingExpectedAverage!B108)","v":"--"},{"$f":"IF(ISERROR(RankingExpectedAverage!$A108),\"--\",RankingExpectedAverage!C108)","v":"--"},{"$f":"IF(ISERROR(RankingExpectedAverage!$A108),\"--\",RankingExpectedAverage!D108)","v":"--"},{"$f":"IF(ISERROR(RankingExpectedAverage!$A108),\"--\",RankingExpectedAverage!E108)","v":"--"},{"$f":"IF(ISERROR(RankingExpectedAverage!$A108),\"--\",RankingExpectedAverage!F108)","v":"--"},null,8,{"$f":"IF(ISERROR(RankingExcess!$A108),\"--\",RankingExcess!B108)","v":"--"},{"$f":"IF(ISERROR(RankingExcess!$A108),\"--\",RankingExcess!C108)","v":"--"},{"$f":"IF(ISERROR(RankingExcess!$A108),\"--\",RankingExcess!D108)","v":"--"},{"$f":"IF(ISERROR(RankingExcess!$A108),\"--\",RankingExcess!E108)","v":"--"},{"$f":"IF(ISERROR(RankingExcess!$A108),\"--\",RankingExcess!F108)","v":"--"},null,8,{"$f":"IF(ISERROR(RankingPredictedTotal!$A108),\"--\",RankingPredictedTotal!B108)","v":"--"},{"$f":"IF(ISERROR(RankingPredictedTotal!$A108),\"--\",RankingPredictedTotal!C108)","v":"--"},{"$f":"IF(ISERROR(RankingPredictedTotal!$A108),\"--\",RankingPredictedTotal!D108)","v":"--"},{"$f":"IF(ISERROR(RankingPredictedTotal!$A108),\"--\",RankingPredictedTotal!E108)","v":"--"},{"$f":"IF(ISERROR(RankingPredictedTotal!$A108),\"--\",RankingPredictedTotal!F108)","v":"--"},null,8,{"$f":"IF(ISERROR(RankingPredictedFI!$A108),\"--\",RankingPredictedFI!B108)","v":"--"},{"$f":"IF(ISERROR(RankingPredictedFI!$A108),\"--\",RankingPredictedFI!C108)","v":"--"},{"$f":"IF(ISERROR(RankingPredictedFI!$A108),\"--\",RankingPredictedFI!D108)","v":"--"},{"$f":"IF(ISERROR(RankingPredictedFI!$A108),\"--\",RankingPredictedFI!E108)","v":"--"},{"$f":"IF(ISERROR(RankingPredictedFI!$A108),\"--\",RankingPredictedFI!F108)","v":"--"}]
[9,{"$f":"IF(ISERROR(RankingExpectedAverage!$A109),\"--\",RankingExpectedAverage!B109)","v":"--"},{"$f":"IF(ISERROR(RankingExpectedAverage!$A109),\"--\",RankingExpectedAverage!C109)","v":"--"},{"$f":"IF(ISERROR(RankingExpectedAverage!$A109),\"--\",RankingExpectedAverage!D109)","v":"--"},{"$f":"IF(ISERROR(RankingExpectedAverage!$A109),\"--\",RankingExpectedAverage!E109)","v":"--"},{"$f":"IF(ISERROR(RankingExpectedAverage!$A109),\"--\",RankingExpectedAverage!F109)","v":"--"},null,9,{"$f":"IF(ISERROR(RankingExcess!$A109),\"--\",RankingExcess!B109)","v":"--"},{"$f":"IF(ISERROR(RankingExcess!$A109),\"--\",RankingExcess!C109)","v":"--"},{"$f":"IF(ISERROR(RankingExcess!$A109),\"--\",RankingExcess!D109)","v":"--"},{"$f":"IF(ISERROR(RankingExcess!$A109),\"--\",RankingExcess!E109)","v":"--"},{"$f":"IF(ISERROR(RankingExcess!$A109),\"--\",RankingExcess!F109)","v":"--"},null,9,{"$f":"IF(ISERROR(RankingPredictedTotal!$A109),\"--\",RankingPredictedTotal!B109)","v":"--"},{"$f":"IF(ISERROR(RankingPredictedTotal!$A109),\"--\",RankingPredictedTotal!C109)","v":"--"},{"$f":"IF(ISERROR(RankingPredictedTotal!$A109),\"--\",RankingPredictedTotal!D109)","v":"--"},{"$f":"IF(ISERROR(RankingPredictedTotal!$A109),\"--\",RankingPredictedTotal!E109)","v":"--"},{"$f":"IF(ISERROR(RankingPredictedTotal!$A109),\"--\",RankingPredictedTotal!F109)","v":"--"},null,9,{"$f":"IF(ISERROR(RankingPredictedFI!$A109),\"--\",RankingPredictedFI!B109)","v":"--"},{"$f":"IF(ISERROR(RankingPredictedFI!$A109),\"--\",RankingPredictedFI!C109)","v":"--"},{"$f":"IF(ISERROR(RankingPredictedFI!$A109),\"--\",RankingPredictedFI!D109)","v":"--"},{"$f":"IF(ISERROR(RankingPredictedFI!$A109),\"--\",RankingPredictedFI!E109)","v":"--"},{"$f":"IF(ISERROR(RankingPredictedFI!$A109),\"--\",RankingPredictedFI!F109)","v":"--"}]
[10,{"$f":"IF(ISERROR(RankingExpectedAverage!$A110),\"--\",RankingExpectedAverage!B110)","v":"--"},{"$f":"IF(ISERROR(RankingExpectedAverage!$A110),\"--\",RankingExpectedAverage!C110)","v":"--"},{"$f":"IF(ISERROR(RankingExpectedAverage!$A110),\"--\",RankingExpectedAverage!D110)","v":"--"},{"$f":"IF(ISERROR(RankingExpectedAverage!$A110),\"--\",RankingExpectedAverage!E110)","v":"--"},{"$f":"IF(ISERROR(RankingExpectedAverage!$A110),\"--\",RankingExpectedAverage!F110)","v":"--"},null,10,{"$f":"IF(ISERROR(RankingExcess!$A110),\"--\",RankingExcess!B110)","v":"--"},{"$f":"IF(ISERROR(RankingExcess!$A110),\"--\",RankingExcess!C110)","v":"--"},{"$f":"IF(ISERROR(RankingExcess!$A110),\"--\",RankingExcess!D110)","v":"--"},{"$f":"IF(ISERROR(RankingExcess!$A110),\"--\",RankingExcess!E110)","v":"--"},{"$f":"IF(ISERROR(RankingExcess!$A110),\"--\",RankingExcess!F110)","v":"--"},null,10,{"$f":"IF(ISERROR(RankingPredictedTotal!$A110),\"--\",RankingPredictedTotal!B110)","v":"--"},{"$f":"IF(ISERROR(RankingPredictedTotal!$A110),\"--\",RankingPredictedTotal!C110)","v":"--"},{"$f":"IF(ISERROR(RankingPredictedTotal!$A110),\"--\",RankingPredictedTotal!D110)","v":"--"},{"$f":"IF(ISERROR(RankingPredictedTotal!$A110),\"--\",RankingPredictedTotal!E110)","v":"--"},{"$f":"IF(ISERROR(RankingPredictedTotal!$A110),\"--\",RankingPredictedTotal!F110)","v":"--"},null,10,{"$f":"IF(ISERROR(RankingPredictedFI!$A110),\"--\",RankingPredictedFI!B110)","v":"--"},{"$f":"IF(ISERROR(RankingPredictedFI!$A110),\"--\",RankingPredictedFI!C110)","v":"--"},{"$f":"IF(ISERROR(RankingPredictedFI!$A110),\"--\",RankingPredictedFI!D110)","v":"--"},{"$f":"IF(ISERROR(RankingPredictedFI!$A110),\"--\",RankingPredictedFI!E110)","v":"--"},{"$f":"IF(ISERROR(RankingPredictedFI!$A110),\"--\",RankingPredictedFI!F110)","v":"--"}]
[]
["Rank","Rural Undivided Multilane Segments",null,null,null,"Average",null,"Rank","Rural Undivided Multilane Segments",null,null,null,"Excess",null,"Rank","Rural Undivided Multilane Segments",null,null,null,"Number",null,"Rank","Rural Undivided Multilane Segments",null,null,null,"Number"]
[1,{"$f":"IF(ISERROR(RankingExpectedAverage!$A151),\"--\",RankingExpectedAverage!B151)","v":"--"},{"$f":"IF(ISERROR(RankingExpectedAverage!$A151),\"--\",RankingExpectedAverage!C151)","v":"--"},{"$f":"IF(ISERROR(RankingExpectedAverage!$A151),\"--\",RankingExpectedAverage!D151)","v":"--"},{"$f":"IF(ISERROR(RankingExpectedAverage!$A151),\"--\",RankingExpectedAverage!E151)","v":"--"},{"$f":"IF(ISERROR(RankingExpectedAverage!$A151),\"--\",RankingExpectedAverage!F151)","v":"--"},null,1,{"$f":"IF(ISERROR(RankingExcess!$A151),\"--\",RankingExcess!B151)","v":"--"},{"$f":"IF(ISERROR(RankingExcess!$A151),\"--\",RankingExcess!C151)","v":"--"},{"$f":"IF(ISERROR(RankingExcess!$A151),\"--\",RankingExcess!D151)","v":"--"},{"$f":"IF(ISERROR(RankingExcess!$A151),\"--\",RankingExcess!E151)","v":"--"},{"$f":"IF(ISERROR(RankingExcess!$A151),\"--\",RankingExcess!F151)","v":"--"},null,1,{"$f":"IF(ISERROR(RankingPredictedTotal!$A151),\"--\",RankingPredictedTotal!B151)","v":"--"},{"$f":"IF(ISERROR(RankingPredictedTotal!$A151),\"--\",RankingPredictedTotal!C151)","v":"--"},{"$f":"IF(ISERROR(RankingPredictedTotal!$A151),\"--\",RankingPredictedTotal!D151)","v":"--"},{"$f":"IF(ISERROR(RankingPredictedTotal!$A151),\"--\",RankingPredictedTotal!E151)","v":"--"},{"$f":"IF(ISERROR(RankingPredictedTotal!$A151),\"--\",RankingPredictedTotal!F151)","v":"--"},null,1,{"$f":"IF(ISERROR(RankingPredictedFI!$A151),\"--\",RankingPredictedFI!B151)","v":"--"},{"$f":"IF(ISERROR(RankingPredictedFI!$A151),\"--\",RankingPredictedFI!C151)","v":"--"},{"$f":"IF(ISERROR(RankingPredictedFI!$A151),\"--\",RankingPredictedFI!D151)","v":"--"},{"$f":"IF(ISERROR(RankingPredictedFI!$A151),\"--\",RankingPredictedFI!E151)","v":"--"},{"$f":"IF(ISERROR(RankingPredictedFI!$A151),\"--\",RankingPredictedFI!F151)","v":"--"}]
[2,{"$f":"IF(ISERROR(RankingExpectedAverage!$A152),\"--\",RankingExpectedAverage!B152)","v":"--"},{"$f":"IF(ISERROR(RankingExpectedAverage!$A152),\"--\",RankingExpectedAverage!C152)","v":"--"},{"$f":"IF(ISERROR(RankingExpectedAverage!$A152),\"--\",RankingExpectedAverage!D152)","v":"--"},{"$f":"IF(ISERROR(RankingExpectedAverage!$A152),\"--\",RankingExpectedAverage!E152)","v":"--"},{"$f":"IF(ISERROR(RankingExpectedAverage!$A152),\"--\",RankingExpectedAverage!F152)","v":"--"},null,2,{"$f":"IF(ISERROR(RankingExcess!$A152),\"--\",RankingExcess!B152)","v":"--"},{"$f":"IF(ISERROR(RankingExcess!$A152),\"--\",RankingExcess!C152)","v":"--"},{"$f":"IF(ISERROR(RankingExcess!$A152),\"--\",RankingExcess!D152)","v":"--"},{"$f":"IF(ISERROR(RankingExcess!$A152),\"--\",RankingExcess!E152)","v":"--"},{"$f":"IF(ISERROR(RankingExcess!$A152),\"--\",RankingExcess!F152)","v":"--"},null,2,{"$f":"IF(ISERROR(RankingPredictedTotal!$A152),\"--\",RankingPredictedTotal!B152)","v":"--"},{"$f":"IF(ISERROR(RankingPredictedTotal!$A152),\"--\",RankingPredictedTotal!C152)","v":"--"},{"$f":"IF(ISERROR(RankingPredictedTotal!$A152),\"--\",RankingPredictedTotal!D152)","v":"--"},{"$f":"IF(ISERROR(RankingPredictedTotal!$A152),\"--\",RankingPredictedTotal!E152)","v":"--"},{"$f":"IF(ISERROR(RankingPredictedTotal!$A152),\"--\",RankingPredictedTotal!F152)","v":"--"},null,2,{"$f":"IF(ISERROR(RankingPredictedFI!$A152),\"--\",RankingPredictedFI!B152)","v":"--"},{"$f":"IF(ISERROR(RankingPredictedFI!$A152),\"--\",RankingPredictedFI!C152)","v":"--"},{"$f":"IF(ISERROR(RankingPredictedFI!$A152),\"--\",RankingPredictedFI!D152)","v":"--"},{"$f":"IF(ISERROR(RankingPredictedFI!$A152),\"--\",RankingPredictedFI!E152)","v":"--"},{"$f":"IF(ISERROR(RankingPredictedFI!$A152),\"--\",RankingPredictedFI!F152)","v":"--"}]
[3,{"$f":"IF(ISERROR(RankingExpectedAverage!$A153),\"--\",RankingExpectedAverage!B153)","v":"--"},{"$f":"IF(ISERROR(RankingExpectedAverage!$A153),\"--\",RankingExpectedAverage!C153)","v":"--"},{"$f":"IF(ISERROR(RankingExpectedAverage!$A153),\"--\",RankingExpectedAverage!D153)","v":"--"},{"$f":"IF(ISERROR(RankingExpectedAverage!$A153),\"--\",RankingExpectedAverage!E153)","v":"--"},{"$f":"IF(ISERROR(RankingExpectedAverage!$A153),\"--\",RankingExpectedAverage!F153)","v":"--"},null,3,{"$f":"IF(ISERROR(RankingExcess!$A153),\"--\",RankingExcess!B153)","v":"--"},{"$f":"IF(ISERROR(RankingExcess!$A153),\"--\",RankingExcess!C153)","v":"--"},{"$f":"IF(ISERROR(RankingExcess!$A153),\"--\",RankingExcess!D153)","v":"--"},{"$f":"IF(ISERROR(RankingExcess!$A153),\"--\",RankingExcess!E153)","v":"--"},{"$f":"IF(ISERROR(RankingExcess!$A153),\"--\",RankingExcess!F153)","v":"--"},null,3,{"$f":"IF(ISERROR(RankingPredictedTotal!$A153),\"--\",RankingPredictedTotal!B153)","v":"--"},{"$f":"IF(ISERROR(RankingPredictedTotal!$A153),\"--\",RankingPredictedTotal!C153)","v":"--"},{"$f":"IF(ISERROR(RankingPredictedTotal!$A153),\"--\",RankingPredictedTotal!D153)","v":"--"},{"$f":"IF(ISERROR(RankingPredictedTotal!$A153),\"--\",RankingPredictedTotal!E153)","v":"--"},{"$f":"IF(ISERROR(RankingPredictedTotal!$A153),\"--\",RankingPredictedTotal!F153)","v":"--"},null,3,{"$f":"IF(ISERROR(RankingPredictedFI!$A153),\"--\",RankingPredictedFI!B153)","v":"--"},{"$f":"IF(ISERROR(RankingPredictedFI!$A153),\"--\",RankingPredictedFI!C153)","v":"--"},{"$f":"IF(ISERROR(RankingPredictedFI!$A153),\"--\",RankingPredictedFI!D153)","v":"--"},{"$f":"IF(ISERROR(RankingPredictedFI!$A153),\"--\",RankingPredictedFI!E153)","v":"--"},{"$f":"IF(ISERROR(RankingPredictedFI!$A153),\"--\",RankingPredictedFI!F153)","v":"--"}]
[4,{"$f":"IF(ISERROR(RankingExpectedAverage!$A154),\"--\",RankingExpectedAverage!B154)","v":"--"},{"$f":"IF(ISERROR(RankingExpectedAverage!$A154),\"--\",RankingExpectedAverage!C154)","v":"--"},{"$f":"IF(ISERROR(RankingExpectedAverage!$A154),\"--\",RankingExpectedAverage!D154)","v":"--"},{"$f":"IF(ISERROR(RankingExpectedAverage!$A154),\"--\",RankingExpectedAverage!E154)","v":"--"},{"$f":"IF(ISERROR(RankingExpectedAverage!$A154),\"--\",RankingExpectedAverage!F154)","v":"--"},null,4,{"$f":"IF(ISERROR(RankingExcess!$A154),\"--\",RankingExcess!B154)","v":"--"},{"$f":"IF(ISERROR(RankingExcess!$A154),\"--\",RankingExcess!C154)","v":"--"},{"$f":"IF(ISERROR(RankingExcess!$A154),\"--\",RankingExcess!D154)","v":"--"},{"$f":"IF(ISERROR(RankingExcess!$A154),\"--\",RankingExcess!E154)","v":"--"},{"$f":"IF(ISERROR(RankingExcess!$A154),\"--\",RankingExcess!F154)","v":"--"},null,4,{"$f":"IF(ISERROR(RankingPredictedTotal!$A154),\"--\",RankingPredictedTotal!B154)","v":"--"},{"$f":"IF(ISERROR(RankingPredictedTotal!$A154),\"--\",RankingPredictedTotal!C154)","v":"--"},{"$f":"IF(ISERROR(RankingPredictedTotal!$A154),\"--\",RankingPredictedTotal!D154)","v":"--"},{"$f":"IF(ISERROR(RankingPredictedTotal!$A154),\"--\",RankingPredictedTotal!E154)","v":"--"},{"$f":"IF(ISERROR(RankingPredictedTotal!$A154),\"--\",RankingPredictedTotal!F154)","v":"--"},null,4,{"$f":"IF(ISERROR(RankingPredictedFI!$A154),\"--\",RankingPredictedFI!B154)","v":"--"},{"$f":"IF(ISERROR(RankingPredictedFI!$A154),\"--\",RankingPredictedFI!C154)","v":"--"},{"$f":"IF(ISERROR(RankingPredictedFI!$A154),\"--\",RankingPredictedFI!D154)","v":"--"},{"$f":"IF(ISERROR(RankingPredictedFI!$A154),\"--\",RankingPredictedFI!E154)","v":"--"},{"$f":"IF(ISERROR(RankingPredictedFI!$A154),\"--\",RankingPredictedFI!F154)","v":"--"}]
[5,{"$f":"IF(ISERROR(RankingExpectedAverage!$A155),\"--\",RankingExpectedAverage!B155)","v":"--"},{"$f":"IF(ISERROR(RankingExpectedAverage!$A155),\"--\",RankingExpectedAverage!C155)","v":"--"},{"$f":"IF(ISERROR(RankingExpectedAverage!$A155),\"--\",RankingExpectedAverage!D155)","v":"--"},{"$f":"IF(ISERROR(RankingExpectedAverage!$A155),\"--\",RankingExpectedAverage!E155)","v":"--"},{"$f":"IF(ISERROR(RankingExpectedAverage!$A155),\"--\",RankingExpectedAverage!F155)","v":"--"},null,5,{"$f":"IF(ISERROR(RankingExcess!$A155),\"--\",RankingExcess!B155)","v":"--"},{"$f":"IF(ISERROR(RankingExcess!$A155),\"--\",RankingExcess!C155)","v":"--"},{"$f":"IF(ISERROR(RankingExcess!$A155),\"--\",RankingExcess!D155)","v":"--"},{"$f":"IF(ISERROR(RankingExcess!$A155),\"--\",RankingExcess!E155)","v":"--"},{"$f":"IF(ISERROR(RankingExcess!$A155),\"--\",RankingExcess!F155)","v":"--"},null,5,{"$f":"IF(ISERROR(RankingPredictedTotal!$A155),\"--\",RankingPredictedTotal!B155)","v":"--"},{"$f":"IF(ISERROR(RankingPredictedTotal!$A155),\"--\",RankingPredictedTotal!C155)","v":"--"},{"$f":"IF(ISERROR(RankingPredictedTotal!$A155),\"--\",RankingPredictedTotal!D155)","v":"--"},{"$f":"IF(ISERROR(RankingPredictedTotal!$A155),\"--\",RankingPredictedTotal!E155)","v":"--"},{"$f":"IF(ISERROR(RankingPredictedTotal!$A155),\"--\",RankingPredictedTotal!F155)","v":"--"},null,5,{"$f":"IF(ISERROR(RankingPredictedFI!$A155),\"--\",RankingPredictedFI!B155)","v":"--"},{"$f":"IF(ISERROR(RankingPredictedFI!$A155),\"--\",RankingPredictedFI!C155)","v":"--"},{"$f":"IF(ISERROR(RankingPredictedFI!$A155),\"--\",RankingPredictedFI!D155)","v":"--"},{"$f":"IF(ISERROR(RankingPredictedFI!$A155),\"--\",RankingPredictedFI!E155)","v":"--"},{"$f":"IF(ISERROR(RankingPredictedFI!$A155),\"--\",RankingPredictedFI!F155)","v":"--"}]
[6,{"$f":"IF(ISERROR(RankingExpectedAverage!$A156),\"--\",RankingExpectedAverage!B156)","v":"--"},{"$f":"IF(ISERROR(RankingExpectedAverage!$A156),\"--\",RankingExpectedAverage!C156)","v":"--"},{"$f":"IF(ISERROR(RankingExpectedAverage!$A156),\"--\",RankingExpectedAverage!D156)","v":"--"},{"$f":"IF(ISERROR(RankingExpectedAverage!$A156),\"--\",RankingExpectedAverage!E156)","v":"--"},{"$f":"IF(ISERROR(RankingExpectedAverage!$A156),\"--\",RankingExpectedAverage!F156)","v":"--"},null,6,{"$f":"IF(ISERROR(RankingExcess!$A156),\"--\",RankingExcess!B156)","v":"--"},{"$f":"IF(ISERROR(RankingExcess!$A156),\"--\",RankingExcess!C156)","v":"--"},{"$f":"IF(ISERROR(RankingExcess!$A156),\"--\",RankingExcess!D156)","v":"--"},{"$f":"IF(ISERROR(RankingExcess!$A156),\"--\",RankingExcess!E156)","v":"--"},{"$f":"IF(ISERROR(RankingExcess!$A156),\"--\",RankingExcess!F156)","v":"--"},null,6,{"$f":"IF(ISERROR(RankingPredictedTotal!$A156),\"--\",RankingPredictedTotal!B156)","v":"--"},{"$f":"IF(ISERROR(RankingPredictedTotal!$A156),\"--\",RankingPredictedTotal!C156)","v":"--"},{"$f":"IF(ISERROR(RankingPredictedTotal!$A156),\"--\",RankingPredictedTotal!D156)","v":"--"},{"$f":"IF(ISERROR(RankingPredictedTotal!$A156),\"--\",RankingPredictedTotal!E156)","v":"--"},{"$f":"IF(ISERROR(RankingPredictedTotal!$A156),\"--\",RankingPredictedTotal!F156)","v":"--"},null,6,{"$f":"IF(ISERROR(RankingPredictedFI!$A156),\"--\",RankingPredictedFI!B156)","v":"--"},{"$f":"IF(ISERROR(RankingPredictedFI!$A156),\"--\",RankingPredictedFI!C156)","v":"--"},{"$f":"IF(ISERROR(RankingPredictedFI!$A156),\"--\",RankingPredictedFI!D156)","v":"--"},{"$f":"IF(ISERROR(RankingPredictedFI!$A156),\"--\",RankingPredictedFI!E156)","v":"--"},{"$f":"IF(ISERROR(RankingPredictedFI!$A156),\"--\",RankingPredictedFI!F156)","v":"--"}]
[7,{"$f":"IF(ISERROR(RankingExpectedAverage!$A157),\"--\",RankingExpectedAverage!B157)","v":"--"},{"$f":"IF(ISERROR(RankingExpectedAverage!$A157),\"--\",RankingExpectedAverage!C157)","v":"--"},{"$f":"IF(ISERROR(RankingExpectedAverage!$A157),\"--\",RankingExpectedAverage!D157)","v":"--"},{"$f":"IF(ISERROR(RankingExpectedAverage!$A157),\"--\",RankingExpectedAverage!E157)","v":"--"},{"$f":"IF(ISERROR(RankingExpectedAverage!$A157),\"--\",RankingExpectedAverage!F157)","v":"--"},null,7,{"$f":"IF(ISERROR(RankingExcess!$A157),\"--\",RankingExcess!B157)","v":"--"},{"$f":"IF(ISERROR(RankingExcess!$A157),\"--\",RankingExcess!C157)","v":"--"},{"$f":"IF(ISERROR(RankingExcess!$A157),\"--\",RankingExcess!D157)","v":"--"},{"$f":"IF(ISERROR(RankingExcess!$A157),\"--\",RankingExcess!E157)","v":"--"},{"$f":"IF(ISERROR(RankingExcess!$A157),\"--\",RankingExcess!F157)","v":"--"},null,7,{"$f":"IF(ISERROR(RankingPredictedTotal!$A157),\"--\",RankingPredictedTotal!B157)","v":"--"},{"$f":"IF(ISERROR(RankingPredictedTotal!$A157),\"--\",RankingPredictedTotal!C157)","v":"--"},{"$f":"IF(ISERROR(RankingPredictedTotal!$A157),\"--\",RankingPredictedTotal!D157)","v":"--"},{"$f":"IF(ISERROR(RankingPredictedTotal!$A157),\"--\",RankingPredictedTotal!E157)","v":"--"},{"$f":"IF(ISERROR(RankingPredictedTotal!$A157),\"--\",RankingPredictedTotal!F157)","v":"--"},null,7,{"$f":"IF(ISERROR(RankingPredictedFI!$A157),\"--\",RankingPredictedFI!B157)","v":"--"},{"$f":"IF(ISERROR(RankingPredictedFI!$A157),\"--\",RankingPredictedFI!C157)","v":"--"},{"$f":"IF(ISERROR(RankingPredictedFI!$A157),\"--\",RankingPredictedFI!D157)","v":"--"},{"$f":"IF(ISERROR(RankingPredictedFI!$A157),\"--\",RankingPredictedFI!E157)","v":"--"},{"$f":"IF(ISERROR(RankingPredictedFI!$A157),\"--\",RankingPredictedFI!F157)","v":"--"}]
[8,{"$f":"IF(ISERROR(RankingExpectedAverage!$A158),\"--\",RankingExpectedAverage!B158)","v":"--"},{"$f":"IF(ISERROR(RankingExpectedAverage!$A158),\"--\",RankingExpectedAverage!C158)","v":"--"},{"$f":"IF(ISERROR(RankingExpectedAverage!$A158),\"--\",RankingExpectedAverage!D158)","v":"--"},{"$f":"IF(ISERROR(RankingExpectedAverage!$A158),\"--\",RankingExpectedAverage!E158)","v":"--"},{"$f":"IF(ISERROR(RankingExpectedAverage!$A158),\"--\",RankingExpectedAverage!F158)","v":"--"},null,8,{"$f":"IF(ISERROR(RankingExcess!$A158),\"--\",RankingExcess!B158)","v":"--"},{"$f":"IF(ISERROR(RankingExcess!$A158),\"--\",RankingExcess!C158)","v":"--"},{"$f":"IF(ISERROR(RankingExcess!$A158),\"--\",RankingExcess!D158)","v":"--"},{"$f":"IF(ISERROR(RankingExcess!$A158),\"--\",RankingExcess!E158)","v":"--"},{"$f":"IF(ISERROR(RankingExcess!$A158),\"--\",RankingExcess!F158)","v":"--"},null,8,{"$f":"IF(ISERROR(RankingPredictedTotal!$A158),\"--\",RankingPredictedTotal!B158)","v":"--"},{"$f":"IF(ISERROR(RankingPredictedTotal!$A158),\"--\",RankingPredictedTotal!C158)","v":"--"},{"$f":"IF(ISERROR(RankingPredictedTotal!$A158),\"--\",RankingPredictedTotal!D158)","v":"--"},{"$f":"IF(ISERROR(RankingPredictedTotal!$A158),\"--\",RankingPredictedTotal!E158)","v":"--"},{"$f":"IF(ISERROR(RankingPredictedTotal!$A158),\"--\",RankingPredictedTotal!F158)","v":"--"},null,8,{"$f":"IF(ISERROR(RankingPredictedFI!$A158),\"--\",RankingPredictedFI!B158)","v":"--"},{"$f":"IF(ISERROR(RankingPredictedFI!$A158),\"--\",RankingPredictedFI!C158)","v":"--"},{"$f":"IF(ISERROR(RankingPredictedFI!$A158),\"--\",RankingPredictedFI!D158)","v":"--"},{"$f":"IF(ISERROR(RankingPredictedFI!$A158),\"--\",RankingPredictedFI!E158)","v":"--"},{"$f":"IF(ISERROR(RankingPredictedFI!$A158),\"--\",RankingPredictedFI!F158)","v":"--"}]
[9,{"$f":"IF(ISERROR(RankingExpectedAverage!$A159),\"--\",RankingExpectedAverage!B159)","v":"--"},{"$f":"IF(ISERROR(RankingExpectedAverage!$A159),\"--\",RankingExpectedAverage!C159)","v":"--"},{"$f":"IF(ISERROR(RankingExpectedAverage!$A159),\"--\",RankingExpectedAverage!D159)","v":"--"},{"$f":"IF(ISERROR(RankingExpectedAverage!$A159),\"--\",RankingExpectedAverage!E159)","v":"--"},{"$f":"IF(ISERROR(RankingExpectedAverage!$A159),\"--\",RankingExpectedAverage!F159)","v":"--"},null,9,{"$f":"IF(ISERROR(RankingExcess!$A159),\"--\",RankingExcess!B159)","v":"--"},{"$f":"IF(ISERROR(RankingExcess!$A159),\"--\",RankingExcess!C159)","v":"--"},{"$f":"IF(ISERROR(RankingExcess!$A159),\"--\",RankingExcess!D159)","v":"--"},{"$f":"IF(ISERROR(RankingExcess!$A159),\"--\",RankingExcess!E159)","v":"--"},{"$f":"IF(ISERROR(RankingExcess!$A159),\"--\",RankingExcess!F159)","v":"--"},null,9,{"$f":"IF(ISERROR(RankingPredictedTotal!$A159),\"--\",RankingPredictedTotal!B159)","v":"--"},{"$f":"IF(ISERROR(RankingPredictedTotal!$A159),\"--\",RankingPredictedTotal!C159)","v":"--"},{"$f":"IF(ISERROR(RankingPredictedTotal!$A159),\"--\",RankingPredictedTotal!D159)","v":"--"},{"$f":"IF(ISERROR(RankingPredictedTotal!$A159),\"--\",RankingPredictedTotal!E159)","v":"--"},{"$f":"IF(ISERROR(RankingPredictedTotal!$A159),\"--\",RankingPredictedTotal!F159)","v":"--"},null,9,{"$f":"IF(ISERROR(RankingPredictedFI!$A159),\"--\",RankingPredictedFI!B159)","v":"--"},{"$f":"IF(ISERROR(RankingPredictedFI!$A159),\"--\",RankingPredictedFI!C159)","v":"--"},{"$f":"IF(ISERROR(RankingPredictedFI!$A159),\"--\",RankingPredictedFI!D159)","v":"--"},{"$f":"IF(ISERROR(RankingPredictedFI!$A159),\"--\",RankingPredictedFI!E159)","v":"--"},{"$f":"IF(ISERROR(RankingPredictedFI!$A159),\"--\",RankingPredictedFI!F159)","v":"--"}]
[10,{"$f":"IF(ISERROR(RankingExpectedAverage!$A160),\"--\",RankingExpectedAverage!B160)","v":"--"},{"$f":"IF(ISERROR(RankingExpectedAverage!$A160),\"--\",RankingExpectedAverage!C160)","v":"--"},{"$f":"IF(ISERROR(RankingExpectedAverage!$A160),\"--\",RankingExpectedAverage!D160)","v":"--"},{"$f":"IF(ISERROR(RankingExpectedAverage!$A160),\"--\",RankingExpectedAverage!E160)","v":"--"},{"$f":"IF(ISERROR(RankingExpectedAverage!$A160),\"--\",RankingExpectedAverage!F160)","v":"--"},null,10,{"$f":"IF(ISERROR(RankingExcess!$A160),\"--\",RankingExcess!B160)","v":"--"},{"$f":"IF(ISERROR(RankingExcess!$A160),\"--\",RankingExcess!C160)","v":"--"},{"$f":"IF(ISERROR(RankingExcess!$A160),\"--\",RankingExcess!D160)","v":"--"},{"$f":"IF(ISERROR(RankingExcess!$A160),\"--\",RankingExcess!E160)","v":"--"},{"$f":"IF(ISERROR(RankingExcess!$A160),\"--\",RankingExcess!F160)","v":"--"},null,10,{"$f":"IF(ISERROR(RankingPredictedTotal!$A160),\"--\",RankingPredictedTotal!B160)","v":"--"},{"$f":"IF(ISERROR(RankingPredictedTotal!$A160),\"--\",RankingPredictedTotal!C160)","v":"--"},{"$f":"IF(ISERROR(RankingPredictedTotal!$A160),\"--\",RankingPredictedTotal!D160)","v":"--"},{"$f":"IF(ISERROR(RankingPredictedTotal!$A160),\"--\",RankingPredictedTotal!E160)","v":"--"},{"$f":"IF(ISERROR(RankingPredictedTotal!$A160),\"--\",RankingPredictedTotal!F160)","v":"--"},null,10,{"$f":"IF(ISERROR(RankingPredictedFI!$A160),\"--\",RankingPredictedFI!B160)","v":"--"},{"$f":"IF(ISERROR(RankingPredictedFI!$A160),\"--\",RankingPredictedFI!C160)","v":"--"},{"$f":"IF(ISERROR(RankingPredictedFI!$A160),\"--\",RankingPredictedFI!D160)","v":"--"},{"$f":"IF(ISERROR(RankingPredictedFI!$A160),\"--\",RankingPredictedFI!E160)","v":"--"},{"$f":"IF(ISERROR(RankingPredictedFI!$A160),\"--\",RankingPredictedFI!F160)","v":"--"}]
[]
["Rank","Rural Multilane Intersections",null,null,null,"Average",null,"Rank","Rural Multilane Intersections",null,null,null,"Excess",null,"Rank","Rural Multilane Intersections",null,null,null,"Number",null,"Rank","Rural Multilane Intersections",null,null,null,"Number"]
[1,{"$f":"IF(ISERROR(RankingExpectedAverage!$A201),\"--\",RankingExpectedAverage!B201)","v":"--"},{"$f":"IF(ISERROR(RankingExpectedAverage!$A201),\"--\",RankingExpectedAverage!C201)","v":"--"},{"$f":"IF(ISERROR(RankingExpectedAverage!$A201),\"--\",RankingExpectedAverage!D201)","v":"--"},{"$f":"IF(ISERROR(RankingExpectedAverage!$A201),\"--\",RankingExpectedAverage!E201)","v":"--"},{"$f":"IF(ISERROR(RankingExpectedAverage!$A201),\"--\",RankingExpectedAverage!F201)","v":"--"},null,1,{"$f":"IF(ISERROR(RankingExcess!$A201),\"--\",RankingExcess!B201)","v":"--"},{"$f":"IF(ISERROR(RankingExcess!$A201),\"--\",RankingExcess!C201)","v":"--"},{"$f":"IF(ISERROR(RankingExcess!$A201),\"--\",RankingExcess!D201)","v":"--"},{"$f":"IF(ISERROR(RankingExcess!$A201),\"--\",RankingExcess!E201)","v":"--"},{"$f":"IF(ISERROR(RankingExcess!$A201),\"--\",RankingExcess!F201)","v":"--"},null,1,{"$f":"IF(ISERROR(RankingPredictedTotal!$A201),\"--\",RankingPredictedTotal!B201)","v":"--"},{"$f":"IF(ISERROR(RankingPredictedTotal!$A201),\"--\",RankingPredictedTotal!C201)","v":"--"},{"$f":"IF(ISERROR(RankingPredictedTotal!$A201),\"--\",RankingPredictedTotal!D201)","v":"--"},{"$f":"IF(ISERROR(RankingPredictedTotal!$A201),\"--\",RankingPredictedTotal!E201)","v":"--"},{"$f":"IF(ISERROR(RankingPredictedTotal!$A201),\"--\",RankingPredictedTotal!F201)","v":"--"},null,1,{"$f":"IF(ISERROR(RankingPredictedFI!$A201),\"--\",RankingPredictedFI!B201)","v":"--"},{"$f":"IF(ISERROR(RankingPredictedFI!$A201),\"--\",RankingPredictedFI!C201)","v":"--"},{"$f":"IF(ISERROR(RankingPredictedFI!$A201),\"--\",RankingPredictedFI!D201)","v":"--"},{"$f":"IF(ISERROR(RankingPredictedFI!$A201),\"--\",RankingPredictedFI!E201)","v":"--"},{"$f":"IF(ISERROR(RankingPredictedFI!$A201),\"--\",RankingPredictedFI!F201)","v":"--"}]
[2,{"$f":"IF(ISERROR(RankingExpectedAverage!$A202),\"--\",RankingExpectedAverage!B202)","v":"--"},{"$f":"IF(ISERROR(RankingExpectedAverage!$A202),\"--\",RankingExpectedAverage!C202)","v":"--"},{"$f":"IF(ISERROR(RankingExpectedAverage!$A202),\"--\",RankingExpectedAverage!D202)","v":"--"},{"$f":"IF(ISERROR(RankingExpectedAverage!$A202),\"--\",RankingExpectedAverage!E202)","v":"--"},{"$f":"IF(ISERROR(RankingExpectedAverage!$A202),\"--\",RankingExpectedAverage!F202)","v":"--"},null,2,{"$f":"IF(ISERROR(RankingExcess!$A202),\"--\",RankingExcess!B202)","v":"--"},{"$f":"IF(ISERROR(RankingExcess!$A202),\"--\",RankingExcess!C202)","v":"--"},{"$f":"IF(ISERROR(RankingExcess!$A202),\"--\",RankingExcess!D202)","v":"--"},{"$f":"IF(ISERROR(RankingExcess!$A202),\"--\",RankingExcess!E202)","v":"--"},{"$f":"IF(ISERROR(RankingExcess!$A202),\"--\",RankingExcess!F202)","v":"--"},null,2,{"$f":"IF(ISERROR(RankingPredictedTotal!$A202),\"--\",RankingPredictedTotal!B202)","v":"--"},{"$f":"IF(ISERROR(RankingPredictedTotal!$A202),\"--\",RankingPredictedTotal!C202)","v":"--"},{"$f":"IF(ISERROR(RankingPredictedTotal!$A202),\"--\",RankingPredictedTotal!D202)","v":"--"},{"$f":"IF(ISERROR(RankingPredictedTotal!$A202),\"--\",RankingPredictedTotal!E202)","v":"--"},{"$f":"IF(ISERROR(RankingPredictedTotal!$A202),\"--\",RankingPredictedTotal!F202)","v":"--"},null,2,{"$f":"IF(ISERROR(RankingPredictedFI!$A202),\"--\",RankingPredictedFI!B202)","v":"--"},{"$f":"IF(ISERROR(RankingPredictedFI!$A202),\"--\",RankingPredictedFI!C202)","v":"--"},{"$f":"IF(ISERROR(RankingPredictedFI!$A202),\"--\",RankingPredictedFI!D202)","v":"--"},{"$f":"IF(ISERROR(RankingPredictedFI!$A202),\"--\",RankingPredictedFI!E202)","v":"--"},{"$f":"IF(ISERROR(RankingPredictedFI!$A202),\"--\",RankingPredictedFI!F202)","v":"--"}]
[3,{"$f":"IF(ISERROR(RankingExpectedAverage!$A203),\"--\",RankingExpectedAverage!B203)","v":"--"},{"$f":"IF(ISERROR(RankingExpectedAverage!$A203),\"--\",RankingExpectedAverage!C203)","v":"--"},{"$f":"IF(ISERROR(RankingExpectedAverage!$A203),\"--\",RankingExpectedAverage!D203)","v":"--"},{"$f":"IF(ISERROR(RankingExpectedAverage!$A203),\"--\",RankingExpectedAverage!E203)","v":"--"},{"$f":"IF(ISERROR(RankingExpectedAverage!$A203),\"--\",RankingExpectedAverage!F203)","v":"--"},null,3,{"$f":"IF(ISERROR(RankingExcess!$A203),\"--\",RankingExcess!B203)","v":"--"},{"$f":"IF(ISERROR(RankingExcess!$A203),\"--\",RankingExcess!C203)","v":"--"},{"$f":"IF(ISERROR(RankingExcess!$A203),\"--\",RankingExcess!D203)","v":"--"},{"$f":"IF(ISERROR(RankingExcess!$A203),\"--\",RankingExcess!E203)","v":"--"},{"$f":"IF(ISERROR(RankingExcess!$A203),\"--\",RankingExcess!F203)","v":"--"},null,3,{"$f":"IF(ISERROR(RankingPredictedTotal!$A203),\"--\",RankingPredictedTotal!B203)","v":"--"},{"$f":"IF(ISERROR(RankingPredictedTotal!$A203),\"--\",RankingPredictedTotal!C203)","v":"--"},{"$f":"IF(ISERROR(RankingPredictedTotal!$A203),\"--\",RankingPredictedTotal!D203)","v":"--"},{"$f":"IF(ISERROR(RankingPredictedTotal!$A203),\"--\",RankingPredictedTotal!E203)","v":"--"},{"$f":"IF(ISERROR(RankingPredictedTotal!$A203),\"--\",RankingPredictedTotal!F203)","v":"--"},null,3,{"$f":"IF(ISERROR(RankingPredictedFI!$A203),\"--\",RankingPredictedFI!B203)","v":"--"},{"$f":"IF(ISERROR(RankingPredictedFI!$A203),\"--\",RankingPredictedFI!C203)","v":"--"},{"$f":"IF(ISERROR(RankingPredictedFI!$A203),\"--\",RankingPredictedFI!D203)","v":"--"},{"$f":"IF(ISERROR(RankingPredictedFI!$A203),\"--\",RankingPredictedFI!E203)","v":"--"},{"$f":"IF(ISERROR(RankingPredictedFI!$A203),\"--\",RankingPredictedFI!F203)","v":"--"}]
[4,{"$f":"IF(ISERROR(RankingExpectedAverage!$A204),\"--\",RankingExpectedAverage!B204)","v":"--"},{"$f":"IF(ISERROR(RankingExpectedAverage!$A204),\"--\",RankingExpectedAverage!C204)","v":"--"},{"$f":"IF(ISERROR(RankingExpectedAverage!$A204),\"--\",RankingExpectedAverage!D204)","v":"--"},{"$f":"IF(ISERROR(RankingExpectedAverage!$A204),\"--\",RankingExpectedAverage!E204)","v":"--"},{"$f":"IF(ISERROR(RankingExpectedAverage!$A204),\"--\",RankingExpectedAverage!F204)","v":"--"},null,4,{"$f":"IF(ISERROR(RankingExcess!$A204),\"--\",RankingExcess!B204)","v":"--"},{"$f":"IF(ISERROR(RankingExcess!$A204),\"--\",RankingExcess!C204)","v":"--"},{"$f":"IF(ISERROR(RankingExcess!$A204),\"--\",RankingExcess!D204)","v":"--"},{"$f":"IF(ISERROR(RankingExcess!$A204),\"--\",RankingExcess!E204)","v":"--"},{"$f":"IF(ISERROR(RankingExcess!$A204),\"--\",RankingExcess!F204)","v":"--"},null,4,{"$f":"IF(ISERROR(RankingPredictedTotal!$A204),\"--\",RankingPredictedTotal!B204)","v":"--"},{"$f":"IF(ISERROR(RankingPredictedTotal!$A204),\"--\",RankingPredictedTotal!C204)","v":"--"},{"$f":"IF(ISERROR(RankingPredictedTotal!$A204),\"--\",RankingPredictedTotal!D204)","v":"--"},{"$f":"IF(ISERROR(RankingPredictedTotal!$A204),\"--\",RankingPredictedTotal!E204)","v":"--"},{"$f":"IF(ISERROR(RankingPredictedTotal!$A204),\"--\",RankingPredictedTotal!F204)","v":"--"},null,4,{"$f":"IF(ISERROR(RankingPredictedFI!$A204),\"--\",RankingPredictedFI!B204)","v":"--"},{"$f":"IF(ISERROR(RankingPredictedFI!$A204),\"--\",RankingPredictedFI!C204)","v":"--"},{"$f":"IF(ISERROR(RankingPredictedFI!$A204),\"--\",RankingPredictedFI!D204)","v":"--"},{"$f":"IF(ISERROR(RankingPredictedFI!$A204),\"--\",RankingPredictedFI!E204)","v":"--"},{"$f":"IF(ISERROR(RankingPredictedFI!$A204),\"--\",RankingPredictedFI!F204)","v":"--"}]
[5,{"$f":"IF(ISERROR(RankingExpectedAverage!$A205),\"--\",RankingExpectedAverage!B205)","v":"--"},{"$f":"IF(ISERROR(RankingExpectedAverage!$A205),\"--\",RankingExpectedAverage!C205)","v":"--"},{"$f":"IF(ISERROR(RankingExpectedAverage!$A205),\"--\",RankingExpectedAverage!D205)","v":"--"},{"$f":"IF(ISERROR(RankingExpectedAverage!$A205),\"--\",RankingExpectedAverage!E205)","v":"--"},{"$f":"IF(ISERROR(RankingExpectedAverage!$A205),\"--\",RankingExpectedAverage!F205)","v":"--"},null,5,{"$f":"IF(ISERROR(RankingExcess!$A205),\"--\",RankingExcess!B205)","v":"--"},{"$f":"IF(ISERROR(RankingExcess!$A205),\"--\",RankingExcess!C205)","v":"--"},{"$f":"IF(ISERROR(RankingExcess!$A205),\"--\",RankingExcess!D205)","v":"--"},{"$f":"IF(ISERROR(RankingExcess!$A205),\"--\",RankingExcess!E205)","v":"--"},{"$f":"IF(ISERROR(RankingExcess!$A205),\"--\",RankingExcess!F205)","v":"--"},null,5,{"$f":"IF(ISERROR(RankingPredictedTotal!$A205),\"--\",RankingPredictedTotal!B205)","v":"--"},{"$f":"IF(ISERROR(RankingPredictedTotal!$A205),\"--\",RankingPredictedTotal!C205)","v":"--"},{"$f":"IF(ISERROR(RankingPredictedTotal!$A205),\"--\",RankingPredictedTotal!D205)","v":"--"},{"$f":"IF(ISERROR(RankingPredictedTotal!$A205),\"--\",RankingPredictedTotal!E205)","v":"--"},{"$f":"IF(ISERROR(RankingPredictedTotal!$A205),\"--\",RankingPredictedTotal!F205)","v":"--"},null,5,{"$f":"IF(ISERROR(RankingPredictedFI!$A205),\"--\",RankingPredictedFI!B205)","v":"--"},{"$f":"IF(ISERROR(RankingPredictedFI!$A205),\"--\",RankingPredictedFI!C205)","v":"--"},{"$f":"IF(ISERROR(RankingPredictedFI!$A205),\"--\",RankingPredictedFI!D205)","v":"--"},{"$f":"IF(ISERROR(RankingPredictedFI!$A205),\"--\",RankingPredictedFI!E205)","v":"--"},{"$f":"IF(ISERROR(RankingPredictedFI!$A205),\"--\",RankingPredictedFI!F205)","v":"--"}]
[6,{"$f":"IF(ISERROR(RankingExpectedAverage!$A206),\"--\",RankingExpectedAverage!B206)","v":"--"},{"$f":"IF(ISERROR(RankingExpectedAverage!$A206),\"--\",RankingExpectedAverage!C206)","v":"--"},{"$f":"IF(ISERROR(RankingExpectedAverage!$A206),\"--\",RankingExpectedAverage!D206)","v":"--"},{"$f":"IF(ISERROR(RankingExpectedAverage!$A206),\"--\",RankingExpectedAverage!E206)","v":"--"},{"$f":"IF(ISERROR(RankingExpectedAverage!$A206),\"--\",RankingExpectedAverage!F206)","v":"--"},null,6,{"$f":"IF(ISERROR(RankingExcess!$A206),\"--\",RankingExcess!B206)","v":"--"},{"$f":"IF(ISERROR(RankingExcess!$A206),\"--\",RankingExcess!C206)","v":"--"},{"$f":"IF(ISERROR(RankingExcess!$A206),\"--\",RankingExcess!D206)","v":"--"},{"$f":"IF(ISERROR(RankingExcess!$A206),\"--\",RankingExcess!E206)","v":"--"},{"$f":"IF(ISERROR(RankingExcess!$A206),\"--\",RankingExcess!F206)","v":"--"},null,6,{"$f":"IF(ISERROR(RankingPredictedTotal!$A206),\"--\",RankingPredictedTotal!B206)","v":"--"},{"$f":"IF(ISERROR(RankingPredictedTotal!$A206),\"--\",RankingPredictedTotal!C206)","v":"--"},{"$f":"IF(ISERROR(RankingPredictedTotal!$A206),\"--\",RankingPredictedTotal!D206)","v":"--"},{"$f":"IF(ISERROR(RankingPredictedTotal!$A206),\"--\",RankingPredictedTotal!E206)","v":"--"},{"$f":"IF(ISERROR(RankingPredictedTotal!$A206),\"--\",RankingPredictedTotal!F206)","v":"--"},null,6,{"$f":"IF(ISERROR(RankingPredictedFI!$A206),\"--\",RankingPredictedFI!B206)","v":"--"},{"$f":"IF(ISERROR(RankingPredictedFI!$A206),\"--\",RankingPredictedFI!C206)","v":"--"},{"$f":"IF(ISERROR(RankingPredictedFI!$A206),\"--\",RankingPredictedFI!D206)","v":"--"},{"$f":"IF(ISERROR(RankingPredictedFI!$A206),\"--\",RankingPredictedFI!E206)","v":"--"},{"$f":"IF(ISERROR(RankingPredictedFI!$A206),\"--\",RankingPredictedFI!F206)","v":"--"}]
[7,{"$f":"IF(ISERROR(RankingExpectedAverage!$A207),\"--\",RankingExpectedAverage!B207)","v":"--"},{"$f":"IF(ISERROR(RankingExpectedAverage!$A207),\"--\",RankingExpectedAverage!C207)","v":"--"},{"$f":"IF(ISERROR(RankingExpectedAverage!$A207),\"--\",RankingExpectedAverage!D207)","v":"--"},{"$f":"IF(ISERROR(RankingExpectedAverage!$A207),\"--\",RankingExpectedAverage!E207)","v":"--"},{"$f":"IF(ISERROR(RankingExpectedAverage!$A207),\"--\",RankingExpectedAverage!F207)","v":"--"},null,7,{"$f":"IF(ISERROR(RankingExcess!$A207),\"--\",RankingExcess!B207)","v":"--"},{"$f":"IF(ISERROR(RankingExcess!$A207),\"--\",RankingExcess!C207)","v":"--"},{"$f":"IF(ISERROR(RankingExcess!$A207),\"--\",RankingExcess!D207)","v":"--"},{"$f":"IF(ISERROR(RankingExcess!$A207),\"--\",RankingExcess!E207)","v":"--"},{"$f":"IF(ISERROR(RankingExcess!$A207),\"--\",RankingExcess!F207)","v":"--"},null,7,{"$f":"IF(ISERROR(RankingPredictedTotal!$A207),\"--\",RankingPredictedTotal!B207)","v":"--"},{"$f":"IF(ISERROR(RankingPredictedTotal!$A207),\"--\",RankingPredictedTotal!C207)","v":"--"},{"$f":"IF(ISERROR(RankingPredictedTotal!$A207),\"--\",RankingPredictedTotal!D207)","v":"--"},{"$f":"IF(ISERROR(RankingPredictedTotal!$A207),\"--\",RankingPredictedTotal!E207)","v":"--"},{"$f":"IF(ISERROR(RankingPredictedTotal!$A207),\"--\",RankingPredictedTotal!F207)","v":"--"},null,7,{"$f":"IF(ISERROR(RankingPredictedFI!$A207),\"--\",RankingPredictedFI!B207)","v":"--"},{"$f":"IF(ISERROR(RankingPredictedFI!$A207),\"--\",RankingPredictedFI!C207)","v":"--"},{"$f":"IF(ISERROR(RankingPredictedFI!$A207),\"--\",RankingPredictedFI!D207)","v":"--"},{"$f":"IF(ISERROR(RankingPredictedFI!$A207),\"--\",RankingPredictedFI!E207)","v":"--"},{"$f":"IF(ISERROR(RankingPredictedFI!$A207),\"--\",RankingPredictedFI!F207)","v":"--"}]
[8,{"$f":"IF(ISERROR(RankingExpectedAverage!$A208),\"--\",RankingExpectedAverage!B208)","v":"--"},{"$f":"IF(ISERROR(RankingExpectedAverage!$A208),\"--\",RankingExpectedAverage!C208)","v":"--"},{"$f":"IF(ISERROR(RankingExpectedAverage!$A208),\"--\",RankingExpectedAverage!D208)","v":"--"},{"$f":"IF(ISERROR(RankingExpectedAverage!$A208),\"--\",RankingExpectedAverage!E208)","v":"--"},{"$f":"IF(ISERROR(RankingExpectedAverage!$A208),\"--\",RankingExpectedAverage!F208)","v":"--"},null,8,{"$f":"IF(ISERROR(RankingExcess!$A208),\"--\",RankingExcess!B208)","v":"--"},{"$f":"IF(ISERROR(RankingExcess!$A208),\"--\",RankingExcess!C208)","v":"--"},{"$f":"IF(ISERROR(RankingExcess!$A208),\"--\",RankingExcess!D208)","v":"--"},{"$f":"IF(ISERROR(RankingExcess!$A208),\"--\",RankingExcess!E208)","v":"--"},{"$f":"IF(ISERROR(RankingExcess!$A208),\"--\",RankingExcess!F208)","v":"--"},null,8,{"$f":"IF(ISERROR(RankingPredictedTotal!$A208),\"--\",RankingPredictedTotal!B208)","v":"--"},{"$f":"IF(ISERROR(RankingPredictedTotal!$A208),\"--\",RankingPredictedTotal!C208)","v":"--"},{"$f":"IF(ISERROR(RankingPredictedTotal!$A208),\"--\",RankingPredictedTotal!D208)","v":"--"},{"$f":"IF(ISERROR(RankingPredictedTotal!$A208),\"--\",RankingPredictedTotal!E208)","v":"--"},{"$f":"IF(ISERROR(RankingPredictedTotal!$A208),\"--\",RankingPredictedTotal!F208)","v":"--"},null,8,{"$f":"IF(ISERROR(RankingPredictedFI!$A208),\"--\",RankingPredictedFI!B208)","v":"--"},{"$f":"IF(ISERROR(RankingPredictedFI!$A208),\"--\",RankingPredictedFI!C208)","v":"--"},{"$f":"IF(ISERROR(RankingPredictedFI!$A208),\"--\",RankingPredictedFI!D208)","v":"--"},{"$f":"IF(ISERROR(RankingPredictedFI!$A208),\"--\",RankingPredictedFI!E208)","v":"--"},{"$f":"IF(ISERROR(RankingPredictedFI!$A208),\"--\",RankingPredictedFI!F208)","v":"--"}]
[9,{"$f":"IF(ISERROR(RankingExpectedAverage!$A209),\"--\",RankingExpectedAverage!B209)","v":"--"},{"$f":"IF(ISERROR(RankingExpectedAverage!$A209),\"--\",RankingExpectedAverage!C209)","v":"--"},{"$f":"IF(ISERROR(RankingExpectedAverage!$A209),\"--\",RankingExpectedAverage!D209)","v":"--"},{"$f":"IF(ISERROR(RankingExpectedAverage!$A209),\"--\",RankingExpectedAverage!E209)","v":"--"},{"$f":"IF(ISERROR(RankingExpectedAverage!$A209),\"--\",RankingExpectedAverage!F209)","v":"--"},null,9,{"$f":"IF(ISERROR(RankingExcess!$A209),\"--\",RankingExcess!B209)","v":"--"},{"$f":"IF(ISERROR(RankingExcess!$A209),\"--\",RankingExcess!C209)","v":"--"},{"$f":"IF(ISERROR(RankingExcess!$A209),\"--\",RankingExcess!D209)","v":"--"},{"$f":"IF(ISERROR(RankingExcess!$A209),\"--\",RankingExcess!E209)","v":"--"},{"$f":"IF(ISERROR(RankingExcess!$A209),\"--\",RankingExcess!F209)","v":"--"},null,9,{"$f":"IF(ISERROR(RankingPredictedTotal!$A209),\"--\",RankingPredictedTotal!B209)","v":"--"},{"$f":"IF(ISERROR(RankingPredictedTotal!$A209),\"--\",RankingPredictedTotal!C209)","v":"--"},{"$f":"IF(ISERROR(RankingPredictedTotal!$A209),\"--\",RankingPredictedTotal!D209)","v":"--"},{"$f":"IF(ISERROR(RankingPredictedTotal!$A209),\"--\",RankingPredictedTotal!E209)","v":"--"},{"$f":"IF(ISERROR(RankingPredictedTotal!$A209),\"--\",RankingPredictedTotal!F209)","v":"--"},null,9,{"$f":"IF(ISERROR(RankingPredictedFI!$A209),\"--\",RankingPredictedFI!B209)","v":"--"},{"$f":"IF(ISERROR(RankingPredictedFI!$A209),\"--\",RankingPredictedFI!C209)","v":"--"},{"$f":"IF(ISERROR(RankingPredictedFI!$A209),\"--\",RankingPredictedFI!D209)","v":"--"},{"$f":"IF(ISERROR(RankingPredictedFI!$A209),\"--\",RankingPredictedFI!E209)","v":"--"},{"$f":"IF(ISERROR(RankingPredictedFI!$A209),\"--\",RankingPredictedFI!F209)","v":"--"}]
[10,{"$f":"IF(ISERROR(RankingExpectedAverage!$A210),\"--\",RankingExpectedAverage!B210)","v":"--"},{"$f":"IF(ISERROR(RankingExpectedAverage!$A210),\"--\",RankingExpectedAverage!C210)","v":"--"},{"$f":"IF(ISERROR(RankingExpectedAverage!$A210),\"--\",RankingExpectedAverage!D210)","v":"--"},{"$f":"IF(ISERROR(RankingExpectedAverage!$A210),\"--\",RankingExpectedAverage!E210)","v":"--"},{"$f":"IF(ISERROR(RankingExpectedAverage!$A210),\"--\",RankingExpectedAverage!F210)","v":"--"},null,10,{"$f":"IF(ISERROR(RankingExcess!$A210),\"--\",RankingExcess!B210)","v":"--"},{"$f":"IF(ISERROR(RankingExcess!$A210),\"--\",RankingExcess!C210)","v":"--"},{"$f":"IF(ISERROR(RankingExcess!$A210),\"--\",RankingExcess!D210)","v":"--"},{"$f":"IF(ISERROR(RankingExcess!$A210),\"--\",RankingExcess!E210)","v":"--"},{"$f":"IF(ISERROR(RankingExcess!$A210),\"--\",RankingExcess!F210)","v":"--"},null,10,{"$f":"IF(ISERROR(RankingPredictedTotal!$A210),\"--\",RankingPredictedTotal!B210)","v":"--"},{"$f":"IF(ISERROR(RankingPredictedTotal!$A210),\"--\",RankingPredictedTotal!C210)","v":"--"},{"$f":"IF(ISERROR(RankingPredictedTotal!$A210),\"--\",RankingPredictedTotal!D210)","v":"--"},{"$f":"IF(ISERROR(RankingPredictedTotal!$A210),\"--\",RankingPredictedTotal!E210)","v":"--"},{"$f":"IF(ISERROR(RankingPredictedTotal!$A210),\"--\",RankingPredictedTotal!F210)","v":"--"},null,10,{"$f":"IF(ISERROR(RankingPredictedFI!$A210),\"--\",RankingPredictedFI!B210)","v":"--"},{"$f":"IF(ISERROR(RankingPredictedFI!$A210),\"--\",RankingPredictedFI!C210)","v":"--"},{"$f":"IF(ISERROR(RankingPredictedFI!$A210),\"--\",RankingPredictedFI!D210)","v":"--"},{"$f":"IF(ISERROR(RankingPredictedFI!$A210),\"--\",RankingPredictedFI!E210)","v":"--"},{"$f":"IF(ISERROR(RankingPredictedFI!$A210),\"--\",RankingPredictedFI!F210)","v":"--"}]
[]
["Rank","Urban & Suburban Segments",null,null,null,"Average",null,"Rank","Urban & Suburban Segments",null,null,null,"Excess",null,"Rank","Urban & Suburban Segments",null,null,null,"Number",null,"Rank","Urban & Suburban Segments",null,null,null,"Number"]
[1,{"$f":"IF(ISERROR(RankingExpectedAverage!$A251),\"--\",RankingExpectedAverage!B251)","v":"--"},{"$f":"IF(ISERROR(RankingExpectedAverage!$A251),\"--\",RankingExpectedAverage!C251)","v":"--"},{"$f":"IF(ISERROR(RankingExpectedAverage!$A251),\"--\",RankingExpectedAverage!D251)","v":"--"},{"$f":"IF(ISERROR(RankingExpectedAverage!$A251),\"--\",RankingExpectedAverage!E251)","v":"--"},{"$f":"IF(ISERROR(RankingExpectedAverage!$A251),\"--\",RankingExpectedAverage!F251)","v":"--"},null,1,{"$f":"IF(ISERROR(RankingExcess!$A251),\"--\",RankingExcess!B251)","v":"--"},{"$f":"IF(ISERROR(RankingExcess!$A251),\"--\",RankingExcess!C251)","v":"--"},{"$f":"IF(ISERROR(RankingExcess!$A251),\"--\",RankingExcess!D251)","v":"--"},{"$f":"IF(ISERROR(RankingExcess!$A251),\"--\",RankingExcess!E251)","v":"--"},{"$f":"IF(ISERROR(RankingExcess!$A251),\"--\",RankingExcess!F251)","v":"--"},null,1,{"$f":"IF(ISERROR(RankingPredictedTotal!$A251),\"--\",RankingPredictedTotal!B251)","v":"--"},{"$f":"IF(ISERROR(RankingPredictedTotal!$A251),\"--\",RankingPredictedTotal!C251)","v":"--"},{"$f":"IF(ISERROR(RankingPredictedTotal!$A251),\"--\",RankingPredictedTotal!D251)","v":"--"},{"$f":"IF(ISERROR(RankingPredictedTotal!$A251),\"--\",RankingPredictedTotal!E251)","v":"--"},{"$f":"IF(ISERROR(RankingPredictedTotal!$A251),\"--\",RankingPredictedTotal!F251)","v":"--"},null,1,{"$f":"IF(ISERROR(RankingPredictedFI!$A251),\"--\",RankingPredictedFI!B251)","v":"--"},{"$f":"IF(ISERROR(RankingPredictedFI!$A251),\"--\",RankingPredictedFI!C251)","v":"--"},{"$f":"IF(ISERROR(RankingPredictedFI!$A251),\"--\",RankingPredictedFI!D251)","v":"--"},{"$f":"IF(ISERROR(RankingPredictedFI!$A251),\"--\",RankingPredictedFI!E251)","v":"--"},{"$f":"IF(ISERROR(RankingPredictedFI!$A251),\"--\",RankingPredictedFI!F251)","v":"--"}]
[2,{"$f":"IF(ISERROR(RankingExpectedAverage!$A252),\"--\",RankingExpectedAverage!B252)","v":"--"},{"$f":"IF(ISERROR(RankingExpectedAverage!$A252),\"--\",RankingExpectedAverage!C252)","v":"--"},{"$f":"IF(ISERROR(RankingExpectedAverage!$A252),\"--\",RankingExpectedAverage!D252)","v":"--"},{"$f":"IF(ISERROR(RankingExpectedAverage!$A252),\"--\",RankingExpectedAverage!E252)","v":"--"},{"$f":"IF(ISERROR(RankingExpectedAverage!$A252),\"--\",RankingExpectedAverage!F252)","v":"--"},null,2,{"$f":"IF(ISERROR(RankingExcess!$A252),\"--\",RankingExcess!B252)","v":"--"},{"$f":"IF(ISERROR(RankingExcess!$A252),\"--\",RankingExcess!C252)","v":"--"},{"$f":"IF(ISERROR(RankingExcess!$A252),\"--\",RankingExcess!D252)","v":"--"},{"$f":"IF(ISERROR(RankingExcess!$A252),\"--\",RankingExcess!E252)","v":"--"},{"$f":"IF(ISERROR(RankingExcess!$A252),\"--\",RankingExcess!F252)","v":"--"},null,2,{"$f":"IF(ISERROR(RankingPredictedTotal!$A252),\"--\",RankingPredictedTotal!B252)","v":"--"},{"$f":"IF(ISERROR(RankingPredictedTotal!$A252),\"--\",RankingPredictedTotal!C252)","v":"--"},{"$f":"IF(ISERROR(RankingPredictedTotal!$A252),\"--\",RankingPredictedTotal!D252)","v":"--"},{"$f":"IF(ISERROR(RankingPredictedTotal!$A252),\"--\",RankingPredictedTotal!E252)","v":"--"},{"$f":"IF(ISERROR(RankingPredictedTotal!$A252),\"--\",RankingPredictedTotal!F252)","v":"--"},null,2,{"$f":"IF(ISERROR(RankingPredictedFI!$A252),\"--\",RankingPredictedFI!B252)","v":"--"},{"$f":"IF(ISERROR(RankingPredictedFI!$A252),\"--\",RankingPredictedFI!C252)","v":"--"},{"$f":"IF(ISERROR(RankingPredictedFI!$A252),\"--\",RankingPredictedFI!D252)","v":"--"},{"$f":"IF(ISERROR(RankingPredictedFI!$A252),\"--\",RankingPredictedFI!E252)","v":"--"},{"$f":"IF(ISERROR(RankingPredictedFI!$A252),\"--\",RankingPredictedFI!F252)","v":"--"}]
[3,{"$f":"IF(ISERROR(RankingExpectedAverage!$A253),\"--\",RankingExpectedAverage!B253)","v":"--"},{"$f":"IF(ISERROR(RankingExpectedAverage!$A253),\"--\",RankingExpectedAverage!C253)","v":"--"},{"$f":"IF(ISERROR(RankingExpectedAverage!$A253),\"--\",RankingExpectedAverage!D253)","v":"--"},{"$f":"IF(ISERROR(RankingExpectedAverage!$A253),\"--\",RankingExpectedAverage!E253)","v":"--"},{"$f":"IF(ISERROR(RankingExpectedAverage!$A253),\"--\",RankingExpectedAverage!F253)","v":"--"},null,3,{"$f":"IF(ISERROR(RankingExcess!$A253),\"--\",RankingExcess!B253)","v":"--"},{"$f":"IF(ISERROR(RankingExcess!$A253),\"--\",RankingExcess!C253)","v":"--"},{"$f":"IF(ISERROR(RankingExcess!$A253),\"--\",RankingExcess!D253)","v":"--"},{"$f":"IF(ISERROR(RankingExcess!$A253),\"--\",RankingExcess!E253)","v":"--"},{"$f":"IF(ISERROR(RankingExcess!$A253),\"--\",RankingExcess!F253)","v":"--"},null,3,{"$f":"IF(ISERROR(RankingPredictedTotal!$A253),\"--\",RankingPredictedTotal!B253)","v":"--"},{"$f":"IF(ISERROR(RankingPredictedTotal!$A253),\"--\",RankingPredictedTotal!C253)","v":"--"},{"$f":"IF(ISERROR(RankingPredictedTotal!$A253),\"--\",RankingPredictedTotal!D253)","v":"--"},{"$f":"IF(ISERROR(RankingPredictedTotal!$A253),\"--\",RankingPredictedTotal!E253)","v":"--"},{"$f":"IF(ISERROR(RankingPredictedTotal!$A253),\"--\",RankingPredictedTotal!F253)","v":"--"},null,3,{"$f":"IF(ISERROR(RankingPredictedFI!$A253),\"--\",RankingPredictedFI!B253)","v":"--"},{"$f":"IF(ISERROR(RankingPredictedFI!$A253),\"--\",RankingPredictedFI!C253)","v":"--"},{"$f":"IF(ISERROR(RankingPredictedFI!$A253),\"--\",RankingPredictedFI!D253)","v":"--"},{"$f":"IF(ISERROR(RankingPredictedFI!$A253),\"--\",RankingPredictedFI!E253)","v":"--"},{"$f":"IF(ISERROR(RankingPredictedFI!$A253),\"--\",RankingPredictedFI!F253)","v":"--"}]
[4,{"$f":"IF(ISERROR(RankingExpectedAverage!$A254),\"--\",RankingExpectedAverage!B254)","v":"--"},{"$f":"IF(ISERROR(RankingExpectedAverage!$A254),\"--\",RankingExpectedAverage!C254)","v":"--"},{"$f":"IF(ISERROR(RankingExpectedAverage!$A254),\"--\",RankingExpectedAverage!D254)","v":"--"},{"$f":"IF(ISERROR(RankingExpectedAverage!$A254),\"--\",RankingExpectedAverage!E254)","v":"--"},{"$f":"IF(ISERROR(RankingExpectedAverage!$A254),\"--\",RankingExpectedAverage!F254)","v":"--"},null,4,{"$f":"IF(ISERROR(RankingExcess!$A254),\"--\",RankingExcess!B254)","v":"--"},{"$f":"IF(ISERROR(RankingExcess!$A254),\"--\",RankingExcess!C254)","v":"--"},{"$f":"IF(ISERROR(RankingExcess!$A254),\"--\",RankingExcess!D254)","v":"--"},{"$f":"IF(ISERROR(RankingExcess!$A254),\"--\",RankingExcess!E254)","v":"--"},{"$f":"IF(ISERROR(RankingExcess!$A254),\"--\",RankingExcess!F254)","v":"--"},null,4,{"$f":"IF(ISERROR(RankingPredictedTotal!$A254),\"--\",RankingPredictedTotal!B254)","v":"--"},{"$f":"IF(ISERROR(RankingPredictedTotal!$A254),\"--\",RankingPredictedTotal!C254)","v":"--"},{"$f":"IF(ISERROR(RankingPredictedTotal!$A254),\"--\",RankingPredictedTotal!D254)","v":"--"},{"$f":"IF(ISERROR(RankingPredictedTotal!$A254),\"--\",RankingPredictedTotal!E254)","v":"--"},{"$f":"IF(ISERROR(RankingPredictedTotal!$A254),\"--\",RankingPredictedTotal!F254)","v":"--"},null,4,{"$f":"IF(ISERROR(RankingPredictedFI!$A254),\"--\",RankingPredictedFI!B254)","v":"--"},{"$f":"IF(ISERROR(RankingPredictedFI!$A254),\"--\",RankingPredictedFI!C254)","v":"--"},{"$f":"IF(ISERROR(RankingPredictedFI!$A254),\"--\",RankingPredictedFI!D254)","v":"--"},{"$f":"IF(ISERROR(RankingPredictedFI!$A254),\"--\",RankingPredictedFI!E254)","v":"--"},{"$f":"IF(ISERROR(RankingPredictedFI!$A254),\"--\",RankingPredictedFI!F254)","v":"--"}]
[5,{"$f":"IF(ISERROR(RankingExpectedAverage!$A255),\"--\",RankingExpectedAverage!B255)","v":"--"},{"$f":"IF(ISERROR(RankingExpectedAverage!$A255),\"--\",RankingExpectedAverage!C255)","v":"--"},{"$f":"IF(ISERROR(RankingExpectedAverage!$A255),\"--\",RankingExpectedAverage!D255)","v":"--"},{"$f":"IF(ISERROR(RankingExpectedAverage!$A255),\"--\",RankingExpectedAverage!E255)","v":"--"},{"$f":"IF(ISERROR(RankingExpectedAverage!$A255),\"--\",RankingExpectedAverage!F255)","v":"--"},null,5,{"$f":"IF(ISERROR(RankingExcess!$A255),\"--\",RankingExcess!B255)","v":"--"},{"$f":"IF(ISERROR(RankingExcess!$A255),\"--\",RankingExcess!C255)","v":"--"},{"$f":"IF(ISERROR(RankingExcess!$A255),\"--\",RankingExcess!D255)","v":"--"},{"$f":"IF(ISERROR(RankingExcess!$A255),\"--\",RankingExcess!E255)","v":"--"},{"$f":"IF(ISERROR(RankingExcess!$A255),\"--\",RankingExcess!F255)","v":"--"},null,5,{"$f":"IF(ISERROR(RankingPredictedTotal!$A255),\"--\",RankingPredictedTotal!B255)","v":"--"},{"$f":"IF(ISERROR(RankingPredictedTotal!$A255),\"--\",RankingPredictedTotal!C255)","v":"--"},{"$f":"IF(ISERROR(RankingPredictedTotal!$A255),\"--\",RankingPredictedTotal!D255)","v":"--"},{"$f":"IF(ISERROR(RankingPredictedTotal!$A255),\"--\",RankingPredictedTotal!E255)","v":"--"},{"$f":"IF(ISERROR(RankingPredictedTotal!$A255),\"--\",RankingPredictedTotal!F255)","v":"--"},null,5,{"$f":"IF(ISERROR(RankingPredictedFI!$A255),\"--\",RankingPredictedFI!B255)","v":"--"},{"$f":"IF(ISERROR(RankingPredictedFI!$A255),\"--\",RankingPredictedFI!C255)","v":"--"},{"$f":"IF(ISERROR(RankingPredictedFI!$A255),\"--\",RankingPredictedFI!D255)","v":"--"},{"$f":"IF(ISERROR(RankingPredictedFI!$A255),\"--\",RankingPredictedFI!E255)","v":"--"},{"$f":"IF(ISERROR(RankingPredictedFI!$A255),\"--\",RankingPredictedFI!F255)","v":"--"}]
[6,{"$f":"IF(ISERROR(RankingExpectedAverage!$A256),\"--\",RankingExpectedAverage!B256)","v":"--"},{"$f":"IF(ISERROR(RankingExpectedAverage!$A256),\"--\",RankingExpectedAverage!C256)","v":"--"},{"$f":"IF(ISERROR(RankingExpectedAverage!$A256),\"--\",RankingExpectedAverage!D256)","v":"--"},{"$f":"IF(ISERROR(RankingExpectedAverage!$A256),\"--\",RankingExpectedAverage!E256)","v":"--"},{"$f":"IF(ISERROR(RankingExpectedAverage!$A256),\"--\",RankingExpectedAverage!F256)","v":"--"},null,6,{"$f":"IF(ISERROR(RankingExcess!$A256),\"--\",RankingExcess!B256)","v":"--"},{"$f":"IF(ISERROR(RankingExcess!$A256),\"--\",RankingExcess!C256)","v":"--"},{"$f":"IF(ISERROR(RankingExcess!$A256),\"--\",RankingExcess!D256)","v":"--"},{"$f":"IF(ISERROR(RankingExcess!$A256),\"--\",RankingExcess!E256)","v":"--"},{"$f":"IF(ISERROR(RankingExcess!$A256),\"--\",RankingExcess!F256)","v":"--"},null,6,{"$f":"IF(ISERROR(RankingPredictedTotal!$A256),\"--\",RankingPredictedTotal!B256)","v":"--"},{"$f":"IF(ISERROR(RankingPredictedTotal!$A256),\"--\",RankingPredictedTotal!C256)","v":"--"},{"$f":"IF(ISERROR(RankingPredictedTotal!$A256),\"--\",RankingPredictedTotal!D256)","v":"--"},{"$f":"IF(ISERROR(RankingPredictedTotal!$A256),\"--\",RankingPredictedTotal!E256)","v":"--"},{"$f":"IF(ISERROR(RankingPredictedTotal!$A256),\"--\",RankingPredictedTotal!F256)","v":"--"},null,6,{"$f":"IF(ISERROR(RankingPredictedFI!$A256),\"--\",RankingPredictedFI!B256)","v":"--"},{"$f":"IF(ISERROR(RankingPredictedFI!$A256),\"--\",RankingPredictedFI!C256)","v":"--"},{"$f":"IF(ISERROR(RankingPredictedFI!$A256),\"--\",RankingPredictedFI!D256)","v":"--"},{"$f":"IF(ISERROR(RankingPredictedFI!$A256),\"--\",RankingPredictedFI!E256)","v":"--"},{"$f":"IF(ISERROR(RankingPredictedFI!$A256),\"--\",RankingPredictedFI!F256)","v":"--"}]
[7,{"$f":"IF(ISERROR(RankingExpectedAverage!$A257),\"--\",RankingExpectedAverage!B257)","v":"--"},{"$f":"IF(ISERROR(RankingExpectedAverage!$A257),\"--\",RankingExpectedAverage!C257)","v":"--"},{"$f":"IF(ISERROR(RankingExpectedAverage!$A257),\"--\",RankingExpectedAverage!D257)","v":"--"},{"$f":"IF(ISERROR(RankingExpectedAverage!$A257),\"--\",RankingExpectedAverage!E257)","v":"--"},{"$f":"IF(ISERROR(RankingExpectedAverage!$A257),\"--\",RankingExpectedAverage!F257)","v":"--"},null,7,{"$f":"IF(ISERROR(RankingExcess!$A257),\"--\",RankingExcess!B257)","v":"--"},{"$f":"IF(ISERROR(RankingExcess!$A257),\"--\",RankingExcess!C257)","v":"--"},{"$f":"IF(ISERROR(RankingExcess!$A257),\"--\",RankingExcess!D257)","v":"--"},{"$f":"IF(ISERROR(RankingExcess!$A257),\"--\",RankingExcess!E257)","v":"--"},{"$f":"IF(ISERROR(RankingExcess!$A257),\"--\",RankingExcess!F257)","v":"--"},null,7,{"$f":"IF(ISERROR(RankingPredictedTotal!$A257),\"--\",RankingPredictedTotal!B257)","v":"--"},{"$f":"IF(ISERROR(RankingPredictedTotal!$A257),\"--\",RankingPredictedTotal!C257)","v":"--"},{"$f":"IF(ISERROR(RankingPredictedTotal!$A257),\"--\",RankingPredictedTotal!D257)","v":"--"},{"$f":"IF(ISERROR(RankingPredictedTotal!$A257),\"--\",RankingPredictedTotal!E257)","v":"--"},{"$f":"IF(ISERROR(RankingPredictedTotal!$A257),\"--\",RankingPredictedTotal!F257)","v":"--"},null,7,{"$f":"IF(ISERROR(RankingPredictedFI!$A257),\"--\",RankingPredictedFI!B257)","v":"--"},{"$f":"IF(ISERROR(RankingPredictedFI!$A257),\"--\",RankingPredictedFI!C257)","v":"--"},{"$f":"IF(ISERROR(RankingPredictedFI!$A257),\"--\",RankingPredictedFI!D257)","v":"--"},{"$f":"IF(ISERROR(RankingPredictedFI!$A257),\"--\",RankingPredictedFI!E257)","v":"--"},{"$f":"IF(ISERROR(RankingPredictedFI!$A257),\"--\",RankingPredictedFI!F257)","v":"--"}]
[8,{"$f":"IF(ISERROR(RankingExpectedAverage!$A258),\"--\",RankingExpectedAverage!B258)","v":"--"},{"$f":"IF(ISERROR(RankingExpectedAverage!$A258),\"--\",RankingExpectedAverage!C258)","v":"--"},{"$f":"IF(ISERROR(RankingExpectedAverage!$A258),\"--\",RankingExpectedAverage!D258)","v":"--"},{"$f":"IF(ISERROR(RankingExpectedAverage!$A258),\"--\",RankingExpectedAverage!E258)","v":"--"},{"$f":"IF(ISERROR(RankingExpectedAverage!$A258),\"--\",RankingExpectedAverage!F258)","v":"--"},null,8,{"$f":"IF(ISERROR(RankingExcess!$A258),\"--\",RankingExcess!B258)","v":"--"},{"$f":"IF(ISERROR(RankingExcess!$A258),\"--\",RankingExcess!C258)","v":"--"},{"$f":"IF(ISERROR(RankingExcess!$A258),\"--\",RankingExcess!D258)","v":"--"},{"$f":"IF(ISERROR(RankingExcess!$A258),\"--\",RankingExcess!E258)","v":"--"},{"$f":"IF(ISERROR(RankingExcess!$A258),\"--\",RankingExcess!F258)","v":"--"},null,8,{"$f":"IF(ISERROR(RankingPredictedTotal!$A258),\"--\",RankingPredictedTotal!B258)","v":"--"},{"$f":"IF(ISERROR(RankingPredictedTotal!$A258),\"--\",RankingPredictedTotal!C258)","v":"--"},{"$f":"IF(ISERROR(RankingPredictedTotal!$A258),\"--\",RankingPredictedTotal!D258)","v":"--"},{"$f":"IF(ISERROR(RankingPredictedTotal!$A258),\"--\",RankingPredictedTotal!E258)","v":"--"},{"$f":"IF(ISERROR(RankingPredictedTotal!$A258),\"--\",RankingPredictedTotal!F258)","v":"--"},null,8,{"$f":"IF(ISERROR(RankingPredictedFI!$A258),\"--\",RankingPredictedFI!B258)","v":"--"},{"$f":"IF(ISERROR(RankingPredictedFI!$A258),\"--\",RankingPredictedFI!C258)","v":"--"},{"$f":"IF(ISERROR(RankingPredictedFI!$A258),\"--\",RankingPredictedFI!D258)","v":"--"},{"$f":"IF(ISERROR(RankingPredictedFI!$A258),\"--\",RankingPredictedFI!E258)","v":"--"},{"$f":"IF(ISERROR(RankingPredictedFI!$A258),\"--\",RankingPredictedFI!F258)","v":"--"}]
[9,{"$f":"IF(ISERROR(RankingExpectedAverage!$A259),\"--\",RankingExpectedAverage!B259)","v":"--"},{"$f":"IF(ISERROR(RankingExpectedAverage!$A259),\"--\",RankingExpectedAverage!C259)","v":"--"},{"$f":"IF(ISERROR(RankingExpectedAverage!$A259),\"--\",RankingExpectedAverage!D259)","v":"--"},{"$f":"IF(ISERROR(RankingExpectedAverage!$A259),\"--\",RankingExpectedAverage!E259)","v":"--"},{"$f":"IF(ISERROR(RankingExpectedAverage!$A259),\"--\",RankingExpectedAverage!F259)","v":"--"},null,9,{"$f":"IF(ISERROR(RankingExcess!$A259),\"--\",RankingExcess!B259)","v":"--"},{"$f":"IF(ISERROR(RankingExcess!$A259),\"--\",RankingExcess!C259)","v":"--"},{"$f":"IF(ISERROR(RankingExcess!$A259),\"--\",RankingExcess!D259)","v":"--"},{"$f":"IF(ISERROR(RankingExcess!$A259),\"--\",RankingExcess!E259)","v":"--"},{"$f":"IF(ISERROR(RankingExcess!$A259),\"--\",RankingExcess!F259)","v":"--"},null,9,{"$f":"IF(ISERROR(RankingPredictedTotal!$A259),\"--\",RankingPredictedTotal!B259)","v":"--"},{"$f":"IF(ISERROR(RankingPredictedTotal!$A259),\"--\",RankingPredictedTotal!C259)","v":"--"},{"$f":"IF(ISERROR(RankingPredictedTotal!$A259),\"--\",RankingPredictedTotal!D259)","v":"--"},{"$f":"IF(ISERROR(RankingPredictedTotal!$A259),\"--\",RankingPredictedTotal!E259)","v":"--"},{"$f":"IF(ISERROR(RankingPredictedTotal!$A259),\"--\",RankingPredictedTotal!F259)","v":"--"},null,9,{"$f":"IF(ISERROR(RankingPredictedFI!$A259),\"--\",RankingPredictedFI!B259)","v":"--"},{"$f":"IF(ISERROR(RankingPredictedFI!$A259),\"--\",RankingPredictedFI!C259)","v":"--"},{"$f":"IF(ISERROR(RankingPredictedFI!$A259),\"--\",RankingPredictedFI!D259)","v":"--"},{"$f":"IF(ISERROR(RankingPredictedFI!$A259),\"--\",RankingPredictedFI!E259)","v":"--"},{"$f":"IF(ISERROR(RankingPredictedFI!$A259),\"--\",RankingPredictedFI!F259)","v":"--"}]
[10,{"$f":"IF(ISERROR(RankingExpectedAverage!$A260),\"--\",RankingExpectedAverage!B260)","v":"--"},{"$f":"IF(ISERROR(RankingExpectedAverage!$A260),\"--\",RankingExpectedAverage!C260)","v":"--"},{"$f":"IF(ISERROR(RankingExpectedAverage!$A260),\"--\",RankingExpectedAverage!D260)","v":"--"},{"$f":"IF(ISERROR(RankingExpectedAverage!$A260),\"--\",RankingExpectedAverage!E260)","v":"--"},{"$f":"IF(ISERROR(RankingExpectedAverage!$A260),\"--\",RankingExpectedAverage!F260)","v":"--"},null,10,{"$f":"IF(ISERROR(RankingExcess!$A260),\"--\",RankingExcess!B260)","v":"--"},{"$f":"IF(ISERROR(RankingExcess!$A260),\"--\",RankingExcess!C260)","v":"--"},{"$f":"IF(ISERROR(RankingExcess!$A260),\"--\",RankingExcess!D260)","v":"--"},{"$f":"IF(ISERROR(RankingExcess!$A260),\"--\",RankingExcess!E260)","v":"--"},{"$f":"IF(ISERROR(RankingExcess!$A260),\"--\",RankingExcess!F260)","v":"--"},null,10,{"$f":"IF(ISERROR(RankingPredictedTotal!$A260),\"--\",RankingPredictedTotal!B260)","v":"--"},{"$f":"IF(ISERROR(RankingPredictedTotal!$A260),\"--\",RankingPredictedTotal!C260)","v":"--"},{"$f":"IF(ISERROR(RankingPredictedTotal!$A260),\"--\",RankingPredictedTotal!D260)","v":"--"},{"$f":"IF(ISERROR(RankingPredictedTotal!$A260),\"--\",RankingPredictedTotal!E260)","v":"--"},{"$f":"IF(ISERROR(RankingPredictedTotal!$A260),\"--\",RankingPredictedTotal!F260)","v":"--"},null,10,{"$f":"IF(ISERROR(RankingPredictedFI!$A260),\"--\",RankingPredictedFI!B260)","v":"--"},{"$f":"IF(ISERROR(RankingPredictedFI!$A260),\"--\",RankingPredictedFI!C260)","v":"--"},{"$f":"IF(ISERROR(RankingPredictedFI!$A260),\"--\",RankingPredictedFI!D260)","v":"--"},{"$f":"IF(ISERROR(RankingPredictedFI!$A260),\"--\",RankingPredictedFI!E260)","v":"--"},{"$f":"IF(ISERROR(RankingPredictedFI!$A260),\"--\",RankingPredictedFI!F260)","v":"--"}]
[]
["Rank","Urban & Suburban Intersections",null,null,null,"Average",null,"Rank","Urban & Suburban Intersections",null,null,null,"Excess",null,"Rank","Urban & Suburban Intersections",null,null,null,"Number",null,"Rank","Urban & Suburban Intersections",null,null,null,"Number"]
[1,{"$f":"IF(ISERROR(RankingExpectedAverage!$A301),\"--\",RankingExpectedAverage!B301)","v":"--"},{"$f":"IF(ISERROR(RankingExpectedAverage!$A301),\"--\",RankingExpectedAverage!C301)","v":"--"},{"$f":"IF(ISERROR(RankingExpectedAverage!$A301),\"--\",RankingExpectedAverage!D301)","v":"--"},{"$f":"IF(ISERROR(RankingExpectedAverage!$A301),\"--\",RankingExpectedAverage!E301)","v":"--"},{"$f":"IF(ISERROR(RankingExpectedAverage!$A301),\"--\",RankingExpectedAverage!F301)","v":"--"},null,1,{"$f":"IF(ISERROR(RankingExcess!$A301),\"--\",RankingExcess!B301)","v":"--"},{"$f":"IF(ISERROR(RankingExcess!$A301),\"--\",RankingExcess!C301)","v":"--"},{"$f":"IF(ISERROR(RankingExcess!$A301),\"--\",RankingExcess!D301)","v":"--"},{"$f":"IF(ISERROR(RankingExcess!$A301),\"--\",RankingExcess!E301)","v":"--"},{"$f":"IF(ISERROR(RankingExcess!$A301),\"--\",RankingExcess!F301)","v":"--"},null,1,{"$f":"IF(ISERROR(RankingPredictedTotal!$A301),\"--\",RankingPredictedTotal!B301)","v":"--"},{"$f":"IF(ISERROR(RankingPredictedTotal!$A301),\"--\",RankingPredictedTotal!C301)","v":"--"},{"$f":"IF(ISERROR(RankingPredictedTotal!$A301),\"--\",RankingPredictedTotal!D301)","v":"--"},{"$f":"IF(ISERROR(RankingPredictedTotal!$A301),\"--\",RankingPredictedTotal!E301)","v":"--"},{"$f":"IF(ISERROR(RankingPredictedTotal!$A301),\"--\",RankingPredictedTotal!F301)","v":"--"},null,1,{"$f":"IF(ISERROR(RankingPredictedFI!$A301),\"--\",RankingPredictedFI!B301)","v":"--"},{"$f":"IF(ISERROR(RankingPredictedFI!$A301),\"--\",RankingPredictedFI!C301)","v":"--"},{"$f":"IF(ISERROR(RankingPredictedFI!$A301),\"--\",RankingPredictedFI!D301)","v":"--"},{"$f":"IF(ISERROR(RankingPredictedFI!$A301),\"--\",RankingPredictedFI!E301)","v":"--"},{"$f":"IF(ISERROR(RankingPredictedFI!$A301),\"--\",RankingPredictedFI!F301)","v":"--"}]
[2,{"$f":"IF(ISERROR(RankingExpectedAverage!$A302),\"--\",RankingExpectedAverage!B302)","v":"--"},{"$f":"IF(ISERROR(RankingExpectedAverage!$A302),\"--\",RankingExpectedAverage!C302)","v":"--"},{"$f":"IF(ISERROR(RankingExpectedAverage!$A302),\"--\",RankingExpectedAverage!D302)","v":"--"},{"$f":"IF(ISERROR(RankingExpectedAverage!$A302),\"--\",RankingExpectedAverage!E302)","v":"--"},{"$f":"IF(ISERROR(RankingExpectedAverage!$A302),\"--\",RankingExpectedAverage!F302)","v":"--"},null,2,{"$f":"IF(ISERROR(RankingExcess!$A302),\"--\",RankingExcess!B302)","v":"--"},{"$f":"IF(ISERROR(RankingExcess!$A302),\"--\",RankingExcess!C302)","v":"--"},{"$f":"IF(ISERROR(RankingExcess!$A302),\"--\",RankingExcess!D302)","v":"--"},{"$f":"IF(ISERROR(RankingExcess!$A302),\"--\",RankingExcess!E302)","v":"--"},{"$f":"IF(ISERROR(RankingExcess!$A302),\"--\",RankingExcess!F302)","v":"--"},null,2,{"$f":"IF(ISERROR(RankingPredictedTotal!$A302),\"--\",RankingPredictedTotal!B302)","v":"--"},{"$f":"IF(ISERROR(RankingPredictedTotal!$A302),\"--\",RankingPredictedTotal!C302)","v":"--"},{"$f":"IF(ISERROR(RankingPredictedTotal!$A302),\"--\",RankingPredictedTotal!D302)","v":"--"},{"$f":"IF(ISERROR(RankingPredictedTotal!$A302),\"--\",RankingPredictedTotal!E302)","v":"--"},{"$f":"IF(ISERROR(RankingPredictedTotal!$A302),\"--\",RankingPredictedTotal!F302)","v":"--"},null,2,{"$f":"IF(ISERROR(RankingPredictedFI!$A302),\"--\",RankingPredictedFI!B302)","v":"--"},{"$f":"IF(ISERROR(RankingPredictedFI!$A302),\"--\",RankingPredictedFI!C302)","v":"--"},{"$f":"IF(ISERROR(RankingPredictedFI!$A302),\"--\",RankingPredictedFI!D302)","v":"--"},{"$f":"IF(ISERROR(RankingPredictedFI!$A302),\"--\",RankingPredictedFI!E302)","v":"--"},{"$f":"IF(ISERROR(RankingPredictedFI!$A302),\"--\",RankingPredictedFI!F302)","v":"--"}]
[3,{"$f":"IF(ISERROR(RankingExpectedAverage!$A303),\"--\",RankingExpectedAverage!B303)","v":"--"},{"$f":"IF(ISERROR(RankingExpectedAverage!$A303),\"--\",RankingExpectedAverage!C303)","v":"--"},{"$f":"IF(ISERROR(RankingExpectedAverage!$A303),\"--\",RankingExpectedAverage!D303)","v":"--"},{"$f":"IF(ISERROR(RankingExpectedAverage!$A303),\"--\",RankingExpectedAverage!E303)","v":"--"},{"$f":"IF(ISERROR(RankingExpectedAverage!$A303),\"--\",RankingExpectedAverage!F303)","v":"--"},null,3,{"$f":"IF(ISERROR(RankingExcess!$A303),\"--\",RankingExcess!B303)","v":"--"},{"$f":"IF(ISERROR(RankingExcess!$A303),\"--\",RankingExcess!C303)","v":"--"},{"$f":"IF(ISERROR(RankingExcess!$A303),\"--\",RankingExcess!D303)","v":"--"},{"$f":"IF(ISERROR(RankingExcess!$A303),\"--\",RankingExcess!E303)","v":"--"},{"$f":"IF(ISERROR(RankingExcess!$A303),\"--\",RankingExcess!F303)","v":"--"},null,3,{"$f":"IF(ISERROR(RankingPredictedTotal!$A303),\"--\",RankingPredictedTotal!B303)","v":"--"},{"$f":"IF(ISERROR(RankingPredictedTotal!$A303),\"--\",RankingPredictedTotal!C303)","v":"--"},{"$f":"IF(ISERROR(RankingPredictedTotal!$A303),\"--\",RankingPredictedTotal!D303)","v":"--"},{"$f":"IF(ISERROR(RankingPredictedTotal!$A303),\"--\",RankingPredictedTotal!E303)","v":"--"},{"$f":"IF(ISERROR(RankingPredictedTotal!$A303),\"--\",RankingPredictedTotal!F303)","v":"--"},null,3,{"$f":"IF(ISERROR(RankingPredictedFI!$A303),\"--\",RankingPredictedFI!B303)","v":"--"},{"$f":"IF(ISERROR(RankingPredictedFI!$A303),\"--\",RankingPredictedFI!C303)","v":"--"},{"$f":"IF(ISERROR(RankingPredictedFI!$A303),\"--\",RankingPredictedFI!D303)","v":"--"},{"$f":"IF(ISERROR(RankingPredictedFI!$A303),\"--\",RankingPredictedFI!E303)","v":"--"},{"$f":"IF(ISERROR(RankingPredictedFI!$A303),\"--\",RankingPredictedFI!F303)","v":"--"}]
[4,{"$f":"IF(ISERROR(RankingExpectedAverage!$A304),\"--\",RankingExpectedAverage!B304)","v":"--"},{"$f":"IF(ISERROR(RankingExpectedAverage!$A304),\"--\",RankingExpectedAverage!C304)","v":"--"},{"$f":"IF(ISERROR(RankingExpectedAverage!$A304),\"--\",RankingExpectedAverage!D304)","v":"--"},{"$f":"IF(ISERROR(RankingExpectedAverage!$A304),\"--\",RankingExpectedAverage!E304)","v":"--"},{"$f":"IF(ISERROR(RankingExpectedAverage!$A304),\"--\",RankingExpectedAverage!F304)","v":"--"},null,4,{"$f":"IF(ISERROR(RankingExcess!$A304),\"--\",RankingExcess!B304)","v":"--"},{"$f":"IF(ISERROR(RankingExcess!$A304),\"--\",RankingExcess!C304)","v":"--"},{"$f":"IF(ISERROR(RankingExcess!$A304),\"--\",RankingExcess!D304)","v":"--"},{"$f":"IF(ISERROR(RankingExcess!$A304),\"--\",RankingExcess!E304)","v":"--"},{"$f":"IF(ISERROR(RankingExcess!$A304),\"--\",RankingExcess!F304)","v":"--"},null,4,{"$f":"IF(ISERROR(RankingPredictedTotal!$A304),\"--\",RankingPredictedTotal!B304)","v":"--"},{"$f":"IF(ISERROR(RankingPredictedTotal!$A304),\"--\",RankingPredictedTotal!C304)","v":"--"},{"$f":"IF(ISERROR(RankingPredictedTotal!$A304),\"--\",RankingPredictedTotal!D304)","v":"--"},{"$f":"IF(ISERROR(RankingPredictedTotal!$A304),\"--\",RankingPredictedTotal!E304)","v":"--"},{"$f":"IF(ISERROR(RankingPredictedTotal!$A304),\"--\",RankingPredictedTotal!F304)","v":"--"},null,4,{"$f":"IF(ISERROR(RankingPredictedFI!$A304),\"--\",RankingPredictedFI!B304)","v":"--"},{"$f":"IF(ISERROR(RankingPredictedFI!$A304),\"--\",RankingPredictedFI!C304)","v":"--"},{"$f":"IF(ISERROR(RankingPredictedFI!$A304),\"--\",RankingPredictedFI!D304)","v":"--"},{"$f":"IF(ISERROR(RankingPredictedFI!$A304),\"--\",RankingPredictedFI!E304)","v":"--"},{"$f":"IF(ISERROR(RankingPredictedFI!$A304),\"--\",RankingPredictedFI!F304)","v":"--"}]
[5,{"$f":"IF(ISERROR(RankingExpectedAverage!$A305),\"--\",RankingExpectedAverage!B305)","v":"--"},{"$f":"IF(ISERROR(RankingExpectedAverage!$A305),\"--\",RankingExpectedAverage!C305)","v":"--"},{"$f":"IF(ISERROR(RankingExpectedAverage!$A305),\"--\",RankingExpectedAverage!D305)","v":"--"},{"$f":"IF(ISERROR(RankingExpectedAverage!$A305),\"--\",RankingExpectedAverage!E305)","v":"--"},{"$f":"IF(ISERROR(RankingExpectedAverage!$A305),\"--\",RankingExpectedAverage!F305)","v":"--"},null,5,{"$f":"IF(ISERROR(RankingExcess!$A305),\"--\",RankingExcess!B305)","v":"--"},{"$f":"IF(ISERROR(RankingExcess!$A305),\"--\",RankingExcess!C305)","v":"--"},{"$f":"IF(ISERROR(RankingExcess!$A305),\"--\",RankingExcess!D305)","v":"--"},{"$f":"IF(ISERROR(RankingExcess!$A305),\"--\",RankingExcess!E305)","v":"--"},{"$f":"IF(ISERROR(RankingExcess!$A305),\"--\",RankingExcess!F305)","v":"--"},null,5,{"$f":"IF(ISERROR(RankingPredictedTotal!$A305),\"--\",RankingPredictedTotal!B305)","v":"--"},{"$f":"IF(ISERROR(RankingPredictedTotal!$A305),\"--\",RankingPredictedTotal!C305)","v":"--"},{"$f":"IF(ISERROR(RankingPredictedTotal!$A305),\"--\",RankingPredictedTotal!D305)","v":"--"},{"$f":"IF(ISERROR(RankingPredictedTotal!$A305),\"--\",RankingPredictedTotal!E305)","v":"--"},{"$f":"IF(ISERROR(RankingPredictedTotal!$A305),\"--\",RankingPredictedTotal!F305)","v":"--"},null,5,{"$f":"IF(ISERROR(RankingPredictedFI!$A305),\"--\",RankingPredictedFI!B305)","v":"--"},{"$f":"IF(ISERROR(RankingPredictedFI!$A305),\"--\",RankingPredictedFI!C305)","v":"--"},{"$f":"IF(ISERROR(RankingPredictedFI!$A305),\"--\",RankingPredictedFI!D305)","v":"--"},{"$f":"IF(ISERROR(RankingPredictedFI!$A305),\"--\",RankingPredictedFI!E305)","v":"--"},{"$f":"IF(ISERROR(RankingPredictedFI!$A305),\"--\",RankingPredictedFI!F305)","v":"--"}]
[6,{"$f":"IF(ISERROR(RankingExpectedAverage!$A306),\"--\",RankingExpectedAverage!B306)","v":"--"},{"$f":"IF(ISERROR(RankingExpectedAverage!$A306),\"--\",RankingExpectedAverage!C306)","v":"--"},{"$f":"IF(ISERROR(RankingExpectedAverage!$A306),\"--\",RankingExpectedAverage!D306)","v":"--"},{"$f":"IF(ISERROR(RankingExpectedAverage!$A306),\"--\",RankingExpectedAverage!E306)","v":"--"},{"$f":"IF(ISERROR(RankingExpectedAverage!$A306),\"--\",RankingExpectedAverage!F306)","v":"--"},null,6,{"$f":"IF(ISERROR(RankingExcess!$A306),\"--\",RankingExcess!B306)","v":"--"},{"$f":"IF(ISERROR(RankingExcess!$A306),\"--\",RankingExcess!C306)","v":"--"},{"$f":"IF(ISERROR(RankingExcess!$A306),\"--\",RankingExcess!D306)","v":"--"},{"$f":"IF(ISERROR(RankingExcess!$A306),\"--\",RankingExcess!E306)","v":"--"},{"$f":"IF(ISERROR(RankingExcess!$A306),\"--\",RankingExcess!F306)","v":"--"},null,6,{"$f":"IF(ISERROR(RankingPredictedTotal!$A306),\"--\",RankingPredictedTotal!B306)","v":"--"},{"$f":"IF(ISERROR(RankingPredictedTotal!$A306),\"--\",RankingPredictedTotal!C306)","v":"--"},{"$f":"IF(ISERROR(RankingPredictedTotal!$A306),\"--\",RankingPredictedTotal!D306)","v":"--"},{"$f":"IF(ISERROR(RankingPredictedTotal!$A306),\"--\",RankingPredictedTotal!E306)","v":"--"},{"$f":"IF(ISERROR(RankingPredictedTotal!$A306),\"--\",RankingPredictedTotal!F306)","v":"--"},null,6,{"$f":"IF(ISERROR(RankingPredictedFI!$A306),\"--\",RankingPredictedFI!B306)","v":"--"},{"$f":"IF(ISERROR(RankingPredictedFI!$A306),\"--\",RankingPredictedFI!C306)","v":"--"},{"$f":"IF(ISERROR(RankingPredictedFI!$A306),\"--\",RankingPredictedFI!D306)","v":"--"},{"$f":"IF(ISERROR(RankingPredictedFI!$A306),\"--\",RankingPredictedFI!E306)","v":"--"},{"$f":"IF(ISERROR(RankingPredictedFI!$A306),\"--\",RankingPredictedFI!F306)","v":"--"}]
[7,{"$f":"IF(ISERROR(RankingExpectedAverage!$A307),\"--\",RankingExpectedAverage!B307)","v":"--"},{"$f":"IF(ISERROR(RankingExpectedAverage!$A307),\"--\",RankingExpectedAverage!C307)","v":"--"},{"$f":"IF(ISERROR(RankingExpectedAverage!$A307),\"--\",RankingExpectedAverage!D307)","v":"--"},{"$f":"IF(ISERROR(RankingExpectedAverage!$A307),\"--\",RankingExpectedAverage!E307)","v":"--"},{"$f":"IF(ISERROR(RankingExpectedAverage!$A307),\"--\",RankingExpectedAverage!F307)","v":"--"},null,7,{"$f":"IF(ISERROR(RankingExcess!$A307),\"--\",RankingExcess!B307)","v":"--"},{"$f":"IF(ISERROR(RankingExcess!$A307),\"--\",RankingExcess!C307)","v":"--"},{"$f":"IF(ISERROR(RankingExcess!$A307),\"--\",RankingExcess!D307)","v":"--"},{"$f":"IF(ISERROR(RankingExcess!$A307),\"--\",RankingExcess!E307)","v":"--"},{"$f":"IF(ISERROR(RankingExcess!$A307),\"--\",RankingExcess!F307)","v":"--"},null,7,{"$f":"IF(ISERROR(RankingPredictedTotal!$A307),\"--\",RankingPredictedTotal!B307)","v":"--"},{"$f":"IF(ISERROR(RankingPredictedTotal!$A307),\"--\",RankingPredictedTotal!C307)","v":"--"},{"$f":"IF(ISERROR(RankingPredictedTotal!$A307),\"--\",RankingPredictedTotal!D307)","v":"--"},{"$f":"IF(ISERROR(RankingPredictedTotal!$A307),\"--\",RankingPredictedTotal!E307)","v":"--"},{"$f":"IF(ISERROR(RankingPredictedTotal!$A307),\"--\",RankingPredictedTotal!F307)","v":"--"},null,7,{"$f":"IF(ISERROR(RankingPredictedFI!$A307),\"--\",RankingPredictedFI!B307)","v":"--"},{"$f":"IF(ISERROR(RankingPredictedFI!$A307),\"--\",RankingPredictedFI!C307)","v":"--"},{"$f":"IF(ISERROR(RankingPredictedFI!$A307),\"--\",RankingPredictedFI!D307)","v":"--"},{"$f":"IF(ISERROR(RankingPredictedFI!$A307),\"--\",RankingPredictedFI!E307)","v":"--"},{"$f":"IF(ISERROR(RankingPredictedFI!$A307),\"--\",RankingPredictedFI!F307)","v":"--"}]
[8,{"$f":"IF(ISERROR(RankingExpectedAverage!$A308),\"--\",RankingExpectedAverage!B308)","v":"--"},{"$f":"IF(ISERROR(RankingExpectedAverage!$A308),\"--\",RankingExpectedAverage!C308)","v":"--"},{"$f":"IF(ISERROR(RankingExpectedAverage!$A308),\"--\",RankingExpectedAverage!D308)","v":"--"},{"$f":"IF(ISERROR(RankingExpectedAverage!$A308),\"--\",RankingExpectedAverage!E308)","v":"--"},{"$f":"IF(ISERROR(RankingExpectedAverage!$A308),\"--\",RankingExpectedAverage!F308)","v":"--"},null,8,{"$f":"IF(ISERROR(RankingExcess!$A308),\"--\",RankingExcess!B308)","v":"--"},{"$f":"IF(ISERROR(RankingExcess!$A308),\"--\",RankingExcess!C308)","v":"--"},{"$f":"IF(ISERROR(RankingExcess!$A308),\"--\",RankingExcess!D308)","v":"--"},{"$f":"IF(ISERROR(RankingExcess!$A308),\"--\",RankingExcess!E308)","v":"--"},{"$f":"IF(ISERROR(RankingExcess!$A308),\"--\",RankingExcess!F308)","v":"--"},null,8,{"$f":"IF(ISERROR(RankingPredictedTotal!$A308),\"--\",RankingPredictedTotal!B308)","v":"--"},{"$f":"IF(ISERROR(RankingPredictedTotal!$A308),\"--\",RankingPredictedTotal!C308)","v":"--"},{"$f":"IF(ISERROR(RankingPredictedTotal!$A308),\"--\",RankingPredictedTotal!D308)","v":"--"},{"$f":"IF(ISERROR(RankingPredictedTotal!$A308),\"--\",RankingPredictedTotal!E308)","v":"--"},{"$f":"IF(ISERROR(RankingPredictedTotal!$A308),\"--\",RankingPredictedTotal!F308)","v":"--"},null,8,{"$f":"IF(ISERROR(RankingPredictedFI!$A308),\"--\",RankingPredictedFI!B308)","v":"--"},{"$f":"IF(ISERROR(RankingPredictedFI!$A308),\"--\",RankingPredictedFI!C308)","v":"--"},{"$f":"IF(ISERROR(RankingPredictedFI!$A308),\"--\",RankingPredictedFI!D308)","v":"--"},{"$f":"IF(ISERROR(RankingPredictedFI!$A308),\"--\",RankingPredictedFI!E308)","v":"--"},{"$f":"IF(ISERROR(RankingPredictedFI!$A308),\"--\",RankingPredictedFI!F308)","v":"--"}]
[9,{"$f":"IF(ISERROR(RankingExpectedAverage!$A309),\"--\",RankingExpectedAverage!B309)","v":"--"},{"$f":"IF(ISERROR(RankingExpectedAverage!$A309),\"--\",RankingExpectedAverage!C309)","v":"--"},{"$f":"IF(ISERROR(RankingExpectedAverage!$A309),\"--\",RankingExpectedAverage!D309)","v":"--"},{"$f":"IF(ISERROR(RankingExpectedAverage!$A309),\"--\",RankingExpectedAverage!E309)","v":"--"},{"$f":"IF(ISERROR(RankingExpectedAverage!$A309),\"--\",RankingExpectedAverage!F309)","v":"--"},null,9,{"$f":"IF(ISERROR(RankingExcess!$A309),\"--\",RankingExcess!B309)","v":"--"},{"$f":"IF(ISERROR(RankingExcess!$A309),\"--\",RankingExcess!C309)","v":"--"},{"$f":"IF(ISERROR(RankingExcess!$A309),\"--\",RankingExcess!D309)","v":"--"},{"$f":"IF(ISERROR(RankingExcess!$A309),\"--\",RankingExcess!E309)","v":"--"},{"$f":"IF(ISERROR(RankingExcess!$A309),\"--\",RankingExcess!F309)","v":"--"},null,9,{"$f":"IF(ISERROR(RankingPredictedTotal!$A309),\"--\",RankingPredictedTotal!B309)","v":"--"},{"$f":"IF(ISERROR(RankingPredictedTotal!$A309),\"--\",RankingPredictedTotal!C309)","v":"--"},{"$f":"IF(ISERROR(RankingPredictedTotal!$A309),\"--\",RankingPredictedTotal!D309)","v":"--"},{"$f":"IF(ISERROR(RankingPredictedTotal!$A309),\"--\",RankingPredictedTotal!E309)","v":"--"},{"$f":"IF(ISERROR(RankingPredictedTotal!$A309),\"--\",RankingPredictedTotal!F309)","v":"--"},null,9,{"$f":"IF(ISERROR(RankingPredictedFI!$A309),\"--\",RankingPredictedFI!B309)","v":"--"},{"$f":"IF(ISERROR(RankingPredictedFI!$A309),\"--\",RankingPredictedFI!C309)","v":"--"},{"$f":"IF(ISERROR(RankingPredictedFI!$A309),\"--\",RankingPredictedFI!D309)","v":"--"},{"$f":"IF(ISERROR(RankingPredictedFI!$A309),\"--\",RankingPredictedFI!E309)","v":"--"},{"$f":"IF(ISERROR(RankingPredictedFI!$A309),\"--\",RankingPredictedFI!F309)","v":"--"}]
[10,{"$f":"IF(ISERROR(RankingExpectedAverage!$A310),\"--\",RankingExpectedAverage!B310)","v":"--"},{"$f":"IF(ISERROR(RankingExpectedAverage!$A310),\"--\",RankingExpectedAverage!C310)","v":"--"},{"$f":"IF(ISERROR(RankingExpectedAverage!$A310),\"--\",RankingExpectedAverage!D310)","v":"--"},{"$f":"IF(ISERROR(RankingExpectedAverage!$A310),\"--\",RankingExpectedAverage!E310)","v":"--"},{"$f":"IF(ISERROR(RankingExpectedAverage!$A310),\"--\",RankingExpectedAverage!F310)","v":"--"},null,10,{"$f":"IF(ISERROR(RankingExcess!$A310),\"--\",RankingExcess!B310)","v":"--"},{"$f":"IF(ISERROR(RankingExcess!$A310),\"--\",RankingExcess!C310)","v":"--"},{"$f":"IF(ISERROR(RankingExcess!$A310),\"--\",RankingExcess!D310)","v":"--"},{"$f":"IF(ISERROR(RankingExcess!$A310),\"--\",RankingExcess!E310)","v":"--"},{"$f":"IF(ISERROR(RankingExcess!$A310),\"--\",RankingExcess!F310)","v":"--"},null,10,{"$f":"IF(ISERROR(RankingPredictedTotal!$A310),\"--\",RankingPredictedTotal!B310)","v":"--"},{"$f":"IF(ISERROR(RankingPredictedTotal!$A310),\"--\",RankingPredictedTotal!C310)","v":"--"},{"$f":"IF(ISERROR(RankingPredictedTotal!$A310),\"--\",RankingPredictedTotal!D310)","v":"--"},{"$f":"IF(ISERROR(RankingPredictedTotal!$A310),\"--\",RankingPredictedTotal!E310)","v":"--"},{"$f":"IF(ISERROR(RankingPredictedTotal!$A310),\"--\",RankingPredictedTotal!F310)","v":"--"},null,10,{"$f":"IF(ISERROR(RankingPredictedFI!$A310),\"--\",RankingPredictedFI!B310)","v":"--"},{"$f":"IF(ISERROR(RankingPredictedFI!$A310),\"--\",RankingPredictedFI!C310)","v":"--"},{"$f":"IF(ISERROR(RankingPredictedFI!$A310),\"--\",RankingPredictedFI!D310)","v":"--"},{"$f":"IF(ISERROR(RankingPredictedFI!$A310),\"--\",RankingPredictedFI!E310)","v":"--"},{"$f":"IF(ISERROR(RankingPredictedFI!$A310),\"--\",RankingPredictedFI!F310)","v":"--"}]

{"sheet":"Outputs","index":20,"n_rows":237,"n_cols":57,"rows_kept":237,"cut":false,"hidden":false,"merged":[[79,2,79,4],[79,5,79,11],[79,12,79,24],[79,25,79,47],[79,48,79,56],[80,2,80,4],[80,5,80,11],[80,12,80,24],[80,25,80,47],[80,48,80,56],[77,2,77,4],[77,5,77,11],[77,12,77,24],[77,25,77,47],[77,48,77,56],[78,2,78,4],[78,5,78,11],[78,12,78,24],[78,25,78,47],[78,48,78,56],[75,2,75,4],[75,5,75,11],[75,12,75,24],[75,25,75,47],[75,48,75,56],[76,2,76,4],[76,5,76,11],[76,12,76,24],[76,25,76,47],[76,48,76,56],[73,2,73,4],[73,5,73,11],[73,12,73,24],[73,25,73,47],[73,48,73,56],[74,2,74,4],[74,5,74,11],[74,12,74,24],[74,25,74,47],[74,48,74,56],[71,2,71,4],[71,5,71,11],[71,12,71,24],[71,25,71,47],[71,48,71,56],[72,2,72,4],[72,5,72,11],[72,12,72,24],[72,25,72,47],[72,48,72,56],[69,2,69,4],[69,5,69,11],[69,12,69,24],[69,25,69,47],[69,48,69,56],[70,2,70,4],[70,5,70,11],[70,12,70,24],[70,25,70,47],[70,48,70,56],[67,2,67,4],[67,5,67,11],[67,12,67,24],[67,25,67,47],[67,48,67,56],[68,2,68,4],[68,5,68,11],[68,12,68,24],[68,25,68,47],[68,48,68,56],[65,2,65,4],[65,5,65,11],[65,12,65,24],[65,25,65,47],[65,48,65,56],[66,2,66,4],[66,5,66,11],[66,12,66,24],[66,25,66,47],[66,48,66,56],[63,2,63,4],[63,5,63,11],[63,12,63,24],[63,25,63,47],[63,48,63,56],[64,2,64,4],[64,5,64,11],[64,12,64,24],[64,25,64,47],[64,48,64,56],[61,2,61,4],[61,5,61,11],[61,12,61,24],[61,25,61,47],[61,48,61,56],[62,2,62,4],[62,5,62,11],[62,12,62,24],[62,25,62,47],[62,48,62,56],[59,2,59,4],[59,5,59,11],[59,12,59,24],[59,25,59,47],[59,48,59,56],[60,2,60,4],[60,5,60,11],[60,12,60,24],[60,25,60,47],[60,48,60,56],[57,2,57,4],[57,5,57,11],[57,12,57,24],[57,25,57,47],[57,48,57,56],[58,2,58,4],[58,5,58,11],[58,12,58,24],[58,25,58,47],[58,48,58,56],[55,2,55,4],[55,5,55,11],[55,12,55,24],[55,25,55,47],[55,48,55,56],[56,2,56,4],[56,5,56,11],[56,12,56,24],[56,25,56,47],[56,48,56,56],[53,2,53,4],[53,5,53,11],[53,12,53,24],[53,25,53,47],[53,48,53,56],[54,2,54,4],[54,5,54,11],[54,12,54,24],[54,25,54,47],[54,48,54,56],[51,2,51,4],[51,5,51,11],[51,12,51,24],[51,25,51,47],[51,48,51,56],[52,2,52,4],[52,5,52,11],[52,12,52,24],[52,25,52,47],[52,48,52,56],[49,2,49,4],[49,5,49,11],[49,12,49,24],[49,25,49,47],[49,48,49,56],[50,2,50,4],[50,5,50,11],[50,12,50,24],[50,25,50,47],[50,48,50,56],[47,2,47,4],[47,5,47,11],[47,12,47,24],[47,25,47,47],[47,48,47,56],[48,2,48,4],[48,5,48,11],[48,12,48,24],[48,25,48,47],[48,48,48,56],[45,2,45,4],[45,5,45,11],[45,12,45,24],[45,25,45,47],[45,48,45,56],[46,2,46,4],[46,5,46,11],[46,12,46,24],[46,25,46,47],[46,48,46,56],[43,2,43,4],[43,5,43,11],[43,12,43,24],[43,25,43,47],[43,48,43,56],[44,2,44,4],[44,5,44,11],[44,12,44,24],[44,25,44,47],[44,48,44,56],[41,2,41,4],[41,5,41,11],[41,12,41,24],[41,25,41,47],[41,48,41,56],[42,2,42,4],[42,5,42,11],[42,12,42,24],[42,25,42,47],[42,48,42,56],[39,2,39,4],[39,5,39,11],[39,12,39,24],[39,25,39,47],[39,48,39,56],[40,2,40,4],[40,5,40,11],[40,12,40,24],[40,25,40,47],[40,48,40,56],[37,2,37,4],[37,5,37,11],[37,12,37,24],[37,25,37,47],[37,48,37,56],[38,2,38,4],[38,5,38,11],[38,12,38,24],[38,25,38,47],[38,48,38,56],[35,2,35,4],[35,5,35,11],[35,12,35,24],[35,25,35,47],[35,48,35,56],[36,2,36,4],[36,5,36,11],[36,12,36,24],[36,25,36,47],[36,48,36,56],[33,2,33,4],[33,5,33,11],[33,12,33,24],[33,25,33,47],[33,48,33,56],[34,2,34,4],[34,5,34,11],[34,12,34,24],[34,25,34,47],[34,48,34,56],[30,2,30,47],[30,48,30,56],[31,2,31,4],[31,5,31,11],[31,12,31,24],[31,25,31,47],[31,48,31,56],[32,2,32,4],[32,5,32,11],[32,12,32,24],[32,25,32,47],[32,48,32,56],[16,16,16,23],[17,8,17,15],[18,8,18,15],[19,8,19,15],[16,8,16,15],[20,8,20,15],[17,5,17,7],[18,5,18,7],[19,5,19,7],[20,5,20,7],[16,5,16,7],[234,2,234,4],[234,5,234,11],[234,12,234,24],[234,25,234,47],[234,48,234,56],[235,2,235,4],[235,5,235,11],[235,12,235,24],[235,25,235,47],[235,48,235,56],[232,2,232,4],[232,5,232,11],[232,12,232,24],[232,25,232,47],[232,48,232,56],[233,2,233,4],[233,5,233,11],[233,12,233,24],[233,25,233,47],[233,48,233,56],[230,2,230,4],[230,5,230,11],[230,12,230,24],[230,25,230,47],[230,48,230,56],[231,2,231,4],[231,5,231,11],[231,12,231,24],[231,25,231,47],[231,48,231,56],[228,2,228,4],[228,5,228,11],[228,12,228,24],[228,25,228,47],[228,48,228,56],[229,2,229,4],[229,5,229,11],[229,12,229,24],[229,25,229,47],[229,48,229,56],[226,2,226,4],[226,5,226,11],[226,12,226,24],[226,25,226,47],[226,48,226,56],[227,2,227,4],[227,5,227,11],[227,12,227,24],[227,25,227,47],[227,48,227,56],[224,2,224,4],[224,5,224,11],[224,12,224,24],[224,25,224,47],[224,48,224,56],[225,2,225,4],[225,5,225,11],[225,12,225,24],[225,25,225,47],[225,48,225,56],[222,2,222,4],[222,5,222,11],[222,12,222,24],[222,25,222,47],[222,48,222,56],[223,2,223,4],[223,5,223,11],[223,12,223,24],[223,25,223,47],[223,48,223,56],[220,2,220,4],[220,5,220,11],[220,12,220,24],[220,25,220,47],[220,48,220,56],[221,2,221,4],[221,5,221,11],[221,12,221,24],[221,25,221,47],[221,48,221,56],[218,2,218,4],[218,5,218,11],[218,12,218,24],[218,25,218,47],[218,48,218,56],[219,2,219,4],[219,5,219,11],[219,12,219,24],[219,25,219,47],[219,48,219,56],[216,2,216,4],[216,5,216,11],[216,12,216,24],[216,25,216,47],[216,48,216,56],[217,2,217,4],[217,5,217,11],[217,12,217,24],[217,25,217,47],[217,48,217,56],[214,2,214,4],[214,5,214,11],[214,12,214,24],[214,25,214,47],[214,48,214,56],[215,2,215,4],[215,5,215,11],[215,12,215,24],[215,25,215,47],[215,48,215,56],[212,2,212,4],[212,5,212,11],[212,12,212,24],[212,25,212,47],[212,48,212,56],[213,2,213,4],[213,5,213,11],[213,12,213,24],[213,25,213,47],[213,48,213,56],[210,2,210,4],[210,5,210,11],[210,12,210,24],[210,25,210,47],[210,48,210,56],[211,2,211,4],[211,5,211,11],[211,12,211,24],[211,25,211,47],[211,48,211,56],[208,2,208,4],[208,5,208,11],[208,12,208,24],[208,25,208,47],[208,48,208,56],[209,2,209,4],[209,5,209,11],[209,12,209,24],[209,25,209,47],[209,48,209,56],[206,2,206,4],[206,5,206,11],[206,12,206,24],[206,25,206,47],[206,48,206,56],[207,2,207,4],[207,5,207,11],[207,12,207,24],[207,25,207,47],[207,48,207,56],[204,2,204,4],[204,5,204,11],[204,12,204,24],[204,25,204,47],[204,48,204,56],[205,2,205,4],[205,5,205,11],[205,12,205,24],[205,25,205,47],[205,48,205,56],[202,2,202,4],[202,5,202,11],[202,12,202,24],[202,25,202,47],[202,48,202,56],[203,2,203,4],[203,5,203,11],[203,12,203,24],[203,25,203,47],[203,48,203,56],[200,2,200,4],[200,5,200,11],[200,12,200,24],[200,25,200,47],[200,48,200,56],[201,2,201,4],[201,5,201,11],[201,12,201,24],[201,25,201,47],[201,48,201,56],[199,2,199,4],[199,5,199,11],[199,12,199,24],[199,25,199,47],[199,48,199,56],[182,2,182,4],[182,5,182,11],[182,12,182,24],[182,25,182,47],[182,48,182,56],[183,2,183,4],[183,5,183,11],[183,12,183,24],[183,25,183,47],[183,48,183,56],[197,12,197,24],[197,25,197,47],[192,2,192,4],[192,5,192,11],[192,12,192,24],[192,25,192,47],[192,48,192,56],[193,2,193,4],[193,5,193,11],[193,12,193,24],[193,25,193,47],[188,2,188,4],[188,5,188,11],[188,12,188,24],[188,25,188,47],[188,48,188,56],[189,2,189,4],[181,2,181,4],[181,5,181,11],[181,12,181,24],[181,25,181,47],[181,48,181,56],[178,2,178,4],[178,5,178,11],[178,12,178,24],[178,25,178,47],[178,48,178,56],[179,2,179,4],[179,5,179,11],[179,12,179,24],[179,25,179,47],[179,48,179,56],[197,48,197,56],[198,2,198,4],[198,5,198,11],[198,12,198,24],[198,25,198,47],[198,48,198,56],[193,48,193,56],[190,2,190,4],[190,5,190,11],[190,12,190,24],[190,25,190,47],[190,48,190,56],[191,2,191,4],[191,5,191,11],[191,12,191,24],[191,25,191,47],[191,48,191,56],[177,2,177,4],[177,5,177,11],[177,12,177,24],[177,25,177,47],[177,48,177,56],[174,2,174,4],[174,5,174,11],[174,12,174,24],[174,25,174,47],[174,48,174,56],[175,2,175,4],[175,5,175,11],[175,12,175,24],[175,25,175,47],[175,48,175,56],[180,2,180,4],[180,5,180,11],[180,12,180,24],[180,25,180,47],[180,48,180,56],[173,2,173,4],[173,5,173,11],[173,12,173,24],[173,25,173,47],[173,48,173,56],[170,2,170,4],[170,5,170,11],[170,12,170,24],[170,25,170,47],[170,48,170,56],[171,2,171,4],[171,5,171,11],[171,12,171,24],[171,25,171,47],[171,48,171,56],[176,2,176,4],[176,5,176,11],[176,12,176,24],[176,25,176,47],[176,48,176,56],[169,2,169,4],[169,5,169,11],[169,12,169,24],[169,25,169,47],[169,48,169,56],[166,2,166,4],[166,5,166,11],[166,12,166,24],[166,25,166,47],[166,48,166,56],[167,2,167,4],[167,5,167,11],[167,12,167,24],[167,25,167,47],[167,48,167,56],[172,2,172,4],[172,5,172,11],[172,12,172,24],[172,25,172,47],[172,48,172,56],[165,2,165,4],[165,5,165,11],[165,12,165,24],[165,25,165,47],[165,48,165,56],[162,2,162,4],[162,5,162,11],[162,12,162,24],[162,25,162,47],[162,48,162,56],[163,2,163,4],[163,5,163,11],[163,12,163,24],[163,25,163,47],[163,48,163,56],[168,2,168,4],[168,5,168,11],[168,12,168,24],[168,25,168,47],[168,48,168,56],[161,2,161,4],[161,5,161,11],[161,12,161,24],[161,25,161,47],[161,48,161,56],[158,2,158,4],[158,5,158,11],[158,12,158,24],[158,25,158,47],[158,48,158,56],[159,2,159,4],[159,5,159,11],[159,12,159,24],[159,25,159,47],[159,48,159,56],[164,2,164,4],[164,5,164,11],[164,12,164,24],[164,25,164,47],[164,48,164,56],[157,2,157,4],[157,5,157,11],[157,12,157,24],[157,25,157,47],[157,48,157,56],[154,2,154,4],[154,5,154,11],[154,12,154,24],[154,25,154,47],[154,48,154,56],[155,2,155,4],[155,5,155,11],[155,12,155,24],[155,25,155,47],[155,48,155,56],[160,2,160,4],[160,5,160,11],[160,12,160,24],[160,25,160,47],[160,48,160,56],[153,2,153,4],[153,5,153,11],[153,12,153,24],[153,25,153,47],[153,48,153,56],[150,2,150,4],[150,5,150,11],[150,12,150,24],[150,25,150,47],[150,48,150,56],[151,2,151,4],[151,5,151,11],[151,12,151,24],[151,25,151,47],[151,48,151,56],[156,2,156,4],[156,5,156,11],[156,12,156,24],[156,25,156,47],[156,48,156,56],[152,5,152,11],[152,12,152,24],[152,25,152,47],[152,48,152,56],[142,2,142,4],[142,5,142,11],[142,12,142,24],[142,25,142,47],[142,48,142,56],[148,2,148,4],[148,5,148,11],[148,12,148,24],[148,25,148,47],[148,48,148,56],[149,2,149,4],[149,5,149,11],[149,12,149,24],[149,25,149,47],[149,48,149,56],[146,2,146,4],[146,5,146,11],[146,12,146,24],[146,25,146,47],[146,48,146,56],[147,2,147,4],[147,5,147,11],[147,12,147,24],[147,25,147,47],[147,48,147,56],[130,2,130,4],[130,5,130,11],[130,12,130,24],[130,25,130,47],[130,48,130,56],[131,2,131,4],[131,5,131,11],[131,12,131,24],[131,25,131,47],[131,48,131,56],[134,2,134,47],[134,48,134,56],[141,2,141,4],[141,5,141,11],[141,12,141,24],[141,25,141,47],[141,48,141,56],[139,2,139,4],[139,5,139,11],[139,12,139,24],[139,25,139,47],[139,48,139,56],[140,2,140,4],[140,5,140,11],[140,12,140,24],[140,25,140,47],[140,48,140,56],[137,2,137,4],[137,5,137,11],[137,12,137,24],[137,25,137,47],[137,48,137,56],[128,2,128,4],[128,5,128,11],[128,12,128,24],[128,25,128,47],[128,48,128,56],[129,2,129,4],[129,5,129,11],[129,12,129,24],[129,25,129,47],[129,48,129,56],[126,2,126,4],[126,5,126,11],[126,12,126,24],[126,25,126,47],[126,48,126,56],[127,2,127,4],[127,5,127,11],[127,12,127,24],[127,25,127,47],[127,48,127,56],[124,2,124,4],[124,5,124,11],[124,12,124,24],[124,25,124,47],[124,48,124,56],[125,2,125,4],[125,5,125,11],[125,12,125,24],[125,25,125,47],[125,48,125,56],[122,2,122,4],[122,5,122,11],[122,12,122,24],[122,25,122,47],[122,48,122,56],[123,2,123,4],[123,5,123,11],[123,12,123,24],[123,25,123,47],[123,48,123,56],[120,2,120,4],[120,5,120,11],[120,12,120,24],[120,25,120,47],[120,48,120,56],[121,2,121,4],[121,5,121,11],[121,12,121,24],[121,25,121,47],[121,48,121,56],[118,2,118,4],[118,5,118,11],[118,12,118,24],[118,25,118,47],[118,48,118,56],[119,2,119,4],[119,5,119,11],[119,12,119,24],[119,25,119,47],[119,48,119,56],[116,2,116,4],[116,5,116,11],[116,12,116,24],[116,25,116,47],[116,48,116,56],[117,2,117,4],[117,5,117,11],[117,12,117,24],[117,25,117,47],[117,48,117,56],[114,2,114,4],[114,5,114,11],[114,12,114,24],[114,25,114,47],[114,48,114,56],[115,2,115,4],[115,5,115,11],[115,12,115,24],[115,25,115,47],[115,48,115,56],[112,2,112,4],[112,5,112,11],[112,12,112,24],[112,25,112,47],[112,48,112,56],[113,2,113,4],[113,5,113,11],[113,12,113,24],[113,25,113,47],[113,48,113,56],[110,2,110,4],[110,5,110,11],[110,12,110,24],[110,25,110,47],[110,48,110,56],[111,2,111,4],[111,5,111,11],[111,12,111,24],[111,25,111,47],[111,48,111,56],[108,2,108,4],[108,5,108,11],[108,12,108,24],[108,25,108,47],[108,48,108,56],[109,2,109,4],[109,5,109,11],[109,12,109,24],[109,25,109,47],[109,48,109,56],[106,2,106,4],[106,5,106,11],[106,12,106,24],[106,25,106,47],[106,48,106,56],[107,2,107,4],[107,5,107,11],[107,12,107,24],[107,25,107,47],[107,48,107,56],[104,2,104,4],[104,5,104,11],[104,12,104,24],[104,25,104,47],[104,48,104,56],[105,2,105,4],[105,5,105,11],[105,12,105,24],[105,25,105,47],[105,48,105,56],[102,2,102,4],[102,5,102,11],[102,12,102,24],[102,25,102,47],[102,48,102,56],[103,2,103,4],[103,5,103,11],[103,12,103,24],[103,25,103,47],[103,48,103,56],[100,2,100,4],[100,5,100,11],[100,12,100,24],[100,25,100,47],[100,48,100,56],[101,2,101,4],[101,5,101,11],[101,12,101,24],[101,25,101,47],[101,48,101,56],[98,2,98,4],[98,5,98,11],[98,12,98,24],[98,25,98,47],[98,48,98,56],[99,2,99,4],[99,5,99,11],[99,12,99,24],[99,25,99,47],[99,48,99,56],[96,2,96,4],[96,5,96,11],[96,12,96,24],[96,25,96,47],[96,48,96,56],[97,2,97,4],[97,5,97,11],[97,12,97,24],[97,25,97,47],[97,48,97,56],[94,2,94,4],[94,5,94,11],[94,12,94,24],[94,25,94,47],[94,48,94,56],[95,2,95,4],[95,5,95,11],[95,12,95,24],[95,25,95,47],[95,48,95,56],[92,2,92,4],[92,5,92,11],[92,12,92,24],[92,25,92,47],[92,48,92,56],[93,2,93,4],[93,5,93,11],[93,12,93,24],[93,25,93,47],[93,48,93,56],[236,2,236,4],[236,5,236,11],[236,12,236,24],[236,25,236,47],[236,48,236,56],[194,2,194,4],[194,5,194,11],[194,12,194,24],[194,25,194,47],[194,48,194,56],[195,2,195,4],[195,5,195,11],[195,12,195,24],[195,25,195,47],[195,48,195,56],[196,2,196,4],[196,5,196,11],[196,12,196,24],[196,25,196,47],[196,48,196,56],[197,2,197,4],[197,5,197,11],[189,5,189,11],[189,12,189,24],[189,25,189,47],[189,48,189,56],[186,2,186,47],[186,48,186,56],[187,2,187,4],[187,5,187,11],[187,12,187,24],[187,25,187,47],[187,48,187,56],[143,2,143,4],[143,5,143,11],[143,12,143,24],[143,25,143,47],[143,48,143,56],[184,2,184,4],[184,5,184,11],[184,12,184,24],[184,25,184,47],[184,48,184,56],[144,2,144,4],[144,5,144,11],[144,12,144,24],[144,25,144,47],[144,48,144,56],[145,2,145,4],[145,5,145,11],[145,12,145,24],[145,25,145,47],[145,48,145,56],[152,2,152,4],[138,2,138,4],[138,5,138,11],[138,12,138,24],[138,25,138,47],[138,48,138,56],[135,2,135,4],[135,5,135,11],[135,12,135,24],[135,25,135,47],[135,48,135,56],[136,2,136,4],[136,5,136,11],[136,12,136,24],[136,25,136,47],[136,48,136,56],[4,2,4,5],[3,2,3,5],[28,47,28,56],[26,21,26,23],[26,24,26,26],[26,27,26,36],[26,37,26,46],[27,47,27,56],[27,6,27,8],[27,9,27,11],[27,12,27,14],[27,15,27,17],[27,18,27,20],[27,21,27,23],[13,6,13,12],[18,40,18,56],[13,24,13,39],[2,2,2,5],[2,6,2,12],[3,6,3,12],[4,6,4,12],[2,13,2,56],[3,13,3,56],[4,13,4,56],[7,1,7,56],[26,47,26,56],[15,1,15,56],[13,13,13,23],[19,24,19,39],[19,40,19,56],[20,24,20,39],[20,40,20,56],[22,1,22,56]],"merged_total":1122,"flags":["merged_cut"]}
[]
[null,{"$f":"Inputs!$B$18","v":"ads"}]
[null,"Date:",{"$f":"Inputs!B16","v":"2014-01-27"},null,null,null,{"$f":"Inputs!A19","v":"Control Section(s):"},null,null,null,null,null,null,{"$f":"Inputs!B19","v":12345}]
[null,"Agency:",{"$f":"Inputs!B15","v":"MDOT"},null,null,null,{"$f":"Inputs!A20","v":"PR Number(s):"},null,null,null,null,null,null,{"$f":"Inputs!B20","v":1234567}]
[null,"Analyst:",{"$f":"Inputs!B14","v":"DCK"},null,null,null,{"$f":"Inputs!A21","v":"Job Number(s):"},null,null,null,null,null,null,{"$f":"Inputs!B21","v":"12345A"}]
[null,"Description:",{"$f":"Inputs!B22","v":"Description"}]
[]
[null,"Empirical Bayes Analysis (Site-Specific)"]
[null,"Predicted average crash frequency\n(crashes/year)",null,null,null,null,null,null,null,null,null,null,null,"Observed Crashes\n(crashes/year)"]
[null,null,"Npredicted (TOTAL)","Npredicted (FI)","Npredicted (PDO)","Npredicted (ped)","Npredicted (bike)",null,null,null,null,null,null,"Nobserved (TOTAL)",null,null,null,null,null,null,null,null,null,null,"Nobserved (segment)",null,null,null,null,null,null,null,null,null,null,null,null,null,null,null,"Nobserved (intersection)"]
[null,"Rural\n2-Lane",{"$f":"SUM('Rural 2-Lane Segments'!$FW:$FW,'Rural 2-Lane Intersections'!$EL:$EL)","v":27.455023417247173},{"$f":"SUM('Rural 2-Lane Segments'!$FS:$FS,'Rural 2-Lane Intersections'!$EK:$EK)","v":5.6419237609479449},{"$f":"SUM('Rural 2-Lane Segments'!$FO:$FO,'Rural 2-Lane Intersections'!$EJ:$EJ)","v":21.813099656299222},"--","--",null,null,null,null,null,null,{"$f":"IF(C11=0,\"--\",Y11+AO11)","v":16.2},null,null,null,null,null,null,null,null,null,null,{"$f":"IF(C11=0,\"--\",SUM('Rural 2-Lane Segments'!$AD:$AD))","v":0},null,null,null,null,null,null,null,null,null,null,null,null,null,null,null,{"$f":"IF(C11=0,\"--\",SUM('Rural 2-Lane Intersections'!$T:$T))","v":16.2}]
[null,"Rural\nMultilane",{"$f":"SUM('Rural Divided Multilane Seg'!$EX:$EX,'Rural Undivided Multilane Seg'!$GA:GA,'Rural Multilane Intersections'!$EE:$EE)","v":0},{"$f":"SUM('Rural Divided Multilane Seg'!$EU:$EU,'Rural Undivided Multilane Seg'!$FX:$FX,'Rural Multilane Intersections'!$ED:$ED)","v":0},{"$f":"SUM('Rural Divided Multilane Seg'!$EO:$EO,'Rural Undivided Multilane Seg'!$FR:$FR,'Rural Multilane Intersections'!$EB:$EB)","v":0},"--","--",null,null,null,null,null,null,{"$f":"IF(C12=0,\"--\",Y12+AO12)","v":"--"},null,null,null,null,null,null,null,null,null,null,{"$f":"IF(C12=0,\"--\",SUM('Rural Divided Multilane Seg'!$S:$S,'Rural Undivided Multilane Seg'!$S:$S))","v":"--"},null,null,null,null,null,null,null,null,null,null,null,null,null,null,null,{"$f":"IF(C12=0,\"--\",SUM('Rural Multilane Intersections'!$S:$S))","v":"--"}]
[null,"Urban/\nSuburban",{"$f":"SUM('Urban & Suburban Segments'!$BU:$BU,'Urban & Suburban Segments'!$EE:$EE,'Urban & Suburban Segments'!$HI:$HI,'Urban & Suburban Intersections'!$CE:$CE,'Urban & Suburban Intersections'!$EM:$EM)","v":0},{"$f":"SUM('Urban & Suburban Segments'!$CD:$CD,'Urban & Suburban Segments'!$EN:$EN,'Urban & Suburban Segments'!$HO:$HO,'Urban & Suburban Intersections'!$CO:$CO,'Urban & Suburban Intersections'!$EW:$EW)","v":0},{"$f":"SUM('Urban & Suburban Segments'!$CM:$CM,'Urban & Suburban Segments'!$EW:$EW,'Urban & Suburban Segments'!$HU:$HU,'Urban & Suburban Intersections'!$CY:$CY,'Urban & Suburban Intersections'!$FG:$FG)","v":0},{"$f":"SUM('Urban & Suburban Segments'!$IB:$IB,'Urban & Suburban Intersections'!$GV:$GV)","v":0},{"$f":"SUM('Urban & Suburban Segments'!$IP:$IP,'Urban & Suburban Intersections'!$IF:$IF)","v":0},null,null,null,null,null,null,{"$f":"IF(C13=0,\"--\",Y13+AO13)","v":"--"},null,null,null,null,null,null,null,null,null,null,{"$f":"IF(C13=0,\"--\",SUM('Urban & Suburban Segments'!$AC:$AE))","v":"--"},null,null,null,null,null,null,null,null,null,null,null,null,null,null,null,{"$f":"IF(C13=0,\"--\",SUM('Urban & Suburban Intersections'!$AE:$AF))","v":"--"}]
[null,"Total",{"$f":"SUM(C11:C13)","v":27.455023417247173},{"$f":"SUM(D11:D13)","v":5.6419237609479449},{"$f":"SUM(E11:E13)","v":21.813099656299222},{"$f":"SUM(F11:F13)","v":0},{"$f":"SUM(G11:M13)","v":0},null,null,null,null,null,null,{"$f":"SUM(N11:X13)","v":16.2},null,null,null,null,null,null,null,null,null,null,{"$f":"SUM(Y11:AN13)","v":0},null,null,null,null,null,null,null,null,null,null,null,null,null,null,null,{"$f":"SUM(AO11:BE13)","v":16.2}]
[]
[null,"Expected Crashes\n(crashes/year)"]
[null,null,"Nexpected (TOTAL)","Nexpected (FI)","Nexpected (PDO)","Nexpected (vehicle)",null,null,"Nexpected (ped)",null,null,null,null,null,null,null,"Nexpected (bike)",null,null,null,null,null,null,null,"Nexpected (segment)",null,null,null,null,null,null,null,null,null,null,null,null,null,null,null,"Nexpected (intersection)"]
[null,"Rural\n2-Lane",{"$f":"+Y18+AO18","v":18.885680166139412},{"$f":"IF(C11=0,0,C18*D11/C11)","v":3.8809498011234576},{"$f":"IF(C11=0,0,C18*E11/C11)","v":15.004730365015952},{"$f":"C18","v":18.885680166139412},null,null,"--",null,null,null,null,null,null,null,"--",null,null,null,null,null,null,null,{"$f":"SUM('Rural 2-Lane Segments'!$AG:$AG)","v":0},null,null,null,null,null,null,null,null,null,null,null,null,null,null,null,{"$f":"SUM('Rural 2-Lane Intersections'!$W:$W)","v":18.885680166139412}]
[null,"Rural\nMultilane",{"$f":"+Y19+AO19","v":0},{"$f":"IF(C12=0,0,C19*D12/C12)","v":0},{"$f":"IF(C12=0,0,C19*E12/C12)","v":0},{"$f":"C19","v":0},null,null,"--",null,null,null,null,null,null,null,"--",null,null,null,null,null,null,null,{"$f":"SUM('Rural Divided Multilane Seg'!$V:$V,'Rural Undivided Multilane Seg'!$V:$V)","v":0},null,null,null,null,null,null,null,null,null,null,null,null,null,null,null,{"$f":"SUM('Rural Multilane Intersections'!$V:$V)","v":0}]
[null,"Urban/\nSuburban",0,{"$f":"IF(C13=0,0,F20*D13/C13)+I20+Q20","v":0},{"$f":"IF(C13=0,0,F20*E13/C13)","v":0},{"$f":"SUM('Urban & Suburban Segments'!$AL:$AN,'Urban & Suburban Intersections'!$AK:$AL)","v":0},null,null,{"$f":"IF(SUM('Urban & Suburban Segments'!$AC:$AE,'Urban & Suburban Intersections'!$AE:$AF)=0,0,F13)","v":0},null,null,null,null,null,null,null,{"$f":"IF(SUM('Urban & Suburban Segments'!$AC:$AE,'Urban & Suburban Intersections'!$AE:$AF)=0,0,G13)","v":0},null,null,null,null,null,null,null,{"$f":"IF(D20=0,0,SUM('Urban & Suburban Segments'!$AL:$AN,'Urban & Suburban Segments'!$IB:$IB,'Urban & Suburban Segments'!$IP:$IP))","v":0},null,null,null,null,null,null,null,null,null,null,null,null,null,null,null,{"$f":"IF(D20=0,0,SUM('Urban & Suburban Intersections'!$AK:$AL,'Urban & Suburban Intersections'!$GV:$GV,'Urban & Suburban Intersections'!$IF:$IF))","v":0}]
[null,"Total",{"$f":"SUM(C18:C20)","v":18.885680166139412},{"$f":"SUM(D18:D20)","v":3.8809498011234576},{"$f":"SUM(E18:E20)","v":15.004730365015952},{"$f":"SUM(F18:F20)","v":18.885680166139412},null,null,{"$f":"SUM(I18:P20)","v":0},null,null,null,null,null,null,null,{"$f":"SUM(N18:X20)","v":0},null,null,null,null,null,null,null,{"$f":"SUM(Y18:AN20)","v":0},null,null,null,null,null,null,null,null,null,null,null,null,null,null,null,{"$f":"SUM(AO18:BE20)","v":18.885680166139412}]
[]
[null,"Empirical Bayes Analysis (Project-Level)"]
[null,null,"Predicted average crash frequency\n(crashes/year)",null,null,"Observed Crashes\n(crashes/year)","Coefficients",null,null,null,null,null,null,null,null,null,null,null,null,null,null,null,null,null,null,null,null,"Expected Crashes\n(crashes/year)"]
[null,null,"Npredicted (TOTAL)","Npredicted (FI)","Npredicted (PDO)","Nobserved","Nw0",null,null,"Nw1",null,null,"W0",null,null,"N0",null,null,"W1",null,null,"N1",null,null,"Np/comb",null,null,"Nexpected (TOTAL)",null,null,null,null,null,null,null,null,null,"Nexpected (FI)",null,null,null,null,null,null,null,null,null,"Nexpected (pdo)"]
[null,"Rural\n2-Lane",{"$f":"SUM('Rural 2-Lane Segments'!$FW:$FW,'Rural 2-Lane Intersections'!$EL:$EL)","v":27.455023417247173},{"$f":"SUM('Rural 2-Lane Segments'!$FS:$FS,'Rural 2-Lane Intersections'!$EK:$EK)","v":5.6419237609479449},{"$f":"SUM('Rural 2-Lane Segments'!$FO:$FO,'Rural 2-Lane Intersections'!$EJ:$EJ)","v":21.813099656299222},{"$f":"Inputs!E4","v":25},{"$f":"IF(OR(C26=0,F26=0),0,SUM('Rural 2-Lane Segments'!AI:AI,'Rural 2-Lane Intersections'!Y:Y))","v":20.4612772116581},null,null,{"$f":"IF(OR(C26=0,F26=0),0,SUM('Rural 2-Lane Segments'!AJ:AJ,'Rural 2-Lane Intersections'!Z:Z))","v":8.4460427339750108},null,null,{"$f":"IF(OR(C26=0,F26=0),0,1/(1+G26/C26))","v":0.57297877876417425},null,null,{"$f":"IF(OR(C26=0,F26=0),0,M26*C26+((1-M26)*F26))","v":26.406676319451734},null,null,{"$f":"IF(OR(C26=0,F26=0),0,1/(1+(J26/C26)))","v":0.7647411723540839},null,null,{"$f":"IF(C26=0,0,S26*C26+(1-S26)*F26)","v":26.877457486262333},null,null,{"$f":"(P26+V26)/2","v":26.642066902857032},null,null,{"$f":"Y26","v":26.642066902857032},null,null,null,null,null,null,null,null,null,{"$f":"IF(OR(C26=0,F26=0),0,Y26*D26/C26)","v":5.4748636712350418},null,null,null,null,null,null,null,null,null,{"$f":"IF(OR(C26=0,F26=0),0,Y26*E26/C26)","v":21.167203231621983}]
[null,"Rural\nMultilane",{"$f":"SUM('Rural Divided Multilane Seg'!$EX:$EX,'Rural Undivided Multilane Seg'!$GA:$GA,'Rural Multilane Intersections'!$EE:$EE)","v":0},{"$f":"SUM('Rural Divided Multilane Seg'!$EU:$EU,'Rural Undivided Multilane Seg'!$FX:$FX,'Rural Multilane Intersections'!$ED:$ED)","v":0},{"$f":"SUM('Rural Divided Multilane Seg'!$EO:$EO,'Rural Undivided Multilane Seg'!$FR:$FR,'Rural Multilane Intersections'!$EB:$EB)","v":0},{"$f":"Inputs!F4","v":0},{"$f":"IF(OR(C27=0,F27=0),0,SUM('Rural Divided Multilane Seg'!$X:$X,'Rural Undivided Multilane Seg'!$X:$X,'Rural Multilane Intersections'!$X:$X))","v":0},null,null,{"$f":"IF(OR(C27=0,F27=0),0,SUM('Rural Divided Multilane Seg'!$Y:$Y,'Rural Undivided Multilane Seg'!$Y:$Y,'Rural Multilane Intersections'!$Y:$Y))","v":0},null,null,{"$f":"IF(OR(C27=0,F27=0),0,1/(1+G27/C27))","v":0},null,null,{"$f":"IF(OR(C27=0,F27=0),0,M27*C27+((1-M27)*F27))","v":0},null,null,{"$f":"IF(OR(C27=0,F27=0),0,1/(1+(J27/C27)))","v":0},null,null,{"$f":"IF(C27=0,0,S27*C27+(1-S27)*F27)","v":0},null,null,{"$f":"(P27+V27)/2","v":0},null,null,{"$f":"Y27","v":0},null,null,null,null,null,null,null,null,null,{"$f":"IF(OR(C27=0,F27=0),0,Y27*D27/C27)","v":0},null,null,null,null,null,null,null,null,null,{"$f":"IF(OR(C27=0,F27=0),0,Y27*E27/C27)","v":0}]
[null,"Urban/\nSuburban",{"$f":"SUM('Urban & Suburban Segments'!$BU:$BU,'Urban & Suburban Segments'!$EE:$EE,'Urban & Suburban Segments'!$HI:$HI,'Urban & Suburban Intersections'!$CE:$CE,'Urban & Suburban Intersections'!$EM:$EM)","v":0},{"$f":"SUM('Urban & Suburban Segments'!$CD:$CD,'Urban & Suburban Segments'!$EN:$EN,'Urban & Suburban Segments'!$HO:$HO,'Urban & Suburban Intersections'!$CO:$CO,'Urban & Suburban Intersections'!$EW:$EW)","v":0},{"$f":"SUM('Urban & Suburban Segments'!$CM:$CM,'Urban & Suburban Segments'!$EW:$EW,'Urban & Suburban Segments'!$HU:$HU,'Urban & Suburban Intersections'!$CY:$CY,'Urban & Suburban Intersections'!$FG:$FG)","v":0},{"$f":"Inputs!G4","v":0},{"$f":"IF(OR(C28=0,F28=0),0,SUM('Urban & Suburban Segments'!$AQ:$AS,'Urban & Suburban Intersections'!$AO:$AP))","v":0},null,null,{"$f":"IF(OR(C28=0,F28=0),0,SUM('Urban & Suburban Segments'!$AT:$AV,'Urban & Suburban Intersections'!$AQ:$AR))","v":0},null,null,{"$f":"IF(OR(C28=0,F28=0),0,1/(1+G28/C28))","v":0},null,null,{"$f":"IF(OR(C28=0,F28=0),0,M28*C28+((1-M28)*F28))","v":0},null,null,{"$f":"IF(OR(C28=0,F28=0),0,1/(1+(J28/C28)))","v":0},null,null,{"$f":"IF(OR(C28=0,F28=0),0,S28*C28+(1-S28)*F28)","v":0},null,null,{"$f":"IF(F28=0,0,(P28+V28)/2)","v":0},null,null,{"$f":"IF(F28=0,0,Y28+SUM('Urban & Suburban Segments'!$IB:$IB,'Urban & Suburban Segments'!$IP:$IP,'Urban & Suburban Intersections'!$IY:$IZ))","v":0},null,null,null,null,null,null,null,null,null,{"$f":"IF(OR(C28=0,F28=0),0,Y28*D28/C28+SUM('Urban & Suburban Segments'!$IB:$IB,'Urban & Suburban Segments'!$IP:$IP,'Urban & Suburban Intersections'!$IY:$IZ))","v":0},null,null,null,null,null,null,null,null,null,{"$f":"IF(OR(C28=0,F28=0),0,Y28*E28/C28)","v":0}]
[null,"Total",{"$f":"SUM(C26:C28)","v":27.455023417247173},{"$f":"SUM(D26:D28)","v":5.6419237609479449},{"$f":"SUM(E26:E28)","v":21.813099656299222},{"$f":"SUM(F26:F28)","v":25},"--",null,null,"--",null,null,"--",null,null,"--",null,null,"--",null,null,"--",null,null,"--",null,null,{"$f":"SUM(AB26:AB28)","v":26.642066902857032},0,0,0,0,0,0,0,0,0,5.4748636712350418,0,0,0,0,0,0,0,0,0,21.167203231621983,0,0,0,0,0,0,0,0,0]
[]
[null,"Rank","Highest Expected Average Crashes",null,null,null,null,null,null,null,null,null,null,null,null,null,null,null,null,null,null,null,null,null,null,null,null,null,null,null,null,null,null,null,null,null,null,null,null,null,null,null,null,null,null,null,null,null,"Excess"]
[null,1,{"$f":"IF(ISERROR(RankingExpectedAverage!K1),\"--\",OFFSET(RankingExpectedAverage!$A$1,RankingExpectedAverage!$K1-1,1))","v":"(INT) Pineapple @ Emil"},null,null,{"$f":"IF(ISERROR(RankingExpectedAverage!K1),\"--\",OFFSET(RankingExpectedAverage!$A$1,RankingExpectedAverage!$K1-1,2))","v":"Heritage County"},null,null,null,null,null,null,{"$f":"IF(ISERROR(RankingExpectedAverage!K1),\"--\",OFFSET(RankingExpectedAverage!$A$1,RankingExpectedAverage!$K1-1,3))","v":"Control = 4ST"},null,null,null,null,null,null,null,null,null,null,null,null,{"$f":"IF(ISERROR(RankingExpectedAverage!K1),\"--\",OFFSET(RankingExpectedAverage!$A$1,RankingExpectedAverage!$K1-1,4))","v":"Major AADT: 3,500 / Minor AADT: 3,300"},null,null,null,null,null,null,null,null,null,null,null,null,null,null,null,null,null,null,null,null,null,null,{"$f":"IF(ISERROR(RankingExpectedAverage!K1),\"--\",OFFSET(RankingExpectedAverage!$A$1,RankingExpectedAverage!$K1-1,5))","v":3.8939832407462966}]
[null,2,{"$f":"IF(ISERROR(RankingExpectedAverage!K2),\"--\",OFFSET(RankingExpectedAverage!$A$1,RankingExpectedAverage!$K2-1,1))","v":"(INT) Orange @ Jaakko"},null,null,{"$f":"IF(ISERROR(RankingExpectedAverage!K2),\"--\",OFFSET(RankingExpectedAverage!$A$1,RankingExpectedAverage!$K2-1,2))","v":"Heritage County"},null,null,null,null,null,null,{"$f":"IF(ISERROR(RankingExpectedAverage!K2),\"--\",OFFSET(RankingExpectedAverage!$A$1,RankingExpectedAverage!$K2-1,3))","v":"Control = 4ST"},null,null,null,null,null,null,null,null,null,null,null,null,{"$f":"IF(ISERROR(RankingExpectedAverage!K2),\"--\",OFFSET(RankingExpectedAverage!$A$1,RankingExpectedAverage!$K2-1,4))","v":"Major AADT: 2,750 / Minor AADT: 2,500"},null,null,null,null,null,null,null,null,null,null,null,null,null,null,null,null,null,null,null,null,null,null,{"$f":"IF(ISERROR(RankingExpectedAverage!K2),\"--\",OFFSET(RankingExpectedAverage!$A$1,RankingExpectedAverage!$K2-1,5))","v":2.6308187636941125}]
[null,3,{"$f":"IF(ISERROR(RankingExpectedAverage!K3),\"--\",OFFSET(RankingExpectedAverage!$A$1,RankingExpectedAverage!$K3-1,1))","v":"(INT) Mango @ Aili"},null,null,{"$f":"IF(ISERROR(RankingExpectedAverage!K3),\"--\",OFFSET(RankingExpectedAverage!$A$1,RankingExpectedAverage!$K3-1,2))","v":"Heritage County"},null,null,null,null,null,null,{"$f":"IF(ISERROR(RankingExpectedAverage!K3),\"--\",OFFSET(RankingExpectedAverage!$A$1,RankingExpectedAverage!$K3-1,3))","v":"Control = 4ST"},null,null,null,null,null,null,null,null,null,null,null,null,{"$f":"IF(ISERROR(RankingExpectedAverage!K3),\"--\",OFFSET(RankingExpectedAverage!$A$1,RankingExpectedAverage!$K3-1,4))","v":"Major AADT: 3,200 / Minor AADT: 1,150"},null,null,null,null,null,null,null,null,null,null,null,null,null,null,null,null,null,null,null,null,null,null,{"$f":"IF(ISERROR(RankingExpectedAverage!K3),\"--\",OFFSET(RankingExpectedAverage!$A$1,RankingExpectedAverage!$K3-1,5))","v":2.208842157247588}]
[null,4,{"$f":"IF(ISERROR(RankingExpectedAverage!K4),\"--\",OFFSET(RankingExpectedAverage!$A$1,RankingExpectedAverage!$K4-1,1))","v":"(INT) Banana @ Toivo"},null,null,{"$f":"IF(ISERROR(RankingExpectedAverage!K4),\"--\",OFFSET(RankingExpectedAverage!$A$1,RankingExpectedAverage!$K4-1,2))","v":"Heritage County"},null,null,null,null,null,null,{"$f":"IF(ISERROR(RankingExpectedAverage!K4),\"--\",OFFSET(RankingExpectedAverage!$A$1,RankingExpectedAverage!$K4-1,3))","v":"Control = 4ST"},null,null,null,null,null,null,null,null,null,null,null,null,{"$f":"IF(ISERROR(RankingExpectedAverage!K4),\"--\",OFFSET(RankingExpectedAverage!$A$1,RankingExpectedAverage!$K4-1,4))","v":"Major AADT: 2,100 / Minor AADT: 2,000"},null,null,null,null,null,null,null,null,null,null,null,null,null,null,null,null,null,null,null,null,null,null,{"$f":"IF(ISERROR(RankingExpectedAverage!K4),\"--\",OFFSET(RankingExpectedAverage!$A$1,RankingExpectedAverage!$K4-1,5))","v":2.1775096684401922}]
[null,5,{"$f":"IF(ISERROR(RankingExpectedAverage!K5),\"--\",OFFSET(RankingExpectedAverage!$A$1,RankingExpectedAverage!$K5-1,1))","v":"(INT) Lemon @ Tuula"},null,null,{"$f":"IF(ISERROR(RankingExpectedAverage!K5),\"--\",OFFSET(RankingExpectedAverage!$A$1,RankingExpectedAverage!$K5-1,2))","v":"Heritage County"},null,null,null,null,null,null,{"$f":"IF(ISERROR(RankingExpectedAverage!K5),\"--\",OFFSET(RankingExpectedAverage!$A$1,RankingExpectedAverage!$K5-1,3))","v":"Control = 4ST"},null,null,null,null,null,null,null,null,null,null,null,null,{"$f":"IF(ISERROR(RankingExpectedAverage!K5),\"--\",OFFSET(RankingExpectedAverage!$A$1,RankingExpectedAverage!$K5-1,4))","v":"Major AADT: 3,700 / Minor AADT: 2,100"},null,null,null,null,null,null,null,null,null,null,null,null,null,null,null,null,null,null,null,null,null,null,{"$f":"IF(ISERROR(RankingExpectedAverage!K5),\"--\",OFFSET(RankingExpectedAverage!$A$1,RankingExpectedAverage!$K5-1,5))","v":2.0234598088798723}]
[null,6,{"$f":"IF(ISERROR(RankingExpectedAverage!K6),\"--\",OFFSET(RankingExpectedAverage!$A$1,RankingExpectedAverage!$K6-1,1))","v":"(INT) Apple @ Heikki"},null,null,{"$f":"IF(ISERROR(RankingExpectedAverage!K6),\"--\",OFFSET(RankingExpectedAverage!$A$1,RankingExpectedAverage!$K6-1,2))","v":"Heritage County"},null,null,null,null,null,null,{"$f":"IF(ISERROR(RankingExpectedAverage!K6),\"--\",OFFSET(RankingExpectedAverage!$A$1,RankingExpectedAverage!$K6-1,3))","v":"Control = 4ST"},null,null,null,null,null,null,null,null,null,null,null,null,{"$f":"IF(ISERROR(RankingExpectedAverage!K6),\"--\",OFFSET(RankingExpectedAverage!$A$1,RankingExpectedAverage!$K6-1,4))","v":"Major AADT: 3,300 / Minor AADT: 2,400"},null,null,null,null,null,null,null,null,null,null,null,null,null,null,null,null,null,null,null,null,null,null,{"$f":"IF(ISERROR(RankingExpectedAverage!K6),\"--\",OFFSET(RankingExpectedAverage!$A$1,RankingExpectedAverage!$K6-1,5))","v":1.9534434184923599}]
[null,7,{"$f":"IF(ISERROR(RankingExpectedAverage!K7),\"--\",OFFSET(RankingExpectedAverage!$A$1,RankingExpectedAverage!$K7-1,1))","v":"(INT) Starfruit @ Alma"},null,null,{"$f":"IF(ISERROR(RankingExpectedAverage!K7),\"--\",OFFSET(RankingExpectedAverage!$A$1,RankingExpectedAverage!$K7-1,2))","v":"Heritage County"},null,null,null,null,null,null,{"$f":"IF(ISERROR(RankingExpectedAverage!K7),\"--\",OFFSET(RankingExpectedAverage!$A$1,RankingExpectedAverage!$K7-1,3))","v":"Control = 4ST"},null,null,null,null,null,null,null,null,null,null,null,null,{"$f":"IF(ISERROR(RankingExpectedAverage!K7),\"--\",OFFSET(RankingExpectedAverage!$A$1,RankingExpectedAverage!$K7-1,4))","v":"Major AADT: 1,900 / Minor AADT: 500"},null,null,null,null,null,null,null,null,null,null,null,null,null,null,null,null,null,null,null,null,null,null,{"$f":"IF(ISERROR(RankingExpectedAverage!K7),\"--\",OFFSET(RankingExpectedAverage!$A$1,RankingExpectedAverage!$K7-1,5))","v":1.7373216853292739}]
[null,8,{"$f":"IF(ISERROR(RankingExpectedAverage!K8),\"--\",OFFSET(RankingExpectedAverage!$A$1,RankingExpectedAverage!$K8-1,1))","v":"(INT) Blueberry @ Matti"},null,null,{"$f":"IF(ISERROR(RankingExpectedAverage!K8),\"--\",OFFSET(RankingExpectedAverage!$A$1,RankingExpectedAverage!$K8-1,2))","v":"Heritage County"},null,null,null,null,null,null,{"$f":"IF(ISERROR(RankingExpectedAverage!K8),\"--\",OFFSET(RankingExpectedAverage!$A$1,RankingExpectedAverage!$K8-1,3))","v":"Control = 3ST"},null,null,null,null,null,null,null,null,null,null,null,null,{"$f":"IF(ISERROR(RankingExpectedAverage!K8),\"--\",OFFSET(RankingExpectedAverage!$A$1,RankingExpectedAverage!$K8-1,4))","v":"Major AADT: 1,800 / Minor AADT: 700"},null,null,null,null,null,null,null,null,null,null,null,null,null,null,null,null,null,null,null,null,null,null,{"$f":"IF(ISERROR(RankingExpectedAverage!K8),\"--\",OFFSET(RankingExpectedAverage!$A$1,RankingExpectedAverage!$K8-1,5))","v":1.2086653600271815}]
[null,9,{"$f":"IF(ISERROR(RankingExpectedAverage!K9),\"--\",OFFSET(RankingExpectedAverage!$A$1,RankingExpectedAverage!$K9-1,1))","v":"(INT) Kiwi @ Hilma"},null,null,{"$f":"IF(ISERROR(RankingExpectedAverage!K9),\"--\",OFFSET(RankingExpectedAverage!$A$1,RankingExpectedAverage!$K9-1,2))","v":"Heritage County"},null,null,null,null,null,null,{"$f":"IF(ISERROR(RankingExpectedAverage!K9),\"--\",OFFSET(RankingExpectedAverage!$A$1,RankingExpectedAverage!$K9-1,3))","v":"Control = 3ST"},null,null,null,null,null,null,null,null,null,null,null,null,{"$f":"IF(ISERROR(RankingExpectedAverage!K9),\"--\",OFFSET(RankingExpectedAverage!$A$1,RankingExpectedAverage!$K9-1,4))","v":"Major AADT: 1,200 / Minor AADT: 1,150"},null,null,null,null,null,null,null,null,null,null,null,null,null,null,null,null,null,null,null,null,null,null,{"$f":"IF(ISERROR(RankingExpectedAverage!K9),\"--\",OFFSET(RankingExpectedAverage!$A$1,RankingExpectedAverage!$K9-1,5))","v":0.63050035184227426}]
[null,10,{"$f":"IF(ISERROR(RankingExpectedAverage!K10),\"--\",OFFSET(RankingExpectedAverage!$A$1,RankingExpectedAverage!$K10-1,1))","v":"(INT) Raspberry @ Arvo"},null,null,{"$f":"IF(ISERROR(RankingExpectedAverage!K10),\"--\",OFFSET(RankingExpectedAverage!$A$1,RankingExpectedAverage!$K10-1,2))","v":"Heritage County"},null,null,null,null,null,null,{"$f":"IF(ISERROR(RankingExpectedAverage!K10),\"--\",OFFSET(RankingExpectedAverage!$A$1,RankingExpectedAverage!$K10-1,3))","v":"Control = 3ST"},null,null,null,null,null,null,null,null,null,null,null,null,{"$f":"IF(ISERROR(RankingExpectedAverage!K10),\"--\",OFFSET(RankingExpectedAverage!$A$1,RankingExpectedAverage!$K10-1,4))","v":"Major AADT: 2,350 / Minor AADT: 900"},null,null,null,null,null,null,null,null,null,null,null,null,null,null,null,null,null,null,null,null,null,null,{"$f":"IF(ISERROR(RankingExpectedAverage!K10),\"--\",OFFSET(RankingExpectedAverage!$A$1,RankingExpectedAverage!$K10-1,5))","v":0.42113571144026074}]
[null,11,{"$f":"IF(ISERROR(RankingExpectedAverage!K11),\"--\",OFFSET(RankingExpectedAverage!$A$1,RankingExpectedAverage!$K11-1,1))","v":"(SEG) SH 321, MP 0.0 to MP 1.5"},null,null,{"$f":"IF(ISERROR(RankingExpectedAverage!K11),\"--\",OFFSET(RankingExpectedAverage!$A$1,RankingExpectedAverage!$K11-1,2))","v":"Anywhere, USA"},null,null,null,null,null,null,{"$f":"IF(ISERROR(RankingExpectedAverage!K11),\"--\",OFFSET(RankingExpectedAverage!$A$1,RankingExpectedAverage!$K11-1,3))","v":"Length = 1.5 mi"},null,null,null,null,null,null,null,null,null,null,null,null,{"$f":"IF(ISERROR(RankingExpectedAverage!K11),\"--\",OFFSET(RankingExpectedAverage!$A$1,RankingExpectedAverage!$K11-1,4))","v":"AADT: 10,000"},null,null,null,null,null,null,null,null,null,null,null,null,null,null,null,null,null,null,null,null,null,null,{"$f":"IF(ISERROR(RankingExpectedAverage!K11),\"--\",OFFSET(RankingExpectedAverage!$A$1,RankingExpectedAverage!$K11-1,5))","v":0}]
[null,12,{"$f":"IF(ISERROR(RankingExpectedAverage!K12),\"--\",OFFSET(RankingExpectedAverage!$A$1,RankingExpectedAverage!$K12-1,1))","v":"--"},null,null,{"$f":"IF(ISERROR(RankingExpectedAverage!K12),\"--\",OFFSET(RankingExpectedAverage!$A$1,RankingExpectedAverage!$K12-1,2))","v":"--"},null,null,null,null,null,null,{"$f":"IF(ISERROR(RankingExpectedAverage!K12),\"--\",OFFSET(RankingExpectedAverage!$A$1,RankingExpectedAverage!$K12-1,3))","v":"--"},null,null,null,null,null,null,null,null,null,null,null,null,{"$f":"IF(ISERROR(RankingExpectedAverage!K12),\"--\",OFFSET(RankingExpectedAverage!$A$1,RankingExpectedAverage!$K12-1,4))","v":"--"},null,null,null,null,null,null,null,null,null,null,null,null,null,null,null,null,null,null,null,null,null,null,{"$f":"IF(ISERROR(RankingExpectedAverage!K12),\"--\",OFFSET(RankingExpectedAverage!$A$1,RankingExpectedAverage!$K12-1,5))","v":"--"}]
[null,13,{"$f":"IF(ISERROR(RankingExpectedAverage!K13),\"--\",OFFSET(RankingExpectedAverage!$A$1,RankingExpectedAverage!$K13-1,1))","v":"--"},null,null,{"$f":"IF(ISERROR(RankingExpectedAverage!K13),\"--\",OFFSET(RankingExpectedAverage!$A$1,RankingExpectedAverage!$K13-1,2))","v":"--"},null,null,null,null,null,null,{"$f":"IF(ISERROR(RankingExpectedAverage!K13),\"--\",OFFSET(RankingExpectedAverage!$A$1,RankingExpectedAverage!$K13-1,3))","v":"--"},null,null,null,null,null,null,null,null,null,null,null,null,{"$f":"IF(ISERROR(RankingExpectedAverage!K13),\"--\",OFFSET(RankingExpectedAverage!$A$1,RankingExpectedAverage!$K13-1,4))","v":"--"},null,null,null,null,null,null,null,null,null,null,null,null,null,null,null,null,null,null,null,null,null,null,{"$f":"IF(ISERROR(RankingExpectedAverage!K13),\"--\",OFFSET(RankingExpectedAverage!$A$1,RankingExpectedAverage!$K13-1,5))","v":"--"}]
[null,14,{"$f":"IF(ISERROR(RankingExpectedAverage!K14),\"--\",OFFSET(RankingExpectedAverage!$A$1,RankingExpectedAverage!$K14-1,1))","v":"--"},null,null,{"$f":"IF(ISERROR(RankingExpectedAverage!K14),\"--\",OFFSET(RankingExpectedAverage!$A$1,RankingExpectedAverage!$K14-1,2))","v":"--"},null,null,null,null,null,null,{"$f":"IF(ISERROR(RankingExpectedAverage!K14),\"--\",OFFSET(RankingExpectedAverage!$A$1,RankingExpectedAverage!$K14-1,3))","v":"--"},null,null,null,null,null,null,null,null,null,null,null,null,{"$f":"IF(ISERROR(RankingExpectedAverage!K14),\"--\",OFFSET(RankingExpectedAverage!$A$1,RankingExpectedAverage!$K14-1,4))","v":"--"},null,null,null,null,null,null,null,null,null,null,null,null,null,null,null,null,null,null,null,null,null,null,{"$f":"IF(ISERROR(RankingExpectedAverage!K14),\"--\",OFFSET(RankingExpectedAverage!$A$1,RankingExpectedAverage!$K14-1,5))","v":"--"}]
[null,15,{"$f":"IF(ISERROR(RankingExpectedAverage!K15),\"--\",OFFSET(RankingExpectedAverage!$A$1,RankingExpectedAverage!$K15-1,1))","v":"--"},null,null,{"$f":"IF(ISERROR(RankingExpectedAverage!K15),\"--\",OFFSET(RankingExpectedAverage!$A$1,RankingExpectedAverage!$K15-1,2))","v":"--"},null,null,null,null,null,null,{"$f":"IF(ISERROR(RankingExpectedAverage!K15),\"--\",OFFSET(RankingExpectedAverage!$A$1,RankingExpectedAverage!$K15-1,3))","v":"--"},null,null,null,null,null,null,null,null,null,null,null,null,{"$f":"IF(ISERROR(RankingExpectedAverage!K15),\"--\",OFFSET(RankingExpectedAverage!$A$1,RankingExpectedAverage!$K15-1,4))","v":"--"},null,null,null,null,null,null,null,null,null,null,null,null,null,null,null,null,null,null,null,null,null,null,{"$f":"IF(ISERROR(RankingExpectedAverage!K15),\"--\",OFFSET(RankingExpectedAverage!$A$1,RankingExpectedAverage!$K15-1,5))","v":"--"}]
[null,16,{"$f":"IF(ISERROR(RankingExpectedAverage!K16),\"--\",OFFSET(RankingExpectedAverage!$A$1,RankingExpectedAverage!$K16-1,1))","v":"--"},null,null,{"$f":"IF(ISERROR(RankingExpectedAverage!K16),\"--\",OFFSET(RankingExpectedAverage!$A$1,RankingExpectedAverage!$K16-1,2))","v":"--"},null,null,null,null,null,null,{"$f":"IF(ISERROR(RankingExpectedAverage!K16),\"--\",OFFSET(RankingExpectedAverage!$A$1,RankingExpectedAverage!$K16-1,3))","v":"--"},null,null,null,null,null,null,null,null,null,null,null,null,{"$f":"IF(ISERROR(RankingExpectedAverage!K16),\"--\",OFFSET(RankingExpectedAverage!$A$1,RankingExpectedAverage!$K16-1,4))","v":"--"},null,null,null,null,null,null,null,null,null,null,null,null,null,null,null,null,null,null,null,null,null,null,{"$f":"IF(ISERROR(RankingExpectedAverage!K16),\"--\",OFFSET(RankingExpectedAverage!$A$1,RankingExpectedAverage!$K16-1,5))","v":"--"}]
[null,17,{"$f":"IF(ISERROR(RankingExpectedAverage!K17),\"--\",OFFSET(RankingExpectedAverage!$A$1,RankingExpectedAverage!$K17-1,1))","v":"--"},null,null,{"$f":"IF(ISERROR(RankingExpectedAverage!K17),\"--\",OFFSET(RankingExpectedAverage!$A$1,RankingExpectedAverage!$K17-1,2))","v":"--"},null,null,null,null,null,null,{"$f":"IF(ISERROR(RankingExpectedAverage!K17),\"--\",OFFSET(RankingExpectedAverage!$A$1,RankingExpectedAverage!$K17-1,3))","v":"--"},null,null,null,null,null,null,null,null,null,null,null,null,{"$f":"IF(ISERROR(RankingExpectedAverage!K17),\"--\",OFFSET(RankingExpectedAverage!$A$1,RankingExpectedAverage!$K17-1,4))","v":"--"},null,null,null,null,null,null,null,null,null,null,null,null,null,null,null,null,null,null,null,null,null,null,{"$f":"IF(ISERROR(RankingExpectedAverage!K17),\"--\",OFFSET(RankingExpectedAverage!$A$1,RankingExpectedAverage!$K17-1,5))","v":"--"}]
[null,18,{"$f":"IF(ISERROR(RankingExpectedAverage!K18),\"--\",OFFSET(RankingExpectedAverage!$A$1,RankingExpectedAverage!$K18-1,1))","v":"--"},null,null,{"$f":"IF(ISERROR(RankingExpectedAverage!K18),\"--\",OFFSET(RankingExpectedAverage!$A$1,RankingExpectedAverage!$K18-1,2))","v":"--"},null,null,null,null,null,null,{"$f":"IF(ISERROR(RankingExpectedAverage!K18),\"--\",OFFSET(RankingExpectedAverage!$A$1,RankingExpectedAverage!$K18-1,3))","v":"--"},null,null,null,null,null,null,null,null,null,null,null,null,{"$f":"IF(ISERROR(RankingExpectedAverage!K18),\"--\",OFFSET(RankingExpectedAverage!$A$1,RankingExpectedAverage!$K18-1,4))","v":"--"},null,null,null,null,null,null,null,null,null,null,null,null,null,null,null,null,null,null,null,null,null,null,{"$f":"IF(ISERROR(RankingExpectedAverage!K18),\"--\",OFFSET(RankingExpectedAverage!$A$1,RankingExpectedAverage!$K18-1,5))","v":"--"}]
[null,19,{"$f":"IF(ISERROR(RankingExpectedAverage!K19),\"--\",OFFSET(RankingExpectedAverage!$A$1,RankingExpectedAverage!$K19-1,1))","v":"--"},null,null,{"$f":"IF(ISERROR(RankingExpectedAverage!K19),\"--\",OFFSET(RankingExpectedAverage!$A$1,RankingExpectedAverage!$K19-1,2))","v":"--"},null,null,null,null,null,null,{"$f":"IF(ISERROR(RankingExpectedAverage!K19),\"--\",OFFSET(RankingExpectedAverage!$A$1,RankingExpectedAverage!$K19-1,3))","v":"--"},null,null,null,null,null,null,null,null,null,null,null,null,{"$f":"IF(ISERROR(RankingExpectedAverage!K19),\"--\",OFFSET(RankingExpectedAverage!$A$1,RankingExpectedAverage!$K19-1,4))","v":"--"},null,null,null,null,null,null,null,null,null,null,null,null,null,null,null,null,null,null,null,null,null,null,{"$f":"IF(ISERROR(RankingExpectedAverage!K19),\"--\",OFFSET(RankingExpectedAverage!$A$1,RankingExpectedAverage!$K19-1,5))","v":"--"}]
[null,20,{"$f":"IF(ISERROR(RankingExpectedAverage!K20),\"--\",OFFSET(RankingExpectedAverage!$A$1,RankingExpectedAverage!$K20-1,1))","v":"--"},null,null,{"$f":"IF(ISERROR(RankingExpectedAverage!K20),\"--\",OFFSET(RankingExpectedAverage!$A$1,RankingExpectedAverage!$K20-1,2))","v":"--"},null,null,null,null,null,null,{"$f":"IF(ISERROR(RankingExpectedAverage!K20),\"--\",OFFSET(RankingExpectedAverage!$A$1,RankingExpectedAverage!$K20-1,3))","v":"--"},null,null,null,null,null,null,null,null,null,null,null,null,{"$f":"IF(ISERROR(RankingExpectedAverage!K20),\"--\",OFFSET(RankingExpectedAverage!$A$1,RankingExpectedAverage!$K20-1,4))","v":"--"},null,null,null,null,null,null,null,null,null,null,null,null,null,null,null,null,null,null,null,null,null,null,{"$f":"IF(ISERROR(RankingExpectedAverage!K20),\"--\",OFFSET(RankingExpectedAverage!$A$1,RankingExpectedAverage!$K20-1,5))","v":"--"}]
[null,21,{"$f":"IF(ISERROR(RankingExpectedAverage!K21),\"--\",OFFSET(RankingExpectedAverage!$A$1,RankingExpectedAverage!$K21-1,1))","v":"--"},null,null,{"$f":"IF(ISERROR(RankingExpectedAverage!K21),\"--\",OFFSET(RankingExpectedAverage!$A$1,RankingExpectedAverage!$K21-1,2))","v":"--"},null,null,null,null,null,null,{"$f":"IF(ISERROR(RankingExpectedAverage!K21),\"--\",OFFSET(RankingExpectedAverage!$A$1,RankingExpectedAverage!$K21-1,3))","v":"--"},null,null,null,null,null,null,null,null,null,null,null,null,{"$f":"IF(ISERROR(RankingExpectedAverage!K21),\"--\",OFFSET(RankingExpectedAverage!$A$1,RankingExpectedAverage!$K21-1,4))","v":"--"},null,null,null,null,null,null,null,null,null,null,null,null,null,null,null,null,null,null,null,null,null,null,{"$f":"IF(ISERROR(RankingExpectedAverage!K21),\"--\",OFFSET(RankingExpectedAverage!$A$1,RankingExpectedAverage!$K21-1,5))","v":"--"}]
[null,22,{"$f":"IF(ISERROR(RankingExpectedAverage!K22),\"--\",OFFSET(RankingExpectedAverage!$A$1,RankingExpectedAverage!$K22-1,1))","v":"--"},null,null,{"$f":"IF(ISERROR(RankingExpectedAverage!K22),\"--\",OFFSET(RankingExpectedAverage!$A$1,RankingExpectedAverage!$K22-1,2))","v":"--"},null,null,null,null,null,null,{"$f":"IF(ISERROR(RankingExpectedAverage!K22),\"--\",OFFSET(RankingExpectedAverage!$A$1,RankingExpectedAverage!$K22-1,3))","v":"--"},null,null,null,null,null,null,null,null,null,null,null,null,{"$f":"IF(ISERROR(RankingExpectedAverage!K22),\"--\",OFFSET(RankingExpectedAverage!$A$1,RankingExpectedAverage!$K22-1,4))","v":"--"},null,null,null,null,null,null,null,null,null,null,null,null,null,null,null,null,null,null,null,null,null,null,{"$f":"IF(ISERROR(RankingExpectedAverage!K22),\"--\",OFFSET(RankingExpectedAverage!$A$1,RankingExpectedAverage!$K22-1,5))","v":"--"}]
[null,23,{"$f":"IF(ISERROR(RankingExpectedAverage!K23),\"--\",OFFSET(RankingExpectedAverage!$A$1,RankingExpectedAverage!$K23-1,1))","v":"--"},null,null,{"$f":"IF(ISERROR(RankingExpectedAverage!K23),\"--\",OFFSET(RankingExpectedAverage!$A$1,RankingExpectedAverage!$K23-1,2))","v":"--"},null,null,null,null,null,null,{"$f":"IF(ISERROR(RankingExpectedAverage!K23),\"--\",OFFSET(RankingExpectedAverage!$A$1,RankingExpectedAverage!$K23-1,3))","v":"--"},null,null,null,null,null,null,null,null,null,null,null,null,{"$f":"IF(ISERROR(RankingExpectedAverage!K23),\"--\",OFFSET(RankingExpectedAverage!$A$1,RankingExpectedAverage!$K23-1,4))","v":"--"},null,null,null,null,null,null,null,null,null,null,null,null,null,null,null,null,null,null,null,null,null,null,{"$f":"IF(ISERROR(RankingExpectedAverage!K23),\"--\",OFFSET(RankingExpectedAverage!$A$1,RankingExpectedAverage!$K23-1,5))","v":"--"}]
[null,24,{"$f":"IF(ISERROR(RankingExpectedAverage!K24),\"--\",OFFSET(RankingExpectedAverage!$A$1,RankingExpectedAverage!$K24-1,1))","v":"--"},null,null,{"$f":"IF(ISERROR(RankingExpectedAverage!K24),\"--\",OFFSET(RankingExpectedAverage!$A$1,RankingExpectedAverage!$K24-1,2))","v":"--"},null,null,null,null,null,null,{"$f":"IF(ISERROR(RankingExpectedAverage!K24),\"--\",OFFSET(RankingExpectedAverage!$A$1,RankingExpectedAverage!$K24-1,3))","v":"--"},null,null,null,null,null,null,null,null,null,null,null,null,{"$f":"IF(ISERROR(RankingExpectedAverage!K24),\"--\",OFFSET(RankingExpectedAverage!$A$1,RankingExpectedAverage!$K24-1,4))","v":"--"},null,null,null,null,null,null,null,null,null,null,null,null,null,null,null,null,null,null,null,null,null,null,{"$f":"IF(ISERROR(RankingExpectedAverage!K24),\"--\",OFFSET(RankingExpectedAverage!$A$1,RankingExpectedAverage!$K24-1,5))","v":"--"}]
[null,25,{"$f":"IF(ISERROR(RankingExpectedAverage!K25),\"--\",OFFSET(RankingExpectedAverage!$A$1,RankingExpectedAverage!$K25-1,1))","v":"--"},null,null,{"$f":"IF(ISERROR(RankingExpectedAverage!K25),\"--\",OFFSET(RankingExpectedAverage!$A$1,RankingExpectedAverage!$K25-1,2))","v":"--"},null,null,null,null,null,null,{"$f":"IF(ISERROR(RankingExpectedAverage!K25),\"--\",OFFSET(RankingExpectedAverage!$A$1,RankingExpectedAverage!$K25-1,3))","v":"--"},null,null,null,null,null,null,null,null,null,null,null,null,{"$f":"IF(ISERROR(RankingExpectedAverage!K25),\"--\",OFFSET(RankingExpectedAverage!$A$1,RankingExpectedAverage!$K25-1,4))","v":"--"},null,null,null,null,null,null,null,null,null,null,null,null,null,null,null,null,null,null,null,null,null,null,{"$f":"IF(ISERROR(RankingExpectedAverage!K25),\"--\",OFFSET(RankingExpectedAverage!$A$1,RankingExpectedAverage!$K25-1,5))","v":"--"}]
[null,26,{"$f":"IF(ISERROR(RankingExpectedAverage!K26),\"--\",OFFSET(RankingExpectedAverage!$A$1,RankingExpectedAverage!$K26-1,1))","v":"--"},null,null,{"$f":"IF(ISERROR(RankingExpectedAverage!K26),\"--\",OFFSET(RankingExpectedAverage!$A$1,RankingExpectedAverage!$K26-1,2))","v":"--"},null,null,null,null,null,null,{"$f":"IF(ISERROR(RankingExpectedAverage!K26),\"--\",OFFSET(RankingExpectedAverage!$A$1,RankingExpectedAverage!$K26-1,3))","v":"--"},null,null,null,null,null,null,null,null,null,null,null,null,{"$f":"IF(ISERROR(RankingExpectedAverage!K26),\"--\",OFFSET(RankingExpectedAverage!$A$1,RankingExpectedAverage!$K26-1,4))","v":"--"},null,null,null,null,null,null,null,null,null,null,null,null,null,null,null,null,null,null,null,null,null,null,{"$f":"IF(ISERROR(RankingExpectedAverage!K26),\"--\",OFFSET(RankingExpectedAverage!$A$1,RankingExpectedAverage!$K26-1,5))","v":"--"}]
[null,27,{"$f":"IF(ISERROR(RankingExpectedAverage!K27),\"--\",OFFSET(RankingExpectedAverage!$A$1,RankingExpectedAverage!$K27-1,1))","v":"--"},null,null,{"$f":"IF(ISERROR(RankingExpectedAverage!K27),\"--\",OFFSET(RankingExpectedAverage!$A$1,RankingExpectedAverage!$K27-1,2))","v":"--"},null,null,null,null,null,null,{"$f":"IF(ISERROR(RankingExpectedAverage!K27),\"--\",OFFSET(RankingExpectedAverage!$A$1,RankingExpectedAverage!$K27-1,3))","v":"--"},null,null,null,null,null,null,null,null,null,null,null,null,{"$f":"IF(ISERROR(RankingExpectedAverage!K27),\"--\",OFFSET(RankingExpectedAverage!$A$1,RankingExpectedAverage!$K27-1,4))","v":"--"},null,null,null,null,null,null,null,null,null,null,null,null,null,null,null,null,null,null,null,null,null,null,{"$f":"IF(ISERROR(RankingExpectedAverage!K27),\"--\",OFFSET(RankingExpectedAverage!$A$1,RankingExpectedAverage!$K27-1,5))","v":"--"}]
[null,28,{"$f":"IF(ISERROR(RankingExpectedAverage!K28),\"--\",OFFSET(RankingExpectedAverage!$A$1,RankingExpectedAverage!$K28-1,1))","v":"--"},null,null,{"$f":"IF(ISERROR(RankingExpectedAverage!K28),\"--\",OFFSET(RankingExpectedAverage!$A$1,RankingExpectedAverage!$K28-1,2))","v":"--"},null,null,null,null,null,null,{"$f":"IF(ISERROR(RankingExpectedAverage!K28),\"--\",OFFSET(RankingExpectedAverage!$A$1,RankingExpectedAverage!$K28-1,3))","v":"--"},null,null,null,null,null,null,null,null,null,null,null,null,{"$f":"IF(ISERROR(RankingExpectedAverage!K28),\"--\",OFFSET(RankingExpectedAverage!$A$1,RankingExpectedAverage!$K28-1,4))","v":"--"},null,null,null,null,null,null,null,null,null,null,null,null,null,null,null,null,null,null,null,null,null,null,{"$f":"IF(ISERROR(RankingExpectedAverage!K28),\"--\",OFFSET(RankingExpectedAverage!$A$1,RankingExpectedAverage!$K28-1,5))","v":"--"}]
[null,29,{"$f":"IF(ISERROR(RankingExpectedAverage!K29),\"--\",OFFSET(RankingExpectedAverage!$A$1,RankingExpectedAverage!$K29-1,1))","v":"--"},null,null,{"$f":"IF(ISERROR(RankingExpectedAverage!K29),\"--\",OFFSET(RankingExpectedAverage!$A$1,RankingExpectedAverage!$K29-1,2))","v":"--"},null,null,null,null,null,null,{"$f":"IF(ISERROR(RankingExpectedAverage!K29),\"--\",OFFSET(RankingExpectedAverage!$A$1,RankingExpectedAverage!$K29-1,3))","v":"--"},null,null,null,null,null,null,null,null,null,null,null,null,{"$f":"IF(ISERROR(RankingExpectedAverage!K29),\"--\",OFFSET(RankingExpectedAverage!$A$1,RankingExpectedAverage!$K29-1,4))","v":"--"},null,null,null,null,null,null,null,null,null,null,null,null,null,null,null,null,null,null,null,null,null,null,{"$f":"IF(ISERROR(RankingExpectedAverage!K29),\"--\",OFFSET(RankingExpectedAverage!$A$1,RankingExpectedAverage!$K29-1,5))","v":"--"}]
[null,30,{"$f":"IF(ISERROR(RankingExpectedAverage!K30),\"--\",OFFSET(RankingExpectedAverage!$A$1,RankingExpectedAverage!$K30-1,1))","v":"--"},null,null,{"$f":"IF(ISERROR(RankingExpectedAverage!K30),\"--\",OFFSET(RankingExpectedAverage!$A$1,RankingExpectedAverage!$K30-1,2))","v":"--"},null,null,null,null,null,null,{"$f":"IF(ISERROR(RankingExpectedAverage!K30),\"--\",OFFSET(RankingExpectedAverage!$A$1,RankingExpectedAverage!$K30-1,3))","v":"--"},null,null,null,null,null,null,null,null,null,null,null,null,{"$f":"IF(ISERROR(RankingExpectedAverage!K30),\"--\",OFFSET(RankingExpectedAverage!$A$1,RankingExpectedAverage!$K30-1,4))","v":"--"},null,null,null,null,null,null,null,null,null,null,null,null,null,null,null,null,null,null,null,null,null,null,{"$f":"IF(ISERROR(RankingExpectedAverage!K30),\"--\",OFFSET(RankingExpectedAverage!$A$1,RankingExpectedAverage!$K30-1,5))","v":"--"}]
[null,31,{"$f":"IF(ISERROR(RankingExpectedAverage!K31),\"--\",OFFSET(RankingExpectedAverage!$A$1,RankingExpectedAverage!$K31-1,1))","v":"--"},null,null,{"$f":"IF(ISERROR(RankingExpectedAverage!K31),\"--\",OFFSET(RankingExpectedAverage!$A$1,RankingExpectedAverage!$K31-1,2))","v":"--"},null,null,null,null,null,null,{"$f":"IF(ISERROR(RankingExpectedAverage!K31),\"--\",OFFSET(RankingExpectedAverage!$A$1,RankingExpectedAverage!$K31-1,3))","v":"--"},null,null,null,null,null,null,null,null,null,null,null,null,{"$f":"IF(ISERROR(RankingExpectedAverage!K31),\"--\",OFFSET(RankingExpectedAverage!$A$1,RankingExpectedAverage!$K31-1,4))","v":"--"},null,null,null,null,null,null,null,null,null,null,null,null,null,null,null,null,null,null,null,null,null,null,{"$f":"IF(ISERROR(RankingExpectedAverage!K31),\"--\",OFFSET(RankingExpectedAverage!$A$1,RankingExpectedAverage!$K31-1,5))","v":"--"}]
[null,32,{"$f":"IF(ISERROR(RankingExpectedAverage!K32),\"--\",OFFSET(RankingExpectedAverage!$A$1,RankingExpectedAverage!$K32-1,1))","v":"--"},null,null,{"$f":"IF(ISERROR(RankingExpectedAverage!K32),\"--\",OFFSET(RankingExpectedAverage!$A$1,RankingExpectedAverage!$K32-1,2))","v":"--"},null,null,null,null,null,null,{"$f":"IF(ISERROR(RankingExpectedAverage!K32),\"--\",OFFSET(RankingExpectedAverage!$A$1,RankingExpectedAverage!$K32-1,3))","v":"--"},null,null,null,null,null,null,null,null,null,null,null,null,{"$f":"IF(ISERROR(RankingExpectedAverage!K32),\"--\",OFFSET(RankingExpectedAverage!$A$1,RankingExpectedAverage!$K32-1,4))","v":"--"},null,null,null,null,null,null,null,null,null,null,null,null,null,null,null,null,null,null,null,null,null,null,{"$f":"IF(ISERROR(RankingExpectedAverage!K32),\"--\",OFFSET(RankingExpectedAverage!$A$1,RankingExpectedAverage!$K32-1,5))","v":"--"}]
[null,33,{"$f":"IF(ISERROR(RankingExpectedAverage!K33),\"--\",OFFSET(RankingExpectedAverage!$A$1,RankingExpectedAverage!$K33-1,1))","v":"--"},null,null,{"$f":"IF(ISERROR(RankingExpectedAverage!K33),\"--\",OFFSET(RankingExpectedAverage!$A$1,RankingExpectedAverage!$K33-1,2))","v":"--"},null,null,null,null,null,null,{"$f":"IF(ISERROR(RankingExpectedAverage!K33),\"--\",OFFSET(RankingExpectedAverage!$A$1,RankingExpectedAverage!$K33-1,3))","v":"--"},null,null,null,null,null,null,null,null,null,null,null,null,{"$f":"IF(ISERROR(RankingExpectedAverage!K33),\"--\",OFFSET(RankingExpectedAverage!$A$1,RankingExpectedAverage!$K33-1,4))","v":"--"},null,null,null,null,null,null,null,null,null,null,null,null,null,null,null,null,null,null,null,null,null,null,{"$f":"IF(ISERROR(RankingExpectedAverage!K33),\"--\",OFFSET(RankingExpectedAverage!$A$1,RankingExpectedAverage!$K33-1,5))","v":"--"}]
[null,34,{"$f":"IF(ISERROR(RankingExpectedAverage!K34),\"--\",OFFSET(RankingExpectedAverage!$A$1,RankingExpectedAverage!$K34-1,1))","v":"--"},null,null,{"$f":"IF(ISERROR(RankingExpectedAverage!K34),\"--\",OFFSET(RankingExpectedAverage!$A$1,RankingExpectedAverage!$K34-1,2))","v":"--"},null,null,null,null,null,null,{"$f":"IF(ISERROR(RankingExpectedAverage!K34),\"--\",OFFSET(RankingExpectedAverage!$A$1,RankingExpectedAverage!$K34-1,3))","v":"--"},null,null,null,null,null,null,null,null,null,null,null,null,{"$f":"IF(ISERROR(RankingExpectedAverage!K34),\"--\",OFFSET(RankingExpectedAverage!$A$1,RankingExpectedAverage!$K34-1,4))","v":"--"},null,null,null,null,null,null,null,null,null,null,null,null,null,null,null,null,null,null,null,null,null,null,{"$f":"IF(ISERROR(RankingExpectedAverage!K34),\"--\",OFFSET(RankingExpectedAverage!$A$1,RankingExpectedAverage!$K34-1,5))","v":"--"}]
[null,35,{"$f":"IF(ISERROR(RankingExpectedAverage!K35),\"--\",OFFSET(RankingExpectedAverage!$A$1,RankingExpectedAverage!$K35-1,1))","v":"--"},null,null,{"$f":"IF(ISERROR(RankingExpectedAverage!K35),\"--\",OFFSET(RankingExpectedAverage!$A$1,RankingExpectedAverage!$K35-1,2))","v":"--"},null,null,null,null,null,null,{"$f":"IF(ISERROR(RankingExpectedAverage!K35),\"--\",OFFSET(RankingExpectedAverage!$A$1,RankingExpectedAverage!$K35-1,3))","v":"--"},null,null,null,null,null,null,null,null,null,null,null,null,{"$f":"IF(ISERROR(RankingExpectedAverage!K35),\"--\",OFFSET(RankingExpectedAverage!$A$1,RankingExpectedAverage!$K35-1,4))","v":"--"},null,null,null,null,null,null,null,null,null,null,null,null,null,null,null,null,null,null,null,null,null,null,{"$f":"IF(ISERROR(RankingExpectedAverage!K35),\"--\",OFFSET(RankingExpectedAverage!$A$1,RankingExpectedAverage!$K35-1,5))","v":"--"}]
[null,36,{"$f":"IF(ISERROR(RankingExpectedAverage!K36),\"--\",OFFSET(RankingExpectedAverage!$A$1,RankingExpectedAverage!$K36-1,1))","v":"--"},null,null,{"$f":"IF(ISERROR(RankingExpectedAverage!K36),\"--\",OFFSET(RankingExpectedAverage!$A$1,RankingExpectedAverage!$K36-1,2))","v":"--"},null,null,null,null,null,null,{"$f":"IF(ISERROR(RankingExpectedAverage!K36),\"--\",OFFSET(RankingExpectedAverage!$A$1,RankingExpectedAverage!$K36-1,3))","v":"--"},null,null,null,null,null,null,null,null,null,null,null,null,{"$f":"IF(ISERROR(RankingExpectedAverage!K36),\"--\",OFFSET(RankingExpectedAverage!$A$1,RankingExpectedAverage!$K36-1,4))","v":"--"},null,null,null,null,null,null,null,null,null,null,null,null,null,null,null,null,null,null,null,null,null,null,{"$f":"IF(ISERROR(RankingExpectedAverage!K36),\"--\",OFFSET(RankingExpectedAverage!$A$1,RankingExpectedAverage!$K36-1,5))","v":"--"}]
[null,37,{"$f":"IF(ISERROR(RankingExpectedAverage!K37),\"--\",OFFSET(RankingExpectedAverage!$A$1,RankingExpectedAverage!$K37-1,1))","v":"--"},null,null,{"$f":"IF(ISERROR(RankingExpectedAverage!K37),\"--\",OFFSET(RankingExpectedAverage!$A$1,RankingExpectedAverage!$K37-1,2))","v":"--"},null,null,null,null,null,null,{"$f":"IF(ISERROR(RankingExpectedAverage!K37),\"--\",OFFSET(RankingExpectedAverage!$A$1,RankingExpectedAverage!$K37-1,3))","v":"--"},null,null,null,null,null,null,null,null,null,null,null,null,{"$f":"IF(ISERROR(RankingExpectedAverage!K37),\"--\",OFFSET(RankingExpectedAverage!$A$1,RankingExpectedAverage!$K37-1,4))","v":"--"},null,null,null,null,null,null,null,null,null,null,null,null,null,null,null,null,null,null,null,null,null,null,{"$f":"IF(ISERROR(RankingExpectedAverage!K37),\"--\",OFFSET(RankingExpectedAverage!$A$1,RankingExpectedAverage!$K37-1,5))","v":"--"}]
[null,38,{"$f":"IF(ISERROR(RankingExpectedAverage!K38),\"--\",OFFSET(RankingExpectedAverage!$A$1,RankingExpectedAverage!$K38-1,1))","v":"--"},null,null,{"$f":"IF(ISERROR(RankingExpectedAverage!K38),\"--\",OFFSET(RankingExpectedAverage!$A$1,RankingExpectedAverage!$K38-1,2))","v":"--"},null,null,null,null,null,null,{"$f":"IF(ISERROR(RankingExpectedAverage!K38),\"--\",OFFSET(RankingExpectedAverage!$A$1,RankingExpectedAverage!$K38-1,3))","v":"--"},null,null,null,null,null,null,null,null,null,null,null,null,{"$f":"IF(ISERROR(RankingExpectedAverage!K38),\"--\",OFFSET(RankingExpectedAverage!$A$1,RankingExpectedAverage!$K38-1,4))","v":"--"},null,null,null,null,null,null,null,null,null,null,null,null,null,null,null,null,null,null,null,null,null,null,{"$f":"IF(ISERROR(RankingExpectedAverage!K38),\"--\",OFFSET(RankingExpectedAverage!$A$1,RankingExpectedAverage!$K38-1,5))","v":"--"}]
[null,39,{"$f":"IF(ISERROR(RankingExpectedAverage!K39),\"--\",OFFSET(RankingExpectedAverage!$A$1,RankingExpectedAverage!$K39-1,1))","v":"--"},null,null,{"$f":"IF(ISERROR(RankingExpectedAverage!K39),\"--\",OFFSET(RankingExpectedAverage!$A$1,RankingExpectedAverage!$K39-1,2))","v":"--"},null,null,null,null,null,null,{"$f":"IF(ISERROR(RankingExpectedAverage!K39),\"--\",OFFSET(RankingExpectedAverage!$A$1,RankingExpectedAverage!$K39-1,3))","v":"--"},null,null,null,null,null,null,null,null,null,null,null,null,{"$f":"IF(ISERROR(RankingExpectedAverage!K39),\"--\",OFFSET(RankingExpectedAverage!$A$1,RankingExpectedAverage!$K39-1,4))","v":"--"},null,null,null,null,null,null,null,null,null,null,null,null,null,null,null,null,null,null,null,null,null,null,{"$f":"IF(ISERROR(RankingExpectedAverage!K39),\"--\",OFFSET(RankingExpectedAverage!$A$1,RankingExpectedAverage!$K39-1,5))","v":"--"}]
[null,40,{"$f":"IF(ISERROR(RankingExpectedAverage!K40),\"--\",OFFSET(RankingExpectedAverage!$A$1,RankingExpectedAverage!$K40-1,1))","v":"--"},null,null,{"$f":"IF(ISERROR(RankingExpectedAverage!K40),\"--\",OFFSET(RankingExpectedAverage!$A$1,RankingExpectedAverage!$K40-1,2))","v":"--"},null,null,null,null,null,null,{"$f":"IF(ISERROR(RankingExpectedAverage!K40),\"--\",OFFSET(RankingExpectedAverage!$A$1,RankingExpectedAverage!$K40-1,3))","v":"--"},null,null,null,null,null,null,null,null,null,null,null,null,{"$f":"IF(ISERROR(RankingExpectedAverage!K40),\"--\",OFFSET(RankingExpectedAverage!$A$1,RankingExpectedAverage!$K40-1,4))","v":"--"},null,null,null,null,null,null,null,null,null,null,null,null,null,null,null,null,null,null,null,null,null,null,{"$f":"IF(ISERROR(RankingExpectedAverage!K40),\"--\",OFFSET(RankingExpectedAverage!$A$1,RankingExpectedAverage!$K40-1,5))","v":"--"}]
[null,41,{"$f":"IF(ISERROR(RankingExpectedAverage!K41),\"--\",OFFSET(RankingExpectedAverage!$A$1,RankingExpectedAverage!$K41-1,1))","v":"--"},null,null,{"$f":"IF(ISERROR(RankingExpectedAverage!K41),\"--\",OFFSET(RankingExpectedAverage!$A$1,RankingExpectedAverage!$K41-1,2))","v":"--"},null,null,null,null,null,null,{"$f":"IF(ISERROR(RankingExpectedAverage!K41),\"--\",OFFSET(RankingExpectedAverage!$A$1,RankingExpectedAverage!$K41-1,3))","v":"--"},null,null,null,null,null,null,null,null,null,null,null,null,{"$f":"IF(ISERROR(RankingExpectedAverage!K41),\"--\",OFFSET(RankingExpectedAverage!$A$1,RankingExpectedAverage!$K41-1,4))","v":"--"},null,null,null,null,null,null,null,null,null,null,null,null,null,null,null,null,null,null,null,null,null,null,{"$f":"IF(ISERROR(RankingExpectedAverage!K41),\"--\",OFFSET(RankingExpectedAverage!$A$1,RankingExpectedAverage!$K41-1,5))","v":"--"}]
[null,42,{"$f":"IF(ISERROR(RankingExpectedAverage!K42),\"--\",OFFSET(RankingExpectedAverage!$A$1,RankingExpectedAverage!$K42-1,1))","v":"--"},null,null,{"$f":"IF(ISERROR(RankingExpectedAverage!K42),\"--\",OFFSET(RankingExpectedAverage!$A$1,RankingExpectedAverage!$K42-1,2))","v":"--"},null,null,null,null,null,null,{"$f":"IF(ISERROR(RankingExpectedAverage!K42),\"--\",OFFSET(RankingExpectedAverage!$A$1,RankingExpectedAverage!$K42-1,3))","v":"--"},null,null,null,null,null,null,null,null,null,null,null,null,{"$f":"IF(ISERROR(RankingExpectedAverage!K42),\"--\",OFFSET(RankingExpectedAverage!$A$1,RankingExpectedAverage!$K42-1,4))","v":"--"},null,null,null,null,null,null,null,null,null,null,null,null,null,null,null,null,null,null,null,null,null,null,{"$f":"IF(ISERROR(RankingExpectedAverage!K42),\"--\",OFFSET(RankingExpectedAverage!$A$1,RankingExpectedAverage!$K42-1,5))","v":"--"}]
[null,43,{"$f":"IF(ISERROR(RankingExpectedAverage!K43),\"--\",OFFSET(RankingExpectedAverage!$A$1,RankingExpectedAverage!$K43-1,1))","v":"--"},null,null,{"$f":"IF(ISERROR(RankingExpectedAverage!K43),\"--\",OFFSET(RankingExpectedAverage!$A$1,RankingExpectedAverage!$K43-1,2))","v":"--"},null,null,null,null,null,null,{"$f":"IF(ISERROR(RankingExpectedAverage!K43),\"--\",OFFSET(RankingExpectedAverage!$A$1,RankingExpectedAverage!$K43-1,3))","v":"--"},null,null,null,null,null,null,null,null,null,null,null,null,{"$f":"IF(ISERROR(RankingExpectedAverage!K43),\"--\",OFFSET(RankingExpectedAverage!$A$1,RankingExpectedAverage!$K43-1,4))","v":"--"},null,null,null,null,null,null,null,null,null,null,null,null,null,null,null,null,null,null,null,null,null,null,{"$f":"IF(ISERROR(RankingExpectedAverage!K43),\"--\",OFFSET(RankingExpectedAverage!$A$1,RankingExpectedAverage!$K43-1,5))","v":"--"}]
[null,44,{"$f":"IF(ISERROR(RankingExpectedAverage!K44),\"--\",OFFSET(RankingExpectedAverage!$A$1,RankingExpectedAverage!$K44-1,1))","v":"--"},null,null,{"$f":"IF(ISERROR(RankingExpectedAverage!K44),\"--\",OFFSET(RankingExpectedAverage!$A$1,RankingExpectedAverage!$K44-1,2))","v":"--"},null,null,null,null,null,null,{"$f":"IF(ISERROR(RankingExpectedAverage!K44),\"--\",OFFSET(RankingExpectedAverage!$A$1,RankingExpectedAverage!$K44-1,3))","v":"--"},null,null,null,null,null,null,null,null,null,null,null,null,{"$f":"IF(ISERROR(RankingExpectedAverage!K44),\"--\",OFFSET(RankingExpectedAverage!$A$1,RankingExpectedAverage!$K44-1,4))","v":"--"},null,null,null,null,null,null,null,null,null,null,null,null,null,null,null,null,null,null,null,null,null,null,{"$f":"IF(ISERROR(RankingExpectedAverage!K44),\"--\",OFFSET(RankingExpectedAverage!$A$1,RankingExpectedAverage!$K44-1,5))","v":"--"}]
[null,45,{"$f":"IF(ISERROR(RankingExpectedAverage!K45),\"--\",OFFSET(RankingExpectedAverage!$A$1,RankingExpectedAverage!$K45-1,1))","v":"--"},null,null,{"$f":"IF(ISERROR(RankingExpectedAverage!K45),\"--\",OFFSET(RankingExpectedAverage!$A$1,RankingExpectedAverage!$K45-1,2))","v":"--"},null,null,null,null,null,null,{"$f":"IF(ISERROR(RankingExpectedAverage!K45),\"--\",OFFSET(RankingExpectedAverage!$A$1,RankingExpectedAverage!$K45-1,3))","v":"--"},null,null,null,null,null,null,null,null,null,null,null,null,{"$f":"IF(ISERROR(RankingExpectedAverage!K45),\"--\",OFFSET(RankingExpectedAverage!$A$1,RankingExpectedAverage!$K45-1,4))","v":"--"},null,null,null,null,null,null,null,null,null,null,null,null,null,null,null,null,null,null,null,null,null,null,{"$f":"IF(ISERROR(RankingExpectedAverage!K45),\"--\",OFFSET(RankingExpectedAverage!$A$1,RankingExpectedAverage!$K45-1,5))","v":"--"}]
[null,46,{"$f":"IF(ISERROR(RankingExpectedAverage!K46),\"--\",OFFSET(RankingExpectedAverage!$A$1,RankingExpectedAverage!$K46-1,1))","v":"--"},null,null,{"$f":"IF(ISERROR(RankingExpectedAverage!K46),\"--\",OFFSET(RankingExpectedAverage!$A$1,RankingExpectedAverage!$K46-1,2))","v":"--"},null,null,null,null,null,null,{"$f":"IF(ISERROR(RankingExpectedAverage!K46),\"--\",OFFSET(RankingExpectedAverage!$A$1,RankingExpectedAverage!$K46-1,3))","v":"--"},null,null,null,null,null,null,null,null,null,null,null,null,{"$f":"IF(ISERROR(RankingExpectedAverage!K46),\"--\",OFFSET(RankingExpectedAverage!$A$1,RankingExpectedAverage!$K46-1,4))","v":"--"},null,null,null,null,null,null,null,null,null,null,null,null,null,null,null,null,null,null,null,null,null,null,{"$f":"IF(ISERROR(RankingExpectedAverage!K46),\"--\",OFFSET(RankingExpectedAverage!$A$1,RankingExpectedAverage!$K46-1,5))","v":"--"}]
[null,47,{"$f":"IF(ISERROR(RankingExpectedAverage!K47),\"--\",OFFSET(RankingExpectedAverage!$A$1,RankingExpectedAverage!$K47-1,1))","v":"--"},null,null,{"$f":"IF(ISERROR(RankingExpectedAverage!K47),\"--\",OFFSET(RankingExpectedAverage!$A$1,RankingExpectedAverage!$K47-1,2))","v":"--"},null,null,null,null,null,null,{"$f":"IF(ISERROR(RankingExpectedAverage!K47),\"--\",OFFSET(RankingExpectedAverage!$A$1,RankingExpectedAverage!$K47-1,3))","v":"--"},null,null,null,null,null,null,null,null,null,null,null,null,{"$f":"IF(ISERROR(RankingExpectedAverage!K47),\"--\",OFFSET(RankingExpectedAverage!$A$1,RankingExpectedAverage!$K47-1,4))","v":"--"},null,null,null,null,null,null,null,null,null,null,null,null,null,null,null,null,null,null,null,null,null,null,{"$f":"IF(ISERROR(RankingExpectedAverage!K47),\"--\",OFFSET(RankingExpectedAverage!$A$1,RankingExpectedAverage!$K47-1,5))","v":"--"}]
[null,48,{"$f":"IF(ISERROR(RankingExpectedAverage!K48),\"--\",OFFSET(RankingExpectedAverage!$A$1,RankingExpectedAverage!$K48-1,1))","v":"--"},null,null,{"$f":"IF(ISERROR(RankingExpectedAverage!K48),\"--\",OFFSET(RankingExpectedAverage!$A$1,RankingExpectedAverage!$K48-1,2))","v":"--"},null,null,null,null,null,null,{"$f":"IF(ISERROR(RankingExpectedAverage!K48),\"--\",OFFSET(RankingExpectedAverage!$A$1,RankingExpectedAverage!$K48-1,3))","v":"--"},null,null,null,null,null,null,null,null,null,null,null,null,{"$f":"IF(ISERROR(RankingExpectedAverage!K48),\"--\",OFFSET(RankingExpectedAverage!$A$1,RankingExpectedAverage!$K48-1,4))","v":"--"},null,null,null,null,null,null,null,null,null,null,null,null,null,null,null,null,null,null,null,null,null,null,{"$f":"IF(ISERROR(RankingExpectedAverage!K48),\"--\",OFFSET(RankingExpectedAverage!$A$1,RankingExpectedAverage!$K48-1,5))","v":"--"}]
[null,49,{"$f":"IF(ISERROR(RankingExpectedAverage!K49),\"--\",OFFSET(RankingExpectedAverage!$A$1,RankingExpectedAverage!$K49-1,1))","v":"--"},null,null,{"$f":"IF(ISERROR(RankingExpectedAverage!K49),\"--\",OFFSET(RankingExpectedAverage!$A$1,RankingExpectedAverage!$K49-1,2))","v":"--"},null,null,null,null,null,null,{"$f":"IF(ISERROR(RankingExpectedAverage!K49),\"--\",OFFSET(RankingExpectedAverage!$A$1,RankingExpectedAverage!$K49-1,3))","v":"--"},null,null,null,null,null,null,null,null,null,null,null,null,{"$f":"IF(ISERROR(RankingExpectedAverage!K49),\"--\",OFFSET(RankingExpectedAverage!$A$1,RankingExpectedAverage!$K49-1,4))","v":"--"},null,null,null,null,null,null,null,null,null,null,null,null,null,null,null,null,null,null,null,null,null,null,{"$f":"IF(ISERROR(RankingExpectedAverage!K49),\"--\",OFFSET(RankingExpectedAverage!$A$1,RankingExpectedAverage!$K49-1,5))","v":"--"}]
[null,50,{"$f":"IF(ISERROR(RankingExpectedAverage!K50),\"--\",OFFSET(RankingExpectedAverage!$A$1,RankingExpectedAverage!$K50-1,1))","v":"--"},null,null,{"$f":"IF(ISERROR(RankingExpectedAverage!K50),\"--\",OFFSET(RankingExpectedAverage!$A$1,RankingExpectedAverage!$K50-1,2))","v":"--"},null,null,null,null,null,null,{"$f":"IF(ISERROR(RankingExpectedAverage!K50),\"--\",OFFSET(RankingExpectedAverage!$A$1,RankingExpectedAverage!$K50-1,3))","v":"--"},null,null,null,null,null,null,null,null,null,null,null,null,{"$f":"IF(ISERROR(RankingExpectedAverage!K50),\"--\",OFFSET(RankingExpectedAverage!$A$1,RankingExpectedAverage!$K50-1,4))","v":"--"},null,null,null,null,null,null,null,null,null,null,null,null,null,null,null,null,null,null,null,null,null,null,{"$f":"IF(ISERROR(RankingExpectedAverage!K50),\"--\",OFFSET(RankingExpectedAverage!$A$1,RankingExpectedAverage!$K50-1,5))","v":"--"}]
[]
[null,"Rank","Highest Excess Expected Crashes",null,null,null,null,null,null,null,null,null,null,null,null,null,null,null,null,null,null,null,null,null,null,null,null,null,null,null,null,null,null,null,null,null,null,null,null,null,null,null,null,null,null,null,null,null,"Excess"]
[null,1,{"$f":"IF(ISERROR(RankingExcess!K1),\"--\",OFFSET(RankingExcess!$A$1,RankingExcess!$K1-1,1))","v":"(INT) Starfruit @ Alma"},null,null,{"$f":"IF(ISERROR(RankingExcess!K1),\"--\",OFFSET(RankingExcess!$A$1,RankingExcess!$K1-1,2))","v":"Heritage County"},null,null,null,null,null,null,{"$f":"IF(ISERROR(RankingExcess!K1),\"--\",OFFSET(RankingExcess!$A$1,RankingExcess!$K1-1,3))","v":"Control = 4ST"},null,null,null,null,null,null,null,null,null,null,null,null,{"$f":"IF(ISERROR(RankingExcess!K1),\"--\",OFFSET(RankingExcess!$A$1,RankingExcess!$K1-1,4))","v":"Major AADT: 1,900 / Minor AADT: 500"},null,null,null,null,null,null,null,null,null,null,null,null,null,null,null,null,null,null,null,null,null,null,{"$f":"IF(ISERROR(RankingExcess!K1),\"--\",OFFSET(RankingExcess!$A$1,RankingExcess!$K1-1,5))","v":1.2626783146707261}]
[null,2,{"$f":"IF(ISERROR(RankingExcess!K2),\"--\",OFFSET(RankingExcess!$A$1,RankingExcess!$K2-1,1))","v":"(INT) Pineapple @ Emil"},null,null,{"$f":"IF(ISERROR(RankingExcess!K2),\"--\",OFFSET(RankingExcess!$A$1,RankingExcess!$K2-1,2))","v":"Heritage County"},null,null,null,null,null,null,{"$f":"IF(ISERROR(RankingExcess!K2),\"--\",OFFSET(RankingExcess!$A$1,RankingExcess!$K2-1,3))","v":"Control = 4ST"},null,null,null,null,null,null,null,null,null,null,null,null,{"$f":"IF(ISERROR(RankingExcess!K2),\"--\",OFFSET(RankingExcess!$A$1,RankingExcess!$K2-1,4))","v":"Major AADT: 3,500 / Minor AADT: 3,300"},null,null,null,null,null,null,null,null,null,null,null,null,null,null,null,null,null,null,null,null,null,null,{"$f":"IF(ISERROR(RankingExcess!K2),\"--\",OFFSET(RankingExcess!$A$1,RankingExcess!$K2-1,5))","v":1.1060167592537034}]
[null,3,{"$f":"IF(ISERROR(RankingExcess!K3),\"--\",OFFSET(RankingExcess!$A$1,RankingExcess!$K3-1,1))","v":"(INT) Blueberry @ Matti"},null,null,{"$f":"IF(ISERROR(RankingExcess!K3),\"--\",OFFSET(RankingExcess!$A$1,RankingExcess!$K3-1,2))","v":"Heritage County"},null,null,null,null,null,null,{"$f":"IF(ISERROR(RankingExcess!K3),\"--\",OFFSET(RankingExcess!$A$1,RankingExcess!$K3-1,3))","v":"Control = 3ST"},null,null,null,null,null,null,null,null,null,null,null,null,{"$f":"IF(ISERROR(RankingExcess!K3),\"--\",OFFSET(RankingExcess!$A$1,RankingExcess!$K3-1,4))","v":"Major AADT: 1,800 / Minor AADT: 700"},null,null,null,null,null,null,null,null,null,null,null,null,null,null,null,null,null,null,null,null,null,null,{"$f":"IF(ISERROR(RankingExcess!K3),\"--\",OFFSET(RankingExcess!$A$1,RankingExcess!$K3-1,5))","v":0.59133463997281854}]
[null,4,{"$f":"IF(ISERROR(RankingExcess!K4),\"--\",OFFSET(RankingExcess!$A$1,RankingExcess!$K4-1,1))","v":"(INT) Raspberry @ Arvo"},null,null,{"$f":"IF(ISERROR(RankingExcess!K4),\"--\",OFFSET(RankingExcess!$A$1,RankingExcess!$K4-1,2))","v":"Heritage County"},null,null,null,null,null,null,{"$f":"IF(ISERROR(RankingExcess!K4),\"--\",OFFSET(RankingExcess!$A$1,RankingExcess!$K4-1,3))","v":"Control = 3ST"},null,null,null,null,null,null,null,null,null,null,null,null,{"$f":"IF(ISERROR(RankingExcess!K4),\"--\",OFFSET(RankingExcess!$A$1,RankingExcess!$K4-1,4))","v":"Major AADT: 2,350 / Minor AADT: 900"},null,null,null,null,null,null,null,null,null,null,null,null,null,null,null,null,null,null,null,null,null,null,{"$f":"IF(ISERROR(RankingExcess!K4),\"--\",OFFSET(RankingExcess!$A$1,RankingExcess!$K4-1,5))","v":0.17886428855973924}]
[null,5,{"$f":"IF(ISERROR(RankingExcess!K5),\"--\",OFFSET(RankingExcess!$A$1,RankingExcess!$K5-1,1))","v":"(INT) Kiwi @ Hilma"},null,null,{"$f":"IF(ISERROR(RankingExcess!K5),\"--\",OFFSET(RankingExcess!$A$1,RankingExcess!$K5-1,2))","v":"Heritage County"},null,null,null,null,null,null,{"$f":"IF(ISERROR(RankingExcess!K5),\"--\",OFFSET(RankingExcess!$A$1,RankingExcess!$K5-1,3))","v":"Control = 3ST"},null,null,null,null,null,null,null,null,null,null,null,null,{"$f":"IF(ISERROR(RankingExcess!K5),\"--\",OFFSET(RankingExcess!$A$1,RankingExcess!$K5-1,4))","v":"Major AADT: 1,200 / Minor AADT: 1,150"},null,null,null,null,null,null,null,null,null,null,null,null,null,null,null,null,null,null,null,null,null,null,{"$f":"IF(ISERROR(RankingExcess!K5),\"--\",OFFSET(RankingExcess!$A$1,RankingExcess!$K5-1,5))","v":-0.43050035184227425}]
[null,6,{"$f":"IF(ISERROR(RankingExcess!K6),\"--\",OFFSET(RankingExcess!$A$1,RankingExcess!$K6-1,1))","v":"(INT) Apple @ Heikki"},null,null,{"$f":"IF(ISERROR(RankingExcess!K6),\"--\",OFFSET(RankingExcess!$A$1,RankingExcess!$K6-1,2))","v":"Heritage County"},null,null,null,null,null,null,{"$f":"IF(ISERROR(RankingExcess!K6),\"--\",OFFSET(RankingExcess!$A$1,RankingExcess!$K6-1,3))","v":"Control = 4ST"},null,null,null,null,null,null,null,null,null,null,null,null,{"$f":"IF(ISERROR(RankingExcess!K6),\"--\",OFFSET(RankingExcess!$A$1,RankingExcess!$K6-1,4))","v":"Major AADT: 3,300 / Minor AADT: 2,400"},null,null,null,null,null,null,null,null,null,null,null,null,null,null,null,null,null,null,null,null,null,null,{"$f":"IF(ISERROR(RankingExcess!K6),\"--\",OFFSET(RankingExcess!$A$1,RankingExcess!$K6-1,5))","v":-0.55344341849236001}]
[null,7,{"$f":"IF(ISERROR(RankingExcess!K7),\"--\",OFFSET(RankingExcess!$A$1,RankingExcess!$K7-1,1))","v":"(INT) Lemon @ Tuula"},null,null,{"$f":"IF(ISERROR(RankingExcess!K7),\"--\",OFFSET(RankingExcess!$A$1,RankingExcess!$K7-1,2))","v":"Heritage County"},null,null,null,null,null,null,{"$f":"IF(ISERROR(RankingExcess!K7),\"--\",OFFSET(RankingExcess!$A$1,RankingExcess!$K7-1,3))","v":"Control = 4ST"},null,null,null,null,null,null,null,null,null,null,null,null,{"$f":"IF(ISERROR(RankingExcess!K7),\"--\",OFFSET(RankingExcess!$A$1,RankingExcess!$K7-1,4))","v":"Major AADT: 3,700 / Minor AADT: 2,100"},null,null,null,null,null,null,null,null,null,null,null,null,null,null,null,null,null,null,null,null,null,null,{"$f":"IF(ISERROR(RankingExcess!K7),\"--\",OFFSET(RankingExcess!$A$1,RankingExcess!$K7-1,5))","v":-0.6234598088798724}]
[null,8,{"$f":"IF(ISERROR(RankingExcess!K8),\"--\",OFFSET(RankingExcess!$A$1,RankingExcess!$K8-1,1))","v":"(INT) Mango @ Aili"},null,null,{"$f":"IF(ISERROR(RankingExcess!K8),\"--\",OFFSET(RankingExcess!$A$1,RankingExcess!$K8-1,2))","v":"Heritage County"},null,null,null,null,null,null,{"$f":"IF(ISERROR(RankingExcess!K8),\"--\",OFFSET(RankingExcess!$A$1,RankingExcess!$K8-1,3))","v":"Control = 4ST"},null,null,null,null,null,null,null,null,null,null,null,null,{"$f":"IF(ISERROR(RankingExcess!K8),\"--\",OFFSET(RankingExcess!$A$1,RankingExcess!$K8-1,4))","v":"Major AADT: 3,200 / Minor AADT: 1,150"},null,null,null,null,null,null,null,null,null,null,null,null,null,null,null,null,null,null,null,null,null,null,{"$f":"IF(ISERROR(RankingExcess!K8),\"--\",OFFSET(RankingExcess!$A$1,RankingExcess!$K8-1,5))","v":-1.208842157247588}]
[null,9,{"$f":"IF(ISERROR(RankingExcess!K9),\"--\",OFFSET(RankingExcess!$A$1,RankingExcess!$K9-1,1))","v":"(INT) Banana @ Toivo"},null,null,{"$f":"IF(ISERROR(RankingExcess!K9),\"--\",OFFSET(RankingExcess!$A$1,RankingExcess!$K9-1,2))","v":"Heritage County"},null,null,null,null,null,null,{"$f":"IF(ISERROR(RankingExcess!K9),\"--\",OFFSET(RankingExcess!$A$1,RankingExcess!$K9-1,3))","v":"Control = 4ST"},null,null,null,null,null,null,null,null,null,null,null,null,{"$f":"IF(ISERROR(RankingExcess!K9),\"--\",OFFSET(RankingExcess!$A$1,RankingExcess!$K9-1,4))","v":"Major AADT: 2,100 / Minor AADT: 2,000"},null,null,null,null,null,null,null,null,null,null,null,null,null,null,null,null,null,null,null,null,null,null,{"$f":"IF(ISERROR(RankingExcess!K9),\"--\",OFFSET(RankingExcess!$A$1,RankingExcess!$K9-1,5))","v":-1.3775096684401922}]
[null,10,{"$f":"IF(ISERROR(RankingExcess!K10),\"--\",OFFSET(RankingExcess!$A$1,RankingExcess!$K10-1,1))","v":"(INT) Orange @ Jaakko"},null,null,{"$f":"IF(ISERROR(RankingExcess!K10),\"--\",OFFSET(RankingExcess!$A$1,RankingExcess!$K10-1,2))","v":"Heritage County"},null,null,null,null,null,null,{"$f":"IF(ISERROR(RankingExcess!K10),\"--\",OFFSET(RankingExcess!$A$1,RankingExcess!$K10-1,3))","v":"Control = 4ST"},null,null,null,null,null,null,null,null,null,null,null,null,{"$f":"IF(ISERROR(RankingExcess!K10),\"--\",OFFSET(RankingExcess!$A$1,RankingExcess!$K10-1,4))","v":"Major AADT: 2,750 / Minor AADT: 2,500"},null,null,null,null,null,null,null,null,null,null,null,null,null,null,null,null,null,null,null,null,null,null,{"$f":"IF(ISERROR(RankingExcess!K10),\"--\",OFFSET(RankingExcess!$A$1,RankingExcess!$K10-1,5))","v":-1.6308187636941125}]
[null,11,{"$f":"IF(ISERROR(RankingExcess!K11),\"--\",OFFSET(RankingExcess!$A$1,RankingExcess!$K11-1,1))","v":"--"},null,null,{"$f":"IF(ISERROR(RankingExcess!K11),\"--\",OFFSET(RankingExcess!$A$1,RankingExcess!$K11-1,2))","v":"--"},null,null,null,null,null,null,{"$f":"IF(ISERROR(RankingExcess!K11),\"--\",OFFSET(RankingExcess!$A$1,RankingExcess!$K11-1,3))","v":"--"},null,null,null,null,null,null,null,null,null,null,null,null,{"$f":"IF(ISERROR(RankingExcess!K11),\"--\",OFFSET(RankingExcess!$A$1,RankingExcess!$K11-1,4))","v":"--"},null,null,null,null,null,null,null,null,null,null,null,null,null,null,null,null,null,null,null,null,null,null,{"$f":"IF(ISERROR(RankingExcess!K11),\"--\",OFFSET(RankingExcess!$A$1,RankingExcess!$K11-1,5))","v":"--"}]
[null,12,{"$f":"IF(ISERROR(RankingExcess!K12),\"--\",OFFSET(RankingExcess!$A$1,RankingExcess!$K12-1,1))","v":"--"},null,null,{"$f":"IF(ISERROR(RankingExcess!K12),\"--\",OFFSET(RankingExcess!$A$1,RankingExcess!$K12-1,2))","v":"--"},null,null,null,null,null,null,{"$f":"IF(ISERROR(RankingExcess!K12),\"--\",OFFSET(RankingExcess!$A$1,RankingExcess!$K12-1,3))","v":"--"},null,null,null,null,null,null,null,null,null,null,null,null,{"$f":"IF(ISERROR(RankingExcess!K12),\"--\",OFFSET(RankingExcess!$A$1,RankingExcess!$K12-1,4))","v":"--"},null,null,null,null,null,null,null,null,null,null,null,null,null,null,null,null,null,null,null,null,null,null,{"$f":"IF(ISERROR(RankingExcess!K12),\"--\",OFFSET(RankingExcess!$A$1,RankingExcess!$K12-1,5))","v":"--"}]
[null,13,{"$f":"IF(ISERROR(RankingExcess!K13),\"--\",OFFSET(RankingExcess!$A$1,RankingExcess!$K13-1,1))","v":"--"},null,null,{"$f":"IF(ISERROR(RankingExcess!K13),\"--\",OFFSET(RankingExcess!$A$1,RankingExcess!$K13-1,2))","v":"--"},null,null,null,null,null,null,{"$f":"IF(ISERROR(RankingExcess!K13),\"--\",OFFSET(RankingExcess!$A$1,RankingExcess!$K13-1,3))","v":"--"},null,null,null,null,null,null,null,null,null,null,null,null,{"$f":"IF(ISERROR(RankingExcess!K13),\"--\",OFFSET(RankingExcess!$A$1,RankingExcess!$K13-1,4))","v":"--"},null,null,null,null,null,null,null,null,null,null,null,null,null,null,null,null,null,null,null,null,null,null,{"$f":"IF(ISERROR(RankingExcess!K13),\"--\",OFFSET(RankingExcess!$A$1,RankingExcess!$K13-1,5))","v":"--"}]
[null,14,{"$f":"IF(ISERROR(RankingExcess!K14),\"--\",OFFSET(RankingExcess!$A$1,RankingExcess!$K14-1,1))","v":"--"},null,null,{"$f":"IF(ISERROR(RankingExcess!K14),\"--\",OFFSET(RankingExcess!$A$1,RankingExcess!$K14-1,2))","v":"--"},null,null,null,null,null,null,{"$f":"IF(ISERROR(RankingExcess!K14),\"--\",OFFSET(RankingExcess!$A$1,RankingExcess!$K14-1,3))","v":"--"},null,null,null,null,null,null,null,null,null,null,null,null,{"$f":"IF(ISERROR(RankingExcess!K14),\"--\",OFFSET(RankingExcess!$A$1,RankingExcess!$K14-1,4))","v":"--"},null,null,null,null,null,null,null,null,null,null,null,null,null,null,null,null,null,null,null,null,null,null,{"$f":"IF(ISERROR(RankingExcess!K14),\"--\",OFFSET(RankingExcess!$A$1,RankingExcess!$K14-1,5))","v":"--"}]
[null,15,{"$f":"IF(ISERROR(RankingExcess!K15),\"--\",OFFSET(RankingExcess!$A$1,RankingExcess!$K15-1,1))","v":"--"},null,null,{"$f":"IF(ISERROR(RankingExcess!K15),\"--\",OFFSET(RankingExcess!$A$1,RankingExcess!$K15-1,2))","v":"--"},null,null,null,null,null,null,{"$f":"IF(ISERROR(RankingExcess!K15),\"--\",OFFSET(RankingExcess!$A$1,RankingExcess!$K15-1,3))","v":"--"},null,null,null,null,null,null,null,null,null,null,null,null,{"$f":"IF(ISERROR(RankingExcess!K15),\"--\",OFFSET(RankingExcess!$A$1,RankingExcess!$K15-1,4))","v":"--"},null,null,null,null,null,null,null,null,null,null,null,null,null,null,null,null,null,null,null,null,null,null,{"$f":"IF(ISERROR(RankingExcess!K15),\"--\",OFFSET(RankingExcess!$A$1,RankingExcess!$K15-1,5))","v":"--"}]
[null,16,{"$f":"IF(ISERROR(RankingExcess!K16),\"--\",OFFSET(RankingExcess!$A$1,RankingExcess!$K16-1,1))","v":"--"},null,null,{"$f":"IF(ISERROR(RankingExcess!K16),\"--\",OFFSET(RankingExcess!$A$1,RankingExcess!$K16-1,2))","v":"--"},null,null,null,null,null,null,{"$f":"IF(ISERROR(RankingExcess!K16),\"--\",OFFSET(RankingExcess!$A$1,RankingExcess!$K16-1,3))","v":"--"},null,null,null,null,null,null,null,null,null,null,null,null,{"$f":"IF(ISERROR(RankingExcess!K16),\"--\",OFFSET(RankingExcess!$A$1,RankingExcess!$K16-1,4))","v":"--"},null,null,null,null,null,null,null,null,null,null,null,null,null,null,null,null,null,null,null,null,null,null,{"$f":"IF(ISERROR(RankingExcess!K16),\"--\",OFFSET(RankingExcess!$A$1,RankingExcess!$K16-1,5))","v":"--"}]
[null,17,{"$f":"IF(ISERROR(RankingExcess!K17),\"--\",OFFSET(RankingExcess!$A$1,RankingExcess!$K17-1,1))","v":"--"},null,null,{"$f":"IF(ISERROR(RankingExcess!K17),\"--\",OFFSET(RankingExcess!$A$1,RankingExcess!$K17-1,2))","v":"--"},null,null,null,null,null,null,{"$f":"IF(ISERROR(RankingExcess!K17),\"--\",OFFSET(RankingExcess!$A$1,RankingExcess!$K17-1,3))","v":"--"},null,null,null,null,null,null,null,null,null,null,null,null,{"$f":"IF(ISERROR(RankingExcess!K17),\"--\",OFFSET(RankingExcess!$A$1,RankingExcess!$K17-1,4))","v":"--"},null,null,null,null,null,null,null,null,null,null,null,null,null,null,null,null,null,null,null,null,null,null,{"$f":"IF(ISERROR(RankingExcess!K17),\"--\",OFFSET(RankingExcess!$A$1,RankingExcess!$K17-1,5))","v":"--"}]
[null,18,{"$f":"IF(ISERROR(RankingExcess!K18),\"--\",OFFSET(RankingExcess!$A$1,RankingExcess!$K18-1,1))","v":"--"},null,null,{"$f":"IF(ISERROR(RankingExcess!K18),\"--\",OFFSET(RankingExcess!$A$1,RankingExcess!$K18-1,2))","v":"--"},null,null,null,null,null,null,{"$f":"IF(ISERROR(RankingExcess!K18),\"--\",OFFSET(RankingExcess!$A$1,RankingExcess!$K18-1,3))","v":"--"},null,null,null,null,null,null,null,null,null,null,null,null,{"$f":"IF(ISERROR(RankingExcess!K18),\"--\",OFFSET(RankingExcess!$A$1,RankingExcess!$K18-1,4))","v":"--"},null,null,null,null,null,null,null,null,null,null,null,null,null,null,null,null,null,null,null,null,null,null,{"$f":"IF(ISERROR(RankingExcess!K18),\"--\",OFFSET(RankingExcess!$A$1,RankingExcess!$K18-1,5))","v":"--"}]
[null,19,{"$f":"IF(ISERROR(RankingExcess!K19),\"--\",OFFSET(RankingExcess!$A$1,RankingExcess!$K19-1,1))","v":"--"},null,null,{"$f":"IF(ISERROR(RankingExcess!K19),\"--\",OFFSET(RankingExcess!$A$1,RankingExcess!$K19-1,2))","v":"--"},null,null,null,null,null,null,{"$f":"IF(ISERROR(RankingExcess!K19),\"--\",OFFSET(RankingExcess!$A$1,RankingExcess!$K19-1,3))","v":"--"},null,null,null,null,null,null,null,null,null,null,null,null,{"$f":"IF(ISERROR(RankingExcess!K19),\"--\",OFFSET(RankingExcess!$A$1,RankingExcess!$K19-1,4))","v":"--"},null,null,null,null,null,null,null,null,null,null,null,null,null,null,null,null,null,null,null,null,null,null,{"$f":"IF(ISERROR(RankingExcess!K19),\"--\",OFFSET(RankingExcess!$A$1,RankingExcess!$K19-1,5))","v":"--"}]
[null,20,{"$f":"IF(ISERROR(RankingExcess!K20),\"--\",OFFSET(RankingExcess!$A$1,RankingExcess!$K20-1,1))","v":"--"},null,null,{"$f":"IF(ISERROR(RankingExcess!K20),\"--\",OFFSET(RankingExcess!$A$1,RankingExcess!$K20-1,2))","v":"--"},null,null,null,null,null,null,{"$f":"IF(ISERROR(RankingExcess!K20),\"--\",OFFSET(RankingExcess!$A$1,RankingExcess!$K20-1,3))","v":"--"},null,null,null,null,null,null,null,null,null,null,null,null,{"$f":"IF(ISERROR(RankingExcess!K20),\"--\",OFFSET(RankingExcess!$A$1,RankingExcess!$K20-1,4))","v":"--"},null,null,null,null,null,null,null,null,null,null,null,null,null,null,null,null,null,null,null,null,null,null,{"$f":"IF(ISERROR(RankingExcess!K20),\"--\",OFFSET(RankingExcess!$A$1,RankingExcess!$K20-1,5))","v":"--"}]
[null,21,{"$f":"IF(ISERROR(RankingExcess!K21),\"--\",OFFSET(RankingExcess!$A$1,RankingExcess!$K21-1,1))","v":"--"},null,null,{"$f":"IF(ISERROR(RankingExcess!K21),\"--\",OFFSET(RankingExcess!$A$1,RankingExcess!$K21-1,2))","v":"--"},null,null,null,null,null,null,{"$f":"IF(ISERROR(RankingExcess!K21),\"--\",OFFSET(RankingExcess!$A$1,RankingExcess!$K21-1,3))","v":"--"},null,null,null,null,null,null,null,null,null,null,null,null,{"$f":"IF(ISERROR(RankingExcess!K21),\"--\",OFFSET(RankingExcess!$A$1,RankingExcess!$K21-1,4))","v":"--"},null,null,null,null,null,null,null,null,null,null,null,null,null,null,null,null,null,null,null,null,null,null,{"$f":"IF(ISERROR(RankingExcess!K21),\"--\",OFFSET(RankingExcess!$A$1,RankingExcess!$K21-1,5))","v":"--"}]
[null,22,{"$f":"IF(ISERROR(RankingExcess!K22),\"--\",OFFSET(RankingExcess!$A$1,RankingExcess!$K22-1,1))","v":"--"},null,null,{"$f":"IF(ISERROR(RankingExcess!K22),\"--\",OFFSET(RankingExcess!$A$1,RankingExcess!$K22-1,2))","v":"--"},null,null,null,null,null,null,{"$f":"IF(ISERROR(RankingExcess!K22),\"--\",OFFSET(RankingExcess!$A$1,RankingExcess!$K22-1,3))","v":"--"},null,null,null,null,null,null,null,null,null,null,null,null,{"$f":"IF(ISERROR(RankingExcess!K22),\"--\",OFFSET(RankingExcess!$A$1,RankingExcess!$K22-1,4))","v":"--"},null,null,null,null,null,null,null,null,null,null,null,null,null,null,null,null,null,null,null,null,null,null,{"$f":"IF(ISERROR(RankingExcess!K22),\"--\",OFFSET(RankingExcess!$A$1,RankingExcess!$K22-1,5))","v":"--"}]
[null,23,{"$f":"IF(ISERROR(RankingExcess!K23),\"--\",OFFSET(RankingExcess!$A$1,RankingExcess!$K23-1,1))","v":"--"},null,null,{"$f":"IF(ISERROR(RankingExcess!K23),\"--\",OFFSET(RankingExcess!$A$1,RankingExcess!$K23-1,2))","v":"--"},null,null,null,null,null,null,{"$f":"IF(ISERROR(RankingExcess!K23),\"--\",OFFSET(RankingExcess!$A$1,RankingExcess!$K23-1,3))","v":"--"},null,null,null,null,null,null,null,null,null,null,null,null,{"$f":"IF(ISERROR(RankingExcess!K23),\"--\",OFFSET(RankingExcess!$A$1,RankingExcess!$K23-1,4))","v":"--"},null,null,null,null,null,null,null,null,null,null,null,null,null,null,null,null,null,null,null,null,null,null,{"$f":"IF(ISERROR(RankingExcess!K23),\"--\",OFFSET(RankingExcess!$A$1,RankingExcess!$K23-1,5))","v":"--"}]
[null,24,{"$f":"IF(ISERROR(RankingExcess!K24),\"--\",OFFSET(RankingExcess!$A$1,RankingExcess!$K24-1,1))","v":"--"},null,null,{"$f":"IF(ISERROR(RankingExcess!K24),\"--\",OFFSET(RankingExcess!$A$1,RankingExcess!$K24-1,2))","v":"--"},null,null,null,null,null,null,{"$f":"IF(ISERROR(RankingExcess!K24),\"--\",OFFSET(RankingExcess!$A$1,RankingExcess!$K24-1,3))","v":"--"},null,null,null,null,null,null,null,null,null,null,null,null,{"$f":"IF(ISERROR(RankingExcess!K24),\"--\",OFFSET(RankingExcess!$A$1,RankingExcess!$K24-1,4))","v":"--"},null,null,null,null,null,null,null,null,null,null,null,null,null,null,null,null,null,null,null,null,null,null,{"$f":"IF(ISERROR(RankingExcess!K24),\"--\",OFFSET(RankingExcess!$A$1,RankingExcess!$K24-1,5))","v":"--"}]
[null,25,{"$f":"IF(ISERROR(RankingExcess!K25),\"--\",OFFSET(RankingExcess!$A$1,RankingExcess!$K25-1,1))","v":"--"},null,null,{"$f":"IF(ISERROR(RankingExcess!K25),\"--\",OFFSET(RankingExcess!$A$1,RankingExcess!$K25-1,2))","v":"--"},null,null,null,null,null,null,{"$f":"IF(ISERROR(RankingExcess!K25),\"--\",OFFSET(RankingExcess!$A$1,RankingExcess!$K25-1,3))","v":"--"},null,null,null,null,null,null,null,null,null,null,null,null,{"$f":"IF(ISERROR(RankingExcess!K25),\"--\",OFFSET(RankingExcess!$A$1,RankingExcess!$K25-1,4))","v":"--"},null,null,null,null,null,null,null,null,null,null,null,null,null,null,null,null,null,null,null,null,null,null,{"$f":"IF(ISERROR(RankingExcess!K25),\"--\",OFFSET(RankingExcess!$A$1,RankingExcess!$K25-1,5))","v":"--"}]
[null,26,{"$f":"IF(ISERROR(RankingExcess!K26),\"--\",OFFSET(RankingExcess!$A$1,RankingExcess!$K26-1,1))","v":"--"},null,null,{"$f":"IF(ISERROR(RankingExcess!K26),\"--\",OFFSET(RankingExcess!$A$1,RankingExcess!$K26-1,2))","v":"--"},null,null,null,null,null,null,{"$f":"IF(ISERROR(RankingExcess!K26),\"--\",OFFSET(RankingExcess!$A$1,RankingExcess!$K26-1,3))","v":"--"},null,null,null,null,null,null,null,null,null,null,null,null,{"$f":"IF(ISERROR(RankingExcess!K26),\"--\",OFFSET(RankingExcess!$A$1,RankingExcess!$K26-1,4))","v":"--"},null,null,null,null,null,null,null,null,null,null,null,null,null,null,null,null,null,null,null,null,null,null,{"$f":"IF(ISERROR(RankingExcess!K26),\"--\",OFFSET(RankingExcess!$A$1,RankingExcess!$K26-1,5))","v":"--"}]
[null,27,{"$f":"IF(ISERROR(RankingExcess!K27),\"--\",OFFSET(RankingExcess!$A$1,RankingExcess!$K27-1,1))","v":"--"},null,null,{"$f":"IF(ISERROR(RankingExcess!K27),\"--\",OFFSET(RankingExcess!$A$1,RankingExcess!$K27-1,2))","v":"--"},null,null,null,null,null,null,{"$f":"IF(ISERROR(RankingExcess!K27),\"--\",OFFSET(RankingExcess!$A$1,RankingExcess!$K27-1,3))","v":"--"},null,null,null,null,null,null,null,null,null,null,null,null,{"$f":"IF(ISERROR(RankingExcess!K27),\"--\",OFFSET(RankingExcess!$A$1,RankingExcess!$K27-1,4))","v":"--"},null,null,null,null,null,null,null,null,null,null,null,null,null,null,null,null,null,null,null,null,null,null,{"$f":"IF(ISERROR(RankingExcess!K27),\"--\",OFFSET(RankingExcess!$A$1,RankingExcess!$K27-1,5))","v":"--"}]
[null,28,{"$f":"IF(ISERROR(RankingExcess!K28),\"--\",OFFSET(RankingExcess!$A$1,RankingExcess!$K28-1,1))","v":"--"},null,null,{"$f":"IF(ISERROR(RankingExcess!K28),\"--\",OFFSET(RankingExcess!$A$1,RankingExcess!$K28-1,2))","v":"--"},null,null,null,null,null,null,{"$f":"IF(ISERROR(RankingExcess!K28),\"--\",OFFSET(RankingExcess!$A$1,RankingExcess!$K28-1,3))","v":"--"},null,null,null,null,null,null,null,null,null,null,null,null,{"$f":"IF(ISERROR(RankingExcess!K28),\"--\",OFFSET(RankingExcess!$A$1,RankingExcess!$K28-1,4))","v":"--"},null,null,null,null,null,null,null,null,null,null,null,null,null,null,null,null,null,null,null,null,null,null,{"$f":"IF(ISERROR(RankingExcess!K28),\"--\",OFFSET(RankingExcess!$A$1,RankingExcess!$K28-1,5))","v":"--"}]
[null,29,{"$f":"IF(ISERROR(RankingExcess!K29),\"--\",OFFSET(RankingExcess!$A$1,RankingExcess!$K29-1,1))","v":"--"},null,null,{"$f":"IF(ISERROR(RankingExcess!K29),\"--\",OFFSET(RankingExcess!$A$1,RankingExcess!$K29-1,2))","v":"--"},null,null,null,null,null,null,{"$f":"IF(ISERROR(RankingExcess!K29),\"--\",OFFSET(RankingExcess!$A$1,RankingExcess!$K29-1,3))","v":"--"},null,null,null,null,null,null,null,null,null,null,null,null,{"$f":"IF(ISERROR(RankingExcess!K29),\"--\",OFFSET(RankingExcess!$A$1,RankingExcess!$K29-1,4))","v":"--"},null,null,null,null,null,null,null,null,null,null,null,null,null,null,null,null,null,null,null,null,null,null,{"$f":"IF(ISERROR(RankingExcess!K29),\"--\",OFFSET(RankingExcess!$A$1,RankingExcess!$K29-1,5))","v":"--"}]
[null,30,{"$f":"IF(ISERROR(RankingExcess!K30),\"--\",OFFSET(RankingExcess!$A$1,RankingExcess!$K30-1,1))","v":"--"},null,null,{"$f":"IF(ISERROR(RankingExcess!K30),\"--\",OFFSET(RankingExcess!$A$1,RankingExcess!$K30-1,2))","v":"--"},null,null,null,null,null,null,{"$f":"IF(ISERROR(RankingExcess!K30),\"--\",OFFSET(RankingExcess!$A$1,RankingExcess!$K30-1,3))","v":"--"},null,null,null,null,null,null,null,null,null,null,null,null,{"$f":"IF(ISERROR(RankingExcess!K30),\"--\",OFFSET(RankingExcess!$A$1,RankingExcess!$K30-1,4))","v":"--"},null,null,null,null,null,null,null,null,null,null,null,null,null,null,null,null,null,null,null,null,null,null,{"$f":"IF(ISERROR(RankingExcess!K30),\"--\",OFFSET(RankingExcess!$A$1,RankingExcess!$K30-1,5))","v":"--"}]
[null,31,{"$f":"IF(ISERROR(RankingExcess!K31),\"--\",OFFSET(RankingExcess!$A$1,RankingExcess!$K31-1,1))","v":"--"},null,null,{"$f":"IF(ISERROR(RankingExcess!K31),\"--\",OFFSET(RankingExcess!$A$1,RankingExcess!$K31-1,2))","v":"--"},null,null,null,null,null,null,{"$f":"IF(ISERROR(RankingExcess!K31),\"--\",OFFSET(RankingExcess!$A$1,RankingExcess!$K31-1,3))","v":"--"},null,null,null,null,null,null,null,null,null,null,null,null,{"$f":"IF(ISERROR(RankingExcess!K31),\"--\",OFFSET(RankingExcess!$A$1,RankingExcess!$K31-1,4))","v":"--"},null,null,null,null,null,null,null,null,null,null,null,null,null,null,null,null,null,null,null,null,null,null,{"$f":"IF(ISERROR(RankingExcess!K31),\"--\",OFFSET(RankingExcess!$A$1,RankingExcess!$K31-1,5))","v":"--"}]
[null,32,{"$f":"IF(ISERROR(RankingExcess!K32),\"--\",OFFSET(RankingExcess!$A$1,RankingExcess!$K32-1,1))","v":"--"},null,null,{"$f":"IF(ISERROR(RankingExcess!K32),\"--\",OFFSET(RankingExcess!$A$1,RankingExcess!$K32-1,2))","v":"--"},null,null,null,null,null,null,{"$f":"IF(ISERROR(RankingExcess!K32),\"--\",OFFSET(RankingExcess!$A$1,RankingExcess!$K32-1,3))","v":"--"},null,null,null,null,null,null,null,null,null,null,null,null,{"$f":"IF(ISERROR(RankingExcess!K32),\"--\",OFFSET(RankingExcess!$A$1,RankingExcess!$K32-1,4))","v":"--"},null,null,null,null,null,null,null,null,null,null,null,null,null,null,null,null,null,null,null,null,null,null,{"$f":"IF(ISERROR(RankingExcess!K32),\"--\",OFFSET(RankingExcess!$A$1,RankingExcess!$K32-1,5))","v":"--"}]
[null,33,{"$f":"IF(ISERROR(RankingExcess!K33),\"--\",OFFSET(RankingExcess!$A$1,RankingExcess!$K33-1,1))","v":"--"},null,null,{"$f":"IF(ISERROR(RankingExcess!K33),\"--\",OFFSET(RankingExcess!$A$1,RankingExcess!$K33-1,2))","v":"--"},null,null,null,null,null,null,{"$f":"IF(ISERROR(RankingExcess!K33),\"--\",OFFSET(RankingExcess!$A$1,RankingExcess!$K33-1,3))","v":"--"},null,null,null,null,null,null,null,null,null,null,null,null,{"$f":"IF(ISERROR(RankingExcess!K33),\"--\",OFFSET(RankingExcess!$A$1,RankingExcess!$K33-1,4))","v":"--"},null,null,null,null,null,null,null,null,null,null,null,null,null,null,null,null,null,null,null,null,null,null,{"$f":"IF(ISERROR(RankingExcess!K33),\"--\",OFFSET(RankingExcess!$A$1,RankingExcess!$K33-1,5))","v":"--"}]
[null,34,{"$f":"IF(ISERROR(RankingExcess!K34),\"--\",OFFSET(RankingExcess!$A$1,RankingExcess!$K34-1,1))","v":"--"},null,null,{"$f":"IF(ISERROR(RankingExcess!K34),\"--\",OFFSET(RankingExcess!$A$1,RankingExcess!$K34-1,2))","v":"--"},null,null,null,null,null,null,{"$f":"IF(ISERROR(RankingExcess!K34),\"--\",OFFSET(RankingExcess!$A$1,RankingExcess!$K34-1,3))","v":"--"},null,null,null,null,null,null,null,null,null,null,null,null,{"$f":"IF(ISERROR(RankingExcess!K34),\"--\",OFFSET(RankingExcess!$A$1,RankingExcess!$K34-1,4))","v":"--"},null,null,null,null,null,null,null,null,null,null,null,null,null,null,null,null,null,null,null,null,null,null,{"$f":"IF(ISERROR(RankingExcess!K34),\"--\",OFFSET(RankingExcess!$A$1,RankingExcess!$K34-1,5))","v":"--"}]
[null,35,{"$f":"IF(ISERROR(RankingExcess!K35),\"--\",OFFSET(RankingExcess!$A$1,RankingExcess!$K35-1,1))","v":"--"},null,null,{"$f":"IF(ISERROR(RankingExcess!K35),\"--\",OFFSET(RankingExcess!$A$1,RankingExcess!$K35-1,2))","v":"--"},null,null,null,null,null,null,{"$f":"IF(ISERROR(RankingExcess!K35),\"--\",OFFSET(RankingExcess!$A$1,RankingExcess!$K35-1,3))","v":"--"},null,null,null,null,null,null,null,null,null,null,null,null,{"$f":"IF(ISERROR(RankingExcess!K35),\"--\",OFFSET(RankingExcess!$A$1,RankingExcess!$K35-1,4))","v":"--"},null,null,null,null,null,null,null,null,null,null,null,null,null,null,null,null,null,null,null,null,null,null,{"$f":"IF(ISERROR(RankingExcess!K35),\"--\",OFFSET(RankingExcess!$A$1,RankingExcess!$K35-1,5))","v":"--"}]
[null,36,{"$f":"IF(ISERROR(RankingExcess!K36),\"--\",OFFSET(RankingExcess!$A$1,RankingExcess!$K36-1,1))","v":"--"},null,null,{"$f":"IF(ISERROR(RankingExcess!K36),\"--\",OFFSET(RankingExcess!$A$1,RankingExcess!$K36-1,2))","v":"--"},null,null,null,null,null,null,{"$f":"IF(ISERROR(RankingExcess!K36),\"--\",OFFSET(RankingExcess!$A$1,RankingExcess!$K36-1,3))","v":"--"},null,null,null,null,null,null,null,null,null,null,null,null,{"$f":"IF(ISERROR(RankingExcess!K36),\"--\",OFFSET(RankingExcess!$A$1,RankingExcess!$K36-1,4))","v":"--"},null,null,null,null,null,null,null,null,null,null,null,null,null,null,null,null,null,null,null,null,null,null,{"$f":"IF(ISERROR(RankingExcess!K36),\"--\",OFFSET(RankingExcess!$A$1,RankingExcess!$K36-1,5))","v":"--"}]
[null,37,{"$f":"IF(ISERROR(RankingExcess!K37),\"--\",OFFSET(RankingExcess!$A$1,RankingExcess!$K37-1,1))","v":"--"},null,null,{"$f":"IF(ISERROR(RankingExcess!K37),\"--\",OFFSET(RankingExcess!$A$1,RankingExcess!$K37-1,2))","v":"--"},null,null,null,null,null,null,{"$f":"IF(ISERROR(RankingExcess!K37),\"--\",OFFSET(RankingExcess!$A$1,RankingExcess!$K37-1,3))","v":"--"},null,null,null,null,null,null,null,null,null,null,null,null,{"$f":"IF(ISERROR(RankingExcess!K37),\"--\",OFFSET(RankingExcess!$A$1,RankingExcess!$K37-1,4))","v":"--"},null,null,null,null,null,null,null,null,null,null,null,null,null,null,null,null,null,null,null,null,null,null,{"$f":"IF(ISERROR(RankingExcess!K37),\"--\",OFFSET(RankingExcess!$A$1,RankingExcess!$K37-1,5))","v":"--"}]
[null,38,{"$f":"IF(ISERROR(RankingExcess!K38),\"--\",OFFSET(RankingExcess!$A$1,RankingExcess!$K38-1,1))","v":"--"},null,null,{"$f":"IF(ISERROR(RankingExcess!K38),\"--\",OFFSET(RankingExcess!$A$1,RankingExcess!$K38-1,2))","v":"--"},null,null,null,null,null,null,{"$f":"IF(ISERROR(RankingExcess!K38),\"--\",OFFSET(RankingExcess!$A$1,RankingExcess!$K38-1,3))","v":"--"},null,null,null,null,null,null,null,null,null,null,null,null,{"$f":"IF(ISERROR(RankingExcess!K38),\"--\",OFFSET(RankingExcess!$A$1,RankingExcess!$K38-1,4))","v":"--"},null,null,null,null,null,null,null,null,null,null,null,null,null,null,null,null,null,null,null,null,null,null,{"$f":"IF(ISERROR(RankingExcess!K38),\"--\",OFFSET(RankingExcess!$A$1,RankingExcess!$K38-1,5))","v":"--"}]
[null,39,{"$f":"IF(ISERROR(RankingExcess!K39),\"--\",OFFSET(RankingExcess!$A$1,RankingExcess!$K39-1,1))","v":"--"},null,null,{"$f":"IF(ISERROR(RankingExcess!K39),\"--\",OFFSET(RankingExcess!$A$1,RankingExcess!$K39-1,2))","v":"--"},null,null,null,null,null,null,{"$f":"IF(ISERROR(RankingExcess!K39),\"--\",OFFSET(RankingExcess!$A$1,RankingExcess!$K39-1,3))","v":"--"},null,null,null,null,null,null,null,null,null,null,null,null,{"$f":"IF(ISERROR(RankingExcess!K39),\"--\",OFFSET(RankingExcess!$A$1,RankingExcess!$K39-1,4))","v":"--"},null,null,null,null,null,null,null,null,null,null,null,null,null,null,null,null,null,null,null,null,null,null,{"$f":"IF(ISERROR(RankingExcess!K39),\"--\",OFFSET(RankingExcess!$A$1,RankingExcess!$K39-1,5))","v":"--"}]
[null,40,{"$f":"IF(ISERROR(RankingExcess!K40),\"--\",OFFSET(RankingExcess!$A$1,RankingExcess!$K40-1,1))","v":"--"},null,null,{"$f":"IF(ISERROR(RankingExcess!K40),\"--\",OFFSET(RankingExcess!$A$1,RankingExcess!$K40-1,2))","v":"--"},null,null,null,null,null,null,{"$f":"IF(ISERROR(RankingExcess!K40),\"--\",OFFSET(RankingExcess!$A$1,RankingExcess!$K40-1,3))","v":"--"},null,null,null,null,null,null,null,null,null,null,null,null,{"$f":"IF(ISERROR(RankingExcess!K40),\"--\",OFFSET(RankingExcess!$A$1,RankingExcess!$K40-1,4))","v":"--"},null,null,null,null,null,null,null,null,null,null,null,null,null,null,null,null,null,null,null,null,null,null,{"$f":"IF(ISERROR(RankingExcess!K40),\"--\",OFFSET(RankingExcess!$A$1,RankingExcess!$K40-1,5))","v":"--"}]
[null,41,{"$f":"IF(ISERROR(RankingExcess!K41),\"--\",OFFSET(RankingExcess!$A$1,RankingExcess!$K41-1,1))","v":"--"},null,null,{"$f":"IF(ISERROR(RankingExcess!K41),\"--\",OFFSET(RankingExcess!$A$1,RankingExcess!$K41-1,2))","v":"--"},null,null,null,null,null,null,{"$f":"IF(ISERROR(RankingExcess!K41),\"--\",OFFSET(RankingExcess!$A$1,RankingExcess!$K41-1,3))","v":"--"},null,null,null,null,null,null,null,null,null,null,null,null,{"$f":"IF(ISERROR(RankingExcess!K41),\"--\",OFFSET(RankingExcess!$A$1,RankingExcess!$K41-1,4))","v":"--"},null,null,null,null,null,null,null,null,null,null,null,null,null,null,null,null,null,null,null,null,null,null,{"$f":"IF(ISERROR(RankingExcess!K41),\"--\",OFFSET(RankingExcess!$A$1,RankingExcess!$K41-1,5))","v":"--"}]
[null,42,{"$f":"IF(ISERROR(RankingExcess!K42),\"--\",OFFSET(RankingExcess!$A$1,RankingExcess!$K42-1,1))","v":"--"},null,null,{"$f":"IF(ISERROR(RankingExcess!K42),\"--\",OFFSET(RankingExcess!$A$1,RankingExcess!$K42-1,2))","v":"--"},null,null,null,null,null,null,{"$f":"IF(ISERROR(RankingExcess!K42),\"--\",OFFSET(RankingExcess!$A$1,RankingExcess!$K42-1,3))","v":"--"},null,null,null,null,null,null,null,null,null,null,null,null,{"$f":"IF(ISERROR(RankingExcess!K42),\"--\",OFFSET(RankingExcess!$A$1,RankingExcess!$K42-1,4))","v":"--"},null,null,null,null,null,null,null,null,null,null,null,null,null,null,null,null,null,null,null,null,null,null,{"$f":"IF(ISERROR(RankingExcess!K42),\"--\",OFFSET(RankingExcess!$A$1,RankingExcess!$K42-1,5))","v":"--"}]
[null,43,{"$f":"IF(ISERROR(RankingExcess!K43),\"--\",OFFSET(RankingExcess!$A$1,RankingExcess!$K43-1,1))","v":"--"},null,null,{"$f":"IF(ISERROR(RankingExcess!K43),\"--\",OFFSET(RankingExcess!$A$1,RankingExcess!$K43-1,2))","v":"--"},null,null,null,null,null,null,{"$f":"IF(ISERROR(RankingExcess!K43),\"--\",OFFSET(RankingExcess!$A$1,RankingExcess!$K43-1,3))","v":"--"},null,null,null,null,null,null,null,null,null,null,null,null,{"$f":"IF(ISERROR(RankingExcess!K43),\"--\",OFFSET(RankingExcess!$A$1,RankingExcess!$K43-1,4))","v":"--"},null,null,null,null,null,null,null,null,null,null,null,null,null,null,null,null,null,null,null,null,null,null,{"$f":"IF(ISERROR(RankingExcess!K43),\"--\",OFFSET(RankingExcess!$A$1,RankingExcess!$K43-1,5))","v":"--"}]
[null,44,{"$f":"IF(ISERROR(RankingExcess!K44),\"--\",OFFSET(RankingExcess!$A$1,RankingExcess!$K44-1,1))","v":"--"},null,null,{"$f":"IF(ISERROR(RankingExcess!K44),\"--\",OFFSET(RankingExcess!$A$1,RankingExcess!$K44-1,2))","v":"--"},null,null,null,null,null,null,{"$f":"IF(ISERROR(RankingExcess!K44),\"--\",OFFSET(RankingExcess!$A$1,RankingExcess!$K44-1,3))","v":"--"},null,null,null,null,null,null,null,null,null,null,null,null,{"$f":"IF(ISERROR(RankingExcess!K44),\"--\",OFFSET(RankingExcess!$A$1,RankingExcess!$K44-1,4))","v":"--"},null,null,null,null,null,null,null,null,null,null,null,null,null,null,null,null,null,null,null,null,null,null,{"$f":"IF(ISERROR(RankingExcess!K44),\"--\",OFFSET(RankingExcess!$A$1,RankingExcess!$K44-1,5))","v":"--"}]
[null,45,{"$f":"IF(ISERROR(RankingExcess!K45),\"--\",OFFSET(RankingExcess!$A$1,RankingExcess!$K45-1,1))","v":"--"},null,null,{"$f":"IF(ISERROR(RankingExcess!K45),\"--\",OFFSET(RankingExcess!$A$1,RankingExcess!$K45-1,2))","v":"--"},null,null,null,null,null,null,{"$f":"IF(ISERROR(RankingExcess!K45),\"--\",OFFSET(RankingExcess!$A$1,RankingExcess!$K45-1,3))","v":"--"},null,null,null,null,null,null,null,null,null,null,null,null,{"$f":"IF(ISERROR(RankingExcess!K45),\"--\",OFFSET(RankingExcess!$A$1,RankingExcess!$K45-1,4))","v":"--"},null,null,null,null,null,null,null,null,null,null,null,null,null,null,null,null,null,null,null,null,null,null,{"$f":"IF(ISERROR(RankingExcess!K45),\"--\",OFFSET(RankingExcess!$A$1,RankingExcess!$K45-1,5))","v":"--"}]
[null,46,{"$f":"IF(ISERROR(RankingExcess!K46),\"--\",OFFSET(RankingExcess!$A$1,RankingExcess!$K46-1,1))","v":"--"},null,null,{"$f":"IF(ISERROR(RankingExcess!K46),\"--\",OFFSET(RankingExcess!$A$1,RankingExcess!$K46-1,2))","v":"--"},null,null,null,null,null,null,{"$f":"IF(ISERROR(RankingExcess!K46),\"--\",OFFSET(RankingExcess!$A$1,RankingExcess!$K46-1,3))","v":"--"},null,null,null,null,null,null,null,null,null,null,null,null,{"$f":"IF(ISERROR(RankingExcess!K46),\"--\",OFFSET(RankingExcess!$A$1,RankingExcess!$K46-1,4))","v":"--"},null,null,null,null,null,null,null,null,null,null,null,null,null,null,null,null,null,null,null,null,null,null,{"$f":"IF(ISERROR(RankingExcess!K46),\"--\",OFFSET(RankingExcess!$A$1,RankingExcess!$K46-1,5))","v":"--"}]
[null,47,{"$f":"IF(ISERROR(RankingExcess!K47),\"--\",OFFSET(RankingExcess!$A$1,RankingExcess!$K47-1,1))","v":"--"},null,null,{"$f":"IF(ISERROR(RankingExcess!K47),\"--\",OFFSET(RankingExcess!$A$1,RankingExcess!$K47-1,2))","v":"--"},null,null,null,null,null,null,{"$f":"IF(ISERROR(RankingExcess!K47),\"--\",OFFSET(RankingExcess!$A$1,RankingExcess!$K47-1,3))","v":"--"},null,null,null,null,null,null,null,null,null,null,null,null,{"$f":"IF(ISERROR(RankingExcess!K47),\"--\",OFFSET(RankingExcess!$A$1,RankingExcess!$K47-1,4))","v":"--"},null,null,null,null,null,null,null,null,null,null,null,null,null,null,null,null,null,null,null,null,null,null,{"$f":"IF(ISERROR(RankingExcess!K47),\"--\",OFFSET(RankingExcess!$A$1,RankingExcess!$K47-1,5))","v":"--"}]
[null,48,{"$f":"IF(ISERROR(RankingExcess!K48),\"--\",OFFSET(RankingExcess!$A$1,RankingExcess!$K48-1,1))","v":"--"},null,null,{"$f":"IF(ISERROR(RankingExcess!K48),\"--\",OFFSET(RankingExcess!$A$1,RankingExcess!$K48-1,2))","v":"--"},null,null,null,null,null,null,{"$f":"IF(ISERROR(RankingExcess!K48),\"--\",OFFSET(RankingExcess!$A$1,RankingExcess!$K48-1,3))","v":"--"},null,null,null,null,null,null,null,null,null,null,null,null,{"$f":"IF(ISERROR(RankingExcess!K48),\"--\",OFFSET(RankingExcess!$A$1,RankingExcess!$K48-1,4))","v":"--"},null,null,null,null,null,null,null,null,null,null,null,null,null,null,null,null,null,null,null,null,null,null,{"$f":"IF(ISERROR(RankingExcess!K48),\"--\",OFFSET(RankingExcess!$A$1,RankingExcess!$K48-1,5))","v":"--"}]
[null,49,{"$f":"IF(ISERROR(RankingExcess!K49),\"--\",OFFSET(RankingExcess!$A$1,RankingExcess!$K49-1,1))","v":"--"},null,null,{"$f":"IF(ISERROR(RankingExcess!K49),\"--\",OFFSET(RankingExcess!$A$1,RankingExcess!$K49-1,2))","v":"--"},null,null,null,null,null,null,{"$f":"IF(ISERROR(RankingExcess!K49),\"--\",OFFSET(RankingExcess!$A$1,RankingExcess!$K49-1,3))","v":"--"},null,null,null,null,null,null,null,null,null,null,null,null,{"$f":"IF(ISERROR(RankingExcess!K49),\"--\",OFFSET(RankingExcess!$A$1,RankingExcess!$K49-1,4))","v":"--"},null,null,null,null,null,null,null,null,null,null,null,null,null,null,null,null,null,null,null,null,null,null,{"$f":"IF(ISERROR(RankingExcess!K49),\"--\",OFFSET(RankingExcess!$A$1,RankingExcess!$K49-1,5))","v":"--"}]
[null,50,{"$f":"IF(ISERROR(RankingExcess!K50),\"--\",OFFSET(RankingExcess!$A$1,RankingExcess!$K50-1,1))","v":"--"},null,null,{"$f":"IF(ISERROR(RankingExcess!K50),\"--\",OFFSET(RankingExcess!$A$1,RankingExcess!$K50-1,2))","v":"--"},null,null,null,null,null,null,{"$f":"IF(ISERROR(RankingExcess!K50),\"--\",OFFSET(RankingExcess!$A$1,RankingExcess!$K50-1,3))","v":"--"},null,null,null,null,null,null,null,null,null,null,null,null,{"$f":"IF(ISERROR(RankingExcess!K50),\"--\",OFFSET(RankingExcess!$A$1,RankingExcess!$K50-1,4))","v":"--"},null,null,null,null,null,null,null,null,null,null,null,null,null,null,null,null,null,null,null,null,null,null,{"$f":"IF(ISERROR(RankingExcess!K50),\"--\",OFFSET(RankingExcess!$A$1,RankingExcess!$K50-1,5))","v":"--"}]
[]
[null,"Rank","Highest Predicted Total Crashes",null,null,null,null,null,null,null,null,null,null,null,null,null,null,null,null,null,null,null,null,null,null,null,null,null,null,null,null,null,null,null,null,null,null,null,null,null,null,null,null,null,null,null,null,null,"Predicted"]
[null,1,{"$f":"IF(ISERROR(RankingPredictedTotal!K1),\"--\",OFFSET(RankingPredictedTotal!$A$1,RankingPredictedTotal!$K1-1,1))","v":"(SEG) SH 321, MP 0.0 to MP 1.5"},null,null,{"$f":"IF(ISERROR(RankingPredictedTotal!K1),\"--\",OFFSET(RankingPredictedTotal!$A$1,RankingPredictedTotal!$K1-1,2))","v":"Anywhere, USA"},null,null,null,null,null,null,{"$f":"IF(ISERROR(RankingPredictedTotal!K1),\"--\",OFFSET(RankingPredictedTotal!$A$1,RankingPredictedTotal!$K1-1,3))","v":"Length = 1.5 mi"},null,null,null,null,null,null,null,null,null,null,null,null,{"$f":"IF(ISERROR(RankingPredictedTotal!K1),\"--\",OFFSET(RankingPredictedTotal!$A$1,RankingPredictedTotal!$K1-1,4))","v":"AADT: 10,000"},null,null,null,null,null,null,null,null,null,null,null,null,null,null,null,null,null,null,null,null,null,null,{"$f":"IF(ISERROR(RankingPredictedTotal!K1),\"--\",OFFSET(RankingPredictedTotal!$A$1,RankingPredictedTotal!$K1-1,5))","v":5.6035441623555631}]
[null,2,{"$f":"IF(ISERROR(RankingPredictedTotal!K2),\"--\",OFFSET(RankingPredictedTotal!$A$1,RankingPredictedTotal!$K2-1,1))","v":"(INT) Orange @ Jaakko"},null,null,{"$f":"IF(ISERROR(RankingPredictedTotal!K2),\"--\",OFFSET(RankingPredictedTotal!$A$1,RankingPredictedTotal!$K2-1,2))","v":"Heritage County"},null,null,null,null,null,null,{"$f":"IF(ISERROR(RankingPredictedTotal!K2),\"--\",OFFSET(RankingPredictedTotal!$A$1,RankingPredictedTotal!$K2-1,3))","v":"Control = 4ST"},null,null,null,null,null,null,null,null,null,null,null,null,{"$f":"IF(ISERROR(RankingPredictedTotal!K2),\"--\",OFFSET(RankingPredictedTotal!$A$1,RankingPredictedTotal!$K2-1,4))","v":"Major AADT: 2,750 / Minor AADT: 2,500"},null,null,null,null,null,null,null,null,null,null,null,null,null,null,null,null,null,null,null,null,null,null,{"$f":"IF(ISERROR(RankingPredictedTotal!K2),\"--\",OFFSET(RankingPredictedTotal!$A$1,RankingPredictedTotal!$K2-1,5))","v":4.3227138488376866}]
[null,3,{"$f":"IF(ISERROR(RankingPredictedTotal!K3),\"--\",OFFSET(RankingPredictedTotal!$A$1,RankingPredictedTotal!$K3-1,1))","v":"(INT) Banana @ Toivo"},null,null,{"$f":"IF(ISERROR(RankingPredictedTotal!K3),\"--\",OFFSET(RankingPredictedTotal!$A$1,RankingPredictedTotal!$K3-1,2))","v":"Heritage County"},null,null,null,null,null,null,{"$f":"IF(ISERROR(RankingPredictedTotal!K3),\"--\",OFFSET(RankingPredictedTotal!$A$1,RankingPredictedTotal!$K3-1,3))","v":"Control = 4ST"},null,null,null,null,null,null,null,null,null,null,null,null,{"$f":"IF(ISERROR(RankingPredictedTotal!K3),\"--\",OFFSET(RankingPredictedTotal!$A$1,RankingPredictedTotal!$K3-1,4))","v":"Major AADT: 2,100 / Minor AADT: 2,000"},null,null,null,null,null,null,null,null,null,null,null,null,null,null,null,null,null,null,null,null,null,null,{"$f":"IF(ISERROR(RankingPredictedTotal!K3),\"--\",OFFSET(RankingPredictedTotal!$A$1,RankingPredictedTotal!$K3-1,5))","v":3.2529387759826012}]
[null,4,{"$f":"IF(ISERROR(RankingPredictedTotal!K4),\"--\",OFFSET(RankingPredictedTotal!$A$1,RankingPredictedTotal!$K4-1,1))","v":"(INT) Mango @ Aili"},null,null,{"$f":"IF(ISERROR(RankingPredictedTotal!K4),\"--\",OFFSET(RankingPredictedTotal!$A$1,RankingPredictedTotal!$K4-1,2))","v":"Heritage County"},null,null,null,null,null,null,{"$f":"IF(ISERROR(RankingPredictedTotal!K4),\"--\",OFFSET(RankingPredictedTotal!$A$1,RankingPredictedTotal!$K4-1,3))","v":"Control = 4ST"},null,null,null,null,null,null,null,null,null,null,null,null,{"$f":"IF(ISERROR(RankingPredictedTotal!K4),\"--\",OFFSET(RankingPredictedTotal!$A$1,RankingPredictedTotal!$K4-1,4))","v":"Major AADT: 3,200 / Minor AADT: 1,150"},null,null,null,null,null,null,null,null,null,null,null,null,null,null,null,null,null,null,null,null,null,null,{"$f":"IF(ISERROR(RankingPredictedTotal!K4),\"--\",OFFSET(RankingPredictedTotal!$A$1,RankingPredictedTotal!$K4-1,5))","v":3.1115804738325066}]
[null,5,{"$f":"IF(ISERROR(RankingPredictedTotal!K5),\"--\",OFFSET(RankingPredictedTotal!$A$1,RankingPredictedTotal!$K5-1,1))","v":"(INT) Pineapple @ Emil"},null,null,{"$f":"IF(ISERROR(RankingPredictedTotal!K5),\"--\",OFFSET(RankingPredictedTotal!$A$1,RankingPredictedTotal!$K5-1,2))","v":"Heritage County"},null,null,null,null,null,null,{"$f":"IF(ISERROR(RankingPredictedTotal!K5),\"--\",OFFSET(RankingPredictedTotal!$A$1,RankingPredictedTotal!$K5-1,3))","v":"Control = 4ST"},null,null,null,null,null,null,null,null,null,null,null,null,{"$f":"IF(ISERROR(RankingPredictedTotal!K5),\"--\",OFFSET(RankingPredictedTotal!$A$1,RankingPredictedTotal!$K5-1,4))","v":"Major AADT: 3,500 / Minor AADT: 3,300"},null,null,null,null,null,null,null,null,null,null,null,null,null,null,null,null,null,null,null,null,null,null,{"$f":"IF(ISERROR(RankingPredictedTotal!K5),\"--\",OFFSET(RankingPredictedTotal!$A$1,RankingPredictedTotal!$K5-1,5))","v":3.0771675177794511}]
[null,6,{"$f":"IF(ISERROR(RankingPredictedTotal!K6),\"--\",OFFSET(RankingPredictedTotal!$A$1,RankingPredictedTotal!$K6-1,1))","v":"(INT) Lemon @ Tuula"},null,null,{"$f":"IF(ISERROR(RankingPredictedTotal!K6),\"--\",OFFSET(RankingPredictedTotal!$A$1,RankingPredictedTotal!$K6-1,2))","v":"Heritage County"},null,null,null,null,null,null,{"$f":"IF(ISERROR(RankingPredictedTotal!K6),\"--\",OFFSET(RankingPredictedTotal!$A$1,RankingPredictedTotal!$K6-1,3))","v":"Control = 4ST"},null,null,null,null,null,null,null,null,null,null,null,null,{"$f":"IF(ISERROR(RankingPredictedTotal!K6),\"--\",OFFSET(RankingPredictedTotal!$A$1,RankingPredictedTotal!$K6-1,4))","v":"Major AADT: 3,700 / Minor AADT: 2,100"},null,null,null,null,null,null,null,null,null,null,null,null,null,null,null,null,null,null,null,null,null,null,{"$f":"IF(ISERROR(RankingPredictedTotal!K6),\"--\",OFFSET(RankingPredictedTotal!$A$1,RankingPredictedTotal!$K6-1,5))","v":2.3795061579514449}]
[null,7,{"$f":"IF(ISERROR(RankingPredictedTotal!K7),\"--\",OFFSET(RankingPredictedTotal!$A$1,RankingPredictedTotal!$K7-1,1))","v":"(INT) Apple @ Heikki"},null,null,{"$f":"IF(ISERROR(RankingPredictedTotal!K7),\"--\",OFFSET(RankingPredictedTotal!$A$1,RankingPredictedTotal!$K7-1,2))","v":"Heritage County"},null,null,null,null,null,null,{"$f":"IF(ISERROR(RankingPredictedTotal!K7),\"--\",OFFSET(RankingPredictedTotal!$A$1,RankingPredictedTotal!$K7-1,3))","v":"Control = 4ST"},null,null,null,null,null,null,null,null,null,null,null,null,{"$f":"IF(ISERROR(RankingPredictedTotal!K7),\"--\",OFFSET(RankingPredictedTotal!$A$1,RankingPredictedTotal!$K7-1,4))","v":"Major AADT: 3,300 / Minor AADT: 2,400"},null,null,null,null,null,null,null,null,null,null,null,null,null,null,null,null,null,null,null,null,null,null,{"$f":"IF(ISERROR(RankingPredictedTotal!K7),\"--\",OFFSET(RankingPredictedTotal!$A$1,RankingPredictedTotal!$K7-1,5))","v":2.2526555980630749}]
[null,8,{"$f":"IF(ISERROR(RankingPredictedTotal!K8),\"--\",OFFSET(RankingPredictedTotal!$A$1,RankingPredictedTotal!$K8-1,1))","v":"(INT) Starfruit @ Alma"},null,null,{"$f":"IF(ISERROR(RankingPredictedTotal!K8),\"--\",OFFSET(RankingPredictedTotal!$A$1,RankingPredictedTotal!$K8-1,2))","v":"Heritage County"},null,null,null,null,null,null,{"$f":"IF(ISERROR(RankingPredictedTotal!K8),\"--\",OFFSET(RankingPredictedTotal!$A$1,RankingPredictedTotal!$K8-1,3))","v":"Control = 4ST"},null,null,null,null,null,null,null,null,null,null,null,null,{"$f":"IF(ISERROR(RankingPredictedTotal!K8),\"--\",OFFSET(RankingPredictedTotal!$A$1,RankingPredictedTotal!$K8-1,4))","v":"Major AADT: 1,900 / Minor AADT: 500"},null,null,null,null,null,null,null,null,null,null,null,null,null,null,null,null,null,null,null,null,null,null,{"$f":"IF(ISERROR(RankingPredictedTotal!K8),\"--\",OFFSET(RankingPredictedTotal!$A$1,RankingPredictedTotal!$K8-1,5))","v":1.3332806039073097}]
[null,9,{"$f":"IF(ISERROR(RankingPredictedTotal!K9),\"--\",OFFSET(RankingPredictedTotal!$A$1,RankingPredictedTotal!$K9-1,1))","v":"(INT) Blueberry @ Matti"},null,null,{"$f":"IF(ISERROR(RankingPredictedTotal!K9),\"--\",OFFSET(RankingPredictedTotal!$A$1,RankingPredictedTotal!$K9-1,2))","v":"Heritage County"},null,null,null,null,null,null,{"$f":"IF(ISERROR(RankingPredictedTotal!K9),\"--\",OFFSET(RankingPredictedTotal!$A$1,RankingPredictedTotal!$K9-1,3))","v":"Control = 3ST"},null,null,null,null,null,null,null,null,null,null,null,null,{"$f":"IF(ISERROR(RankingPredictedTotal!K9),\"--\",OFFSET(RankingPredictedTotal!$A$1,RankingPredictedTotal!$K9-1,4))","v":"Major AADT: 1,800 / Minor AADT: 700"},null,null,null,null,null,null,null,null,null,null,null,null,null,null,null,null,null,null,null,null,null,null,{"$f":"IF(ISERROR(RankingPredictedTotal!K9),\"--\",OFFSET(RankingPredictedTotal!$A$1,RankingPredictedTotal!$K9-1,5))","v":0.91612703030454767}]
[null,10,{"$f":"IF(ISERROR(RankingPredictedTotal!K10),\"--\",OFFSET(RankingPredictedTotal!$A$1,RankingPredictedTotal!$K10-1,1))","v":"(INT) Kiwi @ Hilma"},null,null,{"$f":"IF(ISERROR(RankingPredictedTotal!K10),\"--\",OFFSET(RankingPredictedTotal!$A$1,RankingPredictedTotal!$K10-1,2))","v":"Heritage County"},null,null,null,null,null,null,{"$f":"IF(ISERROR(RankingPredictedTotal!K10),\"--\",OFFSET(RankingPredictedTotal!$A$1,RankingPredictedTotal!$K10-1,3))","v":"Control = 3ST"},null,null,null,null,null,null,null,null,null,null,null,null,{"$f":"IF(ISERROR(RankingPredictedTotal!K10),\"--\",OFFSET(RankingPredictedTotal!$A$1,RankingPredictedTotal!$K10-1,4))","v":"Major AADT: 1,200 / Minor AADT: 1,150"},null,null,null,null,null,null,null,null,null,null,null,null,null,null,null,null,null,null,null,null,null,null,{"$f":"IF(ISERROR(RankingPredictedTotal!K10),\"--\",OFFSET(RankingPredictedTotal!$A$1,RankingPredictedTotal!$K10-1,5))","v":0.82146692365997587}]
[null,11,{"$f":"IF(ISERROR(RankingPredictedTotal!K11),\"--\",OFFSET(RankingPredictedTotal!$A$1,RankingPredictedTotal!$K11-1,1))","v":"(INT) Raspberry @ Arvo"},null,null,{"$f":"IF(ISERROR(RankingPredictedTotal!K11),\"--\",OFFSET(RankingPredictedTotal!$A$1,RankingPredictedTotal!$K11-1,2))","v":"Heritage County"},null,null,null,null,null,null,{"$f":"IF(ISERROR(RankingPredictedTotal!K11),\"--\",OFFSET(RankingPredictedTotal!$A$1,RankingPredictedTotal!$K11-1,3))","v":"Control = 3ST"},null,null,null,null,null,null,null,null,null,null,null,null,{"$f":"IF(ISERROR(RankingPredictedTotal!K11),\"--\",OFFSET(RankingPredictedTotal!$A$1,RankingPredictedTotal!$K11-1,4))","v":"Major AADT: 2,350 / Minor AADT: 900"},null,null,null,null,null,null,null,null,null,null,null,null,null,null,null,null,null,null,null,null,null,null,{"$f":"IF(ISERROR(RankingPredictedTotal!K11),\"--\",OFFSET(RankingPredictedTotal!$A$1,RankingPredictedTotal!$K11-1,5))","v":0.3840423245730078}]
[null,12,{"$f":"IF(ISERROR(RankingPredictedTotal!K12),\"--\",OFFSET(RankingPredictedTotal!$A$1,RankingPredictedTotal!$K12-1,1))","v":"--"},null,null,{"$f":"IF(ISERROR(RankingPredictedTotal!K12),\"--\",OFFSET(RankingPredictedTotal!$A$1,RankingPredictedTotal!$K12-1,2))","v":"--"},null,null,null,null,null,null,{"$f":"IF(ISERROR(RankingPredictedTotal!K12),\"--\",OFFSET(RankingPredictedTotal!$A$1,RankingPredictedTotal!$K12-1,3))","v":"--"},null,null,null,null,null,null,null,null,null,null,null,null,{"$f":"IF(ISERROR(RankingPredictedTotal!K12),\"--\",OFFSET(RankingPredictedTotal!$A$1,RankingPredictedTotal!$K12-1,4))","v":"--"},null,null,null,null,null,null,null,null,null,null,null,null,null,null,null,null,null,null,null,null,null,null,{"$f":"IF(ISERROR(RankingPredictedTotal!K12),\"--\",OFFSET(RankingPredictedTotal!$A$1,RankingPredictedTotal!$K12-1,5))","v":"--"}]
[null,13,{"$f":"IF(ISERROR(RankingPredictedTotal!K13),\"--\",OFFSET(RankingPredictedTotal!$A$1,RankingPredictedTotal!$K13-1,1))","v":"--"},null,null,{"$f":"IF(ISERROR(RankingPredictedTotal!K13),\"--\",OFFSET(RankingPredictedTotal!$A$1,RankingPredictedTotal!$K13-1,2))","v":"--"},null,null,null,null,null,null,{"$f":"IF(ISERROR(RankingPredictedTotal!K13),\"--\",OFFSET(RankingPredictedTotal!$A$1,RankingPredictedTotal!$K13-1,3))","v":"--"},null,null,null,null,null,null,null,null,null,null,null,null,{"$f":"IF(ISERROR(RankingPredictedTotal!K13),\"--\",OFFSET(RankingPredictedTotal!$A$1,RankingPredictedTotal!$K13-1,4))","v":"--"},null,null,null,null,null,null,null,null,null,null,null,null,null,null,null,null,null,null,null,null,null,null,{"$f":"IF(ISERROR(RankingPredictedTotal!K13),\"--\",OFFSET(RankingPredictedTotal!$A$1,RankingPredictedTotal!$K13-1,5))","v":"--"}]
[null,14,{"$f":"IF(ISERROR(RankingPredictedTotal!K14),\"--\",OFFSET(RankingPredictedTotal!$A$1,RankingPredictedTotal!$K14-1,1))","v":"--"},null,null,{"$f":"IF(ISERROR(RankingPredictedTotal!K14),\"--\",OFFSET(RankingPredictedTotal!$A$1,RankingPredictedTotal!$K14-1,2))","v":"--"},null,null,null,null,null,null,{"$f":"IF(ISERROR(RankingPredictedTotal!K14),\"--\",OFFSET(RankingPredictedTotal!$A$1,RankingPredictedTotal!$K14-1,3))","v":"--"},null,null,null,null,null,null,null,null,null,null,null,null,{"$f":"IF(ISERROR(RankingPredictedTotal!K14),\"--\",OFFSET(RankingPredictedTotal!$A$1,RankingPredictedTotal!$K14-1,4))","v":"--"},null,null,null,null,null,null,null,null,null,null,null,null,null,null,null,null,null,null,null,null,null,null,{"$f":"IF(ISERROR(RankingPredictedTotal!K14),\"--\",OFFSET(RankingPredictedTotal!$A$1,RankingPredictedTotal!$K14-1,5))","v":"--"}]
[null,15,{"$f":"IF(ISERROR(RankingPredictedTotal!K15),\"--\",OFFSET(RankingPredictedTotal!$A$1,RankingPredictedTotal!$K15-1,1))","v":"--"},null,null,{"$f":"IF(ISERROR(RankingPredictedTotal!K15),\"--\",OFFSET(RankingPredictedTotal!$A$1,RankingPredictedTotal!$K15-1,2))","v":"--"},null,null,null,null,null,null,{"$f":"IF(ISERROR(RankingPredictedTotal!K15),\"--\",OFFSET(RankingPredictedTotal!$A$1,RankingPredictedTotal!$K15-1,3))","v":"--"},null,null,null,null,null,null,null,null,null,null,null,null,{"$f":"IF(ISERROR(RankingPredictedTotal!K15),\"--\",OFFSET(RankingPredictedTotal!$A$1,RankingPredictedTotal!$K15-1,4))","v":"--"},null,null,null,null,null,null,null,null,null,null,null,null,null,null,null,null,null,null,null,null,null,null,{"$f":"IF(ISERROR(RankingPredictedTotal!K15),\"--\",OFFSET(RankingPredictedTotal!$A$1,RankingPredictedTotal!$K15-1,5))","v":"--"}]
[null,16,{"$f":"IF(ISERROR(RankingPredictedTotal!K16),\"--\",OFFSET(RankingPredictedTotal!$A$1,RankingPredictedTotal!$K16-1,1))","v":"--"},null,null,{"$f":"IF(ISERROR(RankingPredictedTotal!K16),\"--\",OFFSET(RankingPredictedTotal!$A$1,RankingPredictedTotal!$K16-1,2))","v":"--"},null,null,null,null,null,null,{"$f":"IF(ISERROR(RankingPredictedTotal!K16),\"--\",OFFSET(RankingPredictedTotal!$A$1,RankingPredictedTotal!$K16-1,3))","v":"--"},null,null,null,null,null,null,null,null,null,null,null,null,{"$f":"IF(ISERROR(RankingPredictedTotal!K16),\"--\",OFFSET(RankingPredictedTotal!$A$1,RankingPredictedTotal!$K16-1,4))","v":"--"},null,null,null,null,null,null,null,null,null,null,null,null,null,null,null,null,null,null,null,null,null,null,{"$f":"IF(ISERROR(RankingPredictedTotal!K16),\"--\",OFFSET(RankingPredictedTotal!$A$1,RankingPredictedTotal!$K16-1,5))","v":"--"}]
[null,17,{"$f":"IF(ISERROR(RankingPredictedTotal!K17),\"--\",OFFSET(RankingPredictedTotal!$A$1,RankingPredictedTotal!$K17-1,1))","v":"--"},null,null,{"$f":"IF(ISERROR(RankingPredictedTotal!K17),\"--\",OFFSET(RankingPredictedTotal!$A$1,RankingPredictedTotal!$K17-1,2))","v":"--"},null,null,null,null,null,null,{"$f":"IF(ISERROR(RankingPredictedTotal!K17),\"--\",OFFSET(RankingPredictedTotal!$A$1,RankingPredictedTotal!$K17-1,3))","v":"--"},null,null,null,null,null,null,null,null,null,null,null,null,{"$f":"IF(ISERROR(RankingPredictedTotal!K17),\"--\",OFFSET(RankingPredictedTotal!$A$1,RankingPredictedTotal!$K17-1,4))","v":"--"},null,null,null,null,null,null,null,null,null,null,null,null,null,null,null,null,null,null,null,null,null,null,{"$f":"IF(ISERROR(RankingPredictedTotal!K17),\"--\",OFFSET(RankingPredictedTotal!$A$1,RankingPredictedTotal!$K17-1,5))","v":"--"}]
[null,18,{"$f":"IF(ISERROR(RankingPredictedTotal!K18),\"--\",OFFSET(RankingPredictedTotal!$A$1,RankingPredictedTotal!$K18-1,1))","v":"--"},null,null,{"$f":"IF(ISERROR(RankingPredictedTotal!K18),\"--\",OFFSET(RankingPredictedTotal!$A$1,RankingPredictedTotal!$K18-1,2))","v":"--"},null,null,null,null,null,null,{"$f":"IF(ISERROR(RankingPredictedTotal!K18),\"--\",OFFSET(RankingPredictedTotal!$A$1,RankingPredictedTotal!$K18-1,3))","v":"--"},null,null,null,null,null,null,null,null,null,null,null,null,{"$f":"IF(ISERROR(RankingPredictedTotal!K18),\"--\",OFFSET(RankingPredictedTotal!$A$1,RankingPredictedTotal!$K18-1,4))","v":"--"},null,null,null,null,null,null,null,null,null,null,null,null,null,null,null,null,null,null,null,null,null,null,{"$f":"IF(ISERROR(RankingPredictedTotal!K18),\"--\",OFFSET(RankingPredictedTotal!$A$1,RankingPredictedTotal!$K18-1,5))","v":"--"}]
[null,19,{"$f":"IF(ISERROR(RankingPredictedTotal!K19),\"--\",OFFSET(RankingPredictedTotal!$A$1,RankingPredictedTotal!$K19-1,1))","v":"--"},null,null,{"$f":"IF(ISERROR(RankingPredictedTotal!K19),\"--\",OFFSET(RankingPredictedTotal!$A$1,RankingPredictedTotal!$K19-1,2))","v":"--"},null,null,null,null,null,null,{"$f":"IF(ISERROR(RankingPredictedTotal!K19),\"--\",OFFSET(RankingPredictedTotal!$A$1,RankingPredictedTotal!$K19-1,3))","v":"--"},null,null,null,null,null,null,null,null,null,null,null,null,{"$f":"IF(ISERROR(RankingPredictedTotal!K19),\"--\",OFFSET(RankingPredictedTotal!$A$1,RankingPredictedTotal!$K19-1,4))","v":"--"},null,null,null,null,null,null,null,null,null,null,null,null,null,null,null,null,null,null,null,null,null,null,{"$f":"IF(ISERROR(RankingPredictedTotal!K19),\"--\",OFFSET(RankingPredictedTotal!$A$1,RankingPredictedTotal!$K19-1,5))","v":"--"}]
[null,20,{"$f":"IF(ISERROR(RankingPredictedTotal!K20),\"--\",OFFSET(RankingPredictedTotal!$A$1,RankingPredictedTotal!$K20-1,1))","v":"--"},null,null,{"$f":"IF(ISERROR(RankingPredictedTotal!K20),\"--\",OFFSET(RankingPredictedTotal!$A$1,RankingPredictedTotal!$K20-1,2))","v":"--"},null,null,null,null,null,null,{"$f":"IF(ISERROR(RankingPredictedTotal!K20),\"--\",OFFSET(RankingPredictedTotal!$A$1,RankingPredictedTotal!$K20-1,3))","v":"--"},null,null,null,null,null,null,null,null,null,null,null,null,{"$f":"IF(ISERROR(RankingPredictedTotal!K20),\"--\",OFFSET(RankingPredictedTotal!$A$1,RankingPredictedTotal!$K20-1,4))","v":"--"},null,null,null,null,null,null,null,null,null,null,null,null,null,null,null,null,null,null,null,null,null,null,{"$f":"IF(ISERROR(RankingPredictedTotal!K20),\"--\",OFFSET(RankingPredictedTotal!$A$1,RankingPredictedTotal!$K20-1,5))","v":"--"}]
[null,21,{"$f":"IF(ISERROR(RankingPredictedTotal!K21),\"--\",OFFSET(RankingPredictedTotal!$A$1,RankingPredictedTotal!$K21-1,1))","v":"--"},null,null,{"$f":"IF(ISERROR(RankingPredictedTotal!K21),\"--\",OFFSET(RankingPredictedTotal!$A$1,RankingPredictedTotal!$K21-1,2))","v":"--"},null,null,null,null,null,null,{"$f":"IF(ISERROR(RankingPredictedTotal!K21),\"--\",OFFSET(RankingPredictedTotal!$A$1,RankingPredictedTotal!$K21-1,3))","v":"--"},null,null,null,null,null,null,null,null,null,null,null,null,{"$f":"IF(ISERROR(RankingPredictedTotal!K21),\"--\",OFFSET(RankingPredictedTotal!$A$1,RankingPredictedTotal!$K21-1,4))","v":"--"},null,null,null,null,null,null,null,null,null,null,null,null,null,null,null,null,null,null,null,null,null,null,{"$f":"IF(ISERROR(RankingPredictedTotal!K21),\"--\",OFFSET(RankingPredictedTotal!$A$1,RankingPredictedTotal!$K21-1,5))","v":"--"}]
[null,22,{"$f":"IF(ISERROR(RankingPredictedTotal!K22),\"--\",OFFSET(RankingPredictedTotal!$A$1,RankingPredictedTotal!$K22-1,1))","v":"--"},null,null,{"$f":"IF(ISERROR(RankingPredictedTotal!K22),\"--\",OFFSET(RankingPredictedTotal!$A$1,RankingPredictedTotal!$K22-1,2))","v":"--"},null,null,null,null,null,null,{"$f":"IF(ISERROR(RankingPredictedTotal!K22),\"--\",OFFSET(RankingPredictedTotal!$A$1,RankingPredictedTotal!$K22-1,3))","v":"--"},null,null,null,null,null,null,null,null,null,null,null,null,{"$f":"IF(ISERROR(RankingPredictedTotal!K22),\"--\",OFFSET(RankingPredictedTotal!$A$1,RankingPredictedTotal!$K22-1,4))","v":"--"},null,null,null,null,null,null,null,null,null,null,null,null,null,null,null,null,null,null,null,null,null,null,{"$f":"IF(ISERROR(RankingPredictedTotal!K22),\"--\",OFFSET(RankingPredictedTotal!$A$1,RankingPredictedTotal!$K22-1,5))","v":"--"}]
[null,23,{"$f":"IF(ISERROR(RankingPredictedTotal!K23),\"--\",OFFSET(RankingPredictedTotal!$A$1,RankingPredictedTotal!$K23-1,1))","v":"--"},null,null,{"$f":"IF(ISERROR(RankingPredictedTotal!K23),\"--\",OFFSET(RankingPredictedTotal!$A$1,RankingPredictedTotal!$K23-1,2))","v":"--"},null,null,null,null,null,null,{"$f":"IF(ISERROR(RankingPredictedTotal!K23),\"--\",OFFSET(RankingPredictedTotal!$A$1,RankingPredictedTotal!$K23-1,3))","v":"--"},null,null,null,null,null,null,null,null,null,null,null,null,{"$f":"IF(ISERROR(RankingPredictedTotal!K23),\"--\",OFFSET(RankingPredictedTotal!$A$1,RankingPredictedTotal!$K23-1,4))","v":"--"},null,null,null,null,null,null,null,null,null,null,null,null,null,null,null,null,null,null,null,null,null,null,{"$f":"IF(ISERROR(RankingPredictedTotal!K23),\"--\",OFFSET(RankingPredictedTotal!$A$1,RankingPredictedTotal!$K23-1,5))","v":"--"}]
[null,24,{"$f":"IF(ISERROR(RankingPredictedTotal!K24),\"--\",OFFSET(RankingPredictedTotal!$A$1,RankingPredictedTotal!$K24-1,1))","v":"--"},null,null,{"$f":"IF(ISERROR(RankingPredictedTotal!K24),\"--\",OFFSET(RankingPredictedTotal!$A$1,RankingPredictedTotal!$K24-1,2))","v":"--"},null,null,null,null,null,null,{"$f":"IF(ISERROR(RankingPredictedTotal!K24),\"--\",OFFSET(RankingPredictedTotal!$A$1,RankingPredictedTotal!$K24-1,3))","v":"--"},null,null,null,null,null,null,null,null,null,null,null,null,{"$f":"IF(ISERROR(RankingPredictedTotal!K24),\"--\",OFFSET(RankingPredictedTotal!$A$1,RankingPredictedTotal!$K24-1,4))","v":"--"},null,null,null,null,null,null,null,null,null,null,null,null,null,null,null,null,null,null,null,null,null,null,{"$f":"IF(ISERROR(RankingPredictedTotal!K24),\"--\",OFFSET(RankingPredictedTotal!$A$1,RankingPredictedTotal!$K24-1,5))","v":"--"}]
[null,25,{"$f":"IF(ISERROR(RankingPredictedTotal!K25),\"--\",OFFSET(RankingPredictedTotal!$A$1,RankingPredictedTotal!$K25-1,1))","v":"--"},null,null,{"$f":"IF(ISERROR(RankingPredictedTotal!K25),\"--\",OFFSET(RankingPredictedTotal!$A$1,RankingPredictedTotal!$K25-1,2))","v":"--"},null,null,null,null,null,null,{"$f":"IF(ISERROR(RankingPredictedTotal!K25),\"--\",OFFSET(RankingPredictedTotal!$A$1,RankingPredictedTotal!$K25-1,3))","v":"--"},null,null,null,null,null,null,null,null,null,null,null,null,{"$f":"IF(ISERROR(RankingPredictedTotal!K25),\"--\",OFFSET(RankingPredictedTotal!$A$1,RankingPredictedTotal!$K25-1,4))","v":"--"},null,null,null,null,null,null,null,null,null,null,null,null,null,null,null,null,null,null,null,null,null,null,{"$f":"IF(ISERROR(RankingPredictedTotal!K25),\"--\",OFFSET(RankingPredictedTotal!$A$1,RankingPredictedTotal!$K25-1,5))","v":"--"}]
[null,26,{"$f":"IF(ISERROR(RankingPredictedTotal!K26),\"--\",OFFSET(RankingPredictedTotal!$A$1,RankingPredictedTotal!$K26-1,1))","v":"--"},null,null,{"$f":"IF(ISERROR(RankingPredictedTotal!K26),\"--\",OFFSET(RankingPredictedTotal!$A$1,RankingPredictedTotal!$K26-1,2))","v":"--"},null,null,null,null,null,null,{"$f":"IF(ISERROR(RankingPredictedTotal!K26),\"--\",OFFSET(RankingPredictedTotal!$A$1,RankingPredictedTotal!$K26-1,3))","v":"--"},null,null,null,null,null,null,null,null,null,null,null,null,{"$f":"IF(ISERROR(RankingPredictedTotal!K26),\"--\",OFFSET(RankingPredictedTotal!$A$1,RankingPredictedTotal!$K26-1,4))","v":"--"},null,null,null,null,null,null,null,null,null,null,null,null,null,null,null,null,null,null,null,null,null,null,{"$f":"IF(ISERROR(RankingPredictedTotal!K26),\"--\",OFFSET(RankingPredictedTotal!$A$1,RankingPredictedTotal!$K26-1,5))","v":"--"}]
[null,27,{"$f":"IF(ISERROR(RankingPredictedTotal!K27),\"--\",OFFSET(RankingPredictedTotal!$A$1,RankingPredictedTotal!$K27-1,1))","v":"--"},null,null,{"$f":"IF(ISERROR(RankingPredictedTotal!K27),\"--\",OFFSET(RankingPredictedTotal!$A$1,RankingPredictedTotal!$K27-1,2))","v":"--"},null,null,null,null,null,null,{"$f":"IF(ISERROR(RankingPredictedTotal!K27),\"--\",OFFSET(RankingPredictedTotal!$A$1,RankingPredictedTotal!$K27-1,3))","v":"--"},null,null,null,null,null,null,null,null,null,null,null,null,{"$f":"IF(ISERROR(RankingPredictedTotal!K27),\"--\",OFFSET(RankingPredictedTotal!$A$1,RankingPredictedTotal!$K27-1,4))","v":"--"},null,null,null,null,null,null,null,null,null,null,null,null,null,null,null,null,null,null,null,null,null,null,{"$f":"IF(ISERROR(RankingPredictedTotal!K27),\"--\",OFFSET(RankingPredictedTotal!$A$1,RankingPredictedTotal!$K27-1,5))","v":"--"}]
[null,28,{"$f":"IF(ISERROR(RankingPredictedTotal!K28),\"--\",OFFSET(RankingPredictedTotal!$A$1,RankingPredictedTotal!$K28-1,1))","v":"--"},null,null,{"$f":"IF(ISERROR(RankingPredictedTotal!K28),\"--\",OFFSET(RankingPredictedTotal!$A$1,RankingPredictedTotal!$K28-1,2))","v":"--"},null,null,null,null,null,null,{"$f":"IF(ISERROR(RankingPredictedTotal!K28),\"--\",OFFSET(RankingPredictedTotal!$A$1,RankingPredictedTotal!$K28-1,3))","v":"--"},null,null,null,null,null,null,null,null,null,null,null,null,{"$f":"IF(ISERROR(RankingPredictedTotal!K28),\"--\",OFFSET(RankingPredictedTotal!$A$1,RankingPredictedTotal!$K28-1,4))","v":"--"},null,null,null,null,null,null,null,null,null,null,null,null,null,null,null,null,null,null,null,null,null,null,{"$f":"IF(ISERROR(RankingPredictedTotal!K28),\"--\",OFFSET(RankingPredictedTotal!$A$1,RankingPredictedTotal!$K28-1,5))","v":"--"}]
[null,29,{"$f":"IF(ISERROR(RankingPredictedTotal!K29),\"--\",OFFSET(RankingPredictedTotal!$A$1,RankingPredictedTotal!$K29-1,1))","v":"--"},null,null,{"$f":"IF(ISERROR(RankingPredictedTotal!K29),\"--\",OFFSET(RankingPredictedTotal!$A$1,RankingPredictedTotal!$K29-1,2))","v":"--"},null,null,null,null,null,null,{"$f":"IF(ISERROR(RankingPredictedTotal!K29),\"--\",OFFSET(RankingPredictedTotal!$A$1,RankingPredictedTotal!$K29-1,3))","v":"--"},null,null,null,null,null,null,null,null,null,null,null,null,{"$f":"IF(ISERROR(RankingPredictedTotal!K29),\"--\",OFFSET(RankingPredictedTotal!$A$1,RankingPredictedTotal!$K29-1,4))","v":"--"},null,null,null,null,null,null,null,null,null,null,null,null,null,null,null,null,null,null,null,null,null,null,{"$f":"IF(ISERROR(RankingPredictedTotal!K29),\"--\",OFFSET(RankingPredictedTotal!$A$1,RankingPredictedTotal!$K29-1,5))","v":"--"}]
[null,30,{"$f":"IF(ISERROR(RankingPredictedTotal!K30),\"--\",OFFSET(RankingPredictedTotal!$A$1,RankingPredictedTotal!$K30-1,1))","v":"--"},null,null,{"$f":"IF(ISERROR(RankingPredictedTotal!K30),\"--\",OFFSET(RankingPredictedTotal!$A$1,RankingPredictedTotal!$K30-1,2))","v":"--"},null,null,null,null,null,null,{"$f":"IF(ISERROR(RankingPredictedTotal!K30),\"--\",OFFSET(RankingPredictedTotal!$A$1,RankingPredictedTotal!$K30-1,3))","v":"--"},null,null,null,null,null,null,null,null,null,null,null,null,{"$f":"IF(ISERROR(RankingPredictedTotal!K30),\"--\",OFFSET(RankingPredictedTotal!$A$1,RankingPredictedTotal!$K30-1,4))","v":"--"},null,null,null,null,null,null,null,null,null,null,null,null,null,null,null,null,null,null,null,null,null,null,{"$f":"IF(ISERROR(RankingPredictedTotal!K30),\"--\",OFFSET(RankingPredictedTotal!$A$1,RankingPredictedTotal!$K30-1,5))","v":"--"}]
[null,31,{"$f":"IF(ISERROR(RankingPredictedTotal!K31),\"--\",OFFSET(RankingPredictedTotal!$A$1,RankingPredictedTotal!$K31-1,1))","v":"--"},null,null,{"$f":"IF(ISERROR(RankingPredictedTotal!K31),\"--\",OFFSET(RankingPredictedTotal!$A$1,RankingPredictedTotal!$K31-1,2))","v":"--"},null,null,null,null,null,null,{"$f":"IF(ISERROR(RankingPredictedTotal!K31),\"--\",OFFSET(RankingPredictedTotal!$A$1,RankingPredictedTotal!$K31-1,3))","v":"--"},null,null,null,null,null,null,null,null,null,null,null,null,{"$f":"IF(ISERROR(RankingPredictedTotal!K31),\"--\",OFFSET(RankingPredictedTotal!$A$1,RankingPredictedTotal!$K31-1,4))","v":"--"},null,null,null,null,null,null,null,null,null,null,null,null,null,null,null,null,null,null,null,null,null,null,{"$f":"IF(ISERROR(RankingPredictedTotal!K31),\"--\",OFFSET(RankingPredictedTotal!$A$1,RankingPredictedTotal!$K31-1,5))","v":"--"}]
[null,32,{"$f":"IF(ISERROR(RankingPredictedTotal!K32),\"--\",OFFSET(RankingPredictedTotal!$A$1,RankingPredictedTotal!$K32-1,1))","v":"--"},null,null,{"$f":"IF(ISERROR(RankingPredictedTotal!K32),\"--\",OFFSET(RankingPredictedTotal!$A$1,RankingPredictedTotal!$K32-1,2))","v":"--"},null,null,null,null,null,null,{"$f":"IF(ISERROR(RankingPredictedTotal!K32),\"--\",OFFSET(RankingPredictedTotal!$A$1,RankingPredictedTotal!$K32-1,3))","v":"--"},null,null,null,null,null,null,null,null,null,null,null,null,{"$f":"IF(ISERROR(RankingPredictedTotal!K32),\"--\",OFFSET(RankingPredictedTotal!$A$1,RankingPredictedTotal!$K32-1,4))","v":"--"},null,null,null,null,null,null,null,null,null,null,null,null,null,null,null,null,null,null,null,null,null,null,{"$f":"IF(ISERROR(RankingPredictedTotal!K32),\"--\",OFFSET(RankingPredictedTotal!$A$1,RankingPredictedTotal!$K32-1,5))","v":"--"}]
[null,33,{"$f":"IF(ISERROR(RankingPredictedTotal!K33),\"--\",OFFSET(RankingPredictedTotal!$A$1,RankingPredictedTotal!$K33-1,1))","v":"--"},null,null,{"$f":"IF(ISERROR(RankingPredictedTotal!K33),\"--\",OFFSET(RankingPredictedTotal!$A$1,RankingPredictedTotal!$K33-1,2))","v":"--"},null,null,null,null,null,null,{"$f":"IF(ISERROR(RankingPredictedTotal!K33),\"--\",OFFSET(RankingPredictedTotal!$A$1,RankingPredictedTotal!$K33-1,3))","v":"--"},null,null,null,null,null,null,null,null,null,null,null,null,{"$f":"IF(ISERROR(RankingPredictedTotal!K33),\"--\",OFFSET(RankingPredictedTotal!$A$1,RankingPredictedTotal!$K33-1,4))","v":"--"},null,null,null,null,null,null,null,null,null,null,null,null,null,null,null,null,null,null,null,null,null,null,{"$f":"IF(ISERROR(RankingPredictedTotal!K33),\"--\",OFFSET(RankingPredictedTotal!$A$1,RankingPredictedTotal!$K33-1,5))","v":"--"}]
[null,34,{"$f":"IF(ISERROR(RankingPredictedTotal!K34),\"--\",OFFSET(RankingPredictedTotal!$A$1,RankingPredictedTotal!$K34-1,1))","v":"--"},null,null,{"$f":"IF(ISERROR(RankingPredictedTotal!K34),\"--\",OFFSET(RankingPredictedTotal!$A$1,RankingPredictedTotal!$K34-1,2))","v":"--"},null,null,null,null,null,null,{"$f":"IF(ISERROR(RankingPredictedTotal!K34),\"--\",OFFSET(RankingPredictedTotal!$A$1,RankingPredictedTotal!$K34-1,3))","v":"--"},null,null,null,null,null,null,null,null,null,null,null,null,{"$f":"IF(ISERROR(RankingPredictedTotal!K34),\"--\",OFFSET(RankingPredictedTotal!$A$1,RankingPredictedTotal!$K34-1,4))","v":"--"},null,null,null,null,null,null,null,null,null,null,null,null,null,null,null,null,null,null,null,null,null,null,{"$f":"IF(ISERROR(RankingPredictedTotal!K34),\"--\",OFFSET(RankingPredictedTotal!$A$1,RankingPredictedTotal!$K34-1,5))","v":"--"}]
[null,35,{"$f":"IF(ISERROR(RankingPredictedTotal!K35),\"--\",OFFSET(RankingPredictedTotal!$A$1,RankingPredictedTotal!$K35-1,1))","v":"--"},null,null,{"$f":"IF(ISERROR(RankingPredictedTotal!K35),\"--\",OFFSET(RankingPredictedTotal!$A$1,RankingPredictedTotal!$K35-1,2))","v":"--"},null,null,null,null,null,null,{"$f":"IF(ISERROR(RankingPredictedTotal!K35),\"--\",OFFSET(RankingPredictedTotal!$A$1,RankingPredictedTotal!$K35-1,3))","v":"--"},null,null,null,null,null,null,null,null,null,null,null,null,{"$f":"IF(ISERROR(RankingPredictedTotal!K35),\"--\",OFFSET(RankingPredictedTotal!$A$1,RankingPredictedTotal!$K35-1,4))","v":"--"},null,null,null,null,null,null,null,null,null,null,null,null,null,null,null,null,null,null,null,null,null,null,{"$f":"IF(ISERROR(RankingPredictedTotal!K35),\"--\",OFFSET(RankingPredictedTotal!$A$1,RankingPredictedTotal!$K35-1,5))","v":"--"}]
[null,36,{"$f":"IF(ISERROR(RankingPredictedTotal!K36),\"--\",OFFSET(RankingPredictedTotal!$A$1,RankingPredictedTotal!$K36-1,1))","v":"--"},null,null,{"$f":"IF(ISERROR(RankingPredictedTotal!K36),\"--\",OFFSET(RankingPredictedTotal!$A$1,RankingPredictedTotal!$K36-1,2))","v":"--"},null,null,null,null,null,null,{"$f":"IF(ISERROR(RankingPredictedTotal!K36),\"--\",OFFSET(RankingPredictedTotal!$A$1,RankingPredictedTotal!$K36-1,3))","v":"--"},null,null,null,null,null,null,null,null,null,null,null,null,{"$f":"IF(ISERROR(RankingPredictedTotal!K36),\"--\",OFFSET(RankingPredictedTotal!$A$1,RankingPredictedTotal!$K36-1,4))","v":"--"},null,null,null,null,null,null,null,null,null,null,null,null,null,null,null,null,null,null,null,null,null,null,{"$f":"IF(ISERROR(RankingPredictedTotal!K36),\"--\",OFFSET(RankingPredictedTotal!$A$1,RankingPredictedTotal!$K36-1,5))","v":"--"}]
[null,37,{"$f":"IF(ISERROR(RankingPredictedTotal!K37),\"--\",OFFSET(RankingPredictedTotal!$A$1,RankingPredictedTotal!$K37-1,1))","v":"--"},null,null,{"$f":"IF(ISERROR(RankingPredictedTotal!K37),\"--\",OFFSET(RankingPredictedTotal!$A$1,RankingPredictedTotal!$K37-1,2))","v":"--"},null,null,null,null,null,null,{"$f":"IF(ISERROR(RankingPredictedTotal!K37),\"--\",OFFSET(RankingPredictedTotal!$A$1,RankingPredictedTotal!$K37-1,3))","v":"--"},null,null,null,null,null,null,null,null,null,null,null,null,{"$f":"IF(ISERROR(RankingPredictedTotal!K37),\"--\",OFFSET(RankingPredictedTotal!$A$1,RankingPredictedTotal!$K37-1,4))","v":"--"},null,null,null,null,null,null,null,null,null,null,null,null,null,null,null,null,null,null,null,null,null,null,{"$f":"IF(ISERROR(RankingPredictedTotal!K37),\"--\",OFFSET(RankingPredictedTotal!$A$1,RankingPredictedTotal!$K37-1,5))","v":"--"}]
[null,38,{"$f":"IF(ISERROR(RankingPredictedTotal!K38),\"--\",OFFSET(RankingPredictedTotal!$A$1,RankingPredictedTotal!$K38-1,1))","v":"--"},null,null,{"$f":"IF(ISERROR(RankingPredictedTotal!K38),\"--\",OFFSET(RankingPredictedTotal!$A$1,RankingPredictedTotal!$K38-1,2))","v":"--"},null,null,null,null,null,null,{"$f":"IF(ISERROR(RankingPredictedTotal!K38),\"--\",OFFSET(RankingPredictedTotal!$A$1,RankingPredictedTotal!$K38-1,3))","v":"--"},null,null,null,null,null,null,null,null,null,null,null,null,{"$f":"IF(ISERROR(RankingPredictedTotal!K38),\"--\",OFFSET(RankingPredictedTotal!$A$1,RankingPredictedTotal!$K38-1,4))","v":"--"},null,null,null,null,null,null,null,null,null,null,null,null,null,null,null,null,null,null,null,null,null,null,{"$f":"IF(ISERROR(RankingPredictedTotal!K38),\"--\",OFFSET(RankingPredictedTotal!$A$1,RankingPredictedTotal!$K38-1,5))","v":"--"}]
[null,39,{"$f":"IF(ISERROR(RankingPredictedTotal!K39),\"--\",OFFSET(RankingPredictedTotal!$A$1,RankingPredictedTotal!$K39-1,1))","v":"--"},null,null,{"$f":"IF(ISERROR(RankingPredictedTotal!K39),\"--\",OFFSET(RankingPredictedTotal!$A$1,RankingPredictedTotal!$K39-1,2))","v":"--"},null,null,null,null,null,null,{"$f":"IF(ISERROR(RankingPredictedTotal!K39),\"--\",OFFSET(RankingPredictedTotal!$A$1,RankingPredictedTotal!$K39-1,3))","v":"--"},null,null,null,null,null,null,null,null,null,null,null,null,{"$f":"IF(ISERROR(RankingPredictedTotal!K39),\"--\",OFFSET(RankingPredictedTotal!$A$1,RankingPredictedTotal!$K39-1,4))","v":"--"},null,null,null,null,null,null,null,null,null,null,null,null,null,null,null,null,null,null,null,null,null,null,{"$f":"IF(ISERROR(RankingPredictedTotal!K39),\"--\",OFFSET(RankingPredictedTotal!$A$1,RankingPredictedTotal!$K39-1,5))","v":"--"}]
[null,40,{"$f":"IF(ISERROR(RankingPredictedTotal!K40),\"--\",OFFSET(RankingPredictedTotal!$A$1,RankingPredictedTotal!$K40-1,1))","v":"--"},null,null,{"$f":"IF(ISERROR(RankingPredictedTotal!K40),\"--\",OFFSET(RankingPredictedTotal!$A$1,RankingPredictedTotal!$K40-1,2))","v":"--"},null,null,null,null,null,null,{"$f":"IF(ISERROR(RankingPredictedTotal!K40),\"--\",OFFSET(RankingPredictedTotal!$A$1,RankingPredictedTotal!$K40-1,3))","v":"--"},null,null,null,null,null,null,null,null,null,null,null,null,{"$f":"IF(ISERROR(RankingPredictedTotal!K40),\"--\",OFFSET(RankingPredictedTotal!$A$1,RankingPredictedTotal!$K40-1,4))","v":"--"},null,null,null,null,null,null,null,null,null,null,null,null,null,null,null,null,null,null,null,null,null,null,{"$f":"IF(ISERROR(RankingPredictedTotal!K40),\"--\",OFFSET(RankingPredictedTotal!$A$1,RankingPredictedTotal!$K40-1,5))","v":"--"}]
[null,41,{"$f":"IF(ISERROR(RankingPredictedTotal!K41),\"--\",OFFSET(RankingPredictedTotal!$A$1,RankingPredictedTotal!$K41-1,1))","v":"--"},null,null,{"$f":"IF(ISERROR(RankingPredictedTotal!K41),\"--\",OFFSET(RankingPredictedTotal!$A$1,RankingPredictedTotal!$K41-1,2))","v":"--"},null,null,null,null,null,null,{"$f":"IF(ISERROR(RankingPredictedTotal!K41),\"--\",OFFSET(RankingPredictedTotal!$A$1,RankingPredictedTotal!$K41-1,3))","v":"--"},null,null,null,null,null,null,null,null,null,null,null,null,{"$f":"IF(ISERROR(RankingPredictedTotal!K41),\"--\",OFFSET(RankingPredictedTotal!$A$1,RankingPredictedTotal!$K41-1,4))","v":"--"},null,null,null,null,null,null,null,null,null,null,null,null,null,null,null,null,null,null,null,null,null,null,{"$f":"IF(ISERROR(RankingPredictedTotal!K41),\"--\",OFFSET(RankingPredictedTotal!$A$1,RankingPredictedTotal!$K41-1,5))","v":"--"}]
[null,42,{"$f":"IF(ISERROR(RankingPredictedTotal!K42),\"--\",OFFSET(RankingPredictedTotal!$A$1,RankingPredictedTotal!$K42-1,1))","v":"--"},null,null,{"$f":"IF(ISERROR(RankingPredictedTotal!K42),\"--\",OFFSET(RankingPredictedTotal!$A$1,RankingPredictedTotal!$K42-1,2))","v":"--"},null,null,null,null,null,null,{"$f":"IF(ISERROR(RankingPredictedTotal!K42),\"--\",OFFSET(RankingPredictedTotal!$A$1,RankingPredictedTotal!$K42-1,3))","v":"--"},null,null,null,null,null,null,null,null,null,null,null,null,{"$f":"IF(ISERROR(RankingPredictedTotal!K42),\"--\",OFFSET(RankingPredictedTotal!$A$1,RankingPredictedTotal!$K42-1,4))","v":"--"},null,null,null,null,null,null,null,null,null,null,null,null,null,null,null,null,null,null,null,null,null,null,{"$f":"IF(ISERROR(RankingPredictedTotal!K42),\"--\",OFFSET(RankingPredictedTotal!$A$1,RankingPredictedTotal!$K42-1,5))","v":"--"}]
[null,43,{"$f":"IF(ISERROR(RankingPredictedTotal!K43),\"--\",OFFSET(RankingPredictedTotal!$A$1,RankingPredictedTotal!$K43-1,1))","v":"--"},null,null,{"$f":"IF(ISERROR(RankingPredictedTotal!K43),\"--\",OFFSET(RankingPredictedTotal!$A$1,RankingPredictedTotal!$K43-1,2))","v":"--"},null,null,null,null,null,null,{"$f":"IF(ISERROR(RankingPredictedTotal!K43),\"--\",OFFSET(RankingPredictedTotal!$A$1,RankingPredictedTotal!$K43-1,3))","v":"--"},null,null,null,null,null,null,null,null,null,null,null,null,{"$f":"IF(ISERROR(RankingPredictedTotal!K43),\"--\",OFFSET(RankingPredictedTotal!$A$1,RankingPredictedTotal!$K43-1,4))","v":"--"},null,null,null,null,null,null,null,null,null,null,null,null,null,null,null,null,null,null,null,null,null,null,{"$f":"IF(ISERROR(RankingPredictedTotal!K43),\"--\",OFFSET(RankingPredictedTotal!$A$1,RankingPredictedTotal!$K43-1,5))","v":"--"}]
[null,44,{"$f":"IF(ISERROR(RankingPredictedTotal!K44),\"--\",OFFSET(RankingPredictedTotal!$A$1,RankingPredictedTotal!$K44-1,1))","v":"--"},null,null,{"$f":"IF(ISERROR(RankingPredictedTotal!K44),\"--\",OFFSET(RankingPredictedTotal!$A$1,RankingPredictedTotal!$K44-1,2))","v":"--"},null,null,null,null,null,null,{"$f":"IF(ISERROR(RankingPredictedTotal!K44),\"--\",OFFSET(RankingPredictedTotal!$A$1,RankingPredictedTotal!$K44-1,3))","v":"--"},null,null,null,null,null,null,null,null,null,null,null,null,{"$f":"IF(ISERROR(RankingPredictedTotal!K44),\"--\",OFFSET(RankingPredictedTotal!$A$1,RankingPredictedTotal!$K44-1,4))","v":"--"},null,null,null,null,null,null,null,null,null,null,null,null,null,null,null,null,null,null,null,null,null,null,{"$f":"IF(ISERROR(RankingPredictedTotal!K44),\"--\",OFFSET(RankingPredictedTotal!$A$1,RankingPredictedTotal!$K44-1,5))","v":"--"}]
[null,45,{"$f":"IF(ISERROR(RankingPredictedTotal!K45),\"--\",OFFSET(RankingPredictedTotal!$A$1,RankingPredictedTotal!$K45-1,1))","v":"--"},null,null,{"$f":"IF(ISERROR(RankingPredictedTotal!K45),\"--\",OFFSET(RankingPredictedTotal!$A$1,RankingPredictedTotal!$K45-1,2))","v":"--"},null,null,null,null,null,null,{"$f":"IF(ISERROR(RankingPredictedTotal!K45),\"--\",OFFSET(RankingPredictedTotal!$A$1,RankingPredictedTotal!$K45-1,3))","v":"--"},null,null,null,null,null,null,null,null,null,null,null,null,{"$f":"IF(ISERROR(RankingPredictedTotal!K45),\"--\",OFFSET(RankingPredictedTotal!$A$1,RankingPredictedTotal!$K45-1,4))","v":"--"},null,null,null,null,null,null,null,null,null,null,null,null,null,null,null,null,null,null,null,null,null,null,{"$f":"IF(ISERROR(RankingPredictedTotal!K45),\"--\",OFFSET(RankingPredictedTotal!$A$1,RankingPredictedTotal!$K45-1,5))","v":"--"}]
[null,46,{"$f":"IF(ISERROR(RankingPredictedTotal!K46),\"--\",OFFSET(RankingPredictedTotal!$A$1,RankingPredictedTotal!$K46-1,1))","v":"--"},null,null,{"$f":"IF(ISERROR(RankingPredictedTotal!K46),\"--\",OFFSET(RankingPredictedTotal!$A$1,RankingPredictedTotal!$K46-1,2))","v":"--"},null,null,null,null,null,null,{"$f":"IF(ISERROR(RankingPredictedTotal!K46),\"--\",OFFSET(RankingPredictedTotal!$A$1,RankingPredictedTotal!$K46-1,3))","v":"--"},null,null,null,null,null,null,null,null,null,null,null,null,{"$f":"IF(ISERROR(RankingPredictedTotal!K46),\"--\",OFFSET(RankingPredictedTotal!$A$1,RankingPredictedTotal!$K46-1,4))","v":"--"},null,null,null,null,null,null,null,null,null,null,null,null,null,null,null,null,null,null,null,null,null,null,{"$f":"IF(ISERROR(RankingPredictedTotal!K46),\"--\",OFFSET(RankingPredictedTotal!$A$1,RankingPredictedTotal!$K46-1,5))","v":"--"}]
[null,47,{"$f":"IF(ISERROR(RankingPredictedTotal!K47),\"--\",OFFSET(RankingPredictedTotal!$A$1,RankingPredictedTotal!$K47-1,1))","v":"--"},null,null,{"$f":"IF(ISERROR(RankingPredictedTotal!K47),\"--\",OFFSET(RankingPredictedTotal!$A$1,RankingPredictedTotal!$K47-1,2))","v":"--"},null,null,null,null,null,null,{"$f":"IF(ISERROR(RankingPredictedTotal!K47),\"--\",OFFSET(RankingPredictedTotal!$A$1,RankingPredictedTotal!$K47-1,3))","v":"--"},null,null,null,null,null,null,null,null,null,null,null,null,{"$f":"IF(ISERROR(RankingPredictedTotal!K47),\"--\",OFFSET(RankingPredictedTotal!$A$1,RankingPredictedTotal!$K47-1,4))","v":"--"},null,null,null,null,null,null,null,null,null,null,null,null,null,null,null,null,null,null,null,null,null,null,{"$f":"IF(ISERROR(RankingPredictedTotal!K47),\"--\",OFFSET(RankingPredictedTotal!$A$1,RankingPredictedTotal!$K47-1,5))","v":"--"}]
[null,48,{"$f":"IF(ISERROR(RankingPredictedTotal!K48),\"--\",OFFSET(RankingPredictedTotal!$A$1,RankingPredictedTotal!$K48-1,1))","v":"--"},null,null,{"$f":"IF(ISERROR(RankingPredictedTotal!K48),\"--\",OFFSET(RankingPredictedTotal!$A$1,RankingPredictedTotal!$K48-1,2))","v":"--"},null,null,null,null,null,null,{"$f":"IF(ISERROR(RankingPredictedTotal!K48),\"--\",OFFSET(RankingPredictedTotal!$A$1,RankingPredictedTotal!$K48-1,3))","v":"--"},null,null,null,null,null,null,null,null,null,null,null,null,{"$f":"IF(ISERROR(RankingPredictedTotal!K48),\"--\",OFFSET(RankingPredictedTotal!$A$1,RankingPredictedTotal!$K48-1,4))","v":"--"},null,null,null,null,null,null,null,null,null,null,null,null,null,null,null,null,null,null,null,null,null,null,{"$f":"IF(ISERROR(RankingPredictedTotal!K48),\"--\",OFFSET(RankingPredictedTotal!$A$1,RankingPredictedTotal!$K48-1,5))","v":"--"}]
[null,49,{"$f":"IF(ISERROR(RankingPredictedTotal!K49),\"--\",OFFSET(RankingPredictedTotal!$A$1,RankingPredictedTotal!$K49-1,1))","v":"--"},null,null,{"$f":"IF(ISERROR(RankingPredictedTotal!K49),\"--\",OFFSET(RankingPredictedTotal!$A$1,RankingPredictedTotal!$K49-1,2))","v":"--"},null,null,null,null,null,null,{"$f":"IF(ISERROR(RankingPredictedTotal!K49),\"--\",OFFSET(RankingPredictedTotal!$A$1,RankingPredictedTotal!$K49-1,3))","v":"--"},null,null,null,null,null,null,null,null,null,null,null,null,{"$f":"IF(ISERROR(RankingPredictedTotal!K49),\"--\",OFFSET(RankingPredictedTotal!$A$1,RankingPredictedTotal!$K49-1,4))","v":"--"},null,null,null,null,null,null,null,null,null,null,null,null,null,null,null,null,null,null,null,null,null,null,{"$f":"IF(ISERROR(RankingPredictedTotal!K49),\"--\",OFFSET(RankingPredictedTotal!$A$1,RankingPredictedTotal!$K49-1,5))","v":"--"}]
[null,50,{"$f":"IF(ISERROR(RankingPredictedTotal!K50),\"--\",OFFSET(RankingPredictedTotal!$A$1,RankingPredictedTotal!$K50-1,1))","v":"--"},null,null,{"$f":"IF(ISERROR(RankingPredictedTotal!K50),\"--\",OFFSET(RankingPredictedTotal!$A$1,RankingPredictedTotal!$K50-1,2))","v":"--"},null,null,null,null,null,null,{"$f":"IF(ISERROR(RankingPredictedTotal!K50),\"--\",OFFSET(RankingPredictedTotal!$A$1,RankingPredictedTotal!$K50-1,3))","v":"--"},null,null,null,null,null,null,null,null,null,null,null,null,{"$f":"IF(ISERROR(RankingPredictedTotal!K50),\"--\",OFFSET(RankingPredictedTotal!$A$1,RankingPredictedTotal!$K50-1,4))","v":"--"},null,null,null,null,null,null,null,null,null,null,null,null,null,null,null,null,null,null,null,null,null,null,{"$f":"IF(ISERROR(RankingPredictedTotal!K50),\"--\",OFFSET(RankingPredictedTotal!$A$1,RankingPredictedTotal!$K50-1,5))","v":"--"}]
[]
[null,"Rank","Highest Predicted Fatal & Injury Crashes",null,null,null,null,null,null,null,null,null,null,null,null,null,null,null,null,null,null,null,null,null,null,null,null,null,null,null,null,null,null,null,null,null,null,null,null,null,null,null,null,null,null,null,null,null,"Predicted"]
[null,1,{"$f":"IF(ISERROR(RankingPredictedFI!K1),\"--\",OFFSET(RankingPredictedFI!$A$1,RankingPredictedFI!$K1-1,1))","v":"(INT) Orange @ Jaakko"},null,null,{"$f":"IF(ISERROR(RankingPredictedFI!K1),\"--\",OFFSET(RankingPredictedFI!$A$1,RankingPredictedFI!$K1-1,2))","v":"Heritage County"},null,null,null,null,null,null,{"$f":"IF(ISERROR(RankingPredictedFI!K1),\"--\",OFFSET(RankingPredictedFI!$A$1,RankingPredictedFI!$K1-1,3))","v":"Control = 4ST"},null,null,null,null,null,null,null,null,null,null,null,null,{"$f":"IF(ISERROR(RankingPredictedFI!K1),\"--\",OFFSET(RankingPredictedFI!$A$1,RankingPredictedFI!$K1-1,4))","v":"Major AADT: 2,750 / Minor AADT: 2,500"},null,null,null,null,null,null,null,null,null,null,null,null,null,null,null,null,null,null,null,null,null,null,{"$f":"IF(ISERROR(RankingPredictedFI!K1),\"--\",OFFSET(RankingPredictedFI!$A$1,RankingPredictedFI!$K1-1,5))","v":1.0158377544768562}]
[null,2,{"$f":"IF(ISERROR(RankingPredictedFI!K2),\"--\",OFFSET(RankingPredictedFI!$A$1,RankingPredictedFI!$K2-1,1))","v":"(INT) Banana @ Toivo"},null,null,{"$f":"IF(ISERROR(RankingPredictedFI!K2),\"--\",OFFSET(RankingPredictedFI!$A$1,RankingPredictedFI!$K2-1,2))","v":"Heritage County"},null,null,null,null,null,null,{"$f":"IF(ISERROR(RankingPredictedFI!K2),\"--\",OFFSET(RankingPredictedFI!$A$1,RankingPredictedFI!$K2-1,3))","v":"Control = 4ST"},null,null,null,null,null,null,null,null,null,null,null,null,{"$f":"IF(ISERROR(RankingPredictedFI!K2),\"--\",OFFSET(RankingPredictedFI!$A$1,RankingPredictedFI!$K2-1,4))","v":"Major AADT: 2,100 / Minor AADT: 2,000"},null,null,null,null,null,null,null,null,null,null,null,null,null,null,null,null,null,null,null,null,null,null,{"$f":"IF(ISERROR(RankingPredictedFI!K2),\"--\",OFFSET(RankingPredictedFI!$A$1,RankingPredictedFI!$K2-1,5))","v":0.76444061235591121}]
[null,3,{"$f":"IF(ISERROR(RankingPredictedFI!K3),\"--\",OFFSET(RankingPredictedFI!$A$1,RankingPredictedFI!$K3-1,1))","v":"(INT) Mango @ Aili"},null,null,{"$f":"IF(ISERROR(RankingPredictedFI!K3),\"--\",OFFSET(RankingPredictedFI!$A$1,RankingPredictedFI!$K3-1,2))","v":"Heritage County"},null,null,null,null,null,null,{"$f":"IF(ISERROR(RankingPredictedFI!K3),\"--\",OFFSET(RankingPredictedFI!$A$1,RankingPredictedFI!$K3-1,3))","v":"Control = 4ST"},null,null,null,null,null,null,null,null,null,null,null,null,{"$f":"IF(ISERROR(RankingPredictedFI!K3),\"--\",OFFSET(RankingPredictedFI!$A$1,RankingPredictedFI!$K3-1,4))","v":"Major AADT: 3,200 / Minor AADT: 1,150"},null,null,null,null,null,null,null,null,null,null,null,null,null,null,null,null,null,null,null,null,null,null,{"$f":"IF(ISERROR(RankingPredictedFI!K3),\"--\",OFFSET(RankingPredictedFI!$A$1,RankingPredictedFI!$K3-1,5))","v":0.73122141135063901}]
[null,4,{"$f":"IF(ISERROR(RankingPredictedFI!K4),\"--\",OFFSET(RankingPredictedFI!$A$1,RankingPredictedFI!$K4-1,1))","v":"(INT) Pineapple @ Emil"},null,null,{"$f":"IF(ISERROR(RankingPredictedFI!K4),\"--\",OFFSET(RankingPredictedFI!$A$1,RankingPredictedFI!$K4-1,2))","v":"Heritage County"},null,null,null,null,null,null,{"$f":"IF(ISERROR(RankingPredictedFI!K4),\"--\",OFFSET(RankingPredictedFI!$A$1,RankingPredictedFI!$K4-1,3))","v":"Control = 4ST"},null,null,null,null,null,null,null,null,null,null,null,null,{"$f":"IF(ISERROR(RankingPredictedFI!K4),\"--\",OFFSET(RankingPredictedFI!$A$1,RankingPredictedFI!$K4-1,4))","v":"Major AADT: 3,500 / Minor AADT: 3,300"},null,null,null,null,null,null,null,null,null,null,null,null,null,null,null,null,null,null,null,null,null,null,{"$f":"IF(ISERROR(RankingPredictedFI!K4),\"--\",OFFSET(RankingPredictedFI!$A$1,RankingPredictedFI!$K4-1,5))","v":0.72313436667817099}]
[null,5,{"$f":"IF(ISERROR(RankingPredictedFI!K5),\"--\",OFFSET(RankingPredictedFI!$A$1,RankingPredictedFI!$K5-1,1))","v":"(SEG) SH 321, MP 0.0 to MP 1.5"},null,null,{"$f":"IF(ISERROR(RankingPredictedFI!K5),\"--\",OFFSET(RankingPredictedFI!$A$1,RankingPredictedFI!$K5-1,2))","v":"Anywhere, USA"},null,null,null,null,null,null,{"$f":"IF(ISERROR(RankingPredictedFI!K5),\"--\",OFFSET(RankingPredictedFI!$A$1,RankingPredictedFI!$K5-1,3))","v":"Length = 1.5 mi"},null,null,null,null,null,null,null,null,null,null,null,null,{"$f":"IF(ISERROR(RankingPredictedFI!K5),\"--\",OFFSET(RankingPredictedFI!$A$1,RankingPredictedFI!$K5-1,4))","v":"AADT: 10,000"},null,null,null,null,null,null,null,null,null,null,null,null,null,null,null,null,null,null,null,null,null,null,{"$f":"IF(ISERROR(RankingPredictedFI!K5),\"--\",OFFSET(RankingPredictedFI!$A$1,RankingPredictedFI!$K5-1,5))","v":0.61078631369675629}]
[null,6,{"$f":"IF(ISERROR(RankingPredictedFI!K6),\"--\",OFFSET(RankingPredictedFI!$A$1,RankingPredictedFI!$K6-1,1))","v":"(INT) Lemon @ Tuula"},null,null,{"$f":"IF(ISERROR(RankingPredictedFI!K6),\"--\",OFFSET(RankingPredictedFI!$A$1,RankingPredictedFI!$K6-1,2))","v":"Heritage County"},null,null,null,null,null,null,{"$f":"IF(ISERROR(RankingPredictedFI!K6),\"--\",OFFSET(RankingPredictedFI!$A$1,RankingPredictedFI!$K6-1,3))","v":"Control = 4ST"},null,null,null,null,null,null,null,null,null,null,null,null,{"$f":"IF(ISERROR(RankingPredictedFI!K6),\"--\",OFFSET(RankingPredictedFI!$A$1,RankingPredictedFI!$K6-1,4))","v":"Major AADT: 3,700 / Minor AADT: 2,100"},null,null,null,null,null,null,null,null,null,null,null,null,null,null,null,null,null,null,null,null,null,null,{"$f":"IF(ISERROR(RankingPredictedFI!K6),\"--\",OFFSET(RankingPredictedFI!$A$1,RankingPredictedFI!$K6-1,5))","v":0.55918394711858965}]
[null,7,{"$f":"IF(ISERROR(RankingPredictedFI!K7),\"--\",OFFSET(RankingPredictedFI!$A$1,RankingPredictedFI!$K7-1,1))","v":"(INT) Apple @ Heikki"},null,null,{"$f":"IF(ISERROR(RankingPredictedFI!K7),\"--\",OFFSET(RankingPredictedFI!$A$1,RankingPredictedFI!$K7-1,2))","v":"Heritage County"},null,null,null,null,null,null,{"$f":"IF(ISERROR(RankingPredictedFI!K7),\"--\",OFFSET(RankingPredictedFI!$A$1,RankingPredictedFI!$K7-1,3))","v":"Control = 4ST"},null,null,null,null,null,null,null,null,null,null,null,null,{"$f":"IF(ISERROR(RankingPredictedFI!K7),\"--\",OFFSET(RankingPredictedFI!$A$1,RankingPredictedFI!$K7-1,4))","v":"Major AADT: 3,300 / Minor AADT: 2,400"},null,null,null,null,null,null,null,null,null,null,null,null,null,null,null,null,null,null,null,null,null,null,{"$f":"IF(ISERROR(RankingPredictedFI!K7),\"--\",OFFSET(RankingPredictedFI!$A$1,RankingPredictedFI!$K7-1,5))","v":0.52937406554482269}]
[null,8,{"$f":"IF(ISERROR(RankingPredictedFI!K8),\"--\",OFFSET(RankingPredictedFI!$A$1,RankingPredictedFI!$K8-1,1))","v":"(INT) Starfruit @ Alma"},null,null,{"$f":"IF(ISERROR(RankingPredictedFI!K8),\"--\",OFFSET(RankingPredictedFI!$A$1,RankingPredictedFI!$K8-1,2))","v":"Heritage County"},null,null,null,null,null,null,{"$f":"IF(ISERROR(RankingPredictedFI!K8),\"--\",OFFSET(RankingPredictedFI!$A$1,RankingPredictedFI!$K8-1,3))","v":"Control = 4ST"},null,null,null,null,null,null,null,null,null,null,null,null,{"$f":"IF(ISERROR(RankingPredictedFI!K8),\"--\",OFFSET(RankingPredictedFI!$A$1,RankingPredictedFI!$K8-1,4))","v":"Major AADT: 1,900 / Minor AADT: 500"},null,null,null,null,null,null,null,null,null,null,null,null,null,null,null,null,null,null,null,null,null,null,{"$f":"IF(ISERROR(RankingPredictedFI!K8),\"--\",OFFSET(RankingPredictedFI!$A$1,RankingPredictedFI!$K8-1,5))","v":0.3133209419182178}]
[null,9,{"$f":"IF(ISERROR(RankingPredictedFI!K9),\"--\",OFFSET(RankingPredictedFI!$A$1,RankingPredictedFI!$K9-1,1))","v":"(INT) Blueberry @ Matti"},null,null,{"$f":"IF(ISERROR(RankingPredictedFI!K9),\"--\",OFFSET(RankingPredictedFI!$A$1,RankingPredictedFI!$K9-1,2))","v":"Heritage County"},null,null,null,null,null,null,{"$f":"IF(ISERROR(RankingPredictedFI!K9),\"--\",OFFSET(RankingPredictedFI!$A$1,RankingPredictedFI!$K9-1,3))","v":"Control = 3ST"},null,null,null,null,null,null,null,null,null,null,null,null,{"$f":"IF(ISERROR(RankingPredictedFI!K9),\"--\",OFFSET(RankingPredictedFI!$A$1,RankingPredictedFI!$K9-1,4))","v":"Major AADT: 1,800 / Minor AADT: 700"},null,null,null,null,null,null,null,null,null,null,null,null,null,null,null,null,null,null,null,null,null,null,{"$f":"IF(ISERROR(RankingPredictedFI!K9),\"--\",OFFSET(RankingPredictedFI!$A$1,RankingPredictedFI!$K9-1,5))","v":0.17039962763664587}]
[null,10,{"$f":"IF(ISERROR(RankingPredictedFI!K10),\"--\",OFFSET(RankingPredictedFI!$A$1,RankingPredictedFI!$K10-1,1))","v":"(INT) Kiwi @ Hilma"},null,null,{"$f":"IF(ISERROR(RankingPredictedFI!K10),\"--\",OFFSET(RankingPredictedFI!$A$1,RankingPredictedFI!$K10-1,2))","v":"Heritage County"},null,null,null,null,null,null,{"$f":"IF(ISERROR(RankingPredictedFI!K10),\"--\",OFFSET(RankingPredictedFI!$A$1,RankingPredictedFI!$K10-1,3))","v":"Control = 3ST"},null,null,null,null,null,null,null,null,null,null,null,null,{"$f":"IF(ISERROR(RankingPredictedFI!K10),\"--\",OFFSET(RankingPredictedFI!$A$1,RankingPredictedFI!$K10-1,4))","v":"Major AADT: 1,200 / Minor AADT: 1,150"},null,null,null,null,null,null,null,null,null,null,null,null,null,null,null,null,null,null,null,null,null,null,{"$f":"IF(ISERROR(RankingPredictedFI!K10),\"--\",OFFSET(RankingPredictedFI!$A$1,RankingPredictedFI!$K10-1,5))","v":0.15279284780075553}]
[null,11,{"$f":"IF(ISERROR(RankingPredictedFI!K11),\"--\",OFFSET(RankingPredictedFI!$A$1,RankingPredictedFI!$K11-1,1))","v":"(INT) Raspberry @ Arvo"},null,null,{"$f":"IF(ISERROR(RankingPredictedFI!K11),\"--\",OFFSET(RankingPredictedFI!$A$1,RankingPredictedFI!$K11-1,2))","v":"Heritage County"},null,null,null,null,null,null,{"$f":"IF(ISERROR(RankingPredictedFI!K11),\"--\",OFFSET(RankingPredictedFI!$A$1,RankingPredictedFI!$K11-1,3))","v":"Control = 3ST"},null,null,null,null,null,null,null,null,null,null,null,null,{"$f":"IF(ISERROR(RankingPredictedFI!K11),\"--\",OFFSET(RankingPredictedFI!$A$1,RankingPredictedFI!$K11-1,4))","v":"Major AADT: 2,350 / Minor AADT: 900"},null,null,null,null,null,null,null,null,null,null,null,null,null,null,null,null,null,null,null,null,null,null,{"$f":"IF(ISERROR(RankingPredictedFI!K11),\"--\",OFFSET(RankingPredictedFI!$A$1,RankingPredictedFI!$K11-1,5))","v":7.1431872370579449E-2}]
[null,12,{"$f":"IF(ISERROR(RankingPredictedFI!K12),\"--\",OFFSET(RankingPredictedFI!$A$1,RankingPredictedFI!$K12-1,1))","v":"--"},null,null,{"$f":"IF(ISERROR(RankingPredictedFI!K12),\"--\",OFFSET(RankingPredictedFI!$A$1,RankingPredictedFI!$K12-1,2))","v":"--"},null,null,null,null,null,null,{"$f":"IF(ISERROR(RankingPredictedFI!K12),\"--\",OFFSET(RankingPredictedFI!$A$1,RankingPredictedFI!$K12-1,3))","v":"--"},null,null,null,null,null,null,null,null,null,null,null,null,{"$f":"IF(ISERROR(RankingPredictedFI!K12),\"--\",OFFSET(RankingPredictedFI!$A$1,RankingPredictedFI!$K12-1,4))","v":"--"},null,null,null,null,null,null,null,null,null,null,null,null,null,null,null,null,null,null,null,null,null,null,{"$f":"IF(ISERROR(RankingPredictedFI!K12),\"--\",OFFSET(RankingPredictedFI!$A$1,RankingPredictedFI!$K12-1,5))","v":"--"}]
[null,13,{"$f":"IF(ISERROR(RankingPredictedFI!K13),\"--\",OFFSET(RankingPredictedFI!$A$1,RankingPredictedFI!$K13-1,1))","v":"--"},null,null,{"$f":"IF(ISERROR(RankingPredictedFI!K13),\"--\",OFFSET(RankingPredictedFI!$A$1,RankingPredictedFI!$K13-1,2))","v":"--"},null,null,null,null,null,null,{"$f":"IF(ISERROR(RankingPredictedFI!K13),\"--\",OFFSET(RankingPredictedFI!$A$1,RankingPredictedFI!$K13-1,3))","v":"--"},null,null,null,null,null,null,null,null,null,null,null,null,{"$f":"IF(ISERROR(RankingPredictedFI!K13),\"--\",OFFSET(RankingPredictedFI!$A$1,RankingPredictedFI!$K13-1,4))","v":"--"},null,null,null,null,null,null,null,null,null,null,null,null,null,null,null,null,null,null,null,null,null,null,{"$f":"IF(ISERROR(RankingPredictedFI!K13),\"--\",OFFSET(RankingPredictedFI!$A$1,RankingPredictedFI!$K13-1,5))","v":"--"}]
[null,14,{"$f":"IF(ISERROR(RankingPredictedFI!K14),\"--\",OFFSET(RankingPredictedFI!$A$1,RankingPredictedFI!$K14-1,1))","v":"--"},null,null,{"$f":"IF(ISERROR(RankingPredictedFI!K14),\"--\",OFFSET(RankingPredictedFI!$A$1,RankingPredictedFI!$K14-1,2))","v":"--"},null,null,null,null,null,null,{"$f":"IF(ISERROR(RankingPredictedFI!K14),\"--\",OFFSET(RankingPredictedFI!$A$1,RankingPredictedFI!$K14-1,3))","v":"--"},null,null,null,null,null,null,null,null,null,null,null,null,{"$f":"IF(ISERROR(RankingPredictedFI!K14),\"--\",OFFSET(RankingPredictedFI!$A$1,RankingPredictedFI!$K14-1,4))","v":"--"},null,null,null,null,null,null,null,null,null,null,null,null,null,null,null,null,null,null,null,null,null,null,{"$f":"IF(ISERROR(RankingPredictedFI!K14),\"--\",OFFSET(RankingPredictedFI!$A$1,RankingPredictedFI!$K14-1,5))","v":"--"}]
[null,15,{"$f":"IF(ISERROR(RankingPredictedFI!K15),\"--\",OFFSET(RankingPredictedFI!$A$1,RankingPredictedFI!$K15-1,1))","v":"--"},null,null,{"$f":"IF(ISERROR(RankingPredictedFI!K15),\"--\",OFFSET(RankingPredictedFI!$A$1,RankingPredictedFI!$K15-1,2))","v":"--"},null,null,null,null,null,null,{"$f":"IF(ISERROR(RankingPredictedFI!K15),\"--\",OFFSET(RankingPredictedFI!$A$1,RankingPredictedFI!$K15-1,3))","v":"--"},null,null,null,null,null,null,null,null,null,null,null,null,{"$f":"IF(ISERROR(RankingPredictedFI!K15),\"--\",OFFSET(RankingPredictedFI!$A$1,RankingPredictedFI!$K15-1,4))","v":"--"},null,null,null,null,null,null,null,null,null,null,null,null,null,null,null,null,null,null,null,null,null,null,{"$f":"IF(ISERROR(RankingPredictedFI!K15),\"--\",OFFSET(RankingPredictedFI!$A$1,RankingPredictedFI!$K15-1,5))","v":"--"}]
[null,16,{"$f":"IF(ISERROR(RankingPredictedFI!K16),\"--\",OFFSET(RankingPredictedFI!$A$1,RankingPredictedFI!$K16-1,1))","v":"--"},null,null,{"$f":"IF(ISERROR(RankingPredictedFI!K16),\"--\",OFFSET(RankingPredictedFI!$A$1,RankingPredictedFI!$K16-1,2))","v":"--"},null,null,null,null,null,null,{"$f":"IF(ISERROR(RankingPredictedFI!K16),\"--\",OFFSET(RankingPredictedFI!$A$1,RankingPredictedFI!$K16-1,3))","v":"--"},null,null,null,null,null,null,null,null,null,null,null,null,{"$f":"IF(ISERROR(RankingPredictedFI!K16),\"--\",OFFSET(RankingPredictedFI!$A$1,RankingPredictedFI!$K16-1,4))","v":"--"},null,null,null,null,null,null,null,null,null,null,null,null,null,null,null,null,null,null,null,null,null,null,{"$f":"IF(ISERROR(RankingPredictedFI!K16),\"--\",OFFSET(RankingPredictedFI!$A$1,RankingPredictedFI!$K16-1,5))","v":"--"}]
[null,17,{"$f":"IF(ISERROR(RankingPredictedFI!K17),\"--\",OFFSET(RankingPredictedFI!$A$1,RankingPredictedFI!$K17-1,1))","v":"--"},null,null,{"$f":"IF(ISERROR(RankingPredictedFI!K17),\"--\",OFFSET(RankingPredictedFI!$A$1,RankingPredictedFI!$K17-1,2))","v":"--"},null,null,null,null,null,null,{"$f":"IF(ISERROR(RankingPredictedFI!K17),\"--\",OFFSET(RankingPredictedFI!$A$1,RankingPredictedFI!$K17-1,3))","v":"--"},null,null,null,null,null,null,null,null,null,null,null,null,{"$f":"IF(ISERROR(RankingPredictedFI!K17),\"--\",OFFSET(RankingPredictedFI!$A$1,RankingPredictedFI!$K17-1,4))","v":"--"},null,null,null,null,null,null,null,null,null,null,null,null,null,null,null,null,null,null,null,null,null,null,{"$f":"IF(ISERROR(RankingPredictedFI!K17),\"--\",OFFSET(RankingPredictedFI!$A$1,RankingPredictedFI!$K17-1,5))","v":"--"}]
[null,18,{"$f":"IF(ISERROR(RankingPredictedFI!K18),\"--\",OFFSET(RankingPredictedFI!$A$1,RankingPredictedFI!$K18-1,1))","v":"--"},null,null,{"$f":"IF(ISERROR(RankingPredictedFI!K18),\"--\",OFFSET(RankingPredictedFI!$A$1,RankingPredictedFI!$K18-1,2))","v":"--"},null,null,null,null,null,null,{"$f":"IF(ISERROR(RankingPredictedFI!K18),\"--\",OFFSET(RankingPredictedFI!$A$1,RankingPredictedFI!$K18-1,3))","v":"--"},null,null,null,null,null,null,null,null,null,null,null,null,{"$f":"IF(ISERROR(RankingPredictedFI!K18),\"--\",OFFSET(RankingPredictedFI!$A$1,RankingPredictedFI!$K18-1,4))","v":"--"},null,null,null,null,null,null,null,null,null,null,null,null,null,null,null,null,null,null,null,null,null,null,{"$f":"IF(ISERROR(RankingPredictedFI!K18),\"--\",OFFSET(RankingPredictedFI!$A$1,RankingPredictedFI!$K18-1,5))","v":"--"}]
[null,19,{"$f":"IF(ISERROR(RankingPredictedFI!K19),\"--\",OFFSET(RankingPredictedFI!$A$1,RankingPredictedFI!$K19-1,1))","v":"--"},null,null,{"$f":"IF(ISERROR(RankingPredictedFI!K19),\"--\",OFFSET(RankingPredictedFI!$A$1,RankingPredictedFI!$K19-1,2))","v":"--"},null,null,null,null,null,null,{"$f":"IF(ISERROR(RankingPredictedFI!K19),\"--\",OFFSET(RankingPredictedFI!$A$1,RankingPredictedFI!$K19-1,3))","v":"--"},null,null,null,null,null,null,null,null,null,null,null,null,{"$f":"IF(ISERROR(RankingPredictedFI!K19),\"--\",OFFSET(RankingPredictedFI!$A$1,RankingPredictedFI!$K19-1,4))","v":"--"},null,null,null,null,null,null,null,null,null,null,null,null,null,null,null,null,null,null,null,null,null,null,{"$f":"IF(ISERROR(RankingPredictedFI!K19),\"--\",OFFSET(RankingPredictedFI!$A$1,RankingPredictedFI!$K19-1,5))","v":"--"}]
[null,20,{"$f":"IF(ISERROR(RankingPredictedFI!K20),\"--\",OFFSET(RankingPredictedFI!$A$1,RankingPredictedFI!$K20-1,1))","v":"--"},null,null,{"$f":"IF(ISERROR(RankingPredictedFI!K20),\"--\",OFFSET(RankingPredictedFI!$A$1,RankingPredictedFI!$K20-1,2))","v":"--"},null,null,null,null,null,null,{"$f":"IF(ISERROR(RankingPredictedFI!K20),\"--\",OFFSET(RankingPredictedFI!$A$1,RankingPredictedFI!$K20-1,3))","v":"--"},null,null,null,null,null,null,null,null,null,null,null,null,{"$f":"IF(ISERROR(RankingPredictedFI!K20),\"--\",OFFSET(RankingPredictedFI!$A$1,RankingPredictedFI!$K20-1,4))","v":"--"},null,null,null,null,null,null,null,null,null,null,null,null,null,null,null,null,null,null,null,null,null,null,{"$f":"IF(ISERROR(RankingPredictedFI!K20),\"--\",OFFSET(RankingPredictedFI!$A$1,RankingPredictedFI!$K20-1,5))","v":"--"}]
[null,21,{"$f":"IF(ISERROR(RankingPredictedFI!K21),\"--\",OFFSET(RankingPredictedFI!$A$1,RankingPredictedFI!$K21-1,1))","v":"--"},null,null,{"$f":"IF(ISERROR(RankingPredictedFI!K21),\"--\",OFFSET(RankingPredictedFI!$A$1,RankingPredictedFI!$K21-1,2))","v":"--"},null,null,null,null,null,null,{"$f":"IF(ISERROR(RankingPredictedFI!K21),\"--\",OFFSET(RankingPredictedFI!$A$1,RankingPredictedFI!$K21-1,3))","v":"--"},null,null,null,null,null,null,null,null,null,null,null,null,{"$f":"IF(ISERROR(RankingPredictedFI!K21),\"--\",OFFSET(RankingPredictedFI!$A$1,RankingPredictedFI!$K21-1,4))","v":"--"},null,null,null,null,null,null,null,null,null,null,null,null,null,null,null,null,null,null,null,null,null,null,{"$f":"IF(ISERROR(RankingPredictedFI!K21),\"--\",OFFSET(RankingPredictedFI!$A$1,RankingPredictedFI!$K21-1,5))","v":"--"}]
[null,22,{"$f":"IF(ISERROR(RankingPredictedFI!K22),\"--\",OFFSET(RankingPredictedFI!$A$1,RankingPredictedFI!$K22-1,1))","v":"--"},null,null,{"$f":"IF(ISERROR(RankingPredictedFI!K22),\"--\",OFFSET(RankingPredictedFI!$A$1,RankingPredictedFI!$K22-1,2))","v":"--"},null,null,null,null,null,null,{"$f":"IF(ISERROR(RankingPredictedFI!K22),\"--\",OFFSET(RankingPredictedFI!$A$1,RankingPredictedFI!$K22-1,3))","v":"--"},null,null,null,null,null,null,null,null,null,null,null,null,{"$f":"IF(ISERROR(RankingPredictedFI!K22),\"--\",OFFSET(RankingPredictedFI!$A$1,RankingPredictedFI!$K22-1,4))","v":"--"},null,null,null,null,null,null,null,null,null,null,null,null,null,null,null,null,null,null,null,null,null,null,{"$f":"IF(ISERROR(RankingPredictedFI!K22),\"--\",OFFSET(RankingPredictedFI!$A$1,RankingPredictedFI!$K22-1,5))","v":"--"}]
[null,23,{"$f":"IF(ISERROR(RankingPredictedFI!K23),\"--\",OFFSET(RankingPredictedFI!$A$1,RankingPredictedFI!$K23-1,1))","v":"--"},null,null,{"$f":"IF(ISERROR(RankingPredictedFI!K23),\"--\",OFFSET(RankingPredictedFI!$A$1,RankingPredictedFI!$K23-1,2))","v":"--"},null,null,null,null,null,null,{"$f":"IF(ISERROR(RankingPredictedFI!K23),\"--\",OFFSET(RankingPredictedFI!$A$1,RankingPredictedFI!$K23-1,3))","v":"--"},null,null,null,null,null,null,null,null,null,null,null,null,{"$f":"IF(ISERROR(RankingPredictedFI!K23),\"--\",OFFSET(RankingPredictedFI!$A$1,RankingPredictedFI!$K23-1,4))","v":"--"},null,null,null,null,null,null,null,null,null,null,null,null,null,null,null,null,null,null,null,null,null,null,{"$f":"IF(ISERROR(RankingPredictedFI!K23),\"--\",OFFSET(RankingPredictedFI!$A$1,RankingPredictedFI!$K23-1,5))","v":"--"}]
[null,24,{"$f":"IF(ISERROR(RankingPredictedFI!K24),\"--\",OFFSET(RankingPredictedFI!$A$1,RankingPredictedFI!$K24-1,1))","v":"--"},null,null,{"$f":"IF(ISERROR(RankingPredictedFI!K24),\"--\",OFFSET(RankingPredictedFI!$A$1,RankingPredictedFI!$K24-1,2))","v":"--"},null,null,null,null,null,null,{"$f":"IF(ISERROR(RankingPredictedFI!K24),\"--\",OFFSET(RankingPredictedFI!$A$1,RankingPredictedFI!$K24-1,3))","v":"--"},null,null,null,null,null,null,null,null,null,null,null,null,{"$f":"IF(ISERROR(RankingPredictedFI!K24),\"--\",OFFSET(RankingPredictedFI!$A$1,RankingPredictedFI!$K24-1,4))","v":"--"},null,null,null,null,null,null,null,null,null,null,null,null,null,null,null,null,null,null,null,null,null,null,{"$f":"IF(ISERROR(RankingPredictedFI!K24),\"--\",OFFSET(RankingPredictedFI!$A$1,RankingPredictedFI!$K24-1,5))","v":"--"}]
[null,25,{"$f":"IF(ISERROR(RankingPredictedFI!K25),\"--\",OFFSET(RankingPredictedFI!$A$1,RankingPredictedFI!$K25-1,1))","v":"--"},null,null,{"$f":"IF(ISERROR(RankingPredictedFI!K25),\"--\",OFFSET(RankingPredictedFI!$A$1,RankingPredictedFI!$K25-1,2))","v":"--"},null,null,null,null,null,null,{"$f":"IF(ISERROR(RankingPredictedFI!K25),\"--\",OFFSET(RankingPredictedFI!$A$1,RankingPredictedFI!$K25-1,3))","v":"--"},null,null,null,null,null,null,null,null,null,null,null,null,{"$f":"IF(ISERROR(RankingPredictedFI!K25),\"--\",OFFSET(RankingPredictedFI!$A$1,RankingPredictedFI!$K25-1,4))","v":"--"},null,null,null,null,null,null,null,null,null,null,null,null,null,null,null,null,null,null,null,null,null,null,{"$f":"IF(ISERROR(RankingPredictedFI!K25),\"--\",OFFSET(RankingPredictedFI!$A$1,RankingPredictedFI!$K25-1,5))","v":"--"}]
[null,26,{"$f":"IF(ISERROR(RankingPredictedFI!K26),\"--\",OFFSET(RankingPredictedFI!$A$1,RankingPredictedFI!$K26-1,1))","v":"--"},null,null,{"$f":"IF(ISERROR(RankingPredictedFI!K26),\"--\",OFFSET(RankingPredictedFI!$A$1,RankingPredictedFI!$K26-1,2))","v":"--"},null,null,null,null,null,null,{"$f":"IF(ISERROR(RankingPredictedFI!K26),\"--\",OFFSET(RankingPredictedFI!$A$1,RankingPredictedFI!$K26-1,3))","v":"--"},null,null,null,null,null,null,null,null,null,null,null,null,{"$f":"IF(ISERROR(RankingPredictedFI!K26),\"--\",OFFSET(RankingPredictedFI!$A$1,RankingPredictedFI!$K26-1,4))","v":"--"},null,null,null,null,null,null,null,null,null,null,null,null,null,null,null,null,null,null,null,null,null,null,{"$f":"IF(ISERROR(RankingPredictedFI!K26),\"--\",OFFSET(RankingPredictedFI!$A$1,RankingPredictedFI!$K26-1,5))","v":"--"}]
[null,27,{"$f":"IF(ISERROR(RankingPredictedFI!K27),\"--\",OFFSET(RankingPredictedFI!$A$1,RankingPredictedFI!$K27-1,1))","v":"--"},null,null,{"$f":"IF(ISERROR(RankingPredictedFI!K27),\"--\",OFFSET(RankingPredictedFI!$A$1,RankingPredictedFI!$K27-1,2))","v":"--"},null,null,null,null,null,null,{"$f":"IF(ISERROR(RankingPredictedFI!K27),\"--\",OFFSET(RankingPredictedFI!$A$1,RankingPredictedFI!$K27-1,3))","v":"--"},null,null,null,null,null,null,null,null,null,null,null,null,{"$f":"IF(ISERROR(RankingPredictedFI!K27),\"--\",OFFSET(RankingPredictedFI!$A$1,RankingPredictedFI!$K27-1,4))","v":"--"},null,null,null,null,null,null,null,null,null,null,null,null,null,null,null,null,null,null,null,null,null,null,{"$f":"IF(ISERROR(RankingPredictedFI!K27),\"--\",OFFSET(RankingPredictedFI!$A$1,RankingPredictedFI!$K27-1,5))","v":"--"}]
[null,28,{"$f":"IF(ISERROR(RankingPredictedFI!K28),\"--\",OFFSET(RankingPredictedFI!$A$1,RankingPredictedFI!$K28-1,1))","v":"--"},null,null,{"$f":"IF(ISERROR(RankingPredictedFI!K28),\"--\",OFFSET(RankingPredictedFI!$A$1,RankingPredictedFI!$K28-1,2))","v":"--"},null,null,null,null,null,null,{"$f":"IF(ISERROR(RankingPredictedFI!K28),\"--\",OFFSET(RankingPredictedFI!$A$1,RankingPredictedFI!$K28-1,3))","v":"--"},null,null,null,null,null,null,null,null,null,null,null,null,{"$f":"IF(ISERROR(RankingPredictedFI!K28),\"--\",OFFSET(RankingPredictedFI!$A$1,RankingPredictedFI!$K28-1,4))","v":"--"},null,null,null,null,null,null,null,null,null,null,null,null,null,null,null,null,null,null,null,null,null,null,{"$f":"IF(ISERROR(RankingPredictedFI!K28),\"--\",OFFSET(RankingPredictedFI!$A$1,RankingPredictedFI!$K28-1,5))","v":"--"}]
[null,29,{"$f":"IF(ISERROR(RankingPredictedFI!K29),\"--\",OFFSET(RankingPredictedFI!$A$1,RankingPredictedFI!$K29-1,1))","v":"--"},null,null,{"$f":"IF(ISERROR(RankingPredictedFI!K29),\"--\",OFFSET(RankingPredictedFI!$A$1,RankingPredictedFI!$K29-1,2))","v":"--"},null,null,null,null,null,null,{"$f":"IF(ISERROR(RankingPredictedFI!K29),\"--\",OFFSET(RankingPredictedFI!$A$1,RankingPredictedFI!$K29-1,3))","v":"--"},null,null,null,null,null,null,null,null,null,null,null,null,{"$f":"IF(ISERROR(RankingPredictedFI!K29),\"--\",OFFSET(RankingPredictedFI!$A$1,RankingPredictedFI!$K29-1,4))","v":"--"},null,null,null,null,null,null,null,null,null,null,null,null,null,null,null,null,null,null,null,null,null,null,{"$f":"IF(ISERROR(RankingPredictedFI!K29),\"--\",OFFSET(RankingPredictedFI!$A$1,RankingPredictedFI!$K29-1,5))","v":"--"}]
[null,30,{"$f":"IF(ISERROR(RankingPredictedFI!K30),\"--\",OFFSET(RankingPredictedFI!$A$1,RankingPredictedFI!$K30-1,1))","v":"--"},null,null,{"$f":"IF(ISERROR(RankingPredictedFI!K30),\"--\",OFFSET(RankingPredictedFI!$A$1,RankingPredictedFI!$K30-1,2))","v":"--"},null,null,null,null,null,null,{"$f":"IF(ISERROR(RankingPredictedFI!K30),\"--\",OFFSET(RankingPredictedFI!$A$1,RankingPredictedFI!$K30-1,3))","v":"--"},null,null,null,null,null,null,null,null,null,null,null,null,{"$f":"IF(ISERROR(RankingPredictedFI!K30),\"--\",OFFSET(RankingPredictedFI!$A$1,RankingPredictedFI!$K30-1,4))","v":"--"},null,null,null,null,null,null,null,null,null,null,null,null,null,null,null,null,null,null,null,null,null,null,{"$f":"IF(ISERROR(RankingPredictedFI!K30),\"--\",OFFSET(RankingPredictedFI!$A$1,RankingPredictedFI!$K30-1,5))","v":"--"}]
[null,31,{"$f":"IF(ISERROR(RankingPredictedFI!K31),\"--\",OFFSET(RankingPredictedFI!$A$1,RankingPredictedFI!$K31-1,1))","v":"--"},null,null,{"$f":"IF(ISERROR(RankingPredictedFI!K31),\"--\",OFFSET(RankingPredictedFI!$A$1,RankingPredictedFI!$K31-1,2))","v":"--"},null,null,null,null,null,null,{"$f":"IF(ISERROR(RankingPredictedFI!K31),\"--\",OFFSET(RankingPredictedFI!$A$1,RankingPredictedFI!$K31-1,3))","v":"--"},null,null,null,null,null,null,null,null,null,null,null,null,{"$f":"IF(ISERROR(RankingPredictedFI!K31),\"--\",OFFSET(RankingPredictedFI!$A$1,RankingPredictedFI!$K31-1,4))","v":"--"},null,null,null,null,null,null,null,null,null,null,null,null,null,null,null,null,null,null,null,null,null,null,{"$f":"IF(ISERROR(RankingPredictedFI!K31),\"--\",OFFSET(RankingPredictedFI!$A$1,RankingPredictedFI!$K31-1,5))","v":"--"}]
[null,32,{"$f":"IF(ISERROR(RankingPredictedFI!K32),\"--\",OFFSET(RankingPredictedFI!$A$1,RankingPredictedFI!$K32-1,1))","v":"--"},null,null,{"$f":"IF(ISERROR(RankingPredictedFI!K32),\"--\",OFFSET(RankingPredictedFI!$A$1,RankingPredictedFI!$K32-1,2))","v":"--"},null,null,null,null,null,null,{"$f":"IF(ISERROR(RankingPredictedFI!K32),\"--\",OFFSET(RankingPredictedFI!$A$1,RankingPredictedFI!$K32-1,3))","v":"--"},null,null,null,null,null,null,null,null,null,null,null,null,{"$f":"IF(ISERROR(RankingPredictedFI!K32),\"--\",OFFSET(RankingPredictedFI!$A$1,RankingPredictedFI!$K32-1,4))","v":"--"},null,null,null,null,null,null,null,null,null,null,null,null,null,null,null,null,null,null,null,null,null,null,{"$f":"IF(ISERROR(RankingPredictedFI!K32),\"--\",OFFSET(RankingPredictedFI!$A$1,RankingPredictedFI!$K32-1,5))","v":"--"}]
[null,33,{"$f":"IF(ISERROR(RankingPredictedFI!K33),\"--\",OFFSET(RankingPredictedFI!$A$1,RankingPredictedFI!$K33-1,1))","v":"--"},null,null,{"$f":"IF(ISERROR(RankingPredictedFI!K33),\"--\",OFFSET(RankingPredictedFI!$A$1,RankingPredictedFI!$K33-1,2))","v":"--"},null,null,null,null,null,null,{"$f":"IF(ISERROR(RankingPredictedFI!K33),\"--\",OFFSET(RankingPredictedFI!$A$1,RankingPredictedFI!$K33-1,3))","v":"--"},null,null,null,null,null,null,null,null,null,null,null,null,{"$f":"IF(ISERROR(RankingPredictedFI!K33),\"--\",OFFSET(RankingPredictedFI!$A$1,RankingPredictedFI!$K33-1,4))","v":"--"},null,null,null,null,null,null,null,null,null,null,null,null,null,null,null,null,null,null,null,null,null,null,{"$f":"IF(ISERROR(RankingPredictedFI!K33),\"--\",OFFSET(RankingPredictedFI!$A$1,RankingPredictedFI!$K33-1,5))","v":"--"}]
[null,34,{"$f":"IF(ISERROR(RankingPredictedFI!K34),\"--\",OFFSET(RankingPredictedFI!$A$1,RankingPredictedFI!$K34-1,1))","v":"--"},null,null,{"$f":"IF(ISERROR(RankingPredictedFI!K34),\"--\",OFFSET(RankingPredictedFI!$A$1,RankingPredictedFI!$K34-1,2))","v":"--"},null,null,null,null,null,null,{"$f":"IF(ISERROR(RankingPredictedFI!K34),\"--\",OFFSET(RankingPredictedFI!$A$1,RankingPredictedFI!$K34-1,3))","v":"--"},null,null,null,null,null,null,null,null,null,null,null,null,{"$f":"IF(ISERROR(RankingPredictedFI!K34),\"--\",OFFSET(RankingPredictedFI!$A$1,RankingPredictedFI!$K34-1,4))","v":"--"},null,null,null,null,null,null,null,null,null,null,null,null,null,null,null,null,null,null,null,null,null,null,{"$f":"IF(ISERROR(RankingPredictedFI!K34),\"--\",OFFSET(RankingPredictedFI!$A$1,RankingPredictedFI!$K34-1,5))","v":"--"}]
[null,35,{"$f":"IF(ISERROR(RankingPredictedFI!K35),\"--\",OFFSET(RankingPredictedFI!$A$1,RankingPredictedFI!$K35-1,1))","v":"--"},null,null,{"$f":"IF(ISERROR(RankingPredictedFI!K35),\"--\",OFFSET(RankingPredictedFI!$A$1,RankingPredictedFI!$K35-1,2))","v":"--"},null,null,null,null,null,null,{"$f":"IF(ISERROR(RankingPredictedFI!K35),\"--\",OFFSET(RankingPredictedFI!$A$1,RankingPredictedFI!$K35-1,3))","v":"--"},null,null,null,null,null,null,null,null,null,null,null,null,{"$f":"IF(ISERROR(RankingPredictedFI!K35),\"--\",OFFSET(RankingPredictedFI!$A$1,RankingPredictedFI!$K35-1,4))","v":"--"},null,null,null,null,null,null,null,null,null,null,null,null,null,null,null,null,null,null,null,null,null,null,{"$f":"IF(ISERROR(RankingPredictedFI!K35),\"--\",OFFSET(RankingPredictedFI!$A$1,RankingPredictedFI!$K35-1,5))","v":"--"}]
[null,36,{"$f":"IF(ISERROR(RankingPredictedFI!K36),\"--\",OFFSET(RankingPredictedFI!$A$1,RankingPredictedFI!$K36-1,1))","v":"--"},null,null,{"$f":"IF(ISERROR(RankingPredictedFI!K36),\"--\",OFFSET(RankingPredictedFI!$A$1,RankingPredictedFI!$K36-1,2))","v":"--"},null,null,null,null,null,null,{"$f":"IF(ISERROR(RankingPredictedFI!K36),\"--\",OFFSET(RankingPredictedFI!$A$1,RankingPredictedFI!$K36-1,3))","v":"--"},null,null,null,null,null,null,null,null,null,null,null,null,{"$f":"IF(ISERROR(RankingPredictedFI!K36),\"--\",OFFSET(RankingPredictedFI!$A$1,RankingPredictedFI!$K36-1,4))","v":"--"},null,null,null,null,null,null,null,null,null,null,null,null,null,null,null,null,null,null,null,null,null,null,{"$f":"IF(ISERROR(RankingPredictedFI!K36),\"--\",OFFSET(RankingPredictedFI!$A$1,RankingPredictedFI!$K36-1,5))","v":"--"}]
[null,37,{"$f":"IF(ISERROR(RankingPredictedFI!K37),\"--\",OFFSET(RankingPredictedFI!$A$1,RankingPredictedFI!$K37-1,1))","v":"--"},null,null,{"$f":"IF(ISERROR(RankingPredictedFI!K37),\"--\",OFFSET(RankingPredictedFI!$A$1,RankingPredictedFI!$K37-1,2))","v":"--"},null,null,null,null,null,null,{"$f":"IF(ISERROR(RankingPredictedFI!K37),\"--\",OFFSET(RankingPredictedFI!$A$1,RankingPredictedFI!$K37-1,3))","v":"--"},null,null,null,null,null,null,null,null,null,null,null,null,{"$f":"IF(ISERROR(RankingPredictedFI!K37),\"--\",OFFSET(RankingPredictedFI!$A$1,RankingPredictedFI!$K37-1,4))","v":"--"},null,null,null,null,null,null,null,null,null,null,null,null,null,null,null,null,null,null,null,null,null,null,{"$f":"IF(ISERROR(RankingPredictedFI!K37),\"--\",OFFSET(RankingPredictedFI!$A$1,RankingPredictedFI!$K37-1,5))","v":"--"}]
[null,38,{"$f":"IF(ISERROR(RankingPredictedFI!K38),\"--\",OFFSET(RankingPredictedFI!$A$1,RankingPredictedFI!$K38-1,1))","v":"--"},null,null,{"$f":"IF(ISERROR(RankingPredictedFI!K38),\"--\",OFFSET(RankingPredictedFI!$A$1,RankingPredictedFI!$K38-1,2))","v":"--"},null,null,null,null,null,null,{"$f":"IF(ISERROR(RankingPredictedFI!K38),\"--\",OFFSET(RankingPredictedFI!$A$1,RankingPredictedFI!$K38-1,3))","v":"--"},null,null,null,null,null,null,null,null,null,null,null,null,{"$f":"IF(ISERROR(RankingPredictedFI!K38),\"--\",OFFSET(RankingPredictedFI!$A$1,RankingPredictedFI!$K38-1,4))","v":"--"},null,null,null,null,null,null,null,null,null,null,null,null,null,null,null,null,null,null,null,null,null,null,{"$f":"IF(ISERROR(RankingPredictedFI!K38),\"--\",OFFSET(RankingPredictedFI!$A$1,RankingPredictedFI!$K38-1,5))","v":"--"}]
[null,39,{"$f":"IF(ISERROR(RankingPredictedFI!K39),\"--\",OFFSET(RankingPredictedFI!$A$1,RankingPredictedFI!$K39-1,1))","v":"--"},null,null,{"$f":"IF(ISERROR(RankingPredictedFI!K39),\"--\",OFFSET(RankingPredictedFI!$A$1,RankingPredictedFI!$K39-1,2))","v":"--"},null,null,null,null,null,null,{"$f":"IF(ISERROR(RankingPredictedFI!K39),\"--\",OFFSET(RankingPredictedFI!$A$1,RankingPredictedFI!$K39-1,3))","v":"--"},null,null,null,null,null,null,null,null,null,null,null,null,{"$f":"IF(ISERROR(RankingPredictedFI!K39),\"--\",OFFSET(RankingPredictedFI!$A$1,RankingPredictedFI!$K39-1,4))","v":"--"},null,null,null,null,null,null,null,null,null,null,null,null,null,null,null,null,null,null,null,null,null,null,{"$f":"IF(ISERROR(RankingPredictedFI!K39),\"--\",OFFSET(RankingPredictedFI!$A$1,RankingPredictedFI!$K39-1,5))","v":"--"}]
[null,40,{"$f":"IF(ISERROR(RankingPredictedFI!K40),\"--\",OFFSET(RankingPredictedFI!$A$1,RankingPredictedFI!$K40-1,1))","v":"--"},null,null,{"$f":"IF(ISERROR(RankingPredictedFI!K40),\"--\",OFFSET(RankingPredictedFI!$A$1,RankingPredictedFI!$K40-1,2))","v":"--"},null,null,null,null,null,null,{"$f":"IF(ISERROR(RankingPredictedFI!K40),\"--\",OFFSET(RankingPredictedFI!$A$1,RankingPredictedFI!$K40-1,3))","v":"--"},null,null,null,null,null,null,null,null,null,null,null,null,{"$f":"IF(ISERROR(RankingPredictedFI!K40),\"--\",OFFSET(RankingPredictedFI!$A$1,RankingPredictedFI!$K40-1,4))","v":"--"},null,null,null,null,null,null,null,null,null,null,null,null,null,null,null,null,null,null,null,null,null,null,{"$f":"IF(ISERROR(RankingPredictedFI!K40),\"--\",OFFSET(RankingPredictedFI!$A$1,RankingPredictedFI!$K40-1,5))","v":"--"}]
[null,41,{"$f":"IF(ISERROR(RankingPredictedFI!K41),\"--\",OFFSET(RankingPredictedFI!$A$1,RankingPredictedFI!$K41-1,1))","v":"--"},null,null,{"$f":"IF(ISERROR(RankingPredictedFI!K41),\"--\",OFFSET(RankingPredictedFI!$A$1,RankingPredictedFI!$K41-1,2))","v":"--"},null,null,null,null,null,null,{"$f":"IF(ISERROR(RankingPredictedFI!K41),\"--\",OFFSET(RankingPredictedFI!$A$1,RankingPredictedFI!$K41-1,3))","v":"--"},null,null,null,null,null,null,null,null,null,null,null,null,{"$f":"IF(ISERROR(RankingPredictedFI!K41),\"--\",OFFSET(RankingPredictedFI!$A$1,RankingPredictedFI!$K41-1,4))","v":"--"},null,null,null,null,null,null,null,null,null,null,null,null,null,null,null,null,null,null,null,null,null,null,{"$f":"IF(ISERROR(RankingPredictedFI!K41),\"--\",OFFSET(RankingPredictedFI!$A$1,RankingPredictedFI!$K41-1,5))","v":"--"}]
[null,42,{"$f":"IF(ISERROR(RankingPredictedFI!K42),\"--\",OFFSET(RankingPredictedFI!$A$1,RankingPredictedFI!$K42-1,1))","v":"--"},null,null,{"$f":"IF(ISERROR(RankingPredictedFI!K42),\"--\",OFFSET(RankingPredictedFI!$A$1,RankingPredictedFI!$K42-1,2))","v":"--"},null,null,null,null,null,null,{"$f":"IF(ISERROR(RankingPredictedFI!K42),\"--\",OFFSET(RankingPredictedFI!$A$1,RankingPredictedFI!$K42-1,3))","v":"--"},null,null,null,null,null,null,null,null,null,null,null,null,{"$f":"IF(ISERROR(RankingPredictedFI!K42),\"--\",OFFSET(RankingPredictedFI!$A$1,RankingPredictedFI!$K42-1,4))","v":"--"},null,null,null,null,null,null,null,null,null,null,null,null,null,null,null,null,null,null,null,null,null,null,{"$f":"IF(ISERROR(RankingPredictedFI!K42),\"--\",OFFSET(RankingPredictedFI!$A$1,RankingPredictedFI!$K42-1,5))","v":"--"}]
[null,43,{"$f":"IF(ISERROR(RankingPredictedFI!K43),\"--\",OFFSET(RankingPredictedFI!$A$1,RankingPredictedFI!$K43-1,1))","v":"--"},null,null,{"$f":"IF(ISERROR(RankingPredictedFI!K43),\"--\",OFFSET(RankingPredictedFI!$A$1,RankingPredictedFI!$K43-1,2))","v":"--"},null,null,null,null,null,null,{"$f":"IF(ISERROR(RankingPredictedFI!K43),\"--\",OFFSET(RankingPredictedFI!$A$1,RankingPredictedFI!$K43-1,3))","v":"--"},null,null,null,null,null,null,null,null,null,null,null,null,{"$f":"IF(ISERROR(RankingPredictedFI!K43),\"--\",OFFSET(RankingPredictedFI!$A$1,RankingPredictedFI!$K43-1,4))","v":"--"},null,null,null,null,null,null,null,null,null,null,null,null,null,null,null,null,null,null,null,null,null,null,{"$f":"IF(ISERROR(RankingPredictedFI!K43),\"--\",OFFSET(RankingPredictedFI!$A$1,RankingPredictedFI!$K43-1,5))","v":"--"}]
[null,44,{"$f":"IF(ISERROR(RankingPredictedFI!K44),\"--\",OFFSET(RankingPredictedFI!$A$1,RankingPredictedFI!$K44-1,1))","v":"--"},null,null,{"$f":"IF(ISERROR(RankingPredictedFI!K44),\"--\",OFFSET(RankingPredictedFI!$A$1,RankingPredictedFI!$K44-1,2))","v":"--"},null,null,null,null,null,null,{"$f":"IF(ISERROR(RankingPredictedFI!K44),\"--\",OFFSET(RankingPredictedFI!$A$1,RankingPredictedFI!$K44-1,3))","v":"--"},null,null,null,null,null,null,null,null,null,null,null,null,{"$f":"IF(ISERROR(RankingPredictedFI!K44),\"--\",OFFSET(RankingPredictedFI!$A$1,RankingPredictedFI!$K44-1,4))","v":"--"},null,null,null,null,null,null,null,null,null,null,null,null,null,null,null,null,null,null,null,null,null,null,{"$f":"IF(ISERROR(RankingPredictedFI!K44),\"--\",OFFSET(RankingPredictedFI!$A$1,RankingPredictedFI!$K44-1,5))","v":"--"}]
[null,45,{"$f":"IF(ISERROR(RankingPredictedFI!K45),\"--\",OFFSET(RankingPredictedFI!$A$1,RankingPredictedFI!$K45-1,1))","v":"--"},null,null,{"$f":"IF(ISERROR(RankingPredictedFI!K45),\"--\",OFFSET(RankingPredictedFI!$A$1,RankingPredictedFI!$K45-1,2))","v":"--"},null,null,null,null,null,null,{"$f":"IF(ISERROR(RankingPredictedFI!K45),\"--\",OFFSET(RankingPredictedFI!$A$1,RankingPredictedFI!$K45-1,3))","v":"--"},null,null,null,null,null,null,null,null,null,null,null,null,{"$f":"IF(ISERROR(RankingPredictedFI!K45),\"--\",OFFSET(RankingPredictedFI!$A$1,RankingPredictedFI!$K45-1,4))","v":"--"},null,null,null,null,null,null,null,null,null,null,null,null,null,null,null,null,null,null,null,null,null,null,{"$f":"IF(ISERROR(RankingPredictedFI!K45),\"--\",OFFSET(RankingPredictedFI!$A$1,RankingPredictedFI!$K45-1,5))","v":"--"}]
[null,46,{"$f":"IF(ISERROR(RankingPredictedFI!K46),\"--\",OFFSET(RankingPredictedFI!$A$1,RankingPredictedFI!$K46-1,1))","v":"--"},null,null,{"$f":"IF(ISERROR(RankingPredictedFI!K46),\"--\",OFFSET(RankingPredictedFI!$A$1,RankingPredictedFI!$K46-1,2))","v":"--"},null,null,null,null,null,null,{"$f":"IF(ISERROR(RankingPredictedFI!K46),\"--\",OFFSET(RankingPredictedFI!$A$1,RankingPredictedFI!$K46-1,3))","v":"--"},null,null,null,null,null,null,null,null,null,null,null,null,{"$f":"IF(ISERROR(RankingPredictedFI!K46),\"--\",OFFSET(RankingPredictedFI!$A$1,RankingPredictedFI!$K46-1,4))","v":"--"},null,null,null,null,null,null,null,null,null,null,null,null,null,null,null,null,null,null,null,null,null,null,{"$f":"IF(ISERROR(RankingPredictedFI!K46),\"--\",OFFSET(RankingPredictedFI!$A$1,RankingPredictedFI!$K46-1,5))","v":"--"}]
[null,47,{"$f":"IF(ISERROR(RankingPredictedFI!K47),\"--\",OFFSET(RankingPredictedFI!$A$1,RankingPredictedFI!$K47-1,1))","v":"--"},null,null,{"$f":"IF(ISERROR(RankingPredictedFI!K47),\"--\",OFFSET(RankingPredictedFI!$A$1,RankingPredictedFI!$K47-1,2))","v":"--"},null,null,null,null,null,null,{"$f":"IF(ISERROR(RankingPredictedFI!K47),\"--\",OFFSET(RankingPredictedFI!$A$1,RankingPredictedFI!$K47-1,3))","v":"--"},null,null,null,null,null,null,null,null,null,null,null,null,{"$f":"IF(ISERROR(RankingPredictedFI!K47),\"--\",OFFSET(RankingPredictedFI!$A$1,RankingPredictedFI!$K47-1,4))","v":"--"},null,null,null,null,null,null,null,null,null,null,null,null,null,null,null,null,null,null,null,null,null,null,{"$f":"IF(ISERROR(RankingPredictedFI!K47),\"--\",OFFSET(RankingPredictedFI!$A$1,RankingPredictedFI!$K47-1,5))","v":"--"}]
[null,48,{"$f":"IF(ISERROR(RankingPredictedFI!K48),\"--\",OFFSET(RankingPredictedFI!$A$1,RankingPredictedFI!$K48-1,1))","v":"--"},null,null,{"$f":"IF(ISERROR(RankingPredictedFI!K48),\"--\",OFFSET(RankingPredictedFI!$A$1,RankingPredictedFI!$K48-1,2))","v":"--"},null,null,null,null,null,null,{"$f":"IF(ISERROR(RankingPredictedFI!K48),\"--\",OFFSET(RankingPredictedFI!$A$1,RankingPredictedFI!$K48-1,3))","v":"--"},null,null,null,null,null,null,null,null,null,null,null,null,{"$f":"IF(ISERROR(RankingPredictedFI!K48),\"--\",OFFSET(RankingPredictedFI!$A$1,RankingPredictedFI!$K48-1,4))","v":"--"},null,null,null,null,null,null,null,null,null,null,null,null,null,null,null,null,null,null,null,null,null,null,{"$f":"IF(ISERROR(RankingPredictedFI!K48),\"--\",OFFSET(RankingPredictedFI!$A$1,RankingPredictedFI!$K48-1,5))","v":"--"}]
[null,49,{"$f":"IF(ISERROR(RankingPredictedFI!K49),\"--\",OFFSET(RankingPredictedFI!$A$1,RankingPredictedFI!$K49-1,1))","v":"--"},null,null,{"$f":"IF(ISERROR(RankingPredictedFI!K49),\"--\",OFFSET(RankingPredictedFI!$A$1,RankingPredictedFI!$K49-1,2))","v":"--"},null,null,null,null,null,null,{"$f":"IF(ISERROR(RankingPredictedFI!K49),\"--\",OFFSET(RankingPredictedFI!$A$1,RankingPredictedFI!$K49-1,3))","v":"--"},null,null,null,null,null,null,null,null,null,null,null,null,{"$f":"IF(ISERROR(RankingPredictedFI!K49),\"--\",OFFSET(RankingPredictedFI!$A$1,RankingPredictedFI!$K49-1,4))","v":"--"},null,null,null,null,null,null,null,null,null,null,null,null,null,null,null,null,null,null,null,null,null,null,{"$f":"IF(ISERROR(RankingPredictedFI!K49),\"--\",OFFSET(RankingPredictedFI!$A$1,RankingPredictedFI!$K49-1,5))","v":"--"}]
[null,50,{"$f":"IF(ISERROR(RankingPredictedFI!K50),\"--\",OFFSET(RankingPredictedFI!$A$1,RankingPredictedFI!$K50-1,1))","v":"--"},null,null,{"$f":"IF(ISERROR(RankingPredictedFI!K50),\"--\",OFFSET(RankingPredictedFI!$A$1,RankingPredictedFI!$K50-1,2))","v":"--"},null,null,null,null,null,null,{"$f":"IF(ISERROR(RankingPredictedFI!K50),\"--\",OFFSET(RankingPredictedFI!$A$1,RankingPredictedFI!$K50-1,3))","v":"--"},null,null,null,null,null,null,null,null,null,null,null,null,{"$f":"IF(ISERROR(RankingPredictedFI!K50),\"--\",OFFSET(RankingPredictedFI!$A$1,RankingPredictedFI!$K50-1,4))","v":"--"},null,null,null,null,null,null,null,null,null,null,null,null,null,null,null,null,null,null,null,null,null,null,{"$f":"IF(ISERROR(RankingPredictedFI!K50),\"--\",OFFSET(RankingPredictedFI!$A$1,RankingPredictedFI!$K50-1,5))","v":"--"}]